{"text_format":"1","workbook":"xlsx","n_sheets":8,"sheets":["Teilnehmer","Aktuelle_Rangliste","Vorlage","28.03.2023","22.12.2022","Einstellungen","Sprache","Info"],"not_rendered":{"charts":0,"images":3,"macros":1,"external_links":0,"defined_names":1,"comments":0,"pivot_tables":0},"unopened":[],"bounds":{"document_bytes":16777216,"sheet_cells":100000,"rows_first":2000,"rows_last":500,"rows_between":2000,"halvings":0,"cell_chars":16384,"cell_head_chars":4096},"cells_cut":0,"cells_raw":0,"read":"whole","date_system":"1900"}

{"sheet":"Teilnehmer","index":0,"n_rows":1002,"n_cols":8,"rows_kept":1002,"cut":false,"hidden":false,"merged":[]}
[null,{"$f":"Sprache!$E$6","v":"Teilnehmer"},null,null,{"$f":"Sprache!$E$7","v":"Startwert"}]
[{"$f":"Sprache!$E$9","v":"Nr."},{"$f":"Sprache!$E$8","v":"ID"},{"$f":"Sprache!$E$10","v":"Name"},{"$f":"Sprache!$E$32","v":"Verein"},"2022-10-06",{"$f":"Sprache!$E$35","v":"Spiele"},"28.03.2023","22.12.2022"]
["1.","BRA","Brasilien",null,1841.3,5,1840.8182497794046,1840.8182497794046]
["2.","ARG","Argentinien",null,1773.88,7,1837.7343303226655,1837.7343303226655]
["3.","FRA","Frankreich",null,1759.78,8,1826.7135737147623,1823.2467372678627]
["4.","BEL","Belgien",null,1816.71,3,1784.5833793496768,1784.5833793496768]
["5.","ENG","England",null,1728.47,6,1778.4451396723948,1774.141308672524]
["6.","NED","Niederlande",null,1694.51,5,1740.6487785894392,1740.6487785894392]
["7.","CRO","Kroatien",null,1645.64,7,1726.5261155167407,1726.5261155167407]
["8.","POR","Portugal",null,1676.56,6,1696.800883742741,1701.1047147426118]
["9.","ESP","Spanien",null,1715.22,4,1692.6875513100958,1692.6875513100958]
["10.","MAR","Marokko",null,1563.5,7,1671.1804237792071,1671.1804237792071]
["11.","SUI","Schweiz",null,1635.92,5,1654.665794669274,1658.1326311161736]
["12.","USA","USA",null,1627.48,4,1652.7103236326968,1652.7103236326968]
["13.","GER","Deutschland",null,1650.21,4,1645.8922305255576,1645.976674709251]
["14.","MEX","Mexiko",null,1644.89,4,1637.258607585957,1637.1741634022635]
["15.","URU","Uruguay",null,1638.71,3,1627.1475472750744,1627.1475472750744]
["16.","DEN","Dänemark",null,1666.57,3,1608.113005179637,1608.113005179637]
["17.","SEN","Senegal",null,1584.38,4,1603.6426538698399,1603.6426538698399]
["18.","JPN","Japan",null,1559.54,4,1595.2735498829391,1595.2735498829391]
["19.","POL","Polen",null,1548.59,4,1557.8649270928411,1557.8649270928411]
["20.","IRN","IR Iran",null,1564.61,3,1551.1598670925353,1551.1598670925353]
["21.","KOR","Korea Republik",null,1530.3,4,1537.6940853063384,1537.6940853063384]
["22.","AUS","Australien",null,1488.72,4,1533.9695399163395,1533.9695399163395]
["23.","WAL","Wales",null,1569.82,3,1530.249706846158,1530.249706846158]
["24.","SRB","Serbien",null,1563.62,3,1525.5535582737702,1525.5535582737702]
["25.","TUN","Tunesien",null,1507.54,3,1526.2009853978452,1526.2009853978452]
["26.","CRC","Costa Rica",null,1503.59,3,1498.0991626264918,1498.0991626264918]
["27.","CMR","Kamerun",null,1471.44,3,1500.1138938162321,1500.1138938162321]
["28.","ECU","Ecuador",null,1464.39,3,1477.4336325277422,1477.4336325277422]
["29.","KSA","Saudi-Arabien",null,1437.78,3,1438.2395693909043,1438.2395693909043]
["30.","CAN","Kanada",null,1475,3,1429.863744647593,1429.863744647593]
["31.","GHA","Ghana",null,1393,3,1396.718497492644,1396.718497492644]
["32.","QAT","Katar",null,1439.89,3,1386.2015665539955,1386.2015665539955]
["33.",null,null,null,null,0]
["34.",null,null,null,null,0]
["35.",null,null,null,null,0]
["36.",null,null,null,null,0]
["37.",null,null,null,null,0]
["38.",null,null,null,null,0]
["39.",null,null,null,null,0]
["40.",null,null,null,null,0]
["41.",null,null,null,null,0]
["42.",null,null,null,null,0]
["43.",null,null,null,null,0]
["44.",null,null,null,null,0]
["45.",null,null,null,null,0]
["46.",null,null,null,null,0]
["47.",null,null,null,null,0]
["48.",null,null,null,null,0]
["49.",null,null,null,null,0]
["50.",null,null,null,null,0]
["51.",null,null,null,null,0]
["52.",null,null,null,null,0]
["53.",null,null,null,null,0]
["54.",null,null,null,null,0]
["55.",null,null,null,null,0]
["56.",null,null,null,null,0]
["57.",null,null,null,null,0]
["58.",null,null,null,null,0]
["59.",null,null,null,null,0]
["60.",null,null,null,null,0]
["61.",null,null,null,null,0]
["62.",null,null,null,null,0]
["63.",null,null,null,null,0]
["64.",null,null,null,null,0]
["65.",null,null,null,null,0]
["66.",null,null,null,null,0]
["67.",null,null,null,null,0]
["68.",null,null,null,null,0]
["69.",null,null,null,null,0]
["70.",null,null,null,null,0]
["71.",null,null,null,null,0]
["72.",null,null,null,null,0]
["73.",null,null,null,null,0]
["74.",null,null,null,null,0]
["75.",null,null,null,null,0]
["76.",null,null,null,null,0]
["77.",null,null,null,null,0]
["78.",null,null,null,null,0]
["79.",null,null,null,null,0]
["80.",null,null,null,null,0]
["81.",null,null,null,null,0]
["82.",null,null,null,null,0]
["83.",null,null,null,null,0]
["84.",null,null,null,null,0]
["85.",null,null,null,null,0]
["86.",null,null,null,null,0]
["87.",null,null,null,null,0]
["88.",null,null,null,null,0]
["89.",null,null,null,null,0]
["90.",null,null,null,null,0]
["91.",null,null,null,null,0]
["92.",null,null,null,null,0]
["93.",null,null,null,null,0]
["94.",null,null,null,null,0]
["95.",null,null,null,null,0]
["96.",null,null,null,null,0]
["97.",null,null,null,null,0]
["98.",null,null,null,null,0]
["99.",null,null,null,null,0]
["100.",null,null,null,null,0]
["101.",null,null,null,null,0]
["102.",null,null,null,null,0]
["103.",null,null,null,null,0]
["104.",null,null,null,null,0]
["105.",null,null,null,null,0]
["106.",null,null,null,null,0]
["107.",null,null,null,null,0]
["108.",null,null,null,null,0]
["109.",null,null,null,null,0]
["110.",null,null,null,null,0]
["111.",null,null,null,null,0]
["112.",null,null,null,null,0]
["113.",null,null,null,null,0]
["114.",null,null,null,null,0]
["115.",null,null,null,null,0]
["116.",null,null,null,null,0]
["117.",null,null,null,null,0]
["118.",null,null,null,null,0]
["119.",null,null,null,null,0]
["120.",null,null,null,null,0]
["121.",null,null,null,null,0]
["122.",null,null,null,null,0]
["123.",null,null,null,null,0]
["124.",null,null,null,null,0]
["125.",null,null,null,null,0]
["126.",null,null,null,null,0]
["127.",null,null,null,null,0]
["128.",null,null,null,null,0]
["129.",null,null,null,null,0]
["130.",null,null,null,null,0]
["131.",null,null,null,null,0]
["132.",null,null,null,null,0]
["133.",null,null,null,null,0]
["134.",null,null,null,null,0]
["135.",null,null,null,null,0]
["136.",null,null,null,null,0]
["137.",null,null,null,null,0]
["138.",null,null,null,null,0]
["139.",null,null,null,null,0]
["140.",null,null,null,null,0]
["141.",null,null,null,null,0]
["142.",null,null,null,null,0]
["143.",null,null,null,null,0]
["144.",null,null,null,null,0]
["145.",null,null,null,null,0]
["146.",null,null,null,null,0]
["147.",null,null,null,null,0]
["148.",null,null,null,null,0]
["149.",null,null,null,null,0]
["150.",null,null,null,null,0]
["151.",null,null,null,null,0]
["152.",null,null,null,null,0]
["153.",null,null,null,null,0]
["154.",null,null,null,null,0]
["155.",null,null,null,null,0]
["156.",null,null,null,null,0]
["157.",null,null,null,null,0]
["158.",null,null,null,null,0]
["159.",null,null,null,null,0]
["160.",null,null,null,null,0]
["161.",null,null,null,null,0]
["162.",null,null,null,null,0]
["163.",null,null,null,null,0]
["164.",null,null,null,null,0]
["165.",null,null,null,null,0]
["166.",null,null,null,null,0]
["167.",null,null,null,null,0]
["168.",null,null,null,null,0]
["169.",null,null,null,null,0]
["170.",null,null,null,null,0]
["171.",null,null,null,null,0]
["172.",null,null,null,null,0]
["173.",null,null,null,null,0]
["174.",null,null,null,null,0]
["175.",null,null,null,null,0]
["176.",null,null,null,null,0]
["177.",null,null,null,null,0]
["178.",null,null,null,null,0]
["179.",null,null,null,null,0]
["180.",null,null,null,null,0]
["181.",null,null,null,null,0]
["182.",null,null,null,null,0]
["183.",null,null,null,null,0]
["184.",null,null,null,null,0]
["185.",null,null,null,null,0]
["186.",null,null,null,null,0]
["187.",null,null,null,null,0]
["188.",null,null,null,null,0]
["189.",null,null,null,null,0]
["190.",null,null,null,null,0]
["191.",null,null,null,null,0]
["192.",null,null,null,null,0]
["193.",null,null,null,null,0]
["194.",null,null,null,null,0]
["195.",null,null,null,null,0]
["196.",null,null,null,null,0]
["197.",null,null,null,null,0]
["198.",null,null,null,null,0]
["199.",null,null,null,null,0]
["200.",null,null,null,null,0]
["201.",null,null,null,null,0]
["202.",null,null,null,null,0]
["203.",null,null,null,null,0]
["204.",null,null,null,null,0]
["205.",null,null,null,null,0]
["206.",null,null,null,null,0]
["207.",null,null,null,null,0]
["208.",null,null,null,null,0]
["209.",null,null,null,null,0]
["210.",null,null,null,null,0]
["211.",null,null,null,null,0]
["212.",null,null,null,null,0]
["213.",null,null,null,null,0]
["214.",null,null,null,null,0]
["215.",null,null,null,null,0]
["216.",null,null,null,null,0]
["217.",null,null,null,null,0]
["218.",null,null,null,null,0]
["219.",null,null,null,null,0]
["220.",null,null,null,null,0]
["221.",null,null,null,null,0]
["222.",null,null,null,null,0]
["223.",null,null,null,null,0]
["224.",null,null,null,null,0]
["225.",null,null,null,null,0]
["226.",null,null,null,null,0]
["227.",null,null,null,null,0]
["228.",null,null,null,null,0]
["229.",null,null,null,null,0]
["230.",null,null,null,null,0]
["231.",null,null,null,null,0]
["232.",null,null,null,null,0]
["233.",null,null,null,null,0]
["234.",null,null,null,null,0]
["235.",null,null,null,null,0]
["236.",null,null,null,null,0]
["237.",null,null,null,null,0]
["238.",null,null,null,null,0]
["239.",null,null,null,null,0]
["240.",null,null,null,null,0]
["241.",null,null,null,null,0]
["242.",null,null,null,null,0]
["243.",null,null,null,null,0]
["244.",null,null,null,null,0]
["245.",null,null,null,null,0]
["246.",null,null,null,null,0]
["247.",null,null,null,null,0]
["248.",null,null,null,null,0]
["249.",null,null,null,null,0]
["250.",null,null,null,null,0]
["251.",null,null,null,null,0]
["252.",null,null,null,null,0]
["253.",null,null,null,null,0]
["254.",null,null,null,null,0]
["255.",null,null,null,null,0]
["256.",null,null,null,null,0]
["257.",null,null,null,null,0]
["258.",null,null,null,null,0]
["259.",null,null,null,null,0]
["260.",null,null,null,null,0]
["261.",null,null,null,null,0]
["262.",null,null,null,null,0]
["263.",null,null,null,null,0]
["264.",null,null,null,null,0]
["265.",null,null,null,null,0]
["266.",null,null,null,null,0]
["267.",null,null,null,null,0]
["268.",null,null,null,null,0]
["269.",null,null,null,null,0]
["270.",null,null,null,null,0]
["271.",null,null,null,null,0]
["272.",null,null,null,null,0]
["273.",null,null,null,null,0]
["274.",null,null,null,null,0]
["275.",null,null,null,null,0]
["276.",null,null,null,null,0]
["277.",null,null,null,null,0]
["278.",null,null,null,null,0]
["279.",null,null,null,null,0]
["280.",null,null,null,null,0]
["281.",null,null,null,null,0]
["282.",null,null,null,null,0]
["283.",null,null,null,null,0]
["284.",null,null,null,null,0]
["285.",null,null,null,null,0]
["286.",null,null,null,null,0]
["287.",null,null,null,null,0]
["288.",null,null,null,null,0]
["289.",null,null,null,null,0]
["290.",null,null,null,null,0]
["291.",null,null,null,null,0]
["292.",null,null,null,null,0]
["293.",null,null,null,null,0]
["294.",null,null,null,null,0]
["295.",null,null,null,null,0]
["296.",null,null,null,null,0]
["297.",null,null,null,null,0]
["298.",null,null,null,null,0]
["299.",null,null,null,null,0]
["300.",null,null,null,null,0]
["301.",null,null,null,null,0]
["302.",null,null,null,null,0]
["303.",null,null,null,null,0]
["304.",null,null,null,null,0]
["305.",null,null,null,null,0]
["306.",null,null,null,null,0]
["307.",null,null,null,null,0]
["308.",null,null,null,null,0]
["309.",null,null,null,null,0]
["310.",null,null,null,null,0]
["311.",null,null,null,null,0]
["312.",null,null,null,null,0]
["313.",null,null,null,null,0]
["314.",null,null,null,null,0]
["315.",null,null,null,null,0]
["316.",null,null,null,null,0]
["317.",null,null,null,null,0]
["318.",null,null,null,null,0]
["319.",null,null,null,null,0]
["320.",null,null,null,null,0]
["321.",null,null,null,null,0]
["322.",null,null,null,null,0]
["323.",null,null,null,null,0]
["324.",null,null,null,null,0]
["325.",null,null,null,null,0]
["326.",null,null,null,null,0]
["327.",null,null,null,null,0]
["328.",null,null,null,null,0]
["329.",null,null,null,null,0]
["330.",null,null,null,null,0]
["331.",null,null,null,null,0]
["332.",null,null,null,null,0]
["333.",null,null,null,null,0]
["334.",null,null,null,null,0]
["335.",null,null,null,null,0]
["336.",null,null,null,null,0]
["337.",null,null,null,null,0]
["338.",null,null,null,null,0]
["339.",null,null,null,null,0]
["340.",null,null,null,null,0]
["341.",null,null,null,null,0]
["342.",null,null,null,null,0]
["343.",null,null,null,null,0]
["344.",null,null,null,null,0]
["345.",null,null,null,null,0]
["346.",null,null,null,null,0]
["347.",null,null,null,null,0]
["348.",null,null,null,null,0]
["349.",null,null,null,null,0]
["350.",null,null,null,null,0]
["351.",null,null,null,null,0]
["352.",null,null,null,null,0]
["353.",null,null,null,null,0]
["354.",null,null,null,null,0]
["355.",null,null,null,null,0]
["356.",null,null,null,null,0]
["357.",null,null,null,null,0]
["358.",null,null,null,null,0]
["359.",null,null,null,null,0]
["360.",null,null,null,null,0]
["361.",null,null,null,null,0]
["362.",null,null,null,null,0]
["363.",null,null,null,null,0]
["364.",null,null,null,null,0]
["365.",null,null,null,null,0]
["366.",null,null,null,null,0]
["367.",null,null,null,null,0]
["368.",null,null,null,null,0]
["369.",null,null,null,null,0]
["370.",null,null,null,null,0]
["371.",null,null,null,null,0]
["372.",null,null,null,null,0]
["373.",null,null,null,null,0]
["374.",null,null,null,null,0]
["375.",null,null,null,null,0]
["376.",null,null,null,null,0]
["377.",null,null,null,null,0]
["378.",null,null,null,null,0]
["379.",null,null,null,null,0]
["380.",null,null,null,null,0]
["381.",null,null,null,null,0]
["382.",null,null,null,null,0]
["383.",null,null,null,null,0]
["384.",null,null,null,null,0]
["385.",null,null,null,null,0]
["386.",null,null,null,null,0]
["387.",null,null,null,null,0]
["388.",null,null,null,null,0]
["389.",null,null,null,null,0]
["390.",null,null,null,null,0]
["391.",null,null,null,null,0]
["392.",null,null,null,null,0]
["393.",null,null,null,null,0]
["394.",null,null,null,null,0]
["395.",null,null,null,null,0]
["396.",null,null,null,null,0]
["397.",null,null,null,null,0]
["398.",null,null,null,null,0]
["399.",null,null,null,null,0]
["400.",null,null,null,null,0]
["401.",null,null,null,null,0]
["402.",null,null,null,null,0]
["403.",null,null,null,null,0]
["404.",null,null,null,null,0]
["405.",null,null,null,null,0]
["406.",null,null,null,null,0]
["407.",null,null,null,null,0]
["408.",null,null,null,null,0]
["409.",null,null,null,null,0]
["410.",null,null,null,null,0]
["411.",null,null,null,null,0]
["412.",null,null,null,null,0]
["413.",null,null,null,null,0]
["414.",null,null,null,null,0]
["415.",null,null,null,null,0]
["416.",null,null,null,null,0]
["417.",null,null,null,null,0]
["418.",null,null,null,null,0]
["419.",null,null,null,null,0]
["420.",null,null,null,null,0]
["421.",null,null,null,null,0]
["422.",null,null,null,null,0]
["423.",null,null,null,null,0]
["424.",null,null,null,null,0]
["425.",null,null,null,null,0]
["426.",null,null,null,null,0]
["427.",null,null,null,null,0]
["428.",null,null,null,null,0]
["429.",null,null,null,null,0]
["430.",null,null,null,null,0]
["431.",null,null,null,null,0]
["432.",null,null,null,null,0]
["433.",null,null,null,null,0]
["434.",null,null,null,null,0]
["435.",null,null,null,null,0]
["436.",null,null,null,null,0]
["437.",null,null,null,null,0]
["438.",null,null,null,null,0]
["439.",null,null,null,null,0]
["440.",null,null,null,null,0]
["441.",null,null,null,null,0]
["442.",null,null,null,null,0]
["443.",null,null,null,null,0]
["444.",null,null,null,null,0]
["445.",null,null,null,null,0]
["446.",null,null,null,null,0]
["447.",null,null,null,null,0]
["448.",null,null,null,null,0]
["449.",null,null,null,null,0]
["450.",null,null,null,null,0]
["451.",null,null,null,null,0]
["452.",null,null,null,null,0]
["453.",null,null,null,null,0]
["454.",null,null,null,null,0]
["455.",null,null,null,null,0]
["456.",null,null,null,null,0]
["457.",null,null,null,null,0]
["458.",null,null,null,null,0]
["459.",null,null,null,null,0]
["460.",null,null,null,null,0]
["461.",null,null,null,null,0]
["462.",null,null,null,null,0]
["463.",null,null,null,null,0]
["464.",null,null,null,null,0]
["465.",null,null,null,null,0]
["466.",null,null,null,null,0]
["467.",null,null,null,null,0]
["468.",null,null,null,null,0]
["469.",null,null,null,null,0]
["470.",null,null,null,null,0]
["471.",null,null,null,null,0]
["472.",null,null,null,null,0]
["473.",null,null,null,null,0]
["474.",null,null,null,null,0]
["475.",null,null,null,null,0]
["476.",null,null,null,null,0]
["477.",null,null,null,null,0]
["478.",null,null,null,null,0]
["479.",null,null,null,null,0]
["480.",null,null,null,null,0]
["481.",null,null,null,null,0]
["482.",null,null,null,null,0]
["483.",null,null,null,null,0]
["484.",null,null,null,null,0]
["485.",null,null,null,null,0]
["486.",null,null,null,null,0]
["487.",null,null,null,null,0]
["488.",null,null,null,null,0]
["489.",null,null,null,null,0]
["490.",null,null,null,null,0]
["491.",null,null,null,null,0]
["492.",null,null,null,null,0]
["493.",null,null,null,null,0]
["494.",null,null,null,null,0]
["495.",null,null,null,null,0]
["496.",null,null,null,null,0]
["497.",null,null,null,null,0]
["498.",null,null,null,null,0]
["499.",null,null,null,null,0]
["500.",null,null,null,null,0]
["501.",null,null,null,null,0]
["502.",null,null,null,null,0]
["503.",null,null,null,null,0]
["504.",null,null,null,null,0]
["505.",null,null,null,null,0]
["506.",null,null,null,null,0]
["507.",null,null,null,null,0]
["508.",null,null,null,null,0]
["509.",null,null,null,null,0]
["510.",null,null,null,null,0]
["511.",null,null,null,null,0]
["512.",null,null,null,null,0]
["513.",null,null,null,null,0]
["514.",null,null,null,null,0]
["515.",null,null,null,null,0]
["516.",null,null,null,null,0]
["517.",null,null,null,null,0]
["518.",null,null,null,null,0]
["519.",null,null,null,null,0]
["520.",null,null,null,null,0]
["521.",null,null,null,null,0]
["522.",null,null,null,null,0]
["523.",null,null,null,null,0]
["524.",null,null,null,null,0]
["525.",null,null,null,null,0]
["526.",null,null,null,null,0]
["527.",null,null,null,null,0]
["528.",null,null,null,null,0]
["529.",null,null,null,null,0]
["530.",null,null,null,null,0]
["531.",null,null,null,null,0]
["532.",null,null,null,null,0]
["533.",null,null,null,null,0]
["534.",null,null,null,null,0]
["535.",null,null,null,null,0]
["536.",null,null,null,null,0]
["537.",null,null,null,null,0]
["538.",null,null,null,null,0]
["539.",null,null,null,null,0]
["540.",null,null,null,null,0]
["541.",null,null,null,null,0]
["542.",null,null,null,null,0]
["543.",null,null,null,null,0]
["544.",null,null,null,null,0]
["545.",null,null,null,null,0]
["546.",null,null,null,null,0]
["547.",null,null,null,null,0]
["548.",null,null,null,null,0]
["549.",null,null,null,null,0]
["550.",null,null,null,null,0]
["551.",null,null,null,null,0]
["552.",null,null,null,null,0]
["553.",null,null,null,null,0]
["554.",null,null,null,null,0]
["555.",null,null,null,null,0]
["556.",null,null,null,null,0]
["557.",null,null,null,null,0]
["558.",null,null,null,null,0]
["559.",null,null,null,null,0]
["560.",null,null,null,null,0]
["561.",null,null,null,null,0]
["562.",null,null,null,null,0]
["563.",null,null,null,null,0]
["564.",null,null,null,null,0]
["565.",null,null,null,null,0]
["566.",null,null,null,null,0]
["567.",null,null,null,null,0]
["568.",null,null,null,null,0]
["569.",null,null,null,null,0]
["570.",null,null,null,null,0]
["571.",null,null,null,null,0]
["572.",null,null,null,null,0]
["573.",null,null,null,null,0]
["574.",null,null,null,null,0]
["575.",null,null,null,null,0]
["576.",null,null,null,null,0]
["577.",null,null,null,null,0]
["578.",null,null,null,null,0]
["579.",null,null,null,null,0]
["580.",null,null,null,null,0]
["581.",null,null,null,null,0]
["582.",null,null,null,null,0]
["583.",null,null,null,null,0]
["584.",null,null,null,null,0]
["585.",null,null,null,null,0]
["586.",null,null,null,null,0]
["587.",null,null,null,null,0]
["588.",null,null,null,null,0]
["589.",null,null,null,null,0]
["590.",null,null,null,null,0]
["591.",null,null,null,null,0]
["592.",null,null,null,null,0]
["593.",null,null,null,null,0]
["594.",null,null,null,null,0]
["595.",null,null,null,null,0]
["596.",null,null,null,null,0]
["597.",null,null,null,null,0]
["598.",null,null,null,null,0]
["599.",null,null,null,null,0]
["600.",null,null,null,null,0]
["601.",null,null,null,null,0]
["602.",null,null,null,null,0]
["603.",null,null,null,null,0]
["604.",null,null,null,null,0]
["605.",null,null,null,null,0]
["606.",null,null,null,null,0]
["607.",null,null,null,null,0]
["608.",null,null,null,null,0]
["609.",null,null,null,null,0]
["610.",null,null,null,null,0]
["611.",null,null,null,null,0]
["612.",null,null,null,null,0]
["613.",null,null,null,null,0]
["614.",null,null,null,null,0]
["615.",null,null,null,null,0]
["616.",null,null,null,null,0]
["617.",null,null,null,null,0]
["618.",null,null,null,null,0]
["619.",null,null,null,null,0]
["620.",null,null,null,null,0]
["621.",null,null,null,null,0]
["622.",null,null,null,null,0]
["623.",null,null,null,null,0]
["624.",null,null,null,null,0]
["625.",null,null,null,null,0]
["626.",null,null,null,null,0]
["627.",null,null,null,null,0]
["628.",null,null,null,null,0]
["629.",null,null,null,null,0]
["630.",null,null,null,null,0]
["631.",null,null,null,null,0]
["632.",null,null,null,null,0]
["633.",null,null,null,null,0]
["634.",null,null,null,null,0]
["635.",null,null,null,null,0]
["636.",null,null,null,null,0]
["637.",null,null,null,null,0]
["638.",null,null,null,null,0]
["639.",null,null,null,null,0]
["640.",null,null,null,null,0]
["641.",null,null,null,null,0]
["642.",null,null,null,null,0]
["643.",null,null,null,null,0]
["644.",null,null,null,null,0]
["645.",null,null,null,null,0]
["646.",null,null,null,null,0]
["647.",null,null,null,null,0]
["648.",null,null,null,null,0]
["649.",null,null,null,null,0]
["650.",null,null,null,null,0]
["651.",null,null,null,null,0]
["652.",null,null,null,null,0]
["653.",null,null,null,null,0]
["654.",null,null,null,null,0]
["655.",null,null,null,null,0]
["656.",null,null,null,null,0]
["657.",null,null,null,null,0]
["658.",null,null,null,null,0]
["659.",null,null,null,null,0]
["660.",null,null,null,null,0]
["661.",null,null,null,null,0]
["662.",null,null,null,null,0]
["663.",null,null,null,null,0]
["664.",null,null,null,null,0]
["665.",null,null,null,null,0]
["666.",null,null,null,null,0]
["667.",null,null,null,null,0]
["668.",null,null,null,null,0]
["669.",null,null,null,null,0]
["670.",null,null,null,null,0]
["671.",null,null,null,null,0]
["672.",null,null,null,null,0]
["673.",null,null,null,null,0]
["674.",null,null,null,null,0]
["675.",null,null,null,null,0]
["676.",null,null,null,null,0]
["677.",null,null,null,null,0]
["678.",null,null,null,null,0]
["679.",null,null,null,null,0]
["680.",null,null,null,null,0]
["681.",null,null,null,null,0]
["682.",null,null,null,null,0]
["683.",null,null,null,null,0]
["684.",null,null,null,null,0]
["685.",null,null,null,null,0]
["686.",null,null,null,null,0]
["687.",null,null,null,null,0]
["688.",null,null,null,null,0]
["689.",null,null,null,null,0]
["690.",null,null,null,null,0]
["691.",null,null,null,null,0]
["692.",null,null,null,null,0]
["693.",null,null,null,null,0]
["694.",null,null,null,null,0]
["695.",null,null,null,null,0]
["696.",null,null,null,null,0]
["697.",null,null,null,null,0]
["698.",null,null,null,null,0]
["699.",null,null,null,null,0]
["700.",null,null,null,null,0]
["701.",null,null,null,null,0]
["702.",null,null,null,null,0]
["703.",null,null,null,null,0]
["704.",null,null,null,null,0]
["705.",null,null,null,null,0]
["706.",null,null,null,null,0]
["707.",null,null,null,null,0]
["708.",null,null,null,null,0]
["709.",null,null,null,null,0]
["710.",null,null,null,null,0]
["711.",null,null,null,null,0]
["712.",null,null,null,null,0]
["713.",null,null,null,null,0]
["714.",null,null,null,null,0]
["715.",null,null,null,null,0]
["716.",null,null,null,null,0]
["717.",null,null,null,null,0]
["718.",null,null,null,null,0]
["719.",null,null,null,null,0]
["720.",null,null,null,null,0]
["721.",null,null,null,null,0]
["722.",null,null,null,null,0]
["723.",null,null,null,null,0]
["724.",null,null,null,null,0]
["725.",null,null,null,null,0]
["726.",null,null,null,null,0]
["727.",null,null,null,null,0]
["728.",null,null,null,null,0]
["729.",null,null,null,null,0]
["730.",null,null,null,null,0]
["731.",null,null,null,null,0]
["732.",null,null,null,null,0]
["733.",null,null,null,null,0]
["734.",null,null,null,null,0]
["735.",null,null,null,null,0]
["736.",null,null,null,null,0]
["737.",null,null,null,null,0]
["738.",null,null,null,null,0]
["739.",null,null,null,null,0]
["740.",null,null,null,null,0]
["741.",null,null,null,null,0]
["742.",null,null,null,null,0]
["743.",null,null,null,null,0]
["744.",null,null,null,null,0]
["745.",null,null,null,null,0]
["746.",null,null,null,null,0]
["747.",null,null,null,null,0]
["748.",null,null,null,null,0]
["749.",null,null,null,null,0]
["750.",null,null,null,null,0]
["751.",null,null,null,null,0]
["752.",null,null,null,null,0]
["753.",null,null,null,null,0]
["754.",null,null,null,null,0]
["755.",null,null,null,null,0]
["756.",null,null,null,null,0]
["757.",null,null,null,null,0]
["758.",null,null,null,null,0]
["759.",null,null,null,null,0]
["760.",null,null,null,null,0]
["761.",null,null,null,null,0]
["762.",null,null,null,null,0]
["763.",null,null,null,null,0]
["764.",null,null,null,null,0]
["765.",null,null,null,null,0]
["766.",null,null,null,null,0]
["767.",null,null,null,null,0]
["768.",null,null,null,null,0]
["769.",null,null,null,null,0]
["770.",null,null,null,null,0]
["771.",null,null,null,null,0]
["772.",null,null,null,null,0]
["773.",null,null,null,null,0]
["774.",null,null,null,null,0]
["775.",null,null,null,null,0]
["776.",null,null,null,null,0]
["777.",null,null,null,null,0]
["778.",null,null,null,null,0]
["779.",null,null,null,null,0]
["780.",null,null,null,null,0]
["781.",null,null,null,null,0]
["782.",null,null,null,null,0]
["783.",null,null,null,null,0]
["784.",null,null,null,null,0]
["785.",null,null,null,null,0]
["786.",null,null,null,null,0]
["787.",null,null,null,null,0]
["788.",null,null,null,null,0]
["789.",null,null,null,null,0]
["790.",null,null,null,null,0]
["791.",null,null,null,null,0]
["792.",null,null,null,null,0]
["793.",null,null,null,null,0]
["794.",null,null,null,null,0]
["795.",null,null,null,null,0]
["796.",null,null,null,null,0]
["797.",null,null,null,null,0]
["798.",null,null,null,null,0]
["799.",null,null,null,null,0]
["800.",null,null,null,null,0]
["801.",null,null,null,null,0]
["802.",null,null,null,null,0]
["803.",null,null,null,null,0]
["804.",null,null,null,null,0]
["805.",null,null,null,null,0]
["806.",null,null,null,null,0]
["807.",null,null,null,null,0]
["808.",null,null,null,null,0]
["809.",null,null,null,null,0]
["810.",null,null,null,null,0]
["811.",null,null,null,null,0]
["812.",null,null,null,null,0]
["813.",null,null,null,null,0]
["814.",null,null,null,null,0]
["815.",null,null,null,null,0]
["816.",null,null,null,null,0]
["817.",null,null,null,null,0]
["818.",null,null,null,null,0]
["819.",null,null,null,null,0]
["820.",null,null,null,null,0]
["821.",null,null,null,null,0]
["822.",null,null,null,null,0]
["823.",null,null,null,null,0]
["824.",null,null,null,null,0]
["825.",null,null,null,null,0]
["826.",null,null,null,null,0]
["827.",null,null,null,null,0]
["828.",null,null,null,null,0]
["829.",null,null,null,null,0]
["830.",null,null,null,null,0]
["831.",null,null,null,null,0]
["832.",null,null,null,null,0]
["833.",null,null,null,null,0]
["834.",null,null,null,null,0]
["835.",null,null,null,null,0]
["836.",null,null,null,null,0]
["837.",null,null,null,null,0]
["838.",null,null,null,null,0]
["839.",null,null,null,null,0]
["840.",null,null,null,null,0]
["841.",null,null,null,null,0]
["842.",null,null,null,null,0]
["843.",null,null,null,null,0]
["844.",null,null,null,null,0]
["845.",null,null,null,null,0]
["846.",null,null,null,null,0]
["847.",null,null,null,null,0]
["848.",null,null,null,null,0]
["849.",null,null,null,null,0]
["850.",null,null,null,null,0]
["851.",null,null,null,null,0]
["852.",null,null,null,null,0]
["853.",null,null,null,null,0]
["854.",null,null,null,null,0]
["855.",null,null,null,null,0]
["856.",null,null,null,null,0]
["857.",null,null,null,null,0]
["858.",null,null,null,null,0]
["859.",null,null,null,null,0]
["860.",null,null,null,null,0]
["861.",null,null,null,null,0]
["862.",null,null,null,null,0]
["863.",null,null,null,null,0]
["864.",null,null,null,null,0]
["865.",null,null,null,null,0]
["866.",null,null,null,null,0]
["867.",null,null,null,null,0]
["868.",null,null,null,null,0]
["869.",null,null,null,null,0]
["870.",null,null,null,null,0]
["871.",null,null,null,null,0]
["872.",null,null,null,null,0]
["873.",null,null,null,null,0]
["874.",null,null,null,null,0]
["875.",null,null,null,null,0]
["876.",null,null,null,null,0]
["877.",null,null,null,null,0]
["878.",null,null,null,null,0]
["879.",null,null,null,null,0]
["880.",null,null,null,null,0]
["881.",null,null,null,null,0]
["882.",null,null,null,null,0]
["883.",null,null,null,null,0]
["884.",null,null,null,null,0]
["885.",null,null,null,null,0]
["886.",null,null,null,null,0]
["887.",null,null,null,null,0]
["888.",null,null,null,null,0]
["889.",null,null,null,null,0]
["890.",null,null,null,null,0]
["891.",null,null,null,null,0]
["892.",null,null,null,null,0]
["893.",null,null,null,null,0]
["894.",null,null,null,null,0]
["895.",null,null,null,null,0]
["896.",null,null,null,null,0]
["897.",null,null,null,null,0]
["898.",null,null,null,null,0]
["899.",null,null,null,null,0]
["900.",null,null,null,null,0]
["901.",null,null,null,null,0]
["902.",null,null,null,null,0]
["903.",null,null,null,null,0]
["904.",null,null,null,null,0]
["905.",null,null,null,null,0]
["906.",null,null,null,null,0]
["907.",null,null,null,null,0]
["908.",null,null,null,null,0]
["909.",null,null,null,null,0]
["910.",null,null,null,null,0]
["911.",null,null,null,null,0]
["912.",null,null,null,null,0]
["913.",null,null,null,null,0]
["914.",null,null,null,null,0]
["915.",null,null,null,null,0]
["916.",null,null,null,null,0]
["917.",null,null,null,null,0]
["918.",null,null,null,null,0]
["919.",null,null,null,null,0]
["920.",null,null,null,null,0]
["921.",null,null,null,null,0]
["922.",null,null,null,null,0]
["923.",null,null,null,null,0]
["924.",null,null,null,null,0]
["925.",null,null,null,null,0]
["926.",null,null,null,null,0]
["927.",null,null,null,null,0]
["928.",null,null,null,null,0]
["929.",null,null,null,null,0]
["930.",null,null,null,null,0]
["931.",null,null,null,null,0]
["932.",null,null,null,null,0]
["933.",null,null,null,null,0]
["934.",null,null,null,null,0]
["935.",null,null,null,null,0]
["936.",null,null,null,null,0]
["937.",null,null,null,null,0]
["938.",null,null,null,null,0]
["939.",null,null,null,null,0]
["940.",null,null,null,null,0]
["941.",null,null,null,null,0]
["942.",null,null,null,null,0]
["943.",null,null,null,null,0]
["944.",null,null,null,null,0]
["945.",null,null,null,null,0]
["946.",null,null,null,null,0]
["947.",null,null,null,null,0]
["948.",null,null,null,null,0]
["949.",null,null,null,null,0]
["950.",null,null,null,null,0]
["951.",null,null,null,null,0]
["952.",null,null,null,null,0]
["953.",null,null,null,null,0]
["954.",null,null,null,null,0]
["955.",null,null,null,null,0]
["956.",null,null,null,null,0]
["957.",null,null,null,null,0]
["958.",null,null,null,null,0]
["959.",null,null,null,null,0]
["960.",null,null,null,null,0]
["961.",null,null,null,null,0]
["962.",null,null,null,null,0]
["963.",null,null,null,null,0]
["964.",null,null,null,null,0]
["965.",null,null,null,null,0]
["966.",null,null,null,null,0]
["967.",null,null,null,null,0]
["968.",null,null,null,null,0]
["969.",null,null,null,null,0]
["970.",null,null,null,null,0]
["971.",null,null,null,null,0]
["972.",null,null,null,null,0]
["973.",null,null,null,null,0]
["974.",null,null,null,null,0]
["975.",null,null,null,null,0]
["976.",null,null,null,null,0]
["977.",null,null,null,null,0]
["978.",null,null,null,null,0]
["979.",null,null,null,null,0]
["980.",null,null,null,null,0]
["981.",null,null,null,null,0]
["982.",null,null,null,null,0]
["983.",null,null,null,null,0]
["984.",null,null,null,null,0]
["985.",null,null,null,null,0]
["986.",null,null,null,null,0]
["987.",null,null,null,null,0]
["988.",null,null,null,null,0]
["989.",null,null,null,null,0]
["990.",null,null,null,null,0]
["991.",null,null,null,null,0]
["992.",null,null,null,null,0]
["993.",null,null,null,null,0]
["994.",null,null,null,null,0]
["995.",null,null,null,null,0]
["996.",null,null,null,null,0]
["997.",null,null,null,null,0]
["998.",null,null,null,null,0]
["999.",null,null,null,null,0]
["1000.",null,null,null,null,0]

{"sheet":"Aktuelle_Rangliste","index":1,"n_rows":36,"n_cols":7,"rows_kept":36,"cut":false,"hidden":false,"merged":[[0,1,0,6],[1,1,1,6],[2,1,2,2]]}
[null,{"$f":"Sprache!$E$39","v":"Aktuelle Rangliste"}]
[]
[null,"Datum: 28.03.2023"]
[null,"Rang","Name","Verein","Punkte","+/-","Spiele"]
[null,1,"Brasilien",null,1840.8182497794046,0,5]
[null,2,"Argentinien",null,1837.7343303226655,0,7]
[null,3,"Frankreich",null,1826.7135737147623,3.466836446899606,8]
[null,4,"Belgien",null,1784.5833793496768,0,3]
[null,5,"England",null,1778.4451396723948,4.3038309998707973,6]
[null,6,"Niederlande",null,1740.6487785894392,0,5]
[null,7,"Kroatien",null,1726.5261155167407,0,7]
[null,8,"Portugal",null,1696.800883742741,-4.3038309998707973,6]
[null,9,"Spanien",null,1692.6875513100958,0,4]
[null,10,"Marokko",null,1671.1804237792071,0,7]
[null,11,"Schweiz",null,1654.665794669274,-3.466836446899606,5]
[null,12,"USA",null,1652.7103236326968,0,4]
[null,13,"Deutschland",null,1645.8922305255576,-8.4444183693449304E-2,4]
[null,14,"Mexiko",null,1637.258607585957,8.4444183693449304E-2,4]
[null,15,"Uruguay",null,1627.1475472750744,0,3]
[null,16,"Dänemark",null,1608.113005179637,0,3]
[null,17,"Senegal",null,1603.6426538698399,0,4]
[null,18,"Japan",null,1595.2735498829391,0,4]
[null,19,"Polen",null,1557.8649270928411,0,4]
[null,20,"IR Iran",null,1551.1598670925353,0,3]
[null,21,"Korea Republik",null,1537.6940853063384,0,4]
[null,22,"Australien",null,1533.9695399163395,0,4]
[null,23,"Wales",null,1530.249706846158,0,3]
[null,24,"Tunesien",null,1526.2009853978452,0,3]
[null,25,"Serbien",null,1525.5535582737702,0,3]
[null,26,"Kamerun",null,1500.1138938162321,0,3]
[null,27,"Costa Rica",null,1498.0991626264918,0,3]
[null,28,"Ecuador",null,1477.4336325277422,0,3]
[null,29,"Saudi-Arabien",null,1438.2395693909043,0,3]
[null,30,"Kanada",null,1429.863744647593,0,3]
[null,31,"Ghana",null,1396.718497492644,0,3]
[null,32,"Katar",null,1386.2015665539955,0,3]

{"sheet":"Vorlage","index":2,"n_rows":2006,"n_cols":26,"rows_kept":2006,"cut":false,"hidden":false,"merged":[[1,3,1,14],[2,3,2,14],[3,8,5,8],[3,9,5,9],[3,10,5,10],[5,6,5,7]]}
[]
[null,null,null,"Vorlage"]
[null,null,null,"Datum"]
[null,null,null,{"$f":"Sprache!$E$12","v":"Altes Datum:"},null,{"$f":"Sprache!$E$13","v":"Neues Datum:"},null,null,{"$f":"Sprache!$E$20","v":"Wichtung"},{"$f":"Sprache!$E$21","v":"Elfmetersch."},{"$f":"Sprache!$E$22","v":"KO-Runde"}]
[null,{"$f":"Sprache!$E$14","v":"Spiele"},null,null,"\u009e",null,null,null,null,null,null,null,{"$f":"Sprache!$E$15","v":"Neue Rangliste"},null,null,null,null,null,null,null,{"$f":"Sprache!$E$37","v":"Neue Gesamtrangliste"}]
[null,{"$f":"Sprache!$E$16","v":"Datum"},{"$f":"Sprache!$E$17","v":"ID 1"},null,{"$f":"Sprache!$E$18","v":"ID 2"},null,{"$f":"Sprache!$E$19","v":"Ergebnis"},null,null,null,null,null,{"$f":"Sprache!$E$23","v":"Rang"},{"$f":"Sprache!$E$10","v":"Name"},{"$f":"Sprache!$E$32","v":"Verein"},{"$f":"Sprache!$E$33","v":"Punkte"},"+/-",{"$f":"Sprache!$E$35","v":"Spiele"},null,null,{"$f":"Sprache!$E$23","v":"Rang"},{"$f":"Sprache!$E$10","v":"Name"},{"$f":"Sprache!$E$32","v":"Verein"},{"$f":"Sprache!$E$33","v":"Punkte"},"+/-",{"$f":"Sprache!$E$35","v":"Spiele"}]
[null,null,null,{"$f":"IFERROR(VLOOKUP(C7,Teilnehmer!$B$3:$C$1002,2,0),\"\")","v":""},null,{"$f":"IFERROR(VLOOKUP(E7,Teilnehmer!$B$3:$C$1002,2,0),\"\")","v":""}]
[null,null,null,null,null,{"$f":"IFERROR(VLOOKUP(E8,Teilnehmer!$B$3:$C$1002,2,0),\"\")","v":""}]
[null,null,null,{"$f":"IFERROR(VLOOKUP(C9,Teilnehmer!$B$3:$C$1002,2,0),\"\")","v":""},null,{"$f":"IFERROR(VLOOKUP(E9,Teilnehmer!$B$3:$C$1002,2,0),\"\")","v":""}]
[null,null,null,{"$f":"IFERROR(VLOOKUP(C10,Teilnehmer!$B$3:$C$1002,2,0),\"\")","v":""},null,{"$f":"IFERROR(VLOOKUP(E10,Teilnehmer!$B$3:$C$1002,2,0),\"\")","v":""}]
[null,null,null,{"$f":"IFERROR(VLOOKUP(C11,Teilnehmer!$B$3:$C$1002,2,0),\"\")","v":""},null,{"$f":"IFERROR(VLOOKUP(E11,Teilnehmer!$B$3:$C$1002,2,0),\"\")","v":""}]
[null,null,null,{"$f":"IFERROR(VLOOKUP(C12,Teilnehmer!$B$3:$C$1002,2,0),\"\")","v":""},null,{"$f":"IFERROR(VLOOKUP(E12,Teilnehmer!$B$3:$C$1002,2,0),\"\")","v":""}]
[null,null,null,{"$f":"IFERROR(VLOOKUP(C13,Teilnehmer!$B$3:$C$1002,2,0),\"\")","v":""},null,{"$f":"IFERROR(VLOOKUP(E13,Teilnehmer!$B$3:$C$1002,2,0),\"\")","v":""}]
[null,null,null,{"$f":"IFERROR(VLOOKUP(C14,Teilnehmer!$B$3:$C$1002,2,0),\"\")","v":""},null,{"$f":"IFERROR(VLOOKUP(E14,Teilnehmer!$B$3:$C$1002,2,0),\"\")","v":""}]
[null,null,null,{"$f":"IFERROR(VLOOKUP(C15,Teilnehmer!$B$3:$C$1002,2,0),\"\")","v":""},null,{"$f":"IFERROR(VLOOKUP(E15,Teilnehmer!$B$3:$C$1002,2,0),\"\")","v":""}]
[null,null,null,{"$f":"IFERROR(VLOOKUP(C16,Teilnehmer!$B$3:$C$1002,2,0),\"\")","v":""},null,{"$f":"IFERROR(VLOOKUP(E16,Teilnehmer!$B$3:$C$1002,2,0),\"\")","v":""}]
[null,null,null,{"$f":"IFERROR(VLOOKUP(C17,Teilnehmer!$B$3:$C$1002,2,0),\"\")","v":""},null,{"$f":"IFERROR(VLOOKUP(E17,Teilnehmer!$B$3:$C$1002,2,0),\"\")","v":""}]
[null,null,null,{"$f":"IFERROR(VLOOKUP(C18,Teilnehmer!$B$3:$C$1002,2,0),\"\")","v":""},null,{"$f":"IFERROR(VLOOKUP(E18,Teilnehmer!$B$3:$C$1002,2,0),\"\")","v":""}]
[null,null,null,{"$f":"IFERROR(VLOOKUP(C19,Teilnehmer!$B$3:$C$1002,2,0),\"\")","v":""},null,{"$f":"IFERROR(VLOOKUP(E19,Teilnehmer!$B$3:$C$1002,2,0),\"\")","v":""}]
[null,null,null,{"$f":"IFERROR(VLOOKUP(C20,Teilnehmer!$B$3:$C$1002,2,0),\"\")","v":""},null,{"$f":"IFERROR(VLOOKUP(E20,Teilnehmer!$B$3:$C$1002,2,0),\"\")","v":""}]
[null,null,null,{"$f":"IFERROR(VLOOKUP(C21,Teilnehmer!$B$3:$C$1002,2,0),\"\")","v":""},null,{"$f":"IFERROR(VLOOKUP(E21,Teilnehmer!$B$3:$C$1002,2,0),\"\")","v":""}]
[null,null,null,{"$f":"IFERROR(VLOOKUP(C22,Teilnehmer!$B$3:$C$1002,2,0),\"\")","v":""},null,{"$f":"IFERROR(VLOOKUP(E22,Teilnehmer!$B$3:$C$1002,2,0),\"\")","v":""}]
[null,null,null,{"$f":"IFERROR(VLOOKUP(C23,Teilnehmer!$B$3:$C$1002,2,0),\"\")","v":""},null,{"$f":"IFERROR(VLOOKUP(E23,Teilnehmer!$B$3:$C$1002,2,0),\"\")","v":""}]
[null,null,null,{"$f":"IFERROR(VLOOKUP(C24,Teilnehmer!$B$3:$C$1002,2,0),\"\")","v":""},null,{"$f":"IFERROR(VLOOKUP(E24,Teilnehmer!$B$3:$C$1002,2,0),\"\")","v":""}]
[null,null,null,{"$f":"IFERROR(VLOOKUP(C25,Teilnehmer!$B$3:$C$1002,2,0),\"\")","v":""},null,{"$f":"IFERROR(VLOOKUP(E25,Teilnehmer!$B$3:$C$1002,2,0),\"\")","v":""}]
[null,null,null,{"$f":"IFERROR(VLOOKUP(C26,Teilnehmer!$B$3:$C$1002,2,0),\"\")","v":""},null,{"$f":"IFERROR(VLOOKUP(E26,Teilnehmer!$B$3:$C$1002,2,0),\"\")","v":""}]
[null,null,null,{"$f":"IFERROR(VLOOKUP(C27,Teilnehmer!$B$3:$C$1002,2,0),\"\")","v":""},null,{"$f":"IFERROR(VLOOKUP(E27,Teilnehmer!$B$3:$C$1002,2,0),\"\")","v":""}]
[null,null,null,{"$f":"IFERROR(VLOOKUP(C28,Teilnehmer!$B$3:$C$1002,2,0),\"\")","v":""},null,{"$f":"IFERROR(VLOOKUP(E28,Teilnehmer!$B$3:$C$1002,2,0),\"\")","v":""}]
[null,null,null,{"$f":"IFERROR(VLOOKUP(C29,Teilnehmer!$B$3:$C$1002,2,0),\"\")","v":""},null,{"$f":"IFERROR(VLOOKUP(E29,Teilnehmer!$B$3:$C$1002,2,0),\"\")","v":""}]
[null,null,null,{"$f":"IFERROR(VLOOKUP(C30,Teilnehmer!$B$3:$C$1002,2,0),\"\")","v":""},null,{"$f":"IFERROR(VLOOKUP(E30,Teilnehmer!$B$3:$C$1002,2,0),\"\")","v":""}]
[null,null,null,{"$f":"IFERROR(VLOOKUP(C31,Teilnehmer!$B$3:$C$1002,2,0),\"\")","v":""},null,{"$f":"IFERROR(VLOOKUP(E31,Teilnehmer!$B$3:$C$1002,2,0),\"\")","v":""}]
[null,null,null,{"$f":"IFERROR(VLOOKUP(C32,Teilnehmer!$B$3:$C$1002,2,0),\"\")","v":""},null,{"$f":"IFERROR(VLOOKUP(E32,Teilnehmer!$B$3:$C$1002,2,0),\"\")","v":""}]
[null,null,null,{"$f":"IFERROR(VLOOKUP(C33,Teilnehmer!$B$3:$C$1002,2,0),\"\")","v":""},null,{"$f":"IFERROR(VLOOKUP(E33,Teilnehmer!$B$3:$C$1002,2,0),\"\")","v":""}]
[null,null,null,{"$f":"IFERROR(VLOOKUP(C34,Teilnehmer!$B$3:$C$1002,2,0),\"\")","v":""},null,{"$f":"IFERROR(VLOOKUP(E34,Teilnehmer!$B$3:$C$1002,2,0),\"\")","v":""}]
[null,null,null,{"$f":"IFERROR(VLOOKUP(C35,Teilnehmer!$B$3:$C$1002,2,0),\"\")","v":""},null,{"$f":"IFERROR(VLOOKUP(E35,Teilnehmer!$B$3:$C$1002,2,0),\"\")","v":""}]
[null,null,null,{"$f":"IFERROR(VLOOKUP(C36,Teilnehmer!$B$3:$C$1002,2,0),\"\")","v":""},null,{"$f":"IFERROR(VLOOKUP(E36,Teilnehmer!$B$3:$C$1002,2,0),\"\")","v":""}]
[null,null,null,{"$f":"IFERROR(VLOOKUP(C37,Teilnehmer!$B$3:$C$1002,2,0),\"\")","v":""},null,{"$f":"IFERROR(VLOOKUP(E37,Teilnehmer!$B$3:$C$1002,2,0),\"\")","v":""}]
[null,null,null,{"$f":"IFERROR(VLOOKUP(C38,Teilnehmer!$B$3:$C$1002,2,0),\"\")","v":""},null,{"$f":"IFERROR(VLOOKUP(E38,Teilnehmer!$B$3:$C$1002,2,0),\"\")","v":""}]
[null,null,null,{"$f":"IFERROR(VLOOKUP(C39,Teilnehmer!$B$3:$C$1002,2,0),\"\")","v":""},null,{"$f":"IFERROR(VLOOKUP(E39,Teilnehmer!$B$3:$C$1002,2,0),\"\")","v":""}]
[null,null,null,{"$f":"IFERROR(VLOOKUP(C40,Teilnehmer!$B$3:$C$1002,2,0),\"\")","v":""},null,{"$f":"IFERROR(VLOOKUP(E40,Teilnehmer!$B$3:$C$1002,2,0),\"\")","v":""}]
[null,null,null,{"$f":"IFERROR(VLOOKUP(C41,Teilnehmer!$B$3:$C$1002,2,0),\"\")","v":""},null,{"$f":"IFERROR(VLOOKUP(E41,Teilnehmer!$B$3:$C$1002,2,0),\"\")","v":""}]
[null,null,null,{"$f":"IFERROR(VLOOKUP(C42,Teilnehmer!$B$3:$C$1002,2,0),\"\")","v":""},null,{"$f":"IFERROR(VLOOKUP(E42,Teilnehmer!$B$3:$C$1002,2,0),\"\")","v":""}]
[null,null,null,{"$f":"IFERROR(VLOOKUP(C43,Teilnehmer!$B$3:$C$1002,2,0),\"\")","v":""},null,{"$f":"IFERROR(VLOOKUP(E43,Teilnehmer!$B$3:$C$1002,2,0),\"\")","v":""}]
[null,null,null,{"$f":"IFERROR(VLOOKUP(C44,Teilnehmer!$B$3:$C$1002,2,0),\"\")","v":""},null,{"$f":"IFERROR(VLOOKUP(E44,Teilnehmer!$B$3:$C$1002,2,0),\"\")","v":""}]
[null,null,null,{"$f":"IFERROR(VLOOKUP(C45,Teilnehmer!$B$3:$C$1002,2,0),\"\")","v":""},null,{"$f":"IFERROR(VLOOKUP(E45,Teilnehmer!$B$3:$C$1002,2,0),\"\")","v":""}]
[null,null,null,{"$f":"IFERROR(VLOOKUP(C46,Teilnehmer!$B$3:$C$1002,2,0),\"\")","v":""},null,{"$f":"IFERROR(VLOOKUP(E46,Teilnehmer!$B$3:$C$1002,2,0),\"\")","v":""}]
[null,null,null,{"$f":"IFERROR(VLOOKUP(C47,Teilnehmer!$B$3:$C$1002,2,0),\"\")","v":""},null,{"$f":"IFERROR(VLOOKUP(E47,Teilnehmer!$B$3:$C$1002,2,0),\"\")","v":""}]
[null,null,null,{"$f":"IFERROR(VLOOKUP(C48,Teilnehmer!$B$3:$C$1002,2,0),\"\")","v":""},null,{"$f":"IFERROR(VLOOKUP(E48,Teilnehmer!$B$3:$C$1002,2,0),\"\")","v":""}]
[null,null,null,{"$f":"IFERROR(VLOOKUP(C49,Teilnehmer!$B$3:$C$1002,2,0),\"\")","v":""},null,{"$f":"IFERROR(VLOOKUP(E49,Teilnehmer!$B$3:$C$1002,2,0),\"\")","v":""}]
[null,null,null,{"$f":"IFERROR(VLOOKUP(C50,Teilnehmer!$B$3:$C$1002,2,0),\"\")","v":""},null,{"$f":"IFERROR(VLOOKUP(E50,Teilnehmer!$B$3:$C$1002,2,0),\"\")","v":""}]
[null,null,null,{"$f":"IFERROR(VLOOKUP(C51,Teilnehmer!$B$3:$C$1002,2,0),\"\")","v":""},null,{"$f":"IFERROR(VLOOKUP(E51,Teilnehmer!$B$3:$C$1002,2,0),\"\")","v":""}]
[null,null,null,{"$f":"IFERROR(VLOOKUP(C52,Teilnehmer!$B$3:$C$1002,2,0),\"\")","v":""},null,{"$f":"IFERROR(VLOOKUP(E52,Teilnehmer!$B$3:$C$1002,2,0),\"\")","v":""}]
[null,null,null,{"$f":"IFERROR(VLOOKUP(C53,Teilnehmer!$B$3:$C$1002,2,0),\"\")","v":""},null,{"$f":"IFERROR(VLOOKUP(E53,Teilnehmer!$B$3:$C$1002,2,0),\"\")","v":""}]
[null,null,null,{"$f":"IFERROR(VLOOKUP(C54,Teilnehmer!$B$3:$C$1002,2,0),\"\")","v":""},null,{"$f":"IFERROR(VLOOKUP(E54,Teilnehmer!$B$3:$C$1002,2,0),\"\")","v":""}]
[null,null,null,{"$f":"IFERROR(VLOOKUP(C55,Teilnehmer!$B$3:$C$1002,2,0),\"\")","v":""},null,{"$f":"IFERROR(VLOOKUP(E55,Teilnehmer!$B$3:$C$1002,2,0),\"\")","v":""}]
[null,null,null,{"$f":"IFERROR(VLOOKUP(C56,Teilnehmer!$B$3:$C$1002,2,0),\"\")","v":""},null,{"$f":"IFERROR(VLOOKUP(E56,Teilnehmer!$B$3:$C$1002,2,0),\"\")","v":""}]
[null,null,null,{"$f":"IFERROR(VLOOKUP(C57,Teilnehmer!$B$3:$C$1002,2,0),\"\")","v":""},null,{"$f":"IFERROR(VLOOKUP(E57,Teilnehmer!$B$3:$C$1002,2,0),\"\")","v":""}]
[null,null,null,{"$f":"IFERROR(VLOOKUP(C58,Teilnehmer!$B$3:$C$1002,2,0),\"\")","v":""},null,{"$f":"IFERROR(VLOOKUP(E58,Teilnehmer!$B$3:$C$1002,2,0),\"\")","v":""}]
[null,null,null,{"$f":"IFERROR(VLOOKUP(C59,Teilnehmer!$B$3:$C$1002,2,0),\"\")","v":""},null,{"$f":"IFERROR(VLOOKUP(E59,Teilnehmer!$B$3:$C$1002,2,0),\"\")","v":""}]
[null,null,null,{"$f":"IFERROR(VLOOKUP(C60,Teilnehmer!$B$3:$C$1002,2,0),\"\")","v":""},null,{"$f":"IFERROR(VLOOKUP(E60,Teilnehmer!$B$3:$C$1002,2,0),\"\")","v":""}]
[null,null,null,{"$f":"IFERROR(VLOOKUP(C61,Teilnehmer!$B$3:$C$1002,2,0),\"\")","v":""},null,{"$f":"IFERROR(VLOOKUP(E61,Teilnehmer!$B$3:$C$1002,2,0),\"\")","v":""}]
[null,null,null,{"$f":"IFERROR(VLOOKUP(C62,Teilnehmer!$B$3:$C$1002,2,0),\"\")","v":""},null,{"$f":"IFERROR(VLOOKUP(E62,Teilnehmer!$B$3:$C$1002,2,0),\"\")","v":""}]
[null,null,null,{"$f":"IFERROR(VLOOKUP(C63,Teilnehmer!$B$3:$C$1002,2,0),\"\")","v":""},null,{"$f":"IFERROR(VLOOKUP(E63,Teilnehmer!$B$3:$C$1002,2,0),\"\")","v":""}]
[null,null,null,{"$f":"IFERROR(VLOOKUP(C64,Teilnehmer!$B$3:$C$1002,2,0),\"\")","v":""},null,{"$f":"IFERROR(VLOOKUP(E64,Teilnehmer!$B$3:$C$1002,2,0),\"\")","v":""}]
[null,null,null,{"$f":"IFERROR(VLOOKUP(C65,Teilnehmer!$B$3:$C$1002,2,0),\"\")","v":""},null,{"$f":"IFERROR(VLOOKUP(E65,Teilnehmer!$B$3:$C$1002,2,0),\"\")","v":""}]
[null,null,null,{"$f":"IFERROR(VLOOKUP(C66,Teilnehmer!$B$3:$C$1002,2,0),\"\")","v":""},null,{"$f":"IFERROR(VLOOKUP(E66,Teilnehmer!$B$3:$C$1002,2,0),\"\")","v":""}]
[null,null,null,{"$f":"IFERROR(VLOOKUP(C67,Teilnehmer!$B$3:$C$1002,2,0),\"\")","v":""},null,{"$f":"IFERROR(VLOOKUP(E67,Teilnehmer!$B$3:$C$1002,2,0),\"\")","v":""}]
[null,null,null,{"$f":"IFERROR(VLOOKUP(C68,Teilnehmer!$B$3:$C$1002,2,0),\"\")","v":""},null,{"$f":"IFERROR(VLOOKUP(E68,Teilnehmer!$B$3:$C$1002,2,0),\"\")","v":""}]
[null,null,null,{"$f":"IFERROR(VLOOKUP(C69,Teilnehmer!$B$3:$C$1002,2,0),\"\")","v":""},null,{"$f":"IFERROR(VLOOKUP(E69,Teilnehmer!$B$3:$C$1002,2,0),\"\")","v":""}]
[null,null,null,{"$f":"IFERROR(VLOOKUP(C70,Teilnehmer!$B$3:$C$1002,2,0),\"\")","v":""},null,{"$f":"IFERROR(VLOOKUP(E70,Teilnehmer!$B$3:$C$1002,2,0),\"\")","v":""}]
[null,null,null,{"$f":"IFERROR(VLOOKUP(C71,Teilnehmer!$B$3:$C$1002,2,0),\"\")","v":""},null,{"$f":"IFERROR(VLOOKUP(E71,Teilnehmer!$B$3:$C$1002,2,0),\"\")","v":""}]
[null,null,null,{"$f":"IFERROR(VLOOKUP(C72,Teilnehmer!$B$3:$C$1002,2,0),\"\")","v":""},null,{"$f":"IFERROR(VLOOKUP(E72,Teilnehmer!$B$3:$C$1002,2,0),\"\")","v":""}]
[null,null,null,{"$f":"IFERROR(VLOOKUP(C73,Teilnehmer!$B$3:$C$1002,2,0),\"\")","v":""},null,{"$f":"IFERROR(VLOOKUP(E73,Teilnehmer!$B$3:$C$1002,2,0),\"\")","v":""}]
[null,null,null,{"$f":"IFERROR(VLOOKUP(C74,Teilnehmer!$B$3:$C$1002,2,0),\"\")","v":""},null,{"$f":"IFERROR(VLOOKUP(E74,Teilnehmer!$B$3:$C$1002,2,0),\"\")","v":""}]
[null,null,null,{"$f":"IFERROR(VLOOKUP(C75,Teilnehmer!$B$3:$C$1002,2,0),\"\")","v":""},null,{"$f":"IFERROR(VLOOKUP(E75,Teilnehmer!$B$3:$C$1002,2,0),\"\")","v":""}]
[null,null,null,{"$f":"IFERROR(VLOOKUP(C76,Teilnehmer!$B$3:$C$1002,2,0),\"\")","v":""},null,{"$f":"IFERROR(VLOOKUP(E76,Teilnehmer!$B$3:$C$1002,2,0),\"\")","v":""}]
[null,null,null,{"$f":"IFERROR(VLOOKUP(C77,Teilnehmer!$B$3:$C$1002,2,0),\"\")","v":""},null,{"$f":"IFERROR(VLOOKUP(E77,Teilnehmer!$B$3:$C$1002,2,0),\"\")","v":""}]
[null,null,null,{"$f":"IFERROR(VLOOKUP(C78,Teilnehmer!$B$3:$C$1002,2,0),\"\")","v":""},null,{"$f":"IFERROR(VLOOKUP(E78,Teilnehmer!$B$3:$C$1002,2,0),\"\")","v":""}]
[null,null,null,{"$f":"IFERROR(VLOOKUP(C79,Teilnehmer!$B$3:$C$1002,2,0),\"\")","v":""},null,{"$f":"IFERROR(VLOOKUP(E79,Teilnehmer!$B$3:$C$1002,2,0),\"\")","v":""}]
[null,null,null,{"$f":"IFERROR(VLOOKUP(C80,Teilnehmer!$B$3:$C$1002,2,0),\"\")","v":""},null,{"$f":"IFERROR(VLOOKUP(E80,Teilnehmer!$B$3:$C$1002,2,0),\"\")","v":""}]
[null,null,null,{"$f":"IFERROR(VLOOKUP(C81,Teilnehmer!$B$3:$C$1002,2,0),\"\")","v":""},null,{"$f":"IFERROR(VLOOKUP(E81,Teilnehmer!$B$3:$C$1002,2,0),\"\")","v":""}]
[null,null,null,{"$f":"IFERROR(VLOOKUP(C82,Teilnehmer!$B$3:$C$1002,2,0),\"\")","v":""},null,{"$f":"IFERROR(VLOOKUP(E82,Teilnehmer!$B$3:$C$1002,2,0),\"\")","v":""}]
[null,null,null,{"$f":"IFERROR(VLOOKUP(C83,Teilnehmer!$B$3:$C$1002,2,0),\"\")","v":""},null,{"$f":"IFERROR(VLOOKUP(E83,Teilnehmer!$B$3:$C$1002,2,0),\"\")","v":""}]
[null,null,null,{"$f":"IFERROR(VLOOKUP(C84,Teilnehmer!$B$3:$C$1002,2,0),\"\")","v":""},null,{"$f":"IFERROR(VLOOKUP(E84,Teilnehmer!$B$3:$C$1002,2,0),\"\")","v":""}]
[null,null,null,{"$f":"IFERROR(VLOOKUP(C85,Teilnehmer!$B$3:$C$1002,2,0),\"\")","v":""},null,{"$f":"IFERROR(VLOOKUP(E85,Teilnehmer!$B$3:$C$1002,2,0),\"\")","v":""}]
[null,null,null,{"$f":"IFERROR(VLOOKUP(C86,Teilnehmer!$B$3:$C$1002,2,0),\"\")","v":""},null,{"$f":"IFERROR(VLOOKUP(E86,Teilnehmer!$B$3:$C$1002,2,0),\"\")","v":""}]
[null,null,null,{"$f":"IFERROR(VLOOKUP(C87,Teilnehmer!$B$3:$C$1002,2,0),\"\")","v":""},null,{"$f":"IFERROR(VLOOKUP(E87,Teilnehmer!$B$3:$C$1002,2,0),\"\")","v":""}]
[null,null,null,{"$f":"IFERROR(VLOOKUP(C88,Teilnehmer!$B$3:$C$1002,2,0),\"\")","v":""},null,{"$f":"IFERROR(VLOOKUP(E88,Teilnehmer!$B$3:$C$1002,2,0),\"\")","v":""}]
[null,null,null,{"$f":"IFERROR(VLOOKUP(C89,Teilnehmer!$B$3:$C$1002,2,0),\"\")","v":""},null,{"$f":"IFERROR(VLOOKUP(E89,Teilnehmer!$B$3:$C$1002,2,0),\"\")","v":""}]
[null,null,null,{"$f":"IFERROR(VLOOKUP(C90,Teilnehmer!$B$3:$C$1002,2,0),\"\")","v":""},null,{"$f":"IFERROR(VLOOKUP(E90,Teilnehmer!$B$3:$C$1002,2,0),\"\")","v":""}]
[null,null,null,{"$f":"IFERROR(VLOOKUP(C91,Teilnehmer!$B$3:$C$1002,2,0),\"\")","v":""},null,{"$f":"IFERROR(VLOOKUP(E91,Teilnehmer!$B$3:$C$1002,2,0),\"\")","v":""}]
[null,null,null,{"$f":"IFERROR(VLOOKUP(C92,Teilnehmer!$B$3:$C$1002,2,0),\"\")","v":""},null,{"$f":"IFERROR(VLOOKUP(E92,Teilnehmer!$B$3:$C$1002,2,0),\"\")","v":""}]
[null,null,null,{"$f":"IFERROR(VLOOKUP(C93,Teilnehmer!$B$3:$C$1002,2,0),\"\")","v":""},null,{"$f":"IFERROR(VLOOKUP(E93,Teilnehmer!$B$3:$C$1002,2,0),\"\")","v":""}]
[null,null,null,{"$f":"IFERROR(VLOOKUP(C94,Teilnehmer!$B$3:$C$1002,2,0),\"\")","v":""},null,{"$f":"IFERROR(VLOOKUP(E94,Teilnehmer!$B$3:$C$1002,2,0),\"\")","v":""}]
[null,null,null,{"$f":"IFERROR(VLOOKUP(C95,Teilnehmer!$B$3:$C$1002,2,0),\"\")","v":""},null,{"$f":"IFERROR(VLOOKUP(E95,Teilnehmer!$B$3:$C$1002,2,0),\"\")","v":""}]
[null,null,null,{"$f":"IFERROR(VLOOKUP(C96,Teilnehmer!$B$3:$C$1002,2,0),\"\")","v":""},null,{"$f":"IFERROR(VLOOKUP(E96,Teilnehmer!$B$3:$C$1002,2,0),\"\")","v":""}]
[null,null,null,{"$f":"IFERROR(VLOOKUP(C97,Teilnehmer!$B$3:$C$1002,2,0),\"\")","v":""},null,{"$f":"IFERROR(VLOOKUP(E97,Teilnehmer!$B$3:$C$1002,2,0),\"\")","v":""}]
[null,null,null,{"$f":"IFERROR(VLOOKUP(C98,Teilnehmer!$B$3:$C$1002,2,0),\"\")","v":""},null,{"$f":"IFERROR(VLOOKUP(E98,Teilnehmer!$B$3:$C$1002,2,0),\"\")","v":""}]
[null,null,null,{"$f":"IFERROR(VLOOKUP(C99,Teilnehmer!$B$3:$C$1002,2,0),\"\")","v":""},null,{"$f":"IFERROR(VLOOKUP(E99,Teilnehmer!$B$3:$C$1002,2,0),\"\")","v":""}]
[null,null,null,{"$f":"IFERROR(VLOOKUP(C100,Teilnehmer!$B$3:$C$1002,2,0),\"\")","v":""},null,{"$f":"IFERROR(VLOOKUP(E100,Teilnehmer!$B$3:$C$1002,2,0),\"\")","v":""}]
[null,null,null,{"$f":"IFERROR(VLOOKUP(C101,Teilnehmer!$B$3:$C$1002,2,0),\"\")","v":""},null,{"$f":"IFERROR(VLOOKUP(E101,Teilnehmer!$B$3:$C$1002,2,0),\"\")","v":""}]
[null,null,null,{"$f":"IFERROR(VLOOKUP(C102,Teilnehmer!$B$3:$C$1002,2,0),\"\")","v":""},null,{"$f":"IFERROR(VLOOKUP(E102,Teilnehmer!$B$3:$C$1002,2,0),\"\")","v":""}]
[null,null,null,{"$f":"IFERROR(VLOOKUP(C103,Teilnehmer!$B$3:$C$1002,2,0),\"\")","v":""},null,{"$f":"IFERROR(VLOOKUP(E103,Teilnehmer!$B$3:$C$1002,2,0),\"\")","v":""}]
[null,null,null,{"$f":"IFERROR(VLOOKUP(C104,Teilnehmer!$B$3:$C$1002,2,0),\"\")","v":""},null,{"$f":"IFERROR(VLOOKUP(E104,Teilnehmer!$B$3:$C$1002,2,0),\"\")","v":""}]
[null,null,null,{"$f":"IFERROR(VLOOKUP(C105,Teilnehmer!$B$3:$C$1002,2,0),\"\")","v":""},null,{"$f":"IFERROR(VLOOKUP(E105,Teilnehmer!$B$3:$C$1002,2,0),\"\")","v":""}]
[null,null,null,{"$f":"IFERROR(VLOOKUP(C106,Teilnehmer!$B$3:$C$1002,2,0),\"\")","v":""},null,{"$f":"IFERROR(VLOOKUP(E106,Teilnehmer!$B$3:$C$1002,2,0),\"\")","v":""}]
[null,null,null,{"$f":"IFERROR(VLOOKUP(C107,Teilnehmer!$B$3:$C$1002,2,0),\"\")","v":""},null,{"$f":"IFERROR(VLOOKUP(E107,Teilnehmer!$B$3:$C$1002,2,0),\"\")","v":""}]
[null,null,null,{"$f":"IFERROR(VLOOKUP(C108,Teilnehmer!$B$3:$C$1002,2,0),\"\")","v":""},null,{"$f":"IFERROR(VLOOKUP(E108,Teilnehmer!$B$3:$C$1002,2,0),\"\")","v":""}]
[null,null,null,{"$f":"IFERROR(VLOOKUP(C109,Teilnehmer!$B$3:$C$1002,2,0),\"\")","v":""},null,{"$f":"IFERROR(VLOOKUP(E109,Teilnehmer!$B$3:$C$1002,2,0),\"\")","v":""}]
[null,null,null,{"$f":"IFERROR(VLOOKUP(C110,Teilnehmer!$B$3:$C$1002,2,0),\"\")","v":""},null,{"$f":"IFERROR(VLOOKUP(E110,Teilnehmer!$B$3:$C$1002,2,0),\"\")","v":""}]
[null,null,null,{"$f":"IFERROR(VLOOKUP(C111,Teilnehmer!$B$3:$C$1002,2,0),\"\")","v":""},null,{"$f":"IFERROR(VLOOKUP(E111,Teilnehmer!$B$3:$C$1002,2,0),\"\")","v":""}]
[null,null,null,{"$f":"IFERROR(VLOOKUP(C112,Teilnehmer!$B$3:$C$1002,2,0),\"\")","v":""},null,{"$f":"IFERROR(VLOOKUP(E112,Teilnehmer!$B$3:$C$1002,2,0),\"\")","v":""}]
[null,null,null,{"$f":"IFERROR(VLOOKUP(C113,Teilnehmer!$B$3:$C$1002,2,0),\"\")","v":""},null,{"$f":"IFERROR(VLOOKUP(E113,Teilnehmer!$B$3:$C$1002,2,0),\"\")","v":""}]
[null,null,null,{"$f":"IFERROR(VLOOKUP(C114,Teilnehmer!$B$3:$C$1002,2,0),\"\")","v":""},null,{"$f":"IFERROR(VLOOKUP(E114,Teilnehmer!$B$3:$C$1002,2,0),\"\")","v":""}]
[null,null,null,{"$f":"IFERROR(VLOOKUP(C115,Teilnehmer!$B$3:$C$1002,2,0),\"\")","v":""},null,{"$f":"IFERROR(VLOOKUP(E115,Teilnehmer!$B$3:$C$1002,2,0),\"\")","v":""}]
[null,null,null,{"$f":"IFERROR(VLOOKUP(C116,Teilnehmer!$B$3:$C$1002,2,0),\"\")","v":""},null,{"$f":"IFERROR(VLOOKUP(E116,Teilnehmer!$B$3:$C$1002,2,0),\"\")","v":""}]
[null,null,null,{"$f":"IFERROR(VLOOKUP(C117,Teilnehmer!$B$3:$C$1002,2,0),\"\")","v":""},null,{"$f":"IFERROR(VLOOKUP(E117,Teilnehmer!$B$3:$C$1002,2,0),\"\")","v":""}]
[null,null,null,{"$f":"IFERROR(VLOOKUP(C118,Teilnehmer!$B$3:$C$1002,2,0),\"\")","v":""},null,{"$f":"IFERROR(VLOOKUP(E118,Teilnehmer!$B$3:$C$1002,2,0),\"\")","v":""}]
[null,null,null,{"$f":"IFERROR(VLOOKUP(C119,Teilnehmer!$B$3:$C$1002,2,0),\"\")","v":""},null,{"$f":"IFERROR(VLOOKUP(E119,Teilnehmer!$B$3:$C$1002,2,0),\"\")","v":""}]
[null,null,null,{"$f":"IFERROR(VLOOKUP(C120,Teilnehmer!$B$3:$C$1002,2,0),\"\")","v":""},null,{"$f":"IFERROR(VLOOKUP(E120,Teilnehmer!$B$3:$C$1002,2,0),\"\")","v":""}]
[null,null,null,{"$f":"IFERROR(VLOOKUP(C121,Teilnehmer!$B$3:$C$1002,2,0),\"\")","v":""},null,{"$f":"IFERROR(VLOOKUP(E121,Teilnehmer!$B$3:$C$1002,2,0),\"\")","v":""}]
[null,null,null,{"$f":"IFERROR(VLOOKUP(C122,Teilnehmer!$B$3:$C$1002,2,0),\"\")","v":""},null,{"$f":"IFERROR(VLOOKUP(E122,Teilnehmer!$B$3:$C$1002,2,0),\"\")","v":""}]
[null,null,null,{"$f":"IFERROR(VLOOKUP(C123,Teilnehmer!$B$3:$C$1002,2,0),\"\")","v":""},null,{"$f":"IFERROR(VLOOKUP(E123,Teilnehmer!$B$3:$C$1002,2,0),\"\")","v":""}]
[null,null,null,{"$f":"IFERROR(VLOOKUP(C124,Teilnehmer!$B$3:$C$1002,2,0),\"\")","v":""},null,{"$f":"IFERROR(VLOOKUP(E124,Teilnehmer!$B$3:$C$1002,2,0),\"\")","v":""}]
[null,null,null,{"$f":"IFERROR(VLOOKUP(C125,Teilnehmer!$B$3:$C$1002,2,0),\"\")","v":""},null,{"$f":"IFERROR(VLOOKUP(E125,Teilnehmer!$B$3:$C$1002,2,0),\"\")","v":""}]
[null,null,null,{"$f":"IFERROR(VLOOKUP(C126,Teilnehmer!$B$3:$C$1002,2,0),\"\")","v":""},null,{"$f":"IFERROR(VLOOKUP(E126,Teilnehmer!$B$3:$C$1002,2,0),\"\")","v":""}]
[null,null,null,{"$f":"IFERROR(VLOOKUP(C127,Teilnehmer!$B$3:$C$1002,2,0),\"\")","v":""},null,{"$f":"IFERROR(VLOOKUP(E127,Teilnehmer!$B$3:$C$1002,2,0),\"\")","v":""}]
[null,null,null,{"$f":"IFERROR(VLOOKUP(C128,Teilnehmer!$B$3:$C$1002,2,0),\"\")","v":""},null,{"$f":"IFERROR(VLOOKUP(E128,Teilnehmer!$B$3:$C$1002,2,0),\"\")","v":""}]
[null,null,null,{"$f":"IFERROR(VLOOKUP(C129,Teilnehmer!$B$3:$C$1002,2,0),\"\")","v":""},null,{"$f":"IFERROR(VLOOKUP(E129,Teilnehmer!$B$3:$C$1002,2,0),\"\")","v":""}]
[null,null,null,{"$f":"IFERROR(VLOOKUP(C130,Teilnehmer!$B$3:$C$1002,2,0),\"\")","v":""},null,{"$f":"IFERROR(VLOOKUP(E130,Teilnehmer!$B$3:$C$1002,2,0),\"\")","v":""}]
[null,null,null,{"$f":"IFERROR(VLOOKUP(C131,Teilnehmer!$B$3:$C$1002,2,0),\"\")","v":""},null,{"$f":"IFERROR(VLOOKUP(E131,Teilnehmer!$B$3:$C$1002,2,0),\"\")","v":""}]
[null,null,null,{"$f":"IFERROR(VLOOKUP(C132,Teilnehmer!$B$3:$C$1002,2,0),\"\")","v":""},null,{"$f":"IFERROR(VLOOKUP(E132,Teilnehmer!$B$3:$C$1002,2,0),\"\")","v":""}]
[null,null,null,{"$f":"IFERROR(VLOOKUP(C133,Teilnehmer!$B$3:$C$1002,2,0),\"\")","v":""},null,{"$f":"IFERROR(VLOOKUP(E133,Teilnehmer!$B$3:$C$1002,2,0),\"\")","v":""}]
[null,null,null,{"$f":"IFERROR(VLOOKUP(C134,Teilnehmer!$B$3:$C$1002,2,0),\"\")","v":""},null,{"$f":"IFERROR(VLOOKUP(E134,Teilnehmer!$B$3:$C$1002,2,0),\"\")","v":""}]
[null,null,null,{"$f":"IFERROR(VLOOKUP(C135,Teilnehmer!$B$3:$C$1002,2,0),\"\")","v":""},null,{"$f":"IFERROR(VLOOKUP(E135,Teilnehmer!$B$3:$C$1002,2,0),\"\")","v":""}]
[null,null,null,{"$f":"IFERROR(VLOOKUP(C136,Teilnehmer!$B$3:$C$1002,2,0),\"\")","v":""},null,{"$f":"IFERROR(VLOOKUP(E136,Teilnehmer!$B$3:$C$1002,2,0),\"\")","v":""}]
[null,null,null,{"$f":"IFERROR(VLOOKUP(C137,Teilnehmer!$B$3:$C$1002,2,0),\"\")","v":""},null,{"$f":"IFERROR(VLOOKUP(E137,Teilnehmer!$B$3:$C$1002,2,0),\"\")","v":""}]
[null,null,null,{"$f":"IFERROR(VLOOKUP(C138,Teilnehmer!$B$3:$C$1002,2,0),\"\")","v":""},null,{"$f":"IFERROR(VLOOKUP(E138,Teilnehmer!$B$3:$C$1002,2,0),\"\")","v":""}]
[null,null,null,{"$f":"IFERROR(VLOOKUP(C139,Teilnehmer!$B$3:$C$1002,2,0),\"\")","v":""},null,{"$f":"IFERROR(VLOOKUP(E139,Teilnehmer!$B$3:$C$1002,2,0),\"\")","v":""}]
[null,null,null,{"$f":"IFERROR(VLOOKUP(C140,Teilnehmer!$B$3:$C$1002,2,0),\"\")","v":""},null,{"$f":"IFERROR(VLOOKUP(E140,Teilnehmer!$B$3:$C$1002,2,0),\"\")","v":""}]
[null,null,null,{"$f":"IFERROR(VLOOKUP(C141,Teilnehmer!$B$3:$C$1002,2,0),\"\")","v":""},null,{"$f":"IFERROR(VLOOKUP(E141,Teilnehmer!$B$3:$C$1002,2,0),\"\")","v":""}]
[null,null,null,{"$f":"IFERROR(VLOOKUP(C142,Teilnehmer!$B$3:$C$1002,2,0),\"\")","v":""},null,{"$f":"IFERROR(VLOOKUP(E142,Teilnehmer!$B$3:$C$1002,2,0),\"\")","v":""}]
[null,null,null,{"$f":"IFERROR(VLOOKUP(C143,Teilnehmer!$B$3:$C$1002,2,0),\"\")","v":""},null,{"$f":"IFERROR(VLOOKUP(E143,Teilnehmer!$B$3:$C$1002,2,0),\"\")","v":""}]
[null,null,null,{"$f":"IFERROR(VLOOKUP(C144,Teilnehmer!$B$3:$C$1002,2,0),\"\")","v":""},null,{"$f":"IFERROR(VLOOKUP(E144,Teilnehmer!$B$3:$C$1002,2,0),\"\")","v":""}]
[null,null,null,{"$f":"IFERROR(VLOOKUP(C145,Teilnehmer!$B$3:$C$1002,2,0),\"\")","v":""},null,{"$f":"IFERROR(VLOOKUP(E145,Teilnehmer!$B$3:$C$1002,2,0),\"\")","v":""}]
[null,null,null,{"$f":"IFERROR(VLOOKUP(C146,Teilnehmer!$B$3:$C$1002,2,0),\"\")","v":""},null,{"$f":"IFERROR(VLOOKUP(E146,Teilnehmer!$B$3:$C$1002,2,0),\"\")","v":""}]
[null,null,null,{"$f":"IFERROR(VLOOKUP(C147,Teilnehmer!$B$3:$C$1002,2,0),\"\")","v":""},null,{"$f":"IFERROR(VLOOKUP(E147,Teilnehmer!$B$3:$C$1002,2,0),\"\")","v":""}]
[null,null,null,{"$f":"IFERROR(VLOOKUP(C148,Teilnehmer!$B$3:$C$1002,2,0),\"\")","v":""},null,{"$f":"IFERROR(VLOOKUP(E148,Teilnehmer!$B$3:$C$1002,2,0),\"\")","v":""}]
[null,null,null,{"$f":"IFERROR(VLOOKUP(C149,Teilnehmer!$B$3:$C$1002,2,0),\"\")","v":""},null,{"$f":"IFERROR(VLOOKUP(E149,Teilnehmer!$B$3:$C$1002,2,0),\"\")","v":""}]
[null,null,null,{"$f":"IFERROR(VLOOKUP(C150,Teilnehmer!$B$3:$C$1002,2,0),\"\")","v":""},null,{"$f":"IFERROR(VLOOKUP(E150,Teilnehmer!$B$3:$C$1002,2,0),\"\")","v":""}]
[null,null,null,{"$f":"IFERROR(VLOOKUP(C151,Teilnehmer!$B$3:$C$1002,2,0),\"\")","v":""},null,{"$f":"IFERROR(VLOOKUP(E151,Teilnehmer!$B$3:$C$1002,2,0),\"\")","v":""}]
[null,null,null,{"$f":"IFERROR(VLOOKUP(C152,Teilnehmer!$B$3:$C$1002,2,0),\"\")","v":""},null,{"$f":"IFERROR(VLOOKUP(E152,Teilnehmer!$B$3:$C$1002,2,0),\"\")","v":""}]
[null,null,null,{"$f":"IFERROR(VLOOKUP(C153,Teilnehmer!$B$3:$C$1002,2,0),\"\")","v":""},null,{"$f":"IFERROR(VLOOKUP(E153,Teilnehmer!$B$3:$C$1002,2,0),\"\")","v":""}]
[null,null,null,{"$f":"IFERROR(VLOOKUP(C154,Teilnehmer!$B$3:$C$1002,2,0),\"\")","v":""},null,{"$f":"IFERROR(VLOOKUP(E154,Teilnehmer!$B$3:$C$1002,2,0),\"\")","v":""}]
[null,null,null,{"$f":"IFERROR(VLOOKUP(C155,Teilnehmer!$B$3:$C$1002,2,0),\"\")","v":""},null,{"$f":"IFERROR(VLOOKUP(E155,Teilnehmer!$B$3:$C$1002,2,0),\"\")","v":""}]
[null,null,null,{"$f":"IFERROR(VLOOKUP(C156,Teilnehmer!$B$3:$C$1002,2,0),\"\")","v":""},null,{"$f":"IFERROR(VLOOKUP(E156,Teilnehmer!$B$3:$C$1002,2,0),\"\")","v":""}]
[null,null,null,{"$f":"IFERROR(VLOOKUP(C157,Teilnehmer!$B$3:$C$1002,2,0),\"\")","v":""},null,{"$f":"IFERROR(VLOOKUP(E157,Teilnehmer!$B$3:$C$1002,2,0),\"\")","v":""}]
[null,null,null,{"$f":"IFERROR(VLOOKUP(C158,Teilnehmer!$B$3:$C$1002,2,0),\"\")","v":""},null,{"$f":"IFERROR(VLOOKUP(E158,Teilnehmer!$B$3:$C$1002,2,0),\"\")","v":""}]
[null,null,null,{"$f":"IFERROR(VLOOKUP(C159,Teilnehmer!$B$3:$C$1002,2,0),\"\")","v":""},null,{"$f":"IFERROR(VLOOKUP(E159,Teilnehmer!$B$3:$C$1002,2,0),\"\")","v":""}]
[null,null,null,{"$f":"IFERROR(VLOOKUP(C160,Teilnehmer!$B$3:$C$1002,2,0),\"\")","v":""},null,{"$f":"IFERROR(VLOOKUP(E160,Teilnehmer!$B$3:$C$1002,2,0),\"\")","v":""}]
[null,null,null,{"$f":"IFERROR(VLOOKUP(C161,Teilnehmer!$B$3:$C$1002,2,0),\"\")","v":""},null,{"$f":"IFERROR(VLOOKUP(E161,Teilnehmer!$B$3:$C$1002,2,0),\"\")","v":""}]
[null,null,null,{"$f":"IFERROR(VLOOKUP(C162,Teilnehmer!$B$3:$C$1002,2,0),\"\")","v":""},null,{"$f":"IFERROR(VLOOKUP(E162,Teilnehmer!$B$3:$C$1002,2,0),\"\")","v":""}]
[null,null,null,{"$f":"IFERROR(VLOOKUP(C163,Teilnehmer!$B$3:$C$1002,2,0),\"\")","v":""},null,{"$f":"IFERROR(VLOOKUP(E163,Teilnehmer!$B$3:$C$1002,2,0),\"\")","v":""}]
[null,null,null,{"$f":"IFERROR(VLOOKUP(C164,Teilnehmer!$B$3:$C$1002,2,0),\"\")","v":""},null,{"$f":"IFERROR(VLOOKUP(E164,Teilnehmer!$B$3:$C$1002,2,0),\"\")","v":""}]
[null,null,null,{"$f":"IFERROR(VLOOKUP(C165,Teilnehmer!$B$3:$C$1002,2,0),\"\")","v":""},null,{"$f":"IFERROR(VLOOKUP(E165,Teilnehmer!$B$3:$C$1002,2,0),\"\")","v":""}]
[null,null,null,{"$f":"IFERROR(VLOOKUP(C166,Teilnehmer!$B$3:$C$1002,2,0),\"\")","v":""},null,{"$f":"IFERROR(VLOOKUP(E166,Teilnehmer!$B$3:$C$1002,2,0),\"\")","v":""}]
[null,null,null,{"$f":"IFERROR(VLOOKUP(C167,Teilnehmer!$B$3:$C$1002,2,0),\"\")","v":""},null,{"$f":"IFERROR(VLOOKUP(E167,Teilnehmer!$B$3:$C$1002,2,0),\"\")","v":""}]
[null,null,null,{"$f":"IFERROR(VLOOKUP(C168,Teilnehmer!$B$3:$C$1002,2,0),\"\")","v":""},null,{"$f":"IFERROR(VLOOKUP(E168,Teilnehmer!$B$3:$C$1002,2,0),\"\")","v":""}]
[null,null,null,{"$f":"IFERROR(VLOOKUP(C169,Teilnehmer!$B$3:$C$1002,2,0),\"\")","v":""},null,{"$f":"IFERROR(VLOOKUP(E169,Teilnehmer!$B$3:$C$1002,2,0),\"\")","v":""}]
[null,null,null,{"$f":"IFERROR(VLOOKUP(C170,Teilnehmer!$B$3:$C$1002,2,0),\"\")","v":""},null,{"$f":"IFERROR(VLOOKUP(E170,Teilnehmer!$B$3:$C$1002,2,0),\"\")","v":""}]
[null,null,null,{"$f":"IFERROR(VLOOKUP(C171,Teilnehmer!$B$3:$C$1002,2,0),\"\")","v":""},null,{"$f":"IFERROR(VLOOKUP(E171,Teilnehmer!$B$3:$C$1002,2,0),\"\")","v":""}]
[null,null,null,{"$f":"IFERROR(VLOOKUP(C172,Teilnehmer!$B$3:$C$1002,2,0),\"\")","v":""},null,{"$f":"IFERROR(VLOOKUP(E172,Teilnehmer!$B$3:$C$1002,2,0),\"\")","v":""}]
[null,null,null,{"$f":"IFERROR(VLOOKUP(C173,Teilnehmer!$B$3:$C$1002,2,0),\"\")","v":""},null,{"$f":"IFERROR(VLOOKUP(E173,Teilnehmer!$B$3:$C$1002,2,0),\"\")","v":""}]
[null,null,null,{"$f":"IFERROR(VLOOKUP(C174,Teilnehmer!$B$3:$C$1002,2,0),\"\")","v":""},null,{"$f":"IFERROR(VLOOKUP(E174,Teilnehmer!$B$3:$C$1002,2,0),\"\")","v":""}]
[null,null,null,{"$f":"IFERROR(VLOOKUP(C175,Teilnehmer!$B$3:$C$1002,2,0),\"\")","v":""},null,{"$f":"IFERROR(VLOOKUP(E175,Teilnehmer!$B$3:$C$1002,2,0),\"\")","v":""}]
[null,null,null,{"$f":"IFERROR(VLOOKUP(C176,Teilnehmer!$B$3:$C$1002,2,0),\"\")","v":""},null,{"$f":"IFERROR(VLOOKUP(E176,Teilnehmer!$B$3:$C$1002,2,0),\"\")","v":""}]
[null,null,null,{"$f":"IFERROR(VLOOKUP(C177,Teilnehmer!$B$3:$C$1002,2,0),\"\")","v":""},null,{"$f":"IFERROR(VLOOKUP(E177,Teilnehmer!$B$3:$C$1002,2,0),\"\")","v":""}]
[null,null,null,{"$f":"IFERROR(VLOOKUP(C178,Teilnehmer!$B$3:$C$1002,2,0),\"\")","v":""},null,{"$f":"IFERROR(VLOOKUP(E178,Teilnehmer!$B$3:$C$1002,2,0),\"\")","v":""}]
[null,null,null,{"$f":"IFERROR(VLOOKUP(C179,Teilnehmer!$B$3:$C$1002,2,0),\"\")","v":""},null,{"$f":"IFERROR(VLOOKUP(E179,Teilnehmer!$B$3:$C$1002,2,0),\"\")","v":""}]
[null,null,null,{"$f":"IFERROR(VLOOKUP(C180,Teilnehmer!$B$3:$C$1002,2,0),\"\")","v":""},null,{"$f":"IFERROR(VLOOKUP(E180,Teilnehmer!$B$3:$C$1002,2,0),\"\")","v":""}]
[null,null,null,{"$f":"IFERROR(VLOOKUP(C181,Teilnehmer!$B$3:$C$1002,2,0),\"\")","v":""},null,{"$f":"IFERROR(VLOOKUP(E181,Teilnehmer!$B$3:$C$1002,2,0),\"\")","v":""}]
[null,null,null,{"$f":"IFERROR(VLOOKUP(C182,Teilnehmer!$B$3:$C$1002,2,0),\"\")","v":""},null,{"$f":"IFERROR(VLOOKUP(E182,Teilnehmer!$B$3:$C$1002,2,0),\"\")","v":""}]
[null,null,null,{"$f":"IFERROR(VLOOKUP(C183,Teilnehmer!$B$3:$C$1002,2,0),\"\")","v":""},null,{"$f":"IFERROR(VLOOKUP(E183,Teilnehmer!$B$3:$C$1002,2,0),\"\")","v":""}]
[null,null,null,{"$f":"IFERROR(VLOOKUP(C184,Teilnehmer!$B$3:$C$1002,2,0),\"\")","v":""},null,{"$f":"IFERROR(VLOOKUP(E184,Teilnehmer!$B$3:$C$1002,2,0),\"\")","v":""}]
[null,null,null,{"$f":"IFERROR(VLOOKUP(C185,Teilnehmer!$B$3:$C$1002,2,0),\"\")","v":""},null,{"$f":"IFERROR(VLOOKUP(E185,Teilnehmer!$B$3:$C$1002,2,0),\"\")","v":""}]
[null,null,null,{"$f":"IFERROR(VLOOKUP(C186,Teilnehmer!$B$3:$C$1002,2,0),\"\")","v":""},null,{"$f":"IFERROR(VLOOKUP(E186,Teilnehmer!$B$3:$C$1002,2,0),\"\")","v":""}]
[null,null,null,{"$f":"IFERROR(VLOOKUP(C187,Teilnehmer!$B$3:$C$1002,2,0),\"\")","v":""},null,{"$f":"IFERROR(VLOOKUP(E187,Teilnehmer!$B$3:$C$1002,2,0),\"\")","v":""}]
[null,null,null,{"$f":"IFERROR(VLOOKUP(C188,Teilnehmer!$B$3:$C$1002,2,0),\"\")","v":""},null,{"$f":"IFERROR(VLOOKUP(E188,Teilnehmer!$B$3:$C$1002,2,0),\"\")","v":""}]
[null,null,null,{"$f":"IFERROR(VLOOKUP(C189,Teilnehmer!$B$3:$C$1002,2,0),\"\")","v":""},null,{"$f":"IFERROR(VLOOKUP(E189,Teilnehmer!$B$3:$C$1002,2,0),\"\")","v":""}]
[null,null,null,{"$f":"IFERROR(VLOOKUP(C190,Teilnehmer!$B$3:$C$1002,2,0),\"\")","v":""},null,{"$f":"IFERROR(VLOOKUP(E190,Teilnehmer!$B$3:$C$1002,2,0),\"\")","v":""}]
[null,null,null,{"$f":"IFERROR(VLOOKUP(C191,Teilnehmer!$B$3:$C$1002,2,0),\"\")","v":""},null,{"$f":"IFERROR(VLOOKUP(E191,Teilnehmer!$B$3:$C$1002,2,0),\"\")","v":""}]
[null,null,null,{"$f":"IFERROR(VLOOKUP(C192,Teilnehmer!$B$3:$C$1002,2,0),\"\")","v":""},null,{"$f":"IFERROR(VLOOKUP(E192,Teilnehmer!$B$3:$C$1002,2,0),\"\")","v":""}]
[null,null,null,{"$f":"IFERROR(VLOOKUP(C193,Teilnehmer!$B$3:$C$1002,2,0),\"\")","v":""},null,{"$f":"IFERROR(VLOOKUP(E193,Teilnehmer!$B$3:$C$1002,2,0),\"\")","v":""}]
[null,null,null,{"$f":"IFERROR(VLOOKUP(C194,Teilnehmer!$B$3:$C$1002,2,0),\"\")","v":""},null,{"$f":"IFERROR(VLOOKUP(E194,Teilnehmer!$B$3:$C$1002,2,0),\"\")","v":""}]
[null,null,null,{"$f":"IFERROR(VLOOKUP(C195,Teilnehmer!$B$3:$C$1002,2,0),\"\")","v":""},null,{"$f":"IFERROR(VLOOKUP(E195,Teilnehmer!$B$3:$C$1002,2,0),\"\")","v":""}]
[null,null,null,{"$f":"IFERROR(VLOOKUP(C196,Teilnehmer!$B$3:$C$1002,2,0),\"\")","v":""},null,{"$f":"IFERROR(VLOOKUP(E196,Teilnehmer!$B$3:$C$1002,2,0),\"\")","v":""}]
[null,null,null,{"$f":"IFERROR(VLOOKUP(C197,Teilnehmer!$B$3:$C$1002,2,0),\"\")","v":""},null,{"$f":"IFERROR(VLOOKUP(E197,Teilnehmer!$B$3:$C$1002,2,0),\"\")","v":""}]
[null,null,null,{"$f":"IFERROR(VLOOKUP(C198,Teilnehmer!$B$3:$C$1002,2,0),\"\")","v":""},null,{"$f":"IFERROR(VLOOKUP(E198,Teilnehmer!$B$3:$C$1002,2,0),\"\")","v":""}]
[null,null,null,{"$f":"IFERROR(VLOOKUP(C199,Teilnehmer!$B$3:$C$1002,2,0),\"\")","v":""},null,{"$f":"IFERROR(VLOOKUP(E199,Teilnehmer!$B$3:$C$1002,2,0),\"\")","v":""}]
[null,null,null,{"$f":"IFERROR(VLOOKUP(C200,Teilnehmer!$B$3:$C$1002,2,0),\"\")","v":""},null,{"$f":"IFERROR(VLOOKUP(E200,Teilnehmer!$B$3:$C$1002,2,0),\"\")","v":""}]
[null,null,null,{"$f":"IFERROR(VLOOKUP(C201,Teilnehmer!$B$3:$C$1002,2,0),\"\")","v":""},null,{"$f":"IFERROR(VLOOKUP(E201,Teilnehmer!$B$3:$C$1002,2,0),\"\")","v":""}]
[null,null,null,{"$f":"IFERROR(VLOOKUP(C202,Teilnehmer!$B$3:$C$1002,2,0),\"\")","v":""},null,{"$f":"IFERROR(VLOOKUP(E202,Teilnehmer!$B$3:$C$1002,2,0),\"\")","v":""}]
[null,null,null,{"$f":"IFERROR(VLOOKUP(C203,Teilnehmer!$B$3:$C$1002,2,0),\"\")","v":""},null,{"$f":"IFERROR(VLOOKUP(E203,Teilnehmer!$B$3:$C$1002,2,0),\"\")","v":""}]
[null,null,null,{"$f":"IFERROR(VLOOKUP(C204,Teilnehmer!$B$3:$C$1002,2,0),\"\")","v":""},null,{"$f":"IFERROR(VLOOKUP(E204,Teilnehmer!$B$3:$C$1002,2,0),\"\")","v":""}]
[null,null,null,{"$f":"IFERROR(VLOOKUP(C205,Teilnehmer!$B$3:$C$1002,2,0),\"\")","v":""},null,{"$f":"IFERROR(VLOOKUP(E205,Teilnehmer!$B$3:$C$1002,2,0),\"\")","v":""}]
[null,null,null,{"$f":"IFERROR(VLOOKUP(C206,Teilnehmer!$B$3:$C$1002,2,0),\"\")","v":""},null,{"$f":"IFERROR(VLOOKUP(E206,Teilnehmer!$B$3:$C$1002,2,0),\"\")","v":""}]
[null,null,null,{"$f":"IFERROR(VLOOKUP(C207,Teilnehmer!$B$3:$C$1002,2,0),\"\")","v":""},null,{"$f":"IFERROR(VLOOKUP(E207,Teilnehmer!$B$3:$C$1002,2,0),\"\")","v":""}]
[null,null,null,{"$f":"IFERROR(VLOOKUP(C208,Teilnehmer!$B$3:$C$1002,2,0),\"\")","v":""},null,{"$f":"IFERROR(VLOOKUP(E208,Teilnehmer!$B$3:$C$1002,2,0),\"\")","v":""}]
[null,null,null,{"$f":"IFERROR(VLOOKUP(C209,Teilnehmer!$B$3:$C$1002,2,0),\"\")","v":""},null,{"$f":"IFERROR(VLOOKUP(E209,Teilnehmer!$B$3:$C$1002,2,0),\"\")","v":""}]
[null,null,null,{"$f":"IFERROR(VLOOKUP(C210,Teilnehmer!$B$3:$C$1002,2,0),\"\")","v":""},null,{"$f":"IFERROR(VLOOKUP(E210,Teilnehmer!$B$3:$C$1002,2,0),\"\")","v":""}]
[null,null,null,{"$f":"IFERROR(VLOOKUP(C211,Teilnehmer!$B$3:$C$1002,2,0),\"\")","v":""},null,{"$f":"IFERROR(VLOOKUP(E211,Teilnehmer!$B$3:$C$1002,2,0),\"\")","v":""}]
[null,null,null,{"$f":"IFERROR(VLOOKUP(C212,Teilnehmer!$B$3:$C$1002,2,0),\"\")","v":""},null,{"$f":"IFERROR(VLOOKUP(E212,Teilnehmer!$B$3:$C$1002,2,0),\"\")","v":""}]
[null,null,null,{"$f":"IFERROR(VLOOKUP(C213,Teilnehmer!$B$3:$C$1002,2,0),\"\")","v":""},null,{"$f":"IFERROR(VLOOKUP(E213,Teilnehmer!$B$3:$C$1002,2,0),\"\")","v":""}]
[null,null,null,{"$f":"IFERROR(VLOOKUP(C214,Teilnehmer!$B$3:$C$1002,2,0),\"\")","v":""},null,{"$f":"IFERROR(VLOOKUP(E214,Teilnehmer!$B$3:$C$1002,2,0),\"\")","v":""}]
[null,null,null,{"$f":"IFERROR(VLOOKUP(C215,Teilnehmer!$B$3:$C$1002,2,0),\"\")","v":""},null,{"$f":"IFERROR(VLOOKUP(E215,Teilnehmer!$B$3:$C$1002,2,0),\"\")","v":""}]
[null,null,null,{"$f":"IFERROR(VLOOKUP(C216,Teilnehmer!$B$3:$C$1002,2,0),\"\")","v":""},null,{"$f":"IFERROR(VLOOKUP(E216,Teilnehmer!$B$3:$C$1002,2,0),\"\")","v":""}]
[null,null,null,{"$f":"IFERROR(VLOOKUP(C217,Teilnehmer!$B$3:$C$1002,2,0),\"\")","v":""},null,{"$f":"IFERROR(VLOOKUP(E217,Teilnehmer!$B$3:$C$1002,2,0),\"\")","v":""}]
[null,null,null,{"$f":"IFERROR(VLOOKUP(C218,Teilnehmer!$B$3:$C$1002,2,0),\"\")","v":""},null,{"$f":"IFERROR(VLOOKUP(E218,Teilnehmer!$B$3:$C$1002,2,0),\"\")","v":""}]
[null,null,null,{"$f":"IFERROR(VLOOKUP(C219,Teilnehmer!$B$3:$C$1002,2,0),\"\")","v":""},null,{"$f":"IFERROR(VLOOKUP(E219,Teilnehmer!$B$3:$C$1002,2,0),\"\")","v":""}]
[null,null,null,{"$f":"IFERROR(VLOOKUP(C220,Teilnehmer!$B$3:$C$1002,2,0),\"\")","v":""},null,{"$f":"IFERROR(VLOOKUP(E220,Teilnehmer!$B$3:$C$1002,2,0),\"\")","v":""}]
[null,null,null,{"$f":"IFERROR(VLOOKUP(C221,Teilnehmer!$B$3:$C$1002,2,0),\"\")","v":""},null,{"$f":"IFERROR(VLOOKUP(E221,Teilnehmer!$B$3:$C$1002,2,0),\"\")","v":""}]
[null,null,null,{"$f":"IFERROR(VLOOKUP(C222,Teilnehmer!$B$3:$C$1002,2,0),\"\")","v":""},null,{"$f":"IFERROR(VLOOKUP(E222,Teilnehmer!$B$3:$C$1002,2,0),\"\")","v":""}]
[null,null,null,{"$f":"IFERROR(VLOOKUP(C223,Teilnehmer!$B$3:$C$1002,2,0),\"\")","v":""},null,{"$f":"IFERROR(VLOOKUP(E223,Teilnehmer!$B$3:$C$1002,2,0),\"\")","v":""}]
[null,null,null,{"$f":"IFERROR(VLOOKUP(C224,Teilnehmer!$B$3:$C$1002,2,0),\"\")","v":""},null,{"$f":"IFERROR(VLOOKUP(E224,Teilnehmer!$B$3:$C$1002,2,0),\"\")","v":""}]
[null,null,null,{"$f":"IFERROR(VLOOKUP(C225,Teilnehmer!$B$3:$C$1002,2,0),\"\")","v":""},null,{"$f":"IFERROR(VLOOKUP(E225,Teilnehmer!$B$3:$C$1002,2,0),\"\")","v":""}]
[null,null,null,{"$f":"IFERROR(VLOOKUP(C226,Teilnehmer!$B$3:$C$1002,2,0),\"\")","v":""},null,{"$f":"IFERROR(VLOOKUP(E226,Teilnehmer!$B$3:$C$1002,2,0),\"\")","v":""}]
[null,null,null,{"$f":"IFERROR(VLOOKUP(C227,Teilnehmer!$B$3:$C$1002,2,0),\"\")","v":""},null,{"$f":"IFERROR(VLOOKUP(E227,Teilnehmer!$B$3:$C$1002,2,0),\"\")","v":""}]
[null,null,null,{"$f":"IFERROR(VLOOKUP(C228,Teilnehmer!$B$3:$C$1002,2,0),\"\")","v":""},null,{"$f":"IFERROR(VLOOKUP(E228,Teilnehmer!$B$3:$C$1002,2,0),\"\")","v":""}]
[null,null,null,{"$f":"IFERROR(VLOOKUP(C229,Teilnehmer!$B$3:$C$1002,2,0),\"\")","v":""},null,{"$f":"IFERROR(VLOOKUP(E229,Teilnehmer!$B$3:$C$1002,2,0),\"\")","v":""}]
[null,null,null,{"$f":"IFERROR(VLOOKUP(C230,Teilnehmer!$B$3:$C$1002,2,0),\"\")","v":""},null,{"$f":"IFERROR(VLOOKUP(E230,Teilnehmer!$B$3:$C$1002,2,0),\"\")","v":""}]
[null,null,null,{"$f":"IFERROR(VLOOKUP(C231,Teilnehmer!$B$3:$C$1002,2,0),\"\")","v":""},null,{"$f":"IFERROR(VLOOKUP(E231,Teilnehmer!$B$3:$C$1002,2,0),\"\")","v":""}]
[null,null,null,{"$f":"IFERROR(VLOOKUP(C232,Teilnehmer!$B$3:$C$1002,2,0),\"\")","v":""},null,{"$f":"IFERROR(VLOOKUP(E232,Teilnehmer!$B$3:$C$1002,2,0),\"\")","v":""}]
[null,null,null,{"$f":"IFERROR(VLOOKUP(C233,Teilnehmer!$B$3:$C$1002,2,0),\"\")","v":""},null,{"$f":"IFERROR(VLOOKUP(E233,Teilnehmer!$B$3:$C$1002,2,0),\"\")","v":""}]
[null,null,null,{"$f":"IFERROR(VLOOKUP(C234,Teilnehmer!$B$3:$C$1002,2,0),\"\")","v":""},null,{"$f":"IFERROR(VLOOKUP(E234,Teilnehmer!$B$3:$C$1002,2,0),\"\")","v":""}]
[null,null,null,{"$f":"IFERROR(VLOOKUP(C235,Teilnehmer!$B$3:$C$1002,2,0),\"\")","v":""},null,{"$f":"IFERROR(VLOOKUP(E235,Teilnehmer!$B$3:$C$1002,2,0),\"\")","v":""}]
[null,null,null,{"$f":"IFERROR(VLOOKUP(C236,Teilnehmer!$B$3:$C$1002,2,0),\"\")","v":""},null,{"$f":"IFERROR(VLOOKUP(E236,Teilnehmer!$B$3:$C$1002,2,0),\"\")","v":""}]
[null,null,null,{"$f":"IFERROR(VLOOKUP(C237,Teilnehmer!$B$3:$C$1002,2,0),\"\")","v":""},null,{"$f":"IFERROR(VLOOKUP(E237,Teilnehmer!$B$3:$C$1002,2,0),\"\")","v":""}]
[null,null,null,{"$f":"IFERROR(VLOOKUP(C238,Teilnehmer!$B$3:$C$1002,2,0),\"\")","v":""},null,{"$f":"IFERROR(VLOOKUP(E238,Teilnehmer!$B$3:$C$1002,2,0),\"\")","v":""}]
[null,null,null,{"$f":"IFERROR(VLOOKUP(C239,Teilnehmer!$B$3:$C$1002,2,0),\"\")","v":""},null,{"$f":"IFERROR(VLOOKUP(E239,Teilnehmer!$B$3:$C$1002,2,0),\"\")","v":""}]
[null,null,null,{"$f":"IFERROR(VLOOKUP(C240,Teilnehmer!$B$3:$C$1002,2,0),\"\")","v":""},null,{"$f":"IFERROR(VLOOKUP(E240,Teilnehmer!$B$3:$C$1002,2,0),\"\")","v":""}]
[null,null,null,{"$f":"IFERROR(VLOOKUP(C241,Teilnehmer!$B$3:$C$1002,2,0),\"\")","v":""},null,{"$f":"IFERROR(VLOOKUP(E241,Teilnehmer!$B$3:$C$1002,2,0),\"\")","v":""}]
[null,null,null,{"$f":"IFERROR(VLOOKUP(C242,Teilnehmer!$B$3:$C$1002,2,0),\"\")","v":""},null,{"$f":"IFERROR(VLOOKUP(E242,Teilnehmer!$B$3:$C$1002,2,0),\"\")","v":""}]
[null,null,null,{"$f":"IFERROR(VLOOKUP(C243,Teilnehmer!$B$3:$C$1002,2,0),\"\")","v":""},null,{"$f":"IFERROR(VLOOKUP(E243,Teilnehmer!$B$3:$C$1002,2,0),\"\")","v":""}]
[null,null,null,{"$f":"IFERROR(VLOOKUP(C244,Teilnehmer!$B$3:$C$1002,2,0),\"\")","v":""},null,{"$f":"IFERROR(VLOOKUP(E244,Teilnehmer!$B$3:$C$1002,2,0),\"\")","v":""}]
[null,null,null,{"$f":"IFERROR(VLOOKUP(C245,Teilnehmer!$B$3:$C$1002,2,0),\"\")","v":""},null,{"$f":"IFERROR(VLOOKUP(E245,Teilnehmer!$B$3:$C$1002,2,0),\"\")","v":""}]
[null,null,null,{"$f":"IFERROR(VLOOKUP(C246,Teilnehmer!$B$3:$C$1002,2,0),\"\")","v":""},null,{"$f":"IFERROR(VLOOKUP(E246,Teilnehmer!$B$3:$C$1002,2,0),\"\")","v":""}]
[null,null,null,{"$f":"IFERROR(VLOOKUP(C247,Teilnehmer!$B$3:$C$1002,2,0),\"\")","v":""},null,{"$f":"IFERROR(VLOOKUP(E247,Teilnehmer!$B$3:$C$1002,2,0),\"\")","v":""}]
[null,null,null,{"$f":"IFERROR(VLOOKUP(C248,Teilnehmer!$B$3:$C$1002,2,0),\"\")","v":""},null,{"$f":"IFERROR(VLOOKUP(E248,Teilnehmer!$B$3:$C$1002,2,0),\"\")","v":""}]
[null,null,null,{"$f":"IFERROR(VLOOKUP(C249,Teilnehmer!$B$3:$C$1002,2,0),\"\")","v":""},null,{"$f":"IFERROR(VLOOKUP(E249,Teilnehmer!$B$3:$C$1002,2,0),\"\")","v":""}]
[null,null,null,{"$f":"IFERROR(VLOOKUP(C250,Teilnehmer!$B$3:$C$1002,2,0),\"\")","v":""},null,{"$f":"IFERROR(VLOOKUP(E250,Teilnehmer!$B$3:$C$1002,2,0),\"\")","v":""}]
[null,null,null,{"$f":"IFERROR(VLOOKUP(C251,Teilnehmer!$B$3:$C$1002,2,0),\"\")","v":""},null,{"$f":"IFERROR(VLOOKUP(E251,Teilnehmer!$B$3:$C$1002,2,0),\"\")","v":""}]
[null,null,null,{"$f":"IFERROR(VLOOKUP(C252,Teilnehmer!$B$3:$C$1002,2,0),\"\")","v":""},null,{"$f":"IFERROR(VLOOKUP(E252,Teilnehmer!$B$3:$C$1002,2,0),\"\")","v":""}]
[null,null,null,{"$f":"IFERROR(VLOOKUP(C253,Teilnehmer!$B$3:$C$1002,2,0),\"\")","v":""},null,{"$f":"IFERROR(VLOOKUP(E253,Teilnehmer!$B$3:$C$1002,2,0),\"\")","v":""}]
[null,null,null,{"$f":"IFERROR(VLOOKUP(C254,Teilnehmer!$B$3:$C$1002,2,0),\"\")","v":""},null,{"$f":"IFERROR(VLOOKUP(E254,Teilnehmer!$B$3:$C$1002,2,0),\"\")","v":""}]
[null,null,null,{"$f":"IFERROR(VLOOKUP(C255,Teilnehmer!$B$3:$C$1002,2,0),\"\")","v":""},null,{"$f":"IFERROR(VLOOKUP(E255,Teilnehmer!$B$3:$C$1002,2,0),\"\")","v":""}]
[null,null,null,{"$f":"IFERROR(VLOOKUP(C256,Teilnehmer!$B$3:$C$1002,2,0),\"\")","v":""},null,{"$f":"IFERROR(VLOOKUP(E256,Teilnehmer!$B$3:$C$1002,2,0),\"\")","v":""}]
[null,null,null,{"$f":"IFERROR(VLOOKUP(C257,Teilnehmer!$B$3:$C$1002,2,0),\"\")","v":""},null,{"$f":"IFERROR(VLOOKUP(E257,Teilnehmer!$B$3:$C$1002,2,0),\"\")","v":""}]
[null,null,null,{"$f":"IFERROR(VLOOKUP(C258,Teilnehmer!$B$3:$C$1002,2,0),\"\")","v":""},null,{"$f":"IFERROR(VLOOKUP(E258,Teilnehmer!$B$3:$C$1002,2,0),\"\")","v":""}]
[null,null,null,{"$f":"IFERROR(VLOOKUP(C259,Teilnehmer!$B$3:$C$1002,2,0),\"\")","v":""},null,{"$f":"IFERROR(VLOOKUP(E259,Teilnehmer!$B$3:$C$1002,2,0),\"\")","v":""}]
[null,null,null,{"$f":"IFERROR(VLOOKUP(C260,Teilnehmer!$B$3:$C$1002,2,0),\"\")","v":""},null,{"$f":"IFERROR(VLOOKUP(E260,Teilnehmer!$B$3:$C$1002,2,0),\"\")","v":""}]
[null,null,null,{"$f":"IFERROR(VLOOKUP(C261,Teilnehmer!$B$3:$C$1002,2,0),\"\")","v":""},null,{"$f":"IFERROR(VLOOKUP(E261,Teilnehmer!$B$3:$C$1002,2,0),\"\")","v":""}]
[null,null,null,{"$f":"IFERROR(VLOOKUP(C262,Teilnehmer!$B$3:$C$1002,2,0),\"\")","v":""},null,{"$f":"IFERROR(VLOOKUP(E262,Teilnehmer!$B$3:$C$1002,2,0),\"\")","v":""}]
[null,null,null,{"$f":"IFERROR(VLOOKUP(C263,Teilnehmer!$B$3:$C$1002,2,0),\"\")","v":""},null,{"$f":"IFERROR(VLOOKUP(E263,Teilnehmer!$B$3:$C$1002,2,0),\"\")","v":""}]
[null,null,null,{"$f":"IFERROR(VLOOKUP(C264,Teilnehmer!$B$3:$C$1002,2,0),\"\")","v":""},null,{"$f":"IFERROR(VLOOKUP(E264,Teilnehmer!$B$3:$C$1002,2,0),\"\")","v":""}]
[null,null,null,{"$f":"IFERROR(VLOOKUP(C265,Teilnehmer!$B$3:$C$1002,2,0),\"\")","v":""},null,{"$f":"IFERROR(VLOOKUP(E265,Teilnehmer!$B$3:$C$1002,2,0),\"\")","v":""}]
[null,null,null,{"$f":"IFERROR(VLOOKUP(C266,Teilnehmer!$B$3:$C$1002,2,0),\"\")","v":""},null,{"$f":"IFERROR(VLOOKUP(E266,Teilnehmer!$B$3:$C$1002,2,0),\"\")","v":""}]
[null,null,null,{"$f":"IFERROR(VLOOKUP(C267,Teilnehmer!$B$3:$C$1002,2,0),\"\")","v":""},null,{"$f":"IFERROR(VLOOKUP(E267,Teilnehmer!$B$3:$C$1002,2,0),\"\")","v":""}]
[null,null,null,{"$f":"IFERROR(VLOOKUP(C268,Teilnehmer!$B$3:$C$1002,2,0),\"\")","v":""},null,{"$f":"IFERROR(VLOOKUP(E268,Teilnehmer!$B$3:$C$1002,2,0),\"\")","v":""}]
[null,null,null,{"$f":"IFERROR(VLOOKUP(C269,Teilnehmer!$B$3:$C$1002,2,0),\"\")","v":""},null,{"$f":"IFERROR(VLOOKUP(E269,Teilnehmer!$B$3:$C$1002,2,0),\"\")","v":""}]
[null,null,null,{"$f":"IFERROR(VLOOKUP(C270,Teilnehmer!$B$3:$C$1002,2,0),\"\")","v":""},null,{"$f":"IFERROR(VLOOKUP(E270,Teilnehmer!$B$3:$C$1002,2,0),\"\")","v":""}]
[null,null,null,{"$f":"IFERROR(VLOOKUP(C271,Teilnehmer!$B$3:$C$1002,2,0),\"\")","v":""},null,{"$f":"IFERROR(VLOOKUP(E271,Teilnehmer!$B$3:$C$1002,2,0),\"\")","v":""}]
[null,null,null,{"$f":"IFERROR(VLOOKUP(C272,Teilnehmer!$B$3:$C$1002,2,0),\"\")","v":""},null,{"$f":"IFERROR(VLOOKUP(E272,Teilnehmer!$B$3:$C$1002,2,0),\"\")","v":""}]
[null,null,null,{"$f":"IFERROR(VLOOKUP(C273,Teilnehmer!$B$3:$C$1002,2,0),\"\")","v":""},null,{"$f":"IFERROR(VLOOKUP(E273,Teilnehmer!$B$3:$C$1002,2,0),\"\")","v":""}]
[null,null,null,{"$f":"IFERROR(VLOOKUP(C274,Teilnehmer!$B$3:$C$1002,2,0),\"\")","v":""},null,{"$f":"IFERROR(VLOOKUP(E274,Teilnehmer!$B$3:$C$1002,2,0),\"\")","v":""}]
[null,null,null,{"$f":"IFERROR(VLOOKUP(C275,Teilnehmer!$B$3:$C$1002,2,0),\"\")","v":""},null,{"$f":"IFERROR(VLOOKUP(E275,Teilnehmer!$B$3:$C$1002,2,0),\"\")","v":""}]
[null,null,null,{"$f":"IFERROR(VLOOKUP(C276,Teilnehmer!$B$3:$C$1002,2,0),\"\")","v":""},null,{"$f":"IFERROR(VLOOKUP(E276,Teilnehmer!$B$3:$C$1002,2,0),\"\")","v":""}]
[null,null,null,{"$f":"IFERROR(VLOOKUP(C277,Teilnehmer!$B$3:$C$1002,2,0),\"\")","v":""},null,{"$f":"IFERROR(VLOOKUP(E277,Teilnehmer!$B$3:$C$1002,2,0),\"\")","v":""}]
[null,null,null,{"$f":"IFERROR(VLOOKUP(C278,Teilnehmer!$B$3:$C$1002,2,0),\"\")","v":""},null,{"$f":"IFERROR(VLOOKUP(E278,Teilnehmer!$B$3:$C$1002,2,0),\"\")","v":""}]
[null,null,null,{"$f":"IFERROR(VLOOKUP(C279,Teilnehmer!$B$3:$C$1002,2,0),\"\")","v":""},null,{"$f":"IFERROR(VLOOKUP(E279,Teilnehmer!$B$3:$C$1002,2,0),\"\")","v":""}]
[null,null,null,{"$f":"IFERROR(VLOOKUP(C280,Teilnehmer!$B$3:$C$1002,2,0),\"\")","v":""},null,{"$f":"IFERROR(VLOOKUP(E280,Teilnehmer!$B$3:$C$1002,2,0),\"\")","v":""}]
[null,null,null,{"$f":"IFERROR(VLOOKUP(C281,Teilnehmer!$B$3:$C$1002,2,0),\"\")","v":""},null,{"$f":"IFERROR(VLOOKUP(E281,Teilnehmer!$B$3:$C$1002,2,0),\"\")","v":""}]
[null,null,null,{"$f":"IFERROR(VLOOKUP(C282,Teilnehmer!$B$3:$C$1002,2,0),\"\")","v":""},null,{"$f":"IFERROR(VLOOKUP(E282,Teilnehmer!$B$3:$C$1002,2,0),\"\")","v":""}]
[null,null,null,{"$f":"IFERROR(VLOOKUP(C283,Teilnehmer!$B$3:$C$1002,2,0),\"\")","v":""},null,{"$f":"IFERROR(VLOOKUP(E283,Teilnehmer!$B$3:$C$1002,2,0),\"\")","v":""}]
[null,null,null,{"$f":"IFERROR(VLOOKUP(C284,Teilnehmer!$B$3:$C$1002,2,0),\"\")","v":""},null,{"$f":"IFERROR(VLOOKUP(E284,Teilnehmer!$B$3:$C$1002,2,0),\"\")","v":""}]
[null,null,null,{"$f":"IFERROR(VLOOKUP(C285,Teilnehmer!$B$3:$C$1002,2,0),\"\")","v":""},null,{"$f":"IFERROR(VLOOKUP(E285,Teilnehmer!$B$3:$C$1002,2,0),\"\")","v":""}]
[null,null,null,{"$f":"IFERROR(VLOOKUP(C286,Teilnehmer!$B$3:$C$1002,2,0),\"\")","v":""},null,{"$f":"IFERROR(VLOOKUP(E286,Teilnehmer!$B$3:$C$1002,2,0),\"\")","v":""}]
[null,null,null,{"$f":"IFERROR(VLOOKUP(C287,Teilnehmer!$B$3:$C$1002,2,0),\"\")","v":""},null,{"$f":"IFERROR(VLOOKUP(E287,Teilnehmer!$B$3:$C$1002,2,0),\"\")","v":""}]
[null,null,null,{"$f":"IFERROR(VLOOKUP(C288,Teilnehmer!$B$3:$C$1002,2,0),\"\")","v":""},null,{"$f":"IFERROR(VLOOKUP(E288,Teilnehmer!$B$3:$C$1002,2,0),\"\")","v":""}]
[null,null,null,{"$f":"IFERROR(VLOOKUP(C289,Teilnehmer!$B$3:$C$1002,2,0),\"\")","v":""},null,{"$f":"IFERROR(VLOOKUP(E289,Teilnehmer!$B$3:$C$1002,2,0),\"\")","v":""}]
[null,null,null,{"$f":"IFERROR(VLOOKUP(C290,Teilnehmer!$B$3:$C$1002,2,0),\"\")","v":""},null,{"$f":"IFERROR(VLOOKUP(E290,Teilnehmer!$B$3:$C$1002,2,0),\"\")","v":""}]
[null,null,null,{"$f":"IFERROR(VLOOKUP(C291,Teilnehmer!$B$3:$C$1002,2,0),\"\")","v":""},null,{"$f":"IFERROR(VLOOKUP(E291,Teilnehmer!$B$3:$C$1002,2,0),\"\")","v":""}]
[null,null,null,{"$f":"IFERROR(VLOOKUP(C292,Teilnehmer!$B$3:$C$1002,2,0),\"\")","v":""},null,{"$f":"IFERROR(VLOOKUP(E292,Teilnehmer!$B$3:$C$1002,2,0),\"\")","v":""}]
[null,null,null,{"$f":"IFERROR(VLOOKUP(C293,Teilnehmer!$B$3:$C$1002,2,0),\"\")","v":""},null,{"$f":"IFERROR(VLOOKUP(E293,Teilnehmer!$B$3:$C$1002,2,0),\"\")","v":""}]
[null,null,null,{"$f":"IFERROR(VLOOKUP(C294,Teilnehmer!$B$3:$C$1002,2,0),\"\")","v":""},null,{"$f":"IFERROR(VLOOKUP(E294,Teilnehmer!$B$3:$C$1002,2,0),\"\")","v":""}]
[null,null,null,{"$f":"IFERROR(VLOOKUP(C295,Teilnehmer!$B$3:$C$1002,2,0),\"\")","v":""},null,{"$f":"IFERROR(VLOOKUP(E295,Teilnehmer!$B$3:$C$1002,2,0),\"\")","v":""}]
[null,null,null,{"$f":"IFERROR(VLOOKUP(C296,Teilnehmer!$B$3:$C$1002,2,0),\"\")","v":""},null,{"$f":"IFERROR(VLOOKUP(E296,Teilnehmer!$B$3:$C$1002,2,0),\"\")","v":""}]
[null,null,null,{"$f":"IFERROR(VLOOKUP(C297,Teilnehmer!$B$3:$C$1002,2,0),\"\")","v":""},null,{"$f":"IFERROR(VLOOKUP(E297,Teilnehmer!$B$3:$C$1002,2,0),\"\")","v":""}]
[null,null,null,{"$f":"IFERROR(VLOOKUP(C298,Teilnehmer!$B$3:$C$1002,2,0),\"\")","v":""},null,{"$f":"IFERROR(VLOOKUP(E298,Teilnehmer!$B$3:$C$1002,2,0),\"\")","v":""}]
[null,null,null,{"$f":"IFERROR(VLOOKUP(C299,Teilnehmer!$B$3:$C$1002,2,0),\"\")","v":""},null,{"$f":"IFERROR(VLOOKUP(E299,Teilnehmer!$B$3:$C$1002,2,0),\"\")","v":""}]
[null,null,null,{"$f":"IFERROR(VLOOKUP(C300,Teilnehmer!$B$3:$C$1002,2,0),\"\")","v":""},null,{"$f":"IFERROR(VLOOKUP(E300,Teilnehmer!$B$3:$C$1002,2,0),\"\")","v":""}]
[null,null,null,{"$f":"IFERROR(VLOOKUP(C301,Teilnehmer!$B$3:$C$1002,2,0),\"\")","v":""},null,{"$f":"IFERROR(VLOOKUP(E301,Teilnehmer!$B$3:$C$1002,2,0),\"\")","v":""}]
[null,null,null,{"$f":"IFERROR(VLOOKUP(C302,Teilnehmer!$B$3:$C$1002,2,0),\"\")","v":""},null,{"$f":"IFERROR(VLOOKUP(E302,Teilnehmer!$B$3:$C$1002,2,0),\"\")","v":""}]
[null,null,null,{"$f":"IFERROR(VLOOKUP(C303,Teilnehmer!$B$3:$C$1002,2,0),\"\")","v":""},null,{"$f":"IFERROR(VLOOKUP(E303,Teilnehmer!$B$3:$C$1002,2,0),\"\")","v":""}]
[null,null,null,{"$f":"IFERROR(VLOOKUP(C304,Teilnehmer!$B$3:$C$1002,2,0),\"\")","v":""},null,{"$f":"IFERROR(VLOOKUP(E304,Teilnehmer!$B$3:$C$1002,2,0),\"\")","v":""}]
[null,null,null,{"$f":"IFERROR(VLOOKUP(C305,Teilnehmer!$B$3:$C$1002,2,0),\"\")","v":""},null,{"$f":"IFERROR(VLOOKUP(E305,Teilnehmer!$B$3:$C$1002,2,0),\"\")","v":""}]
[null,null,null,{"$f":"IFERROR(VLOOKUP(C306,Teilnehmer!$B$3:$C$1002,2,0),\"\")","v":""},null,{"$f":"IFERROR(VLOOKUP(E306,Teilnehmer!$B$3:$C$1002,2,0),\"\")","v":""}]
[null,null,null,{"$f":"IFERROR(VLOOKUP(C307,Teilnehmer!$B$3:$C$1002,2,0),\"\")","v":""},null,{"$f":"IFERROR(VLOOKUP(E307,Teilnehmer!$B$3:$C$1002,2,0),\"\")","v":""}]
[null,null,null,{"$f":"IFERROR(VLOOKUP(C308,Teilnehmer!$B$3:$C$1002,2,0),\"\")","v":""},null,{"$f":"IFERROR(VLOOKUP(E308,Teilnehmer!$B$3:$C$1002,2,0),\"\")","v":""}]
[null,null,null,{"$f":"IFERROR(VLOOKUP(C309,Teilnehmer!$B$3:$C$1002,2,0),\"\")","v":""},null,{"$f":"IFERROR(VLOOKUP(E309,Teilnehmer!$B$3:$C$1002,2,0),\"\")","v":""}]
[null,null,null,{"$f":"IFERROR(VLOOKUP(C310,Teilnehmer!$B$3:$C$1002,2,0),\"\")","v":""},null,{"$f":"IFERROR(VLOOKUP(E310,Teilnehmer!$B$3:$C$1002,2,0),\"\")","v":""}]
[null,null,null,{"$f":"IFERROR(VLOOKUP(C311,Teilnehmer!$B$3:$C$1002,2,0),\"\")","v":""},null,{"$f":"IFERROR(VLOOKUP(E311,Teilnehmer!$B$3:$C$1002,2,0),\"\")","v":""}]
[null,null,null,{"$f":"IFERROR(VLOOKUP(C312,Teilnehmer!$B$3:$C$1002,2,0),\"\")","v":""},null,{"$f":"IFERROR(VLOOKUP(E312,Teilnehmer!$B$3:$C$1002,2,0),\"\")","v":""}]
[null,null,null,{"$f":"IFERROR(VLOOKUP(C313,Teilnehmer!$B$3:$C$1002,2,0),\"\")","v":""},null,{"$f":"IFERROR(VLOOKUP(E313,Teilnehmer!$B$3:$C$1002,2,0),\"\")","v":""}]
[null,null,null,{"$f":"IFERROR(VLOOKUP(C314,Teilnehmer!$B$3:$C$1002,2,0),\"\")","v":""},null,{"$f":"IFERROR(VLOOKUP(E314,Teilnehmer!$B$3:$C$1002,2,0),\"\")","v":""}]
[null,null,null,{"$f":"IFERROR(VLOOKUP(C315,Teilnehmer!$B$3:$C$1002,2,0),\"\")","v":""},null,{"$f":"IFERROR(VLOOKUP(E315,Teilnehmer!$B$3:$C$1002,2,0),\"\")","v":""}]
[null,null,null,{"$f":"IFERROR(VLOOKUP(C316,Teilnehmer!$B$3:$C$1002,2,0),\"\")","v":""},null,{"$f":"IFERROR(VLOOKUP(E316,Teilnehmer!$B$3:$C$1002,2,0),\"\")","v":""}]
[null,null,null,{"$f":"IFERROR(VLOOKUP(C317,Teilnehmer!$B$3:$C$1002,2,0),\"\")","v":""},null,{"$f":"IFERROR(VLOOKUP(E317,Teilnehmer!$B$3:$C$1002,2,0),\"\")","v":""}]
[null,null,null,{"$f":"IFERROR(VLOOKUP(C318,Teilnehmer!$B$3:$C$1002,2,0),\"\")","v":""},null,{"$f":"IFERROR(VLOOKUP(E318,Teilnehmer!$B$3:$C$1002,2,0),\"\")","v":""}]
[null,null,null,{"$f":"IFERROR(VLOOKUP(C319,Teilnehmer!$B$3:$C$1002,2,0),\"\")","v":""},null,{"$f":"IFERROR(VLOOKUP(E319,Teilnehmer!$B$3:$C$1002,2,0),\"\")","v":""}]
[null,null,null,{"$f":"IFERROR(VLOOKUP(C320,Teilnehmer!$B$3:$C$1002,2,0),\"\")","v":""},null,{"$f":"IFERROR(VLOOKUP(E320,Teilnehmer!$B$3:$C$1002,2,0),\"\")","v":""}]
[null,null,null,{"$f":"IFERROR(VLOOKUP(C321,Teilnehmer!$B$3:$C$1002,2,0),\"\")","v":""},null,{"$f":"IFERROR(VLOOKUP(E321,Teilnehmer!$B$3:$C$1002,2,0),\"\")","v":""}]
[null,null,null,{"$f":"IFERROR(VLOOKUP(C322,Teilnehmer!$B$3:$C$1002,2,0),\"\")","v":""},null,{"$f":"IFERROR(VLOOKUP(E322,Teilnehmer!$B$3:$C$1002,2,0),\"\")","v":""}]
[null,null,null,{"$f":"IFERROR(VLOOKUP(C323,Teilnehmer!$B$3:$C$1002,2,0),\"\")","v":""},null,{"$f":"IFERROR(VLOOKUP(E323,Teilnehmer!$B$3:$C$1002,2,0),\"\")","v":""}]
[null,null,null,{"$f":"IFERROR(VLOOKUP(C324,Teilnehmer!$B$3:$C$1002,2,0),\"\")","v":""},null,{"$f":"IFERROR(VLOOKUP(E324,Teilnehmer!$B$3:$C$1002,2,0),\"\")","v":""}]
[null,null,null,{"$f":"IFERROR(VLOOKUP(C325,Teilnehmer!$B$3:$C$1002,2,0),\"\")","v":""},null,{"$f":"IFERROR(VLOOKUP(E325,Teilnehmer!$B$3:$C$1002,2,0),\"\")","v":""}]
[null,null,null,{"$f":"IFERROR(VLOOKUP(C326,Teilnehmer!$B$3:$C$1002,2,0),\"\")","v":""},null,{"$f":"IFERROR(VLOOKUP(E326,Teilnehmer!$B$3:$C$1002,2,0),\"\")","v":""}]
[null,null,null,{"$f":"IFERROR(VLOOKUP(C327,Teilnehmer!$B$3:$C$1002,2,0),\"\")","v":""},null,{"$f":"IFERROR(VLOOKUP(E327,Teilnehmer!$B$3:$C$1002,2,0),\"\")","v":""}]
[null,null,null,{"$f":"IFERROR(VLOOKUP(C328,Teilnehmer!$B$3:$C$1002,2,0),\"\")","v":""},null,{"$f":"IFERROR(VLOOKUP(E328,Teilnehmer!$B$3:$C$1002,2,0),\"\")","v":""}]
[null,null,null,{"$f":"IFERROR(VLOOKUP(C329,Teilnehmer!$B$3:$C$1002,2,0),\"\")","v":""},null,{"$f":"IFERROR(VLOOKUP(E329,Teilnehmer!$B$3:$C$1002,2,0),\"\")","v":""}]
[null,null,null,{"$f":"IFERROR(VLOOKUP(C330,Teilnehmer!$B$3:$C$1002,2,0),\"\")","v":""},null,{"$f":"IFERROR(VLOOKUP(E330,Teilnehmer!$B$3:$C$1002,2,0),\"\")","v":""}]
[null,null,null,{"$f":"IFERROR(VLOOKUP(C331,Teilnehmer!$B$3:$C$1002,2,0),\"\")","v":""},null,{"$f":"IFERROR(VLOOKUP(E331,Teilnehmer!$B$3:$C$1002,2,0),\"\")","v":""}]
[null,null,null,{"$f":"IFERROR(VLOOKUP(C332,Teilnehmer!$B$3:$C$1002,2,0),\"\")","v":""},null,{"$f":"IFERROR(VLOOKUP(E332,Teilnehmer!$B$3:$C$1002,2,0),\"\")","v":""}]
[null,null,null,{"$f":"IFERROR(VLOOKUP(C333,Teilnehmer!$B$3:$C$1002,2,0),\"\")","v":""},null,{"$f":"IFERROR(VLOOKUP(E333,Teilnehmer!$B$3:$C$1002,2,0),\"\")","v":""}]
[null,null,null,{"$f":"IFERROR(VLOOKUP(C334,Teilnehmer!$B$3:$C$1002,2,0),\"\")","v":""},null,{"$f":"IFERROR(VLOOKUP(E334,Teilnehmer!$B$3:$C$1002,2,0),\"\")","v":""}]
[null,null,null,{"$f":"IFERROR(VLOOKUP(C335,Teilnehmer!$B$3:$C$1002,2,0),\"\")","v":""},null,{"$f":"IFERROR(VLOOKUP(E335,Teilnehmer!$B$3:$C$1002,2,0),\"\")","v":""}]
[null,null,null,{"$f":"IFERROR(VLOOKUP(C336,Teilnehmer!$B$3:$C$1002,2,0),\"\")","v":""},null,{"$f":"IFERROR(VLOOKUP(E336,Teilnehmer!$B$3:$C$1002,2,0),\"\")","v":""}]
[null,null,null,{"$f":"IFERROR(VLOOKUP(C337,Teilnehmer!$B$3:$C$1002,2,0),\"\")","v":""},null,{"$f":"IFERROR(VLOOKUP(E337,Teilnehmer!$B$3:$C$1002,2,0),\"\")","v":""}]
[null,null,null,{"$f":"IFERROR(VLOOKUP(C338,Teilnehmer!$B$3:$C$1002,2,0),\"\")","v":""},null,{"$f":"IFERROR(VLOOKUP(E338,Teilnehmer!$B$3:$C$1002,2,0),\"\")","v":""}]
[null,null,null,{"$f":"IFERROR(VLOOKUP(C339,Teilnehmer!$B$3:$C$1002,2,0),\"\")","v":""},null,{"$f":"IFERROR(VLOOKUP(E339,Teilnehmer!$B$3:$C$1002,2,0),\"\")","v":""}]
[null,null,null,{"$f":"IFERROR(VLOOKUP(C340,Teilnehmer!$B$3:$C$1002,2,0),\"\")","v":""},null,{"$f":"IFERROR(VLOOKUP(E340,Teilnehmer!$B$3:$C$1002,2,0),\"\")","v":""}]
[null,null,null,{"$f":"IFERROR(VLOOKUP(C341,Teilnehmer!$B$3:$C$1002,2,0),\"\")","v":""},null,{"$f":"IFERROR(VLOOKUP(E341,Teilnehmer!$B$3:$C$1002,2,0),\"\")","v":""}]
[null,null,null,{"$f":"IFERROR(VLOOKUP(C342,Teilnehmer!$B$3:$C$1002,2,0),\"\")","v":""},null,{"$f":"IFERROR(VLOOKUP(E342,Teilnehmer!$B$3:$C$1002,2,0),\"\")","v":""}]
[null,null,null,{"$f":"IFERROR(VLOOKUP(C343,Teilnehmer!$B$3:$C$1002,2,0),\"\")","v":""},null,{"$f":"IFERROR(VLOOKUP(E343,Teilnehmer!$B$3:$C$1002,2,0),\"\")","v":""}]
[null,null,null,{"$f":"IFERROR(VLOOKUP(C344,Teilnehmer!$B$3:$C$1002,2,0),\"\")","v":""},null,{"$f":"IFERROR(VLOOKUP(E344,Teilnehmer!$B$3:$C$1002,2,0),\"\")","v":""}]
[null,null,null,{"$f":"IFERROR(VLOOKUP(C345,Teilnehmer!$B$3:$C$1002,2,0),\"\")","v":""},null,{"$f":"IFERROR(VLOOKUP(E345,Teilnehmer!$B$3:$C$1002,2,0),\"\")","v":""}]
[null,null,null,{"$f":"IFERROR(VLOOKUP(C346,Teilnehmer!$B$3:$C$1002,2,0),\"\")","v":""},null,{"$f":"IFERROR(VLOOKUP(E346,Teilnehmer!$B$3:$C$1002,2,0),\"\")","v":""}]
[null,null,null,{"$f":"IFERROR(VLOOKUP(C347,Teilnehmer!$B$3:$C$1002,2,0),\"\")","v":""},null,{"$f":"IFERROR(VLOOKUP(E347,Teilnehmer!$B$3:$C$1002,2,0),\"\")","v":""}]
[null,null,null,{"$f":"IFERROR(VLOOKUP(C348,Teilnehmer!$B$3:$C$1002,2,0),\"\")","v":""},null,{"$f":"IFERROR(VLOOKUP(E348,Teilnehmer!$B$3:$C$1002,2,0),\"\")","v":""}]
[null,null,null,{"$f":"IFERROR(VLOOKUP(C349,Teilnehmer!$B$3:$C$1002,2,0),\"\")","v":""},null,{"$f":"IFERROR(VLOOKUP(E349,Teilnehmer!$B$3:$C$1002,2,0),\"\")","v":""}]
[null,null,null,{"$f":"IFERROR(VLOOKUP(C350,Teilnehmer!$B$3:$C$1002,2,0),\"\")","v":""},null,{"$f":"IFERROR(VLOOKUP(E350,Teilnehmer!$B$3:$C$1002,2,0),\"\")","v":""}]
[null,null,null,{"$f":"IFERROR(VLOOKUP(C351,Teilnehmer!$B$3:$C$1002,2,0),\"\")","v":""},null,{"$f":"IFERROR(VLOOKUP(E351,Teilnehmer!$B$3:$C$1002,2,0),\"\")","v":""}]
[null,null,null,{"$f":"IFERROR(VLOOKUP(C352,Teilnehmer!$B$3:$C$1002,2,0),\"\")","v":""},null,{"$f":"IFERROR(VLOOKUP(E352,Teilnehmer!$B$3:$C$1002,2,0),\"\")","v":""}]
[null,null,null,{"$f":"IFERROR(VLOOKUP(C353,Teilnehmer!$B$3:$C$1002,2,0),\"\")","v":""},null,{"$f":"IFERROR(VLOOKUP(E353,Teilnehmer!$B$3:$C$1002,2,0),\"\")","v":""}]
[null,null,null,{"$f":"IFERROR(VLOOKUP(C354,Teilnehmer!$B$3:$C$1002,2,0),\"\")","v":""},null,{"$f":"IFERROR(VLOOKUP(E354,Teilnehmer!$B$3:$C$1002,2,0),\"\")","v":""}]
[null,null,null,{"$f":"IFERROR(VLOOKUP(C355,Teilnehmer!$B$3:$C$1002,2,0),\"\")","v":""},null,{"$f":"IFERROR(VLOOKUP(E355,Teilnehmer!$B$3:$C$1002,2,0),\"\")","v":""}]
[null,null,null,{"$f":"IFERROR(VLOOKUP(C356,Teilnehmer!$B$3:$C$1002,2,0),\"\")","v":""},null,{"$f":"IFERROR(VLOOKUP(E356,Teilnehmer!$B$3:$C$1002,2,0),\"\")","v":""}]
[null,null,null,{"$f":"IFERROR(VLOOKUP(C357,Teilnehmer!$B$3:$C$1002,2,0),\"\")","v":""},null,{"$f":"IFERROR(VLOOKUP(E357,Teilnehmer!$B$3:$C$1002,2,0),\"\")","v":""}]
[null,null,null,{"$f":"IFERROR(VLOOKUP(C358,Teilnehmer!$B$3:$C$1002,2,0),\"\")","v":""},null,{"$f":"IFERROR(VLOOKUP(E358,Teilnehmer!$B$3:$C$1002,2,0),\"\")","v":""}]
[null,null,null,{"$f":"IFERROR(VLOOKUP(C359,Teilnehmer!$B$3:$C$1002,2,0),\"\")","v":""},null,{"$f":"IFERROR(VLOOKUP(E359,Teilnehmer!$B$3:$C$1002,2,0),\"\")","v":""}]
[null,null,null,{"$f":"IFERROR(VLOOKUP(C360,Teilnehmer!$B$3:$C$1002,2,0),\"\")","v":""},null,{"$f":"IFERROR(VLOOKUP(E360,Teilnehmer!$B$3:$C$1002,2,0),\"\")","v":""}]
[null,null,null,{"$f":"IFERROR(VLOOKUP(C361,Teilnehmer!$B$3:$C$1002,2,0),\"\")","v":""},null,{"$f":"IFERROR(VLOOKUP(E361,Teilnehmer!$B$3:$C$1002,2,0),\"\")","v":""}]
[null,null,null,{"$f":"IFERROR(VLOOKUP(C362,Teilnehmer!$B$3:$C$1002,2,0),\"\")","v":""},null,{"$f":"IFERROR(VLOOKUP(E362,Teilnehmer!$B$3:$C$1002,2,0),\"\")","v":""}]
[null,null,null,{"$f":"IFERROR(VLOOKUP(C363,Teilnehmer!$B$3:$C$1002,2,0),\"\")","v":""},null,{"$f":"IFERROR(VLOOKUP(E363,Teilnehmer!$B$3:$C$1002,2,0),\"\")","v":""}]
[null,null,null,{"$f":"IFERROR(VLOOKUP(C364,Teilnehmer!$B$3:$C$1002,2,0),\"\")","v":""},null,{"$f":"IFERROR(VLOOKUP(E364,Teilnehmer!$B$3:$C$1002,2,0),\"\")","v":""}]
[null,null,null,{"$f":"IFERROR(VLOOKUP(C365,Teilnehmer!$B$3:$C$1002,2,0),\"\")","v":""},null,{"$f":"IFERROR(VLOOKUP(E365,Teilnehmer!$B$3:$C$1002,2,0),\"\")","v":""}]
[null,null,null,{"$f":"IFERROR(VLOOKUP(C366,Teilnehmer!$B$3:$C$1002,2,0),\"\")","v":""},null,{"$f":"IFERROR(VLOOKUP(E366,Teilnehmer!$B$3:$C$1002,2,0),\"\")","v":""}]
[null,null,null,{"$f":"IFERROR(VLOOKUP(C367,Teilnehmer!$B$3:$C$1002,2,0),\"\")","v":""},null,{"$f":"IFERROR(VLOOKUP(E367,Teilnehmer!$B$3:$C$1002,2,0),\"\")","v":""}]
[null,null,null,{"$f":"IFERROR(VLOOKUP(C368,Teilnehmer!$B$3:$C$1002,2,0),\"\")","v":""},null,{"$f":"IFERROR(VLOOKUP(E368,Teilnehmer!$B$3:$C$1002,2,0),\"\")","v":""}]
[null,null,null,{"$f":"IFERROR(VLOOKUP(C369,Teilnehmer!$B$3:$C$1002,2,0),\"\")","v":""},null,{"$f":"IFERROR(VLOOKUP(E369,Teilnehmer!$B$3:$C$1002,2,0),\"\")","v":""}]
[null,null,null,{"$f":"IFERROR(VLOOKUP(C370,Teilnehmer!$B$3:$C$1002,2,0),\"\")","v":""},null,{"$f":"IFERROR(VLOOKUP(E370,Teilnehmer!$B$3:$C$1002,2,0),\"\")","v":""}]
[null,null,null,{"$f":"IFERROR(VLOOKUP(C371,Teilnehmer!$B$3:$C$1002,2,0),\"\")","v":""},null,{"$f":"IFERROR(VLOOKUP(E371,Teilnehmer!$B$3:$C$1002,2,0),\"\")","v":""}]
[null,null,null,{"$f":"IFERROR(VLOOKUP(C372,Teilnehmer!$B$3:$C$1002,2,0),\"\")","v":""},null,{"$f":"IFERROR(VLOOKUP(E372,Teilnehmer!$B$3:$C$1002,2,0),\"\")","v":""}]
[null,null,null,{"$f":"IFERROR(VLOOKUP(C373,Teilnehmer!$B$3:$C$1002,2,0),\"\")","v":""},null,{"$f":"IFERROR(VLOOKUP(E373,Teilnehmer!$B$3:$C$1002,2,0),\"\")","v":""}]
[null,null,null,{"$f":"IFERROR(VLOOKUP(C374,Teilnehmer!$B$3:$C$1002,2,0),\"\")","v":""},null,{"$f":"IFERROR(VLOOKUP(E374,Teilnehmer!$B$3:$C$1002,2,0),\"\")","v":""}]
[null,null,null,{"$f":"IFERROR(VLOOKUP(C375,Teilnehmer!$B$3:$C$1002,2,0),\"\")","v":""},null,{"$f":"IFERROR(VLOOKUP(E375,Teilnehmer!$B$3:$C$1002,2,0),\"\")","v":""}]
[null,null,null,{"$f":"IFERROR(VLOOKUP(C376,Teilnehmer!$B$3:$C$1002,2,0),\"\")","v":""},null,{"$f":"IFERROR(VLOOKUP(E376,Teilnehmer!$B$3:$C$1002,2,0),\"\")","v":""}]
[null,null,null,{"$f":"IFERROR(VLOOKUP(C377,Teilnehmer!$B$3:$C$1002,2,0),\"\")","v":""},null,{"$f":"IFERROR(VLOOKUP(E377,Teilnehmer!$B$3:$C$1002,2,0),\"\")","v":""}]
[null,null,null,{"$f":"IFERROR(VLOOKUP(C378,Teilnehmer!$B$3:$C$1002,2,0),\"\")","v":""},null,{"$f":"IFERROR(VLOOKUP(E378,Teilnehmer!$B$3:$C$1002,2,0),\"\")","v":""}]
[null,null,null,{"$f":"IFERROR(VLOOKUP(C379,Teilnehmer!$B$3:$C$1002,2,0),\"\")","v":""},null,{"$f":"IFERROR(VLOOKUP(E379,Teilnehmer!$B$3:$C$1002,2,0),\"\")","v":""}]
[null,null,null,{"$f":"IFERROR(VLOOKUP(C380,Teilnehmer!$B$3:$C$1002,2,0),\"\")","v":""},null,{"$f":"IFERROR(VLOOKUP(E380,Teilnehmer!$B$3:$C$1002,2,0),\"\")","v":""}]
[null,null,null,{"$f":"IFERROR(VLOOKUP(C381,Teilnehmer!$B$3:$C$1002,2,0),\"\")","v":""},null,{"$f":"IFERROR(VLOOKUP(E381,Teilnehmer!$B$3:$C$1002,2,0),\"\")","v":""}]
[null,null,null,{"$f":"IFERROR(VLOOKUP(C382,Teilnehmer!$B$3:$C$1002,2,0),\"\")","v":""},null,{"$f":"IFERROR(VLOOKUP(E382,Teilnehmer!$B$3:$C$1002,2,0),\"\")","v":""}]
[null,null,null,{"$f":"IFERROR(VLOOKUP(C383,Teilnehmer!$B$3:$C$1002,2,0),\"\")","v":""},null,{"$f":"IFERROR(VLOOKUP(E383,Teilnehmer!$B$3:$C$1002,2,0),\"\")","v":""}]
[null,null,null,{"$f":"IFERROR(VLOOKUP(C384,Teilnehmer!$B$3:$C$1002,2,0),\"\")","v":""},null,{"$f":"IFERROR(VLOOKUP(E384,Teilnehmer!$B$3:$C$1002,2,0),\"\")","v":""}]
[null,null,null,{"$f":"IFERROR(VLOOKUP(C385,Teilnehmer!$B$3:$C$1002,2,0),\"\")","v":""},null,{"$f":"IFERROR(VLOOKUP(E385,Teilnehmer!$B$3:$C$1002,2,0),\"\")","v":""}]
[null,null,null,{"$f":"IFERROR(VLOOKUP(C386,Teilnehmer!$B$3:$C$1002,2,0),\"\")","v":""},null,{"$f":"IFERROR(VLOOKUP(E386,Teilnehmer!$B$3:$C$1002,2,0),\"\")","v":""}]
[null,null,null,{"$f":"IFERROR(VLOOKUP(C387,Teilnehmer!$B$3:$C$1002,2,0),\"\")","v":""},null,{"$f":"IFERROR(VLOOKUP(E387,Teilnehmer!$B$3:$C$1002,2,0),\"\")","v":""}]
[null,null,null,{"$f":"IFERROR(VLOOKUP(C388,Teilnehmer!$B$3:$C$1002,2,0),\"\")","v":""},null,{"$f":"IFERROR(VLOOKUP(E388,Teilnehmer!$B$3:$C$1002,2,0),\"\")","v":""}]
[null,null,null,{"$f":"IFERROR(VLOOKUP(C389,Teilnehmer!$B$3:$C$1002,2,0),\"\")","v":""},null,{"$f":"IFERROR(VLOOKUP(E389,Teilnehmer!$B$3:$C$1002,2,0),\"\")","v":""}]
[null,null,null,{"$f":"IFERROR(VLOOKUP(C390,Teilnehmer!$B$3:$C$1002,2,0),\"\")","v":""},null,{"$f":"IFERROR(VLOOKUP(E390,Teilnehmer!$B$3:$C$1002,2,0),\"\")","v":""}]
[null,null,null,{"$f":"IFERROR(VLOOKUP(C391,Teilnehmer!$B$3:$C$1002,2,0),\"\")","v":""},null,{"$f":"IFERROR(VLOOKUP(E391,Teilnehmer!$B$3:$C$1002,2,0),\"\")","v":""}]
[null,null,null,{"$f":"IFERROR(VLOOKUP(C392,Teilnehmer!$B$3:$C$1002,2,0),\"\")","v":""},null,{"$f":"IFERROR(VLOOKUP(E392,Teilnehmer!$B$3:$C$1002,2,0),\"\")","v":""}]
[null,null,null,{"$f":"IFERROR(VLOOKUP(C393,Teilnehmer!$B$3:$C$1002,2,0),\"\")","v":""},null,{"$f":"IFERROR(VLOOKUP(E393,Teilnehmer!$B$3:$C$1002,2,0),\"\")","v":""}]
[null,null,null,{"$f":"IFERROR(VLOOKUP(C394,Teilnehmer!$B$3:$C$1002,2,0),\"\")","v":""},null,{"$f":"IFERROR(VLOOKUP(E394,Teilnehmer!$B$3:$C$1002,2,0),\"\")","v":""}]
[null,null,null,{"$f":"IFERROR(VLOOKUP(C395,Teilnehmer!$B$3:$C$1002,2,0),\"\")","v":""},null,{"$f":"IFERROR(VLOOKUP(E395,Teilnehmer!$B$3:$C$1002,2,0),\"\")","v":""}]
[null,null,null,{"$f":"IFERROR(VLOOKUP(C396,Teilnehmer!$B$3:$C$1002,2,0),\"\")","v":""},null,{"$f":"IFERROR(VLOOKUP(E396,Teilnehmer!$B$3:$C$1002,2,0),\"\")","v":""}]
[null,null,null,{"$f":"IFERROR(VLOOKUP(C397,Teilnehmer!$B$3:$C$1002,2,0),\"\")","v":""},null,{"$f":"IFERROR(VLOOKUP(E397,Teilnehmer!$B$3:$C$1002,2,0),\"\")","v":""}]
[null,null,null,{"$f":"IFERROR(VLOOKUP(C398,Teilnehmer!$B$3:$C$1002,2,0),\"\")","v":""},null,{"$f":"IFERROR(VLOOKUP(E398,Teilnehmer!$B$3:$C$1002,2,0),\"\")","v":""}]
[null,null,null,{"$f":"IFERROR(VLOOKUP(C399,Teilnehmer!$B$3:$C$1002,2,0),\"\")","v":""},null,{"$f":"IFERROR(VLOOKUP(E399,Teilnehmer!$B$3:$C$1002,2,0),\"\")","v":""}]
[null,null,null,{"$f":"IFERROR(VLOOKUP(C400,Teilnehmer!$B$3:$C$1002,2,0),\"\")","v":""},null,{"$f":"IFERROR(VLOOKUP(E400,Teilnehmer!$B$3:$C$1002,2,0),\"\")","v":""}]
[null,null,null,{"$f":"IFERROR(VLOOKUP(C401,Teilnehmer!$B$3:$C$1002,2,0),\"\")","v":""},null,{"$f":"IFERROR(VLOOKUP(E401,Teilnehmer!$B$3:$C$1002,2,0),\"\")","v":""}]
[null,null,null,{"$f":"IFERROR(VLOOKUP(C402,Teilnehmer!$B$3:$C$1002,2,0),\"\")","v":""},null,{"$f":"IFERROR(VLOOKUP(E402,Teilnehmer!$B$3:$C$1002,2,0),\"\")","v":""}]
[null,null,null,{"$f":"IFERROR(VLOOKUP(C403,Teilnehmer!$B$3:$C$1002,2,0),\"\")","v":""},null,{"$f":"IFERROR(VLOOKUP(E403,Teilnehmer!$B$3:$C$1002,2,0),\"\")","v":""}]
[null,null,null,{"$f":"IFERROR(VLOOKUP(C404,Teilnehmer!$B$3:$C$1002,2,0),\"\")","v":""},null,{"$f":"IFERROR(VLOOKUP(E404,Teilnehmer!$B$3:$C$1002,2,0),\"\")","v":""}]
[null,null,null,{"$f":"IFERROR(VLOOKUP(C405,Teilnehmer!$B$3:$C$1002,2,0),\"\")","v":""},null,{"$f":"IFERROR(VLOOKUP(E405,Teilnehmer!$B$3:$C$1002,2,0),\"\")","v":""}]
[null,null,null,{"$f":"IFERROR(VLOOKUP(C406,Teilnehmer!$B$3:$C$1002,2,0),\"\")","v":""},null,{"$f":"IFERROR(VLOOKUP(E406,Teilnehmer!$B$3:$C$1002,2,0),\"\")","v":""}]
[null,null,null,{"$f":"IFERROR(VLOOKUP(C407,Teilnehmer!$B$3:$C$1002,2,0),\"\")","v":""},null,{"$f":"IFERROR(VLOOKUP(E407,Teilnehmer!$B$3:$C$1002,2,0),\"\")","v":""}]
[null,null,null,{"$f":"IFERROR(VLOOKUP(C408,Teilnehmer!$B$3:$C$1002,2,0),\"\")","v":""},null,{"$f":"IFERROR(VLOOKUP(E408,Teilnehmer!$B$3:$C$1002,2,0),\"\")","v":""}]
[null,null,null,{"$f":"IFERROR(VLOOKUP(C409,Teilnehmer!$B$3:$C$1002,2,0),\"\")","v":""},null,{"$f":"IFERROR(VLOOKUP(E409,Teilnehmer!$B$3:$C$1002,2,0),\"\")","v":""}]
[null,null,null,{"$f":"IFERROR(VLOOKUP(C410,Teilnehmer!$B$3:$C$1002,2,0),\"\")","v":""},null,{"$f":"IFERROR(VLOOKUP(E410,Teilnehmer!$B$3:$C$1002,2,0),\"\")","v":""}]
[null,null,null,{"$f":"IFERROR(VLOOKUP(C411,Teilnehmer!$B$3:$C$1002,2,0),\"\")","v":""},null,{"$f":"IFERROR(VLOOKUP(E411,Teilnehmer!$B$3:$C$1002,2,0),\"\")","v":""}]
[null,null,null,{"$f":"IFERROR(VLOOKUP(C412,Teilnehmer!$B$3:$C$1002,2,0),\"\")","v":""},null,{"$f":"IFERROR(VLOOKUP(E412,Teilnehmer!$B$3:$C$1002,2,0),\"\")","v":""}]
[null,null,null,{"$f":"IFERROR(VLOOKUP(C413,Teilnehmer!$B$3:$C$1002,2,0),\"\")","v":""},null,{"$f":"IFERROR(VLOOKUP(E413,Teilnehmer!$B$3:$C$1002,2,0),\"\")","v":""}]
[null,null,null,{"$f":"IFERROR(VLOOKUP(C414,Teilnehmer!$B$3:$C$1002,2,0),\"\")","v":""},null,{"$f":"IFERROR(VLOOKUP(E414,Teilnehmer!$B$3:$C$1002,2,0),\"\")","v":""}]
[null,null,null,{"$f":"IFERROR(VLOOKUP(C415,Teilnehmer!$B$3:$C$1002,2,0),\"\")","v":""},null,{"$f":"IFERROR(VLOOKUP(E415,Teilnehmer!$B$3:$C$1002,2,0),\"\")","v":""}]
[null,null,null,{"$f":"IFERROR(VLOOKUP(C416,Teilnehmer!$B$3:$C$1002,2,0),\"\")","v":""},null,{"$f":"IFERROR(VLOOKUP(E416,Teilnehmer!$B$3:$C$1002,2,0),\"\")","v":""}]
[null,null,null,{"$f":"IFERROR(VLOOKUP(C417,Teilnehmer!$B$3:$C$1002,2,0),\"\")","v":""},null,{"$f":"IFERROR(VLOOKUP(E417,Teilnehmer!$B$3:$C$1002,2,0),\"\")","v":""}]
[null,null,null,{"$f":"IFERROR(VLOOKUP(C418,Teilnehmer!$B$3:$C$1002,2,0),\"\")","v":""},null,{"$f":"IFERROR(VLOOKUP(E418,Teilnehmer!$B$3:$C$1002,2,0),\"\")","v":""}]
[null,null,null,{"$f":"IFERROR(VLOOKUP(C419,Teilnehmer!$B$3:$C$1002,2,0),\"\")","v":""},null,{"$f":"IFERROR(VLOOKUP(E419,Teilnehmer!$B$3:$C$1002,2,0),\"\")","v":""}]
[null,null,null,{"$f":"IFERROR(VLOOKUP(C420,Teilnehmer!$B$3:$C$1002,2,0),\"\")","v":""},null,{"$f":"IFERROR(VLOOKUP(E420,Teilnehmer!$B$3:$C$1002,2,0),\"\")","v":""}]
[null,null,null,{"$f":"IFERROR(VLOOKUP(C421,Teilnehmer!$B$3:$C$1002,2,0),\"\")","v":""},null,{"$f":"IFERROR(VLOOKUP(E421,Teilnehmer!$B$3:$C$1002,2,0),\"\")","v":""}]
[null,null,null,{"$f":"IFERROR(VLOOKUP(C422,Teilnehmer!$B$3:$C$1002,2,0),\"\")","v":""},null,{"$f":"IFERROR(VLOOKUP(E422,Teilnehmer!$B$3:$C$1002,2,0),\"\")","v":""}]
[null,null,null,{"$f":"IFERROR(VLOOKUP(C423,Teilnehmer!$B$3:$C$1002,2,0),\"\")","v":""},null,{"$f":"IFERROR(VLOOKUP(E423,Teilnehmer!$B$3:$C$1002,2,0),\"\")","v":""}]
[null,null,null,{"$f":"IFERROR(VLOOKUP(C424,Teilnehmer!$B$3:$C$1002,2,0),\"\")","v":""},null,{"$f":"IFERROR(VLOOKUP(E424,Teilnehmer!$B$3:$C$1002,2,0),\"\")","v":""}]
[null,null,null,{"$f":"IFERROR(VLOOKUP(C425,Teilnehmer!$B$3:$C$1002,2,0),\"\")","v":""},null,{"$f":"IFERROR(VLOOKUP(E425,Teilnehmer!$B$3:$C$1002,2,0),\"\")","v":""}]
[null,null,null,{"$f":"IFERROR(VLOOKUP(C426,Teilnehmer!$B$3:$C$1002,2,0),\"\")","v":""},null,{"$f":"IFERROR(VLOOKUP(E426,Teilnehmer!$B$3:$C$1002,2,0),\"\")","v":""}]
[null,null,null,{"$f":"IFERROR(VLOOKUP(C427,Teilnehmer!$B$3:$C$1002,2,0),\"\")","v":""},null,{"$f":"IFERROR(VLOOKUP(E427,Teilnehmer!$B$3:$C$1002,2,0),\"\")","v":""}]
[null,null,null,{"$f":"IFERROR(VLOOKUP(C428,Teilnehmer!$B$3:$C$1002,2,0),\"\")","v":""},null,{"$f":"IFERROR(VLOOKUP(E428,Teilnehmer!$B$3:$C$1002,2,0),\"\")","v":""}]
[null,null,null,{"$f":"IFERROR(VLOOKUP(C429,Teilnehmer!$B$3:$C$1002,2,0),\"\")","v":""},null,{"$f":"IFERROR(VLOOKUP(E429,Teilnehmer!$B$3:$C$1002,2,0),\"\")","v":""}]
[null,null,null,{"$f":"IFERROR(VLOOKUP(C430,Teilnehmer!$B$3:$C$1002,2,0),\"\")","v":""},null,{"$f":"IFERROR(VLOOKUP(E430,Teilnehmer!$B$3:$C$1002,2,0),\"\")","v":""}]
[null,null,null,{"$f":"IFERROR(VLOOKUP(C431,Teilnehmer!$B$3:$C$1002,2,0),\"\")","v":""},null,{"$f":"IFERROR(VLOOKUP(E431,Teilnehmer!$B$3:$C$1002,2,0),\"\")","v":""}]
[null,null,null,{"$f":"IFERROR(VLOOKUP(C432,Teilnehmer!$B$3:$C$1002,2,0),\"\")","v":""},null,{"$f":"IFERROR(VLOOKUP(E432,Teilnehmer!$B$3:$C$1002,2,0),\"\")","v":""}]
[null,null,null,{"$f":"IFERROR(VLOOKUP(C433,Teilnehmer!$B$3:$C$1002,2,0),\"\")","v":""},null,{"$f":"IFERROR(VLOOKUP(E433,Teilnehmer!$B$3:$C$1002,2,0),\"\")","v":""}]
[null,null,null,{"$f":"IFERROR(VLOOKUP(C434,Teilnehmer!$B$3:$C$1002,2,0),\"\")","v":""},null,{"$f":"IFERROR(VLOOKUP(E434,Teilnehmer!$B$3:$C$1002,2,0),\"\")","v":""}]
[null,null,null,{"$f":"IFERROR(VLOOKUP(C435,Teilnehmer!$B$3:$C$1002,2,0),\"\")","v":""},null,{"$f":"IFERROR(VLOOKUP(E435,Teilnehmer!$B$3:$C$1002,2,0),\"\")","v":""}]
[null,null,null,{"$f":"IFERROR(VLOOKUP(C436,Teilnehmer!$B$3:$C$1002,2,0),\"\")","v":""},null,{"$f":"IFERROR(VLOOKUP(E436,Teilnehmer!$B$3:$C$1002,2,0),\"\")","v":""}]
[null,null,null,{"$f":"IFERROR(VLOOKUP(C437,Teilnehmer!$B$3:$C$1002,2,0),\"\")","v":""},null,{"$f":"IFERROR(VLOOKUP(E437,Teilnehmer!$B$3:$C$1002,2,0),\"\")","v":""}]
[null,null,null,{"$f":"IFERROR(VLOOKUP(C438,Teilnehmer!$B$3:$C$1002,2,0),\"\")","v":""},null,{"$f":"IFERROR(VLOOKUP(E438,Teilnehmer!$B$3:$C$1002,2,0),\"\")","v":""}]
[null,null,null,{"$f":"IFERROR(VLOOKUP(C439,Teilnehmer!$B$3:$C$1002,2,0),\"\")","v":""},null,{"$f":"IFERROR(VLOOKUP(E439,Teilnehmer!$B$3:$C$1002,2,0),\"\")","v":""}]
[null,null,null,{"$f":"IFERROR(VLOOKUP(C440,Teilnehmer!$B$3:$C$1002,2,0),\"\")","v":""},null,{"$f":"IFERROR(VLOOKUP(E440,Teilnehmer!$B$3:$C$1002,2,0),\"\")","v":""}]
[null,null,null,{"$f":"IFERROR(VLOOKUP(C441,Teilnehmer!$B$3:$C$1002,2,0),\"\")","v":""},null,{"$f":"IFERROR(VLOOKUP(E441,Teilnehmer!$B$3:$C$1002,2,0),\"\")","v":""}]
[null,null,null,{"$f":"IFERROR(VLOOKUP(C442,Teilnehmer!$B$3:$C$1002,2,0),\"\")","v":""},null,{"$f":"IFERROR(VLOOKUP(E442,Teilnehmer!$B$3:$C$1002,2,0),\"\")","v":""}]
[null,null,null,{"$f":"IFERROR(VLOOKUP(C443,Teilnehmer!$B$3:$C$1002,2,0),\"\")","v":""},null,{"$f":"IFERROR(VLOOKUP(E443,Teilnehmer!$B$3:$C$1002,2,0),\"\")","v":""}]
[null,null,null,{"$f":"IFERROR(VLOOKUP(C444,Teilnehmer!$B$3:$C$1002,2,0),\"\")","v":""},null,{"$f":"IFERROR(VLOOKUP(E444,Teilnehmer!$B$3:$C$1002,2,0),\"\")","v":""}]
[null,null,null,{"$f":"IFERROR(VLOOKUP(C445,Teilnehmer!$B$3:$C$1002,2,0),\"\")","v":""},null,{"$f":"IFERROR(VLOOKUP(E445,Teilnehmer!$B$3:$C$1002,2,0),\"\")","v":""}]
[null,null,null,{"$f":"IFERROR(VLOOKUP(C446,Teilnehmer!$B$3:$C$1002,2,0),\"\")","v":""},null,{"$f":"IFERROR(VLOOKUP(E446,Teilnehmer!$B$3:$C$1002,2,0),\"\")","v":""}]
[null,null,null,{"$f":"IFERROR(VLOOKUP(C447,Teilnehmer!$B$3:$C$1002,2,0),\"\")","v":""},null,{"$f":"IFERROR(VLOOKUP(E447,Teilnehmer!$B$3:$C$1002,2,0),\"\")","v":""}]
[null,null,null,{"$f":"IFERROR(VLOOKUP(C448,Teilnehmer!$B$3:$C$1002,2,0),\"\")","v":""},null,{"$f":"IFERROR(VLOOKUP(E448,Teilnehmer!$B$3:$C$1002,2,0),\"\")","v":""}]
[null,null,null,{"$f":"IFERROR(VLOOKUP(C449,Teilnehmer!$B$3:$C$1002,2,0),\"\")","v":""},null,{"$f":"IFERROR(VLOOKUP(E449,Teilnehmer!$B$3:$C$1002,2,0),\"\")","v":""}]
[null,null,null,{"$f":"IFERROR(VLOOKUP(C450,Teilnehmer!$B$3:$C$1002,2,0),\"\")","v":""},null,{"$f":"IFERROR(VLOOKUP(E450,Teilnehmer!$B$3:$C$1002,2,0),\"\")","v":""}]
[null,null,null,{"$f":"IFERROR(VLOOKUP(C451,Teilnehmer!$B$3:$C$1002,2,0),\"\")","v":""},null,{"$f":"IFERROR(VLOOKUP(E451,Teilnehmer!$B$3:$C$1002,2,0),\"\")","v":""}]
[null,null,null,{"$f":"IFERROR(VLOOKUP(C452,Teilnehmer!$B$3:$C$1002,2,0),\"\")","v":""},null,{"$f":"IFERROR(VLOOKUP(E452,Teilnehmer!$B$3:$C$1002,2,0),\"\")","v":""}]
[null,null,null,{"$f":"IFERROR(VLOOKUP(C453,Teilnehmer!$B$3:$C$1002,2,0),\"\")","v":""},null,{"$f":"IFERROR(VLOOKUP(E453,Teilnehmer!$B$3:$C$1002,2,0),\"\")","v":""}]
[null,null,null,{"$f":"IFERROR(VLOOKUP(C454,Teilnehmer!$B$3:$C$1002,2,0),\"\")","v":""},null,{"$f":"IFERROR(VLOOKUP(E454,Teilnehmer!$B$3:$C$1002,2,0),\"\")","v":""}]
[null,null,null,{"$f":"IFERROR(VLOOKUP(C455,Teilnehmer!$B$3:$C$1002,2,0),\"\")","v":""},null,{"$f":"IFERROR(VLOOKUP(E455,Teilnehmer!$B$3:$C$1002,2,0),\"\")","v":""}]
[null,null,null,{"$f":"IFERROR(VLOOKUP(C456,Teilnehmer!$B$3:$C$1002,2,0),\"\")","v":""},null,{"$f":"IFERROR(VLOOKUP(E456,Teilnehmer!$B$3:$C$1002,2,0),\"\")","v":""}]
[null,null,null,{"$f":"IFERROR(VLOOKUP(C457,Teilnehmer!$B$3:$C$1002,2,0),\"\")","v":""},null,{"$f":"IFERROR(VLOOKUP(E457,Teilnehmer!$B$3:$C$1002,2,0),\"\")","v":""}]
[null,null,null,{"$f":"IFERROR(VLOOKUP(C458,Teilnehmer!$B$3:$C$1002,2,0),\"\")","v":""},null,{"$f":"IFERROR(VLOOKUP(E458,Teilnehmer!$B$3:$C$1002,2,0),\"\")","v":""}]
[null,null,null,{"$f":"IFERROR(VLOOKUP(C459,Teilnehmer!$B$3:$C$1002,2,0),\"\")","v":""},null,{"$f":"IFERROR(VLOOKUP(E459,Teilnehmer!$B$3:$C$1002,2,0),\"\")","v":""}]
[null,null,null,{"$f":"IFERROR(VLOOKUP(C460,Teilnehmer!$B$3:$C$1002,2,0),\"\")","v":""},null,{"$f":"IFERROR(VLOOKUP(E460,Teilnehmer!$B$3:$C$1002,2,0),\"\")","v":""}]
[null,null,null,{"$f":"IFERROR(VLOOKUP(C461,Teilnehmer!$B$3:$C$1002,2,0),\"\")","v":""},null,{"$f":"IFERROR(VLOOKUP(E461,Teilnehmer!$B$3:$C$1002,2,0),\"\")","v":""}]
[null,null,null,{"$f":"IFERROR(VLOOKUP(C462,Teilnehmer!$B$3:$C$1002,2,0),\"\")","v":""},null,{"$f":"IFERROR(VLOOKUP(E462,Teilnehmer!$B$3:$C$1002,2,0),\"\")","v":""}]
[null,null,null,{"$f":"IFERROR(VLOOKUP(C463,Teilnehmer!$B$3:$C$1002,2,0),\"\")","v":""},null,{"$f":"IFERROR(VLOOKUP(E463,Teilnehmer!$B$3:$C$1002,2,0),\"\")","v":""}]
[null,null,null,{"$f":"IFERROR(VLOOKUP(C464,Teilnehmer!$B$3:$C$1002,2,0),\"\")","v":""},null,{"$f":"IFERROR(VLOOKUP(E464,Teilnehmer!$B$3:$C$1002,2,0),\"\")","v":""}]
[null,null,null,{"$f":"IFERROR(VLOOKUP(C465,Teilnehmer!$B$3:$C$1002,2,0),\"\")","v":""},null,{"$f":"IFERROR(VLOOKUP(E465,Teilnehmer!$B$3:$C$1002,2,0),\"\")","v":""}]
[null,null,null,{"$f":"IFERROR(VLOOKUP(C466,Teilnehmer!$B$3:$C$1002,2,0),\"\")","v":""},null,{"$f":"IFERROR(VLOOKUP(E466,Teilnehmer!$B$3:$C$1002,2,0),\"\")","v":""}]
[null,null,null,{"$f":"IFERROR(VLOOKUP(C467,Teilnehmer!$B$3:$C$1002,2,0),\"\")","v":""},null,{"$f":"IFERROR(VLOOKUP(E467,Teilnehmer!$B$3:$C$1002,2,0),\"\")","v":""}]
[null,null,null,{"$f":"IFERROR(VLOOKUP(C468,Teilnehmer!$B$3:$C$1002,2,0),\"\")","v":""},null,{"$f":"IFERROR(VLOOKUP(E468,Teilnehmer!$B$3:$C$1002,2,0),\"\")","v":""}]
[null,null,null,{"$f":"IFERROR(VLOOKUP(C469,Teilnehmer!$B$3:$C$1002,2,0),\"\")","v":""},null,{"$f":"IFERROR(VLOOKUP(E469,Teilnehmer!$B$3:$C$1002,2,0),\"\")","v":""}]
[null,null,null,{"$f":"IFERROR(VLOOKUP(C470,Teilnehmer!$B$3:$C$1002,2,0),\"\")","v":""},null,{"$f":"IFERROR(VLOOKUP(E470,Teilnehmer!$B$3:$C$1002,2,0),\"\")","v":""}]
[null,null,null,{"$f":"IFERROR(VLOOKUP(C471,Teilnehmer!$B$3:$C$1002,2,0),\"\")","v":""},null,{"$f":"IFERROR(VLOOKUP(E471,Teilnehmer!$B$3:$C$1002,2,0),\"\")","v":""}]
[null,null,null,{"$f":"IFERROR(VLOOKUP(C472,Teilnehmer!$B$3:$C$1002,2,0),\"\")","v":""},null,{"$f":"IFERROR(VLOOKUP(E472,Teilnehmer!$B$3:$C$1002,2,0),\"\")","v":""}]
[null,null,null,{"$f":"IFERROR(VLOOKUP(C473,Teilnehmer!$B$3:$C$1002,2,0),\"\")","v":""},null,{"$f":"IFERROR(VLOOKUP(E473,Teilnehmer!$B$3:$C$1002,2,0),\"\")","v":""}]
[null,null,null,{"$f":"IFERROR(VLOOKUP(C474,Teilnehmer!$B$3:$C$1002,2,0),\"\")","v":""},null,{"$f":"IFERROR(VLOOKUP(E474,Teilnehmer!$B$3:$C$1002,2,0),\"\")","v":""}]
[null,null,null,{"$f":"IFERROR(VLOOKUP(C475,Teilnehmer!$B$3:$C$1002,2,0),\"\")","v":""},null,{"$f":"IFERROR(VLOOKUP(E475,Teilnehmer!$B$3:$C$1002,2,0),\"\")","v":""}]
[null,null,null,{"$f":"IFERROR(VLOOKUP(C476,Teilnehmer!$B$3:$C$1002,2,0),\"\")","v":""},null,{"$f":"IFERROR(VLOOKUP(E476,Teilnehmer!$B$3:$C$1002,2,0),\"\")","v":""}]
[null,null,null,{"$f":"IFERROR(VLOOKUP(C477,Teilnehmer!$B$3:$C$1002,2,0),\"\")","v":""},null,{"$f":"IFERROR(VLOOKUP(E477,Teilnehmer!$B$3:$C$1002,2,0),\"\")","v":""}]
[null,null,null,{"$f":"IFERROR(VLOOKUP(C478,Teilnehmer!$B$3:$C$1002,2,0),\"\")","v":""},null,{"$f":"IFERROR(VLOOKUP(E478,Teilnehmer!$B$3:$C$1002,2,0),\"\")","v":""}]
[null,null,null,{"$f":"IFERROR(VLOOKUP(C479,Teilnehmer!$B$3:$C$1002,2,0),\"\")","v":""},null,{"$f":"IFERROR(VLOOKUP(E479,Teilnehmer!$B$3:$C$1002,2,0),\"\")","v":""}]
[null,null,null,{"$f":"IFERROR(VLOOKUP(C480,Teilnehmer!$B$3:$C$1002,2,0),\"\")","v":""},null,{"$f":"IFERROR(VLOOKUP(E480,Teilnehmer!$B$3:$C$1002,2,0),\"\")","v":""}]
[null,null,null,{"$f":"IFERROR(VLOOKUP(C481,Teilnehmer!$B$3:$C$1002,2,0),\"\")","v":""},null,{"$f":"IFERROR(VLOOKUP(E481,Teilnehmer!$B$3:$C$1002,2,0),\"\")","v":""}]
[null,null,null,{"$f":"IFERROR(VLOOKUP(C482,Teilnehmer!$B$3:$C$1002,2,0),\"\")","v":""},null,{"$f":"IFERROR(VLOOKUP(E482,Teilnehmer!$B$3:$C$1002,2,0),\"\")","v":""}]
[null,null,null,{"$f":"IFERROR(VLOOKUP(C483,Teilnehmer!$B$3:$C$1002,2,0),\"\")","v":""},null,{"$f":"IFERROR(VLOOKUP(E483,Teilnehmer!$B$3:$C$1002,2,0),\"\")","v":""}]
[null,null,null,{"$f":"IFERROR(VLOOKUP(C484,Teilnehmer!$B$3:$C$1002,2,0),\"\")","v":""},null,{"$f":"IFERROR(VLOOKUP(E484,Teilnehmer!$B$3:$C$1002,2,0),\"\")","v":""}]
[null,null,null,{"$f":"IFERROR(VLOOKUP(C485,Teilnehmer!$B$3:$C$1002,2,0),\"\")","v":""},null,{"$f":"IFERROR(VLOOKUP(E485,Teilnehmer!$B$3:$C$1002,2,0),\"\")","v":""}]
[null,null,null,{"$f":"IFERROR(VLOOKUP(C486,Teilnehmer!$B$3:$C$1002,2,0),\"\")","v":""},null,{"$f":"IFERROR(VLOOKUP(E486,Teilnehmer!$B$3:$C$1002,2,0),\"\")","v":""}]
[null,null,null,{"$f":"IFERROR(VLOOKUP(C487,Teilnehmer!$B$3:$C$1002,2,0),\"\")","v":""},null,{"$f":"IFERROR(VLOOKUP(E487,Teilnehmer!$B$3:$C$1002,2,0),\"\")","v":""}]
[null,null,null,{"$f":"IFERROR(VLOOKUP(C488,Teilnehmer!$B$3:$C$1002,2,0),\"\")","v":""},null,{"$f":"IFERROR(VLOOKUP(E488,Teilnehmer!$B$3:$C$1002,2,0),\"\")","v":""}]
[null,null,null,{"$f":"IFERROR(VLOOKUP(C489,Teilnehmer!$B$3:$C$1002,2,0),\"\")","v":""},null,{"$f":"IFERROR(VLOOKUP(E489,Teilnehmer!$B$3:$C$1002,2,0),\"\")","v":""}]
[null,null,null,{"$f":"IFERROR(VLOOKUP(C490,Teilnehmer!$B$3:$C$1002,2,0),\"\")","v":""},null,{"$f":"IFERROR(VLOOKUP(E490,Teilnehmer!$B$3:$C$1002,2,0),\"\")","v":""}]
[null,null,null,{"$f":"IFERROR(VLOOKUP(C491,Teilnehmer!$B$3:$C$1002,2,0),\"\")","v":""},null,{"$f":"IFERROR(VLOOKUP(E491,Teilnehmer!$B$3:$C$1002,2,0),\"\")","v":""}]
[null,null,null,{"$f":"IFERROR(VLOOKUP(C492,Teilnehmer!$B$3:$C$1002,2,0),\"\")","v":""},null,{"$f":"IFERROR(VLOOKUP(E492,Teilnehmer!$B$3:$C$1002,2,0),\"\")","v":""}]
[null,null,null,{"$f":"IFERROR(VLOOKUP(C493,Teilnehmer!$B$3:$C$1002,2,0),\"\")","v":""},null,{"$f":"IFERROR(VLOOKUP(E493,Teilnehmer!$B$3:$C$1002,2,0),\"\")","v":""}]
[null,null,null,{"$f":"IFERROR(VLOOKUP(C494,Teilnehmer!$B$3:$C$1002,2,0),\"\")","v":""},null,{"$f":"IFERROR(VLOOKUP(E494,Teilnehmer!$B$3:$C$1002,2,0),\"\")","v":""}]
[null,null,null,{"$f":"IFERROR(VLOOKUP(C495,Teilnehmer!$B$3:$C$1002,2,0),\"\")","v":""},null,{"$f":"IFERROR(VLOOKUP(E495,Teilnehmer!$B$3:$C$1002,2,0),\"\")","v":""}]
[null,null,null,{"$f":"IFERROR(VLOOKUP(C496,Teilnehmer!$B$3:$C$1002,2,0),\"\")","v":""},null,{"$f":"IFERROR(VLOOKUP(E496,Teilnehmer!$B$3:$C$1002,2,0),\"\")","v":""}]
[null,null,null,{"$f":"IFERROR(VLOOKUP(C497,Teilnehmer!$B$3:$C$1002,2,0),\"\")","v":""},null,{"$f":"IFERROR(VLOOKUP(E497,Teilnehmer!$B$3:$C$1002,2,0),\"\")","v":""}]
[null,null,null,{"$f":"IFERROR(VLOOKUP(C498,Teilnehmer!$B$3:$C$1002,2,0),\"\")","v":""},null,{"$f":"IFERROR(VLOOKUP(E498,Teilnehmer!$B$3:$C$1002,2,0),\"\")","v":""}]
[null,null,null,{"$f":"IFERROR(VLOOKUP(C499,Teilnehmer!$B$3:$C$1002,2,0),\"\")","v":""},null,{"$f":"IFERROR(VLOOKUP(E499,Teilnehmer!$B$3:$C$1002,2,0),\"\")","v":""}]
[null,null,null,{"$f":"IFERROR(VLOOKUP(C500,Teilnehmer!$B$3:$C$1002,2,0),\"\")","v":""},null,{"$f":"IFERROR(VLOOKUP(E500,Teilnehmer!$B$3:$C$1002,2,0),\"\")","v":""}]
[null,null,null,{"$f":"IFERROR(VLOOKUP(C501,Teilnehmer!$B$3:$C$1002,2,0),\"\")","v":""},null,{"$f":"IFERROR(VLOOKUP(E501,Teilnehmer!$B$3:$C$1002,2,0),\"\")","v":""}]
[null,null,null,{"$f":"IFERROR(VLOOKUP(C502,Teilnehmer!$B$3:$C$1002,2,0),\"\")","v":""},null,{"$f":"IFERROR(VLOOKUP(E502,Teilnehmer!$B$3:$C$1002,2,0),\"\")","v":""}]
[null,null,null,{"$f":"IFERROR(VLOOKUP(C503,Teilnehmer!$B$3:$C$1002,2,0),\"\")","v":""},null,{"$f":"IFERROR(VLOOKUP(E503,Teilnehmer!$B$3:$C$1002,2,0),\"\")","v":""}]
[null,null,null,{"$f":"IFERROR(VLOOKUP(C504,Teilnehmer!$B$3:$C$1002,2,0),\"\")","v":""},null,{"$f":"IFERROR(VLOOKUP(E504,Teilnehmer!$B$3:$C$1002,2,0),\"\")","v":""}]
[null,null,null,{"$f":"IFERROR(VLOOKUP(C505,Teilnehmer!$B$3:$C$1002,2,0),\"\")","v":""},null,{"$f":"IFERROR(VLOOKUP(E505,Teilnehmer!$B$3:$C$1002,2,0),\"\")","v":""}]
[null,null,null,{"$f":"IFERROR(VLOOKUP(C506,Teilnehmer!$B$3:$C$1002,2,0),\"\")","v":""},null,{"$f":"IFERROR(VLOOKUP(E506,Teilnehmer!$B$3:$C$1002,2,0),\"\")","v":""}]
[null,null,null,{"$f":"IFERROR(VLOOKUP(C507,Teilnehmer!$B$3:$C$1002,2,0),\"\")","v":""},null,{"$f":"IFERROR(VLOOKUP(E507,Teilnehmer!$B$3:$C$1002,2,0),\"\")","v":""}]
[null,null,null,{"$f":"IFERROR(VLOOKUP(C508,Teilnehmer!$B$3:$C$1002,2,0),\"\")","v":""},null,{"$f":"IFERROR(VLOOKUP(E508,Teilnehmer!$B$3:$C$1002,2,0),\"\")","v":""}]
[null,null,null,{"$f":"IFERROR(VLOOKUP(C509,Teilnehmer!$B$3:$C$1002,2,0),\"\")","v":""},null,{"$f":"IFERROR(VLOOKUP(E509,Teilnehmer!$B$3:$C$1002,2,0),\"\")","v":""}]
[null,null,null,{"$f":"IFERROR(VLOOKUP(C510,Teilnehmer!$B$3:$C$1002,2,0),\"\")","v":""},null,{"$f":"IFERROR(VLOOKUP(E510,Teilnehmer!$B$3:$C$1002,2,0),\"\")","v":""}]
[null,null,null,{"$f":"IFERROR(VLOOKUP(C511,Teilnehmer!$B$3:$C$1002,2,0),\"\")","v":""},null,{"$f":"IFERROR(VLOOKUP(E511,Teilnehmer!$B$3:$C$1002,2,0),\"\")","v":""}]
[null,null,null,{"$f":"IFERROR(VLOOKUP(C512,Teilnehmer!$B$3:$C$1002,2,0),\"\")","v":""},null,{"$f":"IFERROR(VLOOKUP(E512,Teilnehmer!$B$3:$C$1002,2,0),\"\")","v":""}]
[null,null,null,{"$f":"IFERROR(VLOOKUP(C513,Teilnehmer!$B$3:$C$1002,2,0),\"\")","v":""},null,{"$f":"IFERROR(VLOOKUP(E513,Teilnehmer!$B$3:$C$1002,2,0),\"\")","v":""}]
[null,null,null,{"$f":"IFERROR(VLOOKUP(C514,Teilnehmer!$B$3:$C$1002,2,0),\"\")","v":""},null,{"$f":"IFERROR(VLOOKUP(E514,Teilnehmer!$B$3:$C$1002,2,0),\"\")","v":""}]
[null,null,null,{"$f":"IFERROR(VLOOKUP(C515,Teilnehmer!$B$3:$C$1002,2,0),\"\")","v":""},null,{"$f":"IFERROR(VLOOKUP(E515,Teilnehmer!$B$3:$C$1002,2,0),\"\")","v":""}]
[null,null,null,{"$f":"IFERROR(VLOOKUP(C516,Teilnehmer!$B$3:$C$1002,2,0),\"\")","v":""},null,{"$f":"IFERROR(VLOOKUP(E516,Teilnehmer!$B$3:$C$1002,2,0),\"\")","v":""}]
[null,null,null,{"$f":"IFERROR(VLOOKUP(C517,Teilnehmer!$B$3:$C$1002,2,0),\"\")","v":""},null,{"$f":"IFERROR(VLOOKUP(E517,Teilnehmer!$B$3:$C$1002,2,0),\"\")","v":""}]
[null,null,null,{"$f":"IFERROR(VLOOKUP(C518,Teilnehmer!$B$3:$C$1002,2,0),\"\")","v":""},null,{"$f":"IFERROR(VLOOKUP(E518,Teilnehmer!$B$3:$C$1002,2,0),\"\")","v":""}]
[null,null,null,{"$f":"IFERROR(VLOOKUP(C519,Teilnehmer!$B$3:$C$1002,2,0),\"\")","v":""},null,{"$f":"IFERROR(VLOOKUP(E519,Teilnehmer!$B$3:$C$1002,2,0),\"\")","v":""}]
[null,null,null,{"$f":"IFERROR(VLOOKUP(C520,Teilnehmer!$B$3:$C$1002,2,0),\"\")","v":""},null,{"$f":"IFERROR(VLOOKUP(E520,Teilnehmer!$B$3:$C$1002,2,0),\"\")","v":""}]
[null,null,null,{"$f":"IFERROR(VLOOKUP(C521,Teilnehmer!$B$3:$C$1002,2,0),\"\")","v":""},null,{"$f":"IFERROR(VLOOKUP(E521,Teilnehmer!$B$3:$C$1002,2,0),\"\")","v":""}]
[null,null,null,{"$f":"IFERROR(VLOOKUP(C522,Teilnehmer!$B$3:$C$1002,2,0),\"\")","v":""},null,{"$f":"IFERROR(VLOOKUP(E522,Teilnehmer!$B$3:$C$1002,2,0),\"\")","v":""}]
[null,null,null,{"$f":"IFERROR(VLOOKUP(C523,Teilnehmer!$B$3:$C$1002,2,0),\"\")","v":""},null,{"$f":"IFERROR(VLOOKUP(E523,Teilnehmer!$B$3:$C$1002,2,0),\"\")","v":""}]
[null,null,null,{"$f":"IFERROR(VLOOKUP(C524,Teilnehmer!$B$3:$C$1002,2,0),\"\")","v":""},null,{"$f":"IFERROR(VLOOKUP(E524,Teilnehmer!$B$3:$C$1002,2,0),\"\")","v":""}]
[null,null,null,{"$f":"IFERROR(VLOOKUP(C525,Teilnehmer!$B$3:$C$1002,2,0),\"\")","v":""},null,{"$f":"IFERROR(VLOOKUP(E525,Teilnehmer!$B$3:$C$1002,2,0),\"\")","v":""}]
[null,null,null,{"$f":"IFERROR(VLOOKUP(C526,Teilnehmer!$B$3:$C$1002,2,0),\"\")","v":""},null,{"$f":"IFERROR(VLOOKUP(E526,Teilnehmer!$B$3:$C$1002,2,0),\"\")","v":""}]
[null,null,null,{"$f":"IFERROR(VLOOKUP(C527,Teilnehmer!$B$3:$C$1002,2,0),\"\")","v":""},null,{"$f":"IFERROR(VLOOKUP(E527,Teilnehmer!$B$3:$C$1002,2,0),\"\")","v":""}]
[null,null,null,{"$f":"IFERROR(VLOOKUP(C528,Teilnehmer!$B$3:$C$1002,2,0),\"\")","v":""},null,{"$f":"IFERROR(VLOOKUP(E528,Teilnehmer!$B$3:$C$1002,2,0),\"\")","v":""}]
[null,null,null,{"$f":"IFERROR(VLOOKUP(C529,Teilnehmer!$B$3:$C$1002,2,0),\"\")","v":""},null,{"$f":"IFERROR(VLOOKUP(E529,Teilnehmer!$B$3:$C$1002,2,0),\"\")","v":""}]
[null,null,null,{"$f":"IFERROR(VLOOKUP(C530,Teilnehmer!$B$3:$C$1002,2,0),\"\")","v":""},null,{"$f":"IFERROR(VLOOKUP(E530,Teilnehmer!$B$3:$C$1002,2,0),\"\")","v":""}]
[null,null,null,{"$f":"IFERROR(VLOOKUP(C531,Teilnehmer!$B$3:$C$1002,2,0),\"\")","v":""},null,{"$f":"IFERROR(VLOOKUP(E531,Teilnehmer!$B$3:$C$1002,2,0),\"\")","v":""}]
[null,null,null,{"$f":"IFERROR(VLOOKUP(C532,Teilnehmer!$B$3:$C$1002,2,0),\"\")","v":""},null,{"$f":"IFERROR(VLOOKUP(E532,Teilnehmer!$B$3:$C$1002,2,0),\"\")","v":""}]
[null,null,null,{"$f":"IFERROR(VLOOKUP(C533,Teilnehmer!$B$3:$C$1002,2,0),\"\")","v":""},null,{"$f":"IFERROR(VLOOKUP(E533,Teilnehmer!$B$3:$C$1002,2,0),\"\")","v":""}]
[null,null,null,{"$f":"IFERROR(VLOOKUP(C534,Teilnehmer!$B$3:$C$1002,2,0),\"\")","v":""},null,{"$f":"IFERROR(VLOOKUP(E534,Teilnehmer!$B$3:$C$1002,2,0),\"\")","v":""}]
[null,null,null,{"$f":"IFERROR(VLOOKUP(C535,Teilnehmer!$B$3:$C$1002,2,0),\"\")","v":""},null,{"$f":"IFERROR(VLOOKUP(E535,Teilnehmer!$B$3:$C$1002,2,0),\"\")","v":""}]
[null,null,null,{"$f":"IFERROR(VLOOKUP(C536,Teilnehmer!$B$3:$C$1002,2,0),\"\")","v":""},null,{"$f":"IFERROR(VLOOKUP(E536,Teilnehmer!$B$3:$C$1002,2,0),\"\")","v":""}]
[null,null,null,{"$f":"IFERROR(VLOOKUP(C537,Teilnehmer!$B$3:$C$1002,2,0),\"\")","v":""},null,{"$f":"IFERROR(VLOOKUP(E537,Teilnehmer!$B$3:$C$1002,2,0),\"\")","v":""}]
[null,null,null,{"$f":"IFERROR(VLOOKUP(C538,Teilnehmer!$B$3:$C$1002,2,0),\"\")","v":""},null,{"$f":"IFERROR(VLOOKUP(E538,Teilnehmer!$B$3:$C$1002,2,0),\"\")","v":""}]
[null,null,null,{"$f":"IFERROR(VLOOKUP(C539,Teilnehmer!$B$3:$C$1002,2,0),\"\")","v":""},null,{"$f":"IFERROR(VLOOKUP(E539,Teilnehmer!$B$3:$C$1002,2,0),\"\")","v":""}]
[null,null,null,{"$f":"IFERROR(VLOOKUP(C540,Teilnehmer!$B$3:$C$1002,2,0),\"\")","v":""},null,{"$f":"IFERROR(VLOOKUP(E540,Teilnehmer!$B$3:$C$1002,2,0),\"\")","v":""}]
[null,null,null,{"$f":"IFERROR(VLOOKUP(C541,Teilnehmer!$B$3:$C$1002,2,0),\"\")","v":""},null,{"$f":"IFERROR(VLOOKUP(E541,Teilnehmer!$B$3:$C$1002,2,0),\"\")","v":""}]
[null,null,null,{"$f":"IFERROR(VLOOKUP(C542,Teilnehmer!$B$3:$C$1002,2,0),\"\")","v":""},null,{"$f":"IFERROR(VLOOKUP(E542,Teilnehmer!$B$3:$C$1002,2,0),\"\")","v":""}]
[null,null,null,{"$f":"IFERROR(VLOOKUP(C543,Teilnehmer!$B$3:$C$1002,2,0),\"\")","v":""},null,{"$f":"IFERROR(VLOOKUP(E543,Teilnehmer!$B$3:$C$1002,2,0),\"\")","v":""}]
[null,null,null,{"$f":"IFERROR(VLOOKUP(C544,Teilnehmer!$B$3:$C$1002,2,0),\"\")","v":""},null,{"$f":"IFERROR(VLOOKUP(E544,Teilnehmer!$B$3:$C$1002,2,0),\"\")","v":""}]
[null,null,null,{"$f":"IFERROR(VLOOKUP(C545,Teilnehmer!$B$3:$C$1002,2,0),\"\")","v":""},null,{"$f":"IFERROR(VLOOKUP(E545,Teilnehmer!$B$3:$C$1002,2,0),\"\")","v":""}]
[null,null,null,{"$f":"IFERROR(VLOOKUP(C546,Teilnehmer!$B$3:$C$1002,2,0),\"\")","v":""},null,{"$f":"IFERROR(VLOOKUP(E546,Teilnehmer!$B$3:$C$1002,2,0),\"\")","v":""}]
[null,null,null,{"$f":"IFERROR(VLOOKUP(C547,Teilnehmer!$B$3:$C$1002,2,0),\"\")","v":""},null,{"$f":"IFERROR(VLOOKUP(E547,Teilnehmer!$B$3:$C$1002,2,0),\"\")","v":""}]
[null,null,null,{"$f":"IFERROR(VLOOKUP(C548,Teilnehmer!$B$3:$C$1002,2,0),\"\")","v":""},null,{"$f":"IFERROR(VLOOKUP(E548,Teilnehmer!$B$3:$C$1002,2,0),\"\")","v":""}]
[null,null,null,{"$f":"IFERROR(VLOOKUP(C549,Teilnehmer!$B$3:$C$1002,2,0),\"\")","v":""},null,{"$f":"IFERROR(VLOOKUP(E549,Teilnehmer!$B$3:$C$1002,2,0),\"\")","v":""}]
[null,null,null,{"$f":"IFERROR(VLOOKUP(C550,Teilnehmer!$B$3:$C$1002,2,0),\"\")","v":""},null,{"$f":"IFERROR(VLOOKUP(E550,Teilnehmer!$B$3:$C$1002,2,0),\"\")","v":""}]
[null,null,null,{"$f":"IFERROR(VLOOKUP(C551,Teilnehmer!$B$3:$C$1002,2,0),\"\")","v":""},null,{"$f":"IFERROR(VLOOKUP(E551,Teilnehmer!$B$3:$C$1002,2,0),\"\")","v":""}]
[null,null,null,{"$f":"IFERROR(VLOOKUP(C552,Teilnehmer!$B$3:$C$1002,2,0),\"\")","v":""},null,{"$f":"IFERROR(VLOOKUP(E552,Teilnehmer!$B$3:$C$1002,2,0),\"\")","v":""}]
[null,null,null,{"$f":"IFERROR(VLOOKUP(C553,Teilnehmer!$B$3:$C$1002,2,0),\"\")","v":""},null,{"$f":"IFERROR(VLOOKUP(E553,Teilnehmer!$B$3:$C$1002,2,0),\"\")","v":""}]
[null,null,null,{"$f":"IFERROR(VLOOKUP(C554,Teilnehmer!$B$3:$C$1002,2,0),\"\")","v":""},null,{"$f":"IFERROR(VLOOKUP(E554,Teilnehmer!$B$3:$C$1002,2,0),\"\")","v":""}]
[null,null,null,{"$f":"IFERROR(VLOOKUP(C555,Teilnehmer!$B$3:$C$1002,2,0),\"\")","v":""},null,{"$f":"IFERROR(VLOOKUP(E555,Teilnehmer!$B$3:$C$1002,2,0),\"\")","v":""}]
[null,null,null,{"$f":"IFERROR(VLOOKUP(C556,Teilnehmer!$B$3:$C$1002,2,0),\"\")","v":""},null,{"$f":"IFERROR(VLOOKUP(E556,Teilnehmer!$B$3:$C$1002,2,0),\"\")","v":""}]
[null,null,null,{"$f":"IFERROR(VLOOKUP(C557,Teilnehmer!$B$3:$C$1002,2,0),\"\")","v":""},null,{"$f":"IFERROR(VLOOKUP(E557,Teilnehmer!$B$3:$C$1002,2,0),\"\")","v":""}]
[null,null,null,{"$f":"IFERROR(VLOOKUP(C558,Teilnehmer!$B$3:$C$1002,2,0),\"\")","v":""},null,{"$f":"IFERROR(VLOOKUP(E558,Teilnehmer!$B$3:$C$1002,2,0),\"\")","v":""}]
[null,null,null,{"$f":"IFERROR(VLOOKUP(C559,Teilnehmer!$B$3:$C$1002,2,0),\"\")","v":""},null,{"$f":"IFERROR(VLOOKUP(E559,Teilnehmer!$B$3:$C$1002,2,0),\"\")","v":""}]
[null,null,null,{"$f":"IFERROR(VLOOKUP(C560,Teilnehmer!$B$3:$C$1002,2,0),\"\")","v":""},null,{"$f":"IFERROR(VLOOKUP(E560,Teilnehmer!$B$3:$C$1002,2,0),\"\")","v":""}]
[null,null,null,{"$f":"IFERROR(VLOOKUP(C561,Teilnehmer!$B$3:$C$1002,2,0),\"\")","v":""},null,{"$f":"IFERROR(VLOOKUP(E561,Teilnehmer!$B$3:$C$1002,2,0),\"\")","v":""}]
[null,null,null,{"$f":"IFERROR(VLOOKUP(C562,Teilnehmer!$B$3:$C$1002,2,0),\"\")","v":""},null,{"$f":"IFERROR(VLOOKUP(E562,Teilnehmer!$B$3:$C$1002,2,0),\"\")","v":""}]
[null,null,null,{"$f":"IFERROR(VLOOKUP(C563,Teilnehmer!$B$3:$C$1002,2,0),\"\")","v":""},null,{"$f":"IFERROR(VLOOKUP(E563,Teilnehmer!$B$3:$C$1002,2,0),\"\")","v":""}]
[null,null,null,{"$f":"IFERROR(VLOOKUP(C564,Teilnehmer!$B$3:$C$1002,2,0),\"\")","v":""},null,{"$f":"IFERROR(VLOOKUP(E564,Teilnehmer!$B$3:$C$1002,2,0),\"\")","v":""}]
[null,null,null,{"$f":"IFERROR(VLOOKUP(C565,Teilnehmer!$B$3:$C$1002,2,0),\"\")","v":""},null,{"$f":"IFERROR(VLOOKUP(E565,Teilnehmer!$B$3:$C$1002,2,0),\"\")","v":""}]
[null,null,null,{"$f":"IFERROR(VLOOKUP(C566,Teilnehmer!$B$3:$C$1002,2,0),\"\")","v":""},null,{"$f":"IFERROR(VLOOKUP(E566,Teilnehmer!$B$3:$C$1002,2,0),\"\")","v":""}]
[null,null,null,{"$f":"IFERROR(VLOOKUP(C567,Teilnehmer!$B$3:$C$1002,2,0),\"\")","v":""},null,{"$f":"IFERROR(VLOOKUP(E567,Teilnehmer!$B$3:$C$1002,2,0),\"\")","v":""}]
[null,null,null,{"$f":"IFERROR(VLOOKUP(C568,Teilnehmer!$B$3:$C$1002,2,0),\"\")","v":""},null,{"$f":"IFERROR(VLOOKUP(E568,Teilnehmer!$B$3:$C$1002,2,0),\"\")","v":""}]
[null,null,null,{"$f":"IFERROR(VLOOKUP(C569,Teilnehmer!$B$3:$C$1002,2,0),\"\")","v":""},null,{"$f":"IFERROR(VLOOKUP(E569,Teilnehmer!$B$3:$C$1002,2,0),\"\")","v":""}]
[null,null,null,{"$f":"IFERROR(VLOOKUP(C570,Teilnehmer!$B$3:$C$1002,2,0),\"\")","v":""},null,{"$f":"IFERROR(VLOOKUP(E570,Teilnehmer!$B$3:$C$1002,2,0),\"\")","v":""}]
[null,null,null,{"$f":"IFERROR(VLOOKUP(C571,Teilnehmer!$B$3:$C$1002,2,0),\"\")","v":""},null,{"$f":"IFERROR(VLOOKUP(E571,Teilnehmer!$B$3:$C$1002,2,0),\"\")","v":""}]
[null,null,null,{"$f":"IFERROR(VLOOKUP(C572,Teilnehmer!$B$3:$C$1002,2,0),\"\")","v":""},null,{"$f":"IFERROR(VLOOKUP(E572,Teilnehmer!$B$3:$C$1002,2,0),\"\")","v":""}]
[null,null,null,{"$f":"IFERROR(VLOOKUP(C573,Teilnehmer!$B$3:$C$1002,2,0),\"\")","v":""},null,{"$f":"IFERROR(VLOOKUP(E573,Teilnehmer!$B$3:$C$1002,2,0),\"\")","v":""}]
[null,null,null,{"$f":"IFERROR(VLOOKUP(C574,Teilnehmer!$B$3:$C$1002,2,0),\"\")","v":""},null,{"$f":"IFERROR(VLOOKUP(E574,Teilnehmer!$B$3:$C$1002,2,0),\"\")","v":""}]
[null,null,null,{"$f":"IFERROR(VLOOKUP(C575,Teilnehmer!$B$3:$C$1002,2,0),\"\")","v":""},null,{"$f":"IFERROR(VLOOKUP(E575,Teilnehmer!$B$3:$C$1002,2,0),\"\")","v":""}]
[null,null,null,{"$f":"IFERROR(VLOOKUP(C576,Teilnehmer!$B$3:$C$1002,2,0),\"\")","v":""},null,{"$f":"IFERROR(VLOOKUP(E576,Teilnehmer!$B$3:$C$1002,2,0),\"\")","v":""}]
[null,null,null,{"$f":"IFERROR(VLOOKUP(C577,Teilnehmer!$B$3:$C$1002,2,0),\"\")","v":""},null,{"$f":"IFERROR(VLOOKUP(E577,Teilnehmer!$B$3:$C$1002,2,0),\"\")","v":""}]
[null,null,null,{"$f":"IFERROR(VLOOKUP(C578,Teilnehmer!$B$3:$C$1002,2,0),\"\")","v":""},null,{"$f":"IFERROR(VLOOKUP(E578,Teilnehmer!$B$3:$C$1002,2,0),\"\")","v":""}]
[null,null,null,{"$f":"IFERROR(VLOOKUP(C579,Teilnehmer!$B$3:$C$1002,2,0),\"\")","v":""},null,{"$f":"IFERROR(VLOOKUP(E579,Teilnehmer!$B$3:$C$1002,2,0),\"\")","v":""}]
[null,null,null,{"$f":"IFERROR(VLOOKUP(C580,Teilnehmer!$B$3:$C$1002,2,0),\"\")","v":""},null,{"$f":"IFERROR(VLOOKUP(E580,Teilnehmer!$B$3:$C$1002,2,0),\"\")","v":""}]
[null,null,null,{"$f":"IFERROR(VLOOKUP(C581,Teilnehmer!$B$3:$C$1002,2,0),\"\")","v":""},null,{"$f":"IFERROR(VLOOKUP(E581,Teilnehmer!$B$3:$C$1002,2,0),\"\")","v":""}]
[null,null,null,{"$f":"IFERROR(VLOOKUP(C582,Teilnehmer!$B$3:$C$1002,2,0),\"\")","v":""},null,{"$f":"IFERROR(VLOOKUP(E582,Teilnehmer!$B$3:$C$1002,2,0),\"\")","v":""}]
[null,null,null,{"$f":"IFERROR(VLOOKUP(C583,Teilnehmer!$B$3:$C$1002,2,0),\"\")","v":""},null,{"$f":"IFERROR(VLOOKUP(E583,Teilnehmer!$B$3:$C$1002,2,0),\"\")","v":""}]
[null,null,null,{"$f":"IFERROR(VLOOKUP(C584,Teilnehmer!$B$3:$C$1002,2,0),\"\")","v":""},null,{"$f":"IFERROR(VLOOKUP(E584,Teilnehmer!$B$3:$C$1002,2,0),\"\")","v":""}]
[null,null,null,{"$f":"IFERROR(VLOOKUP(C585,Teilnehmer!$B$3:$C$1002,2,0),\"\")","v":""},null,{"$f":"IFERROR(VLOOKUP(E585,Teilnehmer!$B$3:$C$1002,2,0),\"\")","v":""}]
[null,null,null,{"$f":"IFERROR(VLOOKUP(C586,Teilnehmer!$B$3:$C$1002,2,0),\"\")","v":""},null,{"$f":"IFERROR(VLOOKUP(E586,Teilnehmer!$B$3:$C$1002,2,0),\"\")","v":""}]
[null,null,null,{"$f":"IFERROR(VLOOKUP(C587,Teilnehmer!$B$3:$C$1002,2,0),\"\")","v":""},null,{"$f":"IFERROR(VLOOKUP(E587,Teilnehmer!$B$3:$C$1002,2,0),\"\")","v":""}]
[null,null,null,{"$f":"IFERROR(VLOOKUP(C588,Teilnehmer!$B$3:$C$1002,2,0),\"\")","v":""},null,{"$f":"IFERROR(VLOOKUP(E588,Teilnehmer!$B$3:$C$1002,2,0),\"\")","v":""}]
[null,null,null,{"$f":"IFERROR(VLOOKUP(C589,Teilnehmer!$B$3:$C$1002,2,0),\"\")","v":""},null,{"$f":"IFERROR(VLOOKUP(E589,Teilnehmer!$B$3:$C$1002,2,0),\"\")","v":""}]
[null,null,null,{"$f":"IFERROR(VLOOKUP(C590,Teilnehmer!$B$3:$C$1002,2,0),\"\")","v":""},null,{"$f":"IFERROR(VLOOKUP(E590,Teilnehmer!$B$3:$C$1002,2,0),\"\")","v":""}]
[null,null,null,{"$f":"IFERROR(VLOOKUP(C591,Teilnehmer!$B$3:$C$1002,2,0),\"\")","v":""},null,{"$f":"IFERROR(VLOOKUP(E591,Teilnehmer!$B$3:$C$1002,2,0),\"\")","v":""}]
[null,null,null,{"$f":"IFERROR(VLOOKUP(C592,Teilnehmer!$B$3:$C$1002,2,0),\"\")","v":""},null,{"$f":"IFERROR(VLOOKUP(E592,Teilnehmer!$B$3:$C$1002,2,0),\"\")","v":""}]
[null,null,null,{"$f":"IFERROR(VLOOKUP(C593,Teilnehmer!$B$3:$C$1002,2,0),\"\")","v":""},null,{"$f":"IFERROR(VLOOKUP(E593,Teilnehmer!$B$3:$C$1002,2,0),\"\")","v":""}]
[null,null,null,{"$f":"IFERROR(VLOOKUP(C594,Teilnehmer!$B$3:$C$1002,2,0),\"\")","v":""},null,{"$f":"IFERROR(VLOOKUP(E594,Teilnehmer!$B$3:$C$1002,2,0),\"\")","v":""}]
[null,null,null,{"$f":"IFERROR(VLOOKUP(C595,Teilnehmer!$B$3:$C$1002,2,0),\"\")","v":""},null,{"$f":"IFERROR(VLOOKUP(E595,Teilnehmer!$B$3:$C$1002,2,0),\"\")","v":""}]
[null,null,null,{"$f":"IFERROR(VLOOKUP(C596,Teilnehmer!$B$3:$C$1002,2,0),\"\")","v":""},null,{"$f":"IFERROR(VLOOKUP(E596,Teilnehmer!$B$3:$C$1002,2,0),\"\")","v":""}]
[null,null,null,{"$f":"IFERROR(VLOOKUP(C597,Teilnehmer!$B$3:$C$1002,2,0),\"\")","v":""},null,{"$f":"IFERROR(VLOOKUP(E597,Teilnehmer!$B$3:$C$1002,2,0),\"\")","v":""}]
[null,null,null,{"$f":"IFERROR(VLOOKUP(C598,Teilnehmer!$B$3:$C$1002,2,0),\"\")","v":""},null,{"$f":"IFERROR(VLOOKUP(E598,Teilnehmer!$B$3:$C$1002,2,0),\"\")","v":""}]
[null,null,null,{"$f":"IFERROR(VLOOKUP(C599,Teilnehmer!$B$3:$C$1002,2,0),\"\")","v":""},null,{"$f":"IFERROR(VLOOKUP(E599,Teilnehmer!$B$3:$C$1002,2,0),\"\")","v":""}]
[null,null,null,{"$f":"IFERROR(VLOOKUP(C600,Teilnehmer!$B$3:$C$1002,2,0),\"\")","v":""},null,{"$f":"IFERROR(VLOOKUP(E600,Teilnehmer!$B$3:$C$1002,2,0),\"\")","v":""}]
[null,null,null,{"$f":"IFERROR(VLOOKUP(C601,Teilnehmer!$B$3:$C$1002,2,0),\"\")","v":""},null,{"$f":"IFERROR(VLOOKUP(E601,Teilnehmer!$B$3:$C$1002,2,0),\"\")","v":""}]
[null,null,null,{"$f":"IFERROR(VLOOKUP(C602,Teilnehmer!$B$3:$C$1002,2,0),\"\")","v":""},null,{"$f":"IFERROR(VLOOKUP(E602,Teilnehmer!$B$3:$C$1002,2,0),\"\")","v":""}]
[null,null,null,{"$f":"IFERROR(VLOOKUP(C603,Teilnehmer!$B$3:$C$1002,2,0),\"\")","v":""},null,{"$f":"IFERROR(VLOOKUP(E603,Teilnehmer!$B$3:$C$1002,2,0),\"\")","v":""}]
[null,null,null,{"$f":"IFERROR(VLOOKUP(C604,Teilnehmer!$B$3:$C$1002,2,0),\"\")","v":""},null,{"$f":"IFERROR(VLOOKUP(E604,Teilnehmer!$B$3:$C$1002,2,0),\"\")","v":""}]
[null,null,null,{"$f":"IFERROR(VLOOKUP(C605,Teilnehmer!$B$3:$C$1002,2,0),\"\")","v":""},null,{"$f":"IFERROR(VLOOKUP(E605,Teilnehmer!$B$3:$C$1002,2,0),\"\")","v":""}]
[null,null,null,{"$f":"IFERROR(VLOOKUP(C606,Teilnehmer!$B$3:$C$1002,2,0),\"\")","v":""},null,{"$f":"IFERROR(VLOOKUP(E606,Teilnehmer!$B$3:$C$1002,2,0),\"\")","v":""}]
[null,null,null,{"$f":"IFERROR(VLOOKUP(C607,Teilnehmer!$B$3:$C$1002,2,0),\"\")","v":""},null,{"$f":"IFERROR(VLOOKUP(E607,Teilnehmer!$B$3:$C$1002,2,0),\"\")","v":""}]
[null,null,null,{"$f":"IFERROR(VLOOKUP(C608,Teilnehmer!$B$3:$C$1002,2,0),\"\")","v":""},null,{"$f":"IFERROR(VLOOKUP(E608,Teilnehmer!$B$3:$C$1002,2,0),\"\")","v":""}]
[null,null,null,{"$f":"IFERROR(VLOOKUP(C609,Teilnehmer!$B$3:$C$1002,2,0),\"\")","v":""},null,{"$f":"IFERROR(VLOOKUP(E609,Teilnehmer!$B$3:$C$1002,2,0),\"\")","v":""}]
[null,null,null,{"$f":"IFERROR(VLOOKUP(C610,Teilnehmer!$B$3:$C$1002,2,0),\"\")","v":""},null,{"$f":"IFERROR(VLOOKUP(E610,Teilnehmer!$B$3:$C$1002,2,0),\"\")","v":""}]
[null,null,null,{"$f":"IFERROR(VLOOKUP(C611,Teilnehmer!$B$3:$C$1002,2,0),\"\")","v":""},null,{"$f":"IFERROR(VLOOKUP(E611,Teilnehmer!$B$3:$C$1002,2,0),\"\")","v":""}]
[null,null,null,{"$f":"IFERROR(VLOOKUP(C612,Teilnehmer!$B$3:$C$1002,2,0),\"\")","v":""},null,{"$f":"IFERROR(VLOOKUP(E612,Teilnehmer!$B$3:$C$1002,2,0),\"\")","v":""}]
[null,null,null,{"$f":"IFERROR(VLOOKUP(C613,Teilnehmer!$B$3:$C$1002,2,0),\"\")","v":""},null,{"$f":"IFERROR(VLOOKUP(E613,Teilnehmer!$B$3:$C$1002,2,0),\"\")","v":""}]
[null,null,null,{"$f":"IFERROR(VLOOKUP(C614,Teilnehmer!$B$3:$C$1002,2,0),\"\")","v":""},null,{"$f":"IFERROR(VLOOKUP(E614,Teilnehmer!$B$3:$C$1002,2,0),\"\")","v":""}]
[null,null,null,{"$f":"IFERROR(VLOOKUP(C615,Teilnehmer!$B$3:$C$1002,2,0),\"\")","v":""},null,{"$f":"IFERROR(VLOOKUP(E615,Teilnehmer!$B$3:$C$1002,2,0),\"\")","v":""}]
[null,null,null,{"$f":"IFERROR(VLOOKUP(C616,Teilnehmer!$B$3:$C$1002,2,0),\"\")","v":""},null,{"$f":"IFERROR(VLOOKUP(E616,Teilnehmer!$B$3:$C$1002,2,0),\"\")","v":""}]
[null,null,null,{"$f":"IFERROR(VLOOKUP(C617,Teilnehmer!$B$3:$C$1002,2,0),\"\")","v":""},null,{"$f":"IFERROR(VLOOKUP(E617,Teilnehmer!$B$3:$C$1002,2,0),\"\")","v":""}]
[null,null,null,{"$f":"IFERROR(VLOOKUP(C618,Teilnehmer!$B$3:$C$1002,2,0),\"\")","v":""},null,{"$f":"IFERROR(VLOOKUP(E618,Teilnehmer!$B$3:$C$1002,2,0),\"\")","v":""}]
[null,null,null,{"$f":"IFERROR(VLOOKUP(C619,Teilnehmer!$B$3:$C$1002,2,0),\"\")","v":""},null,{"$f":"IFERROR(VLOOKUP(E619,Teilnehmer!$B$3:$C$1002,2,0),\"\")","v":""}]
[null,null,null,{"$f":"IFERROR(VLOOKUP(C620,Teilnehmer!$B$3:$C$1002,2,0),\"\")","v":""},null,{"$f":"IFERROR(VLOOKUP(E620,Teilnehmer!$B$3:$C$1002,2,0),\"\")","v":""}]
[null,null,null,{"$f":"IFERROR(VLOOKUP(C621,Teilnehmer!$B$3:$C$1002,2,0),\"\")","v":""},null,{"$f":"IFERROR(VLOOKUP(E621,Teilnehmer!$B$3:$C$1002,2,0),\"\")","v":""}]
[null,null,null,{"$f":"IFERROR(VLOOKUP(C622,Teilnehmer!$B$3:$C$1002,2,0),\"\")","v":""},null,{"$f":"IFERROR(VLOOKUP(E622,Teilnehmer!$B$3:$C$1002,2,0),\"\")","v":""}]
[null,null,null,{"$f":"IFERROR(VLOOKUP(C623,Teilnehmer!$B$3:$C$1002,2,0),\"\")","v":""},null,{"$f":"IFERROR(VLOOKUP(E623,Teilnehmer!$B$3:$C$1002,2,0),\"\")","v":""}]
[null,null,null,{"$f":"IFERROR(VLOOKUP(C624,Teilnehmer!$B$3:$C$1002,2,0),\"\")","v":""},null,{"$f":"IFERROR(VLOOKUP(E624,Teilnehmer!$B$3:$C$1002,2,0),\"\")","v":""}]
[null,null,null,{"$f":"IFERROR(VLOOKUP(C625,Teilnehmer!$B$3:$C$1002,2,0),\"\")","v":""},null,{"$f":"IFERROR(VLOOKUP(E625,Teilnehmer!$B$3:$C$1002,2,0),\"\")","v":""}]
[null,null,null,{"$f":"IFERROR(VLOOKUP(C626,Teilnehmer!$B$3:$C$1002,2,0),\"\")","v":""},null,{"$f":"IFERROR(VLOOKUP(E626,Teilnehmer!$B$3:$C$1002,2,0),\"\")","v":""}]
[null,null,null,{"$f":"IFERROR(VLOOKUP(C627,Teilnehmer!$B$3:$C$1002,2,0),\"\")","v":""},null,{"$f":"IFERROR(VLOOKUP(E627,Teilnehmer!$B$3:$C$1002,2,0),\"\")","v":""}]
[null,null,null,{"$f":"IFERROR(VLOOKUP(C628,Teilnehmer!$B$3:$C$1002,2,0),\"\")","v":""},null,{"$f":"IFERROR(VLOOKUP(E628,Teilnehmer!$B$3:$C$1002,2,0),\"\")","v":""}]
[null,null,null,{"$f":"IFERROR(VLOOKUP(C629,Teilnehmer!$B$3:$C$1002,2,0),\"\")","v":""},null,{"$f":"IFERROR(VLOOKUP(E629,Teilnehmer!$B$3:$C$1002,2,0),\"\")","v":""}]
[null,null,null,{"$f":"IFERROR(VLOOKUP(C630,Teilnehmer!$B$3:$C$1002,2,0),\"\")","v":""},null,{"$f":"IFERROR(VLOOKUP(E630,Teilnehmer!$B$3:$C$1002,2,0),\"\")","v":""}]
[null,null,null,{"$f":"IFERROR(VLOOKUP(C631,Teilnehmer!$B$3:$C$1002,2,0),\"\")","v":""},null,{"$f":"IFERROR(VLOOKUP(E631,Teilnehmer!$B$3:$C$1002,2,0),\"\")","v":""}]
[null,null,null,{"$f":"IFERROR(VLOOKUP(C632,Teilnehmer!$B$3:$C$1002,2,0),\"\")","v":""},null,{"$f":"IFERROR(VLOOKUP(E632,Teilnehmer!$B$3:$C$1002,2,0),\"\")","v":""}]
[null,null,null,{"$f":"IFERROR(VLOOKUP(C633,Teilnehmer!$B$3:$C$1002,2,0),\"\")","v":""},null,{"$f":"IFERROR(VLOOKUP(E633,Teilnehmer!$B$3:$C$1002,2,0),\"\")","v":""}]
[null,null,null,{"$f":"IFERROR(VLOOKUP(C634,Teilnehmer!$B$3:$C$1002,2,0),\"\")","v":""},null,{"$f":"IFERROR(VLOOKUP(E634,Teilnehmer!$B$3:$C$1002,2,0),\"\")","v":""}]
[null,null,null,{"$f":"IFERROR(VLOOKUP(C635,Teilnehmer!$B$3:$C$1002,2,0),\"\")","v":""},null,{"$f":"IFERROR(VLOOKUP(E635,Teilnehmer!$B$3:$C$1002,2,0),\"\")","v":""}]
[null,null,null,{"$f":"IFERROR(VLOOKUP(C636,Teilnehmer!$B$3:$C$1002,2,0),\"\")","v":""},null,{"$f":"IFERROR(VLOOKUP(E636,Teilnehmer!$B$3:$C$1002,2,0),\"\")","v":""}]
[null,null,null,{"$f":"IFERROR(VLOOKUP(C637,Teilnehmer!$B$3:$C$1002,2,0),\"\")","v":""},null,{"$f":"IFERROR(VLOOKUP(E637,Teilnehmer!$B$3:$C$1002,2,0),\"\")","v":""}]
[null,null,null,{"$f":"IFERROR(VLOOKUP(C638,Teilnehmer!$B$3:$C$1002,2,0),\"\")","v":""},null,{"$f":"IFERROR(VLOOKUP(E638,Teilnehmer!$B$3:$C$1002,2,0),\"\")","v":""}]
[null,null,null,{"$f":"IFERROR(VLOOKUP(C639,Teilnehmer!$B$3:$C$1002,2,0),\"\")","v":""},null,{"$f":"IFERROR(VLOOKUP(E639,Teilnehmer!$B$3:$C$1002,2,0),\"\")","v":""}]
[null,null,null,{"$f":"IFERROR(VLOOKUP(C640,Teilnehmer!$B$3:$C$1002,2,0),\"\")","v":""},null,{"$f":"IFERROR(VLOOKUP(E640,Teilnehmer!$B$3:$C$1002,2,0),\"\")","v":""}]
[null,null,null,{"$f":"IFERROR(VLOOKUP(C641,Teilnehmer!$B$3:$C$1002,2,0),\"\")","v":""},null,{"$f":"IFERROR(VLOOKUP(E641,Teilnehmer!$B$3:$C$1002,2,0),\"\")","v":""}]
[null,null,null,{"$f":"IFERROR(VLOOKUP(C642,Teilnehmer!$B$3:$C$1002,2,0),\"\")","v":""},null,{"$f":"IFERROR(VLOOKUP(E642,Teilnehmer!$B$3:$C$1002,2,0),\"\")","v":""}]
[null,null,null,{"$f":"IFERROR(VLOOKUP(C643,Teilnehmer!$B$3:$C$1002,2,0),\"\")","v":""},null,{"$f":"IFERROR(VLOOKUP(E643,Teilnehmer!$B$3:$C$1002,2,0),\"\")","v":""}]
[null,null,null,{"$f":"IFERROR(VLOOKUP(C644,Teilnehmer!$B$3:$C$1002,2,0),\"\")","v":""},null,{"$f":"IFERROR(VLOOKUP(E644,Teilnehmer!$B$3:$C$1002,2,0),\"\")","v":""}]
[null,null,null,{"$f":"IFERROR(VLOOKUP(C645,Teilnehmer!$B$3:$C$1002,2,0),\"\")","v":""},null,{"$f":"IFERROR(VLOOKUP(E645,Teilnehmer!$B$3:$C$1002,2,0),\"\")","v":""}]
[null,null,null,{"$f":"IFERROR(VLOOKUP(C646,Teilnehmer!$B$3:$C$1002,2,0),\"\")","v":""},null,{"$f":"IFERROR(VLOOKUP(E646,Teilnehmer!$B$3:$C$1002,2,0),\"\")","v":""}]
[null,null,null,{"$f":"IFERROR(VLOOKUP(C647,Teilnehmer!$B$3:$C$1002,2,0),\"\")","v":""},null,{"$f":"IFERROR(VLOOKUP(E647,Teilnehmer!$B$3:$C$1002,2,0),\"\")","v":""}]
[null,null,null,{"$f":"IFERROR(VLOOKUP(C648,Teilnehmer!$B$3:$C$1002,2,0),\"\")","v":""},null,{"$f":"IFERROR(VLOOKUP(E648,Teilnehmer!$B$3:$C$1002,2,0),\"\")","v":""}]
[null,null,null,{"$f":"IFERROR(VLOOKUP(C649,Teilnehmer!$B$3:$C$1002,2,0),\"\")","v":""},null,{"$f":"IFERROR(VLOOKUP(E649,Teilnehmer!$B$3:$C$1002,2,0),\"\")","v":""}]
[null,null,null,{"$f":"IFERROR(VLOOKUP(C650,Teilnehmer!$B$3:$C$1002,2,0),\"\")","v":""},null,{"$f":"IFERROR(VLOOKUP(E650,Teilnehmer!$B$3:$C$1002,2,0),\"\")","v":""}]
[null,null,null,{"$f":"IFERROR(VLOOKUP(C651,Teilnehmer!$B$3:$C$1002,2,0),\"\")","v":""},null,{"$f":"IFERROR(VLOOKUP(E651,Teilnehmer!$B$3:$C$1002,2,0),\"\")","v":""}]
[null,null,null,{"$f":"IFERROR(VLOOKUP(C652,Teilnehmer!$B$3:$C$1002,2,0),\"\")","v":""},null,{"$f":"IFERROR(VLOOKUP(E652,Teilnehmer!$B$3:$C$1002,2,0),\"\")","v":""}]
[null,null,null,{"$f":"IFERROR(VLOOKUP(C653,Teilnehmer!$B$3:$C$1002,2,0),\"\")","v":""},null,{"$f":"IFERROR(VLOOKUP(E653,Teilnehmer!$B$3:$C$1002,2,0),\"\")","v":""}]
[null,null,null,{"$f":"IFERROR(VLOOKUP(C654,Teilnehmer!$B$3:$C$1002,2,0),\"\")","v":""},null,{"$f":"IFERROR(VLOOKUP(E654,Teilnehmer!$B$3:$C$1002,2,0),\"\")","v":""}]
[null,null,null,{"$f":"IFERROR(VLOOKUP(C655,Teilnehmer!$B$3:$C$1002,2,0),\"\")","v":""},null,{"$f":"IFERROR(VLOOKUP(E655,Teilnehmer!$B$3:$C$1002,2,0),\"\")","v":""}]
[null,null,null,{"$f":"IFERROR(VLOOKUP(C656,Teilnehmer!$B$3:$C$1002,2,0),\"\")","v":""},null,{"$f":"IFERROR(VLOOKUP(E656,Teilnehmer!$B$3:$C$1002,2,0),\"\")","v":""}]
[null,null,null,{"$f":"IFERROR(VLOOKUP(C657,Teilnehmer!$B$3:$C$1002,2,0),\"\")","v":""},null,{"$f":"IFERROR(VLOOKUP(E657,Teilnehmer!$B$3:$C$1002,2,0),\"\")","v":""}]
[null,null,null,{"$f":"IFERROR(VLOOKUP(C658,Teilnehmer!$B$3:$C$1002,2,0),\"\")","v":""},null,{"$f":"IFERROR(VLOOKUP(E658,Teilnehmer!$B$3:$C$1002,2,0),\"\")","v":""}]
[null,null,null,{"$f":"IFERROR(VLOOKUP(C659,Teilnehmer!$B$3:$C$1002,2,0),\"\")","v":""},null,{"$f":"IFERROR(VLOOKUP(E659,Teilnehmer!$B$3:$C$1002,2,0),\"\")","v":""}]
[null,null,null,{"$f":"IFERROR(VLOOKUP(C660,Teilnehmer!$B$3:$C$1002,2,0),\"\")","v":""},null,{"$f":"IFERROR(VLOOKUP(E660,Teilnehmer!$B$3:$C$1002,2,0),\"\")","v":""}]
[null,null,null,{"$f":"IFERROR(VLOOKUP(C661,Teilnehmer!$B$3:$C$1002,2,0),\"\")","v":""},null,{"$f":"IFERROR(VLOOKUP(E661,Teilnehmer!$B$3:$C$1002,2,0),\"\")","v":""}]
[null,null,null,{"$f":"IFERROR(VLOOKUP(C662,Teilnehmer!$B$3:$C$1002,2,0),\"\")","v":""},null,{"$f":"IFERROR(VLOOKUP(E662,Teilnehmer!$B$3:$C$1002,2,0),\"\")","v":""}]
[null,null,null,{"$f":"IFERROR(VLOOKUP(C663,Teilnehmer!$B$3:$C$1002,2,0),\"\")","v":""},null,{"$f":"IFERROR(VLOOKUP(E663,Teilnehmer!$B$3:$C$1002,2,0),\"\")","v":""}]
[null,null,null,{"$f":"IFERROR(VLOOKUP(C664,Teilnehmer!$B$3:$C$1002,2,0),\"\")","v":""},null,{"$f":"IFERROR(VLOOKUP(E664,Teilnehmer!$B$3:$C$1002,2,0),\"\")","v":""}]
[null,null,null,{"$f":"IFERROR(VLOOKUP(C665,Teilnehmer!$B$3:$C$1002,2,0),\"\")","v":""},null,{"$f":"IFERROR(VLOOKUP(E665,Teilnehmer!$B$3:$C$1002,2,0),\"\")","v":""}]
[null,null,null,{"$f":"IFERROR(VLOOKUP(C666,Teilnehmer!$B$3:$C$1002,2,0),\"\")","v":""},null,{"$f":"IFERROR(VLOOKUP(E666,Teilnehmer!$B$3:$C$1002,2,0),\"\")","v":""}]
[null,null,null,{"$f":"IFERROR(VLOOKUP(C667,Teilnehmer!$B$3:$C$1002,2,0),\"\")","v":""},null,{"$f":"IFERROR(VLOOKUP(E667,Teilnehmer!$B$3:$C$1002,2,0),\"\")","v":""}]
[null,null,null,{"$f":"IFERROR(VLOOKUP(C668,Teilnehmer!$B$3:$C$1002,2,0),\"\")","v":""},null,{"$f":"IFERROR(VLOOKUP(E668,Teilnehmer!$B$3:$C$1002,2,0),\"\")","v":""}]
[null,null,null,{"$f":"IFERROR(VLOOKUP(C669,Teilnehmer!$B$3:$C$1002,2,0),\"\")","v":""},null,{"$f":"IFERROR(VLOOKUP(E669,Teilnehmer!$B$3:$C$1002,2,0),\"\")","v":""}]
[null,null,null,{"$f":"IFERROR(VLOOKUP(C670,Teilnehmer!$B$3:$C$1002,2,0),\"\")","v":""},null,{"$f":"IFERROR(VLOOKUP(E670,Teilnehmer!$B$3:$C$1002,2,0),\"\")","v":""}]
[null,null,null,{"$f":"IFERROR(VLOOKUP(C671,Teilnehmer!$B$3:$C$1002,2,0),\"\")","v":""},null,{"$f":"IFERROR(VLOOKUP(E671,Teilnehmer!$B$3:$C$1002,2,0),\"\")","v":""}]
[null,null,null,{"$f":"IFERROR(VLOOKUP(C672,Teilnehmer!$B$3:$C$1002,2,0),\"\")","v":""},null,{"$f":"IFERROR(VLOOKUP(E672,Teilnehmer!$B$3:$C$1002,2,0),\"\")","v":""}]
[null,null,null,{"$f":"IFERROR(VLOOKUP(C673,Teilnehmer!$B$3:$C$1002,2,0),\"\")","v":""},null,{"$f":"IFERROR(VLOOKUP(E673,Teilnehmer!$B$3:$C$1002,2,0),\"\")","v":""}]
[null,null,null,{"$f":"IFERROR(VLOOKUP(C674,Teilnehmer!$B$3:$C$1002,2,0),\"\")","v":""},null,{"$f":"IFERROR(VLOOKUP(E674,Teilnehmer!$B$3:$C$1002,2,0),\"\")","v":""}]
[null,null,null,{"$f":"IFERROR(VLOOKUP(C675,Teilnehmer!$B$3:$C$1002,2,0),\"\")","v":""},null,{"$f":"IFERROR(VLOOKUP(E675,Teilnehmer!$B$3:$C$1002,2,0),\"\")","v":""}]
[null,null,null,{"$f":"IFERROR(VLOOKUP(C676,Teilnehmer!$B$3:$C$1002,2,0),\"\")","v":""},null,{"$f":"IFERROR(VLOOKUP(E676,Teilnehmer!$B$3:$C$1002,2,0),\"\")","v":""}]
[null,null,null,{"$f":"IFERROR(VLOOKUP(C677,Teilnehmer!$B$3:$C$1002,2,0),\"\")","v":""},null,{"$f":"IFERROR(VLOOKUP(E677,Teilnehmer!$B$3:$C$1002,2,0),\"\")","v":""}]
[null,null,null,{"$f":"IFERROR(VLOOKUP(C678,Teilnehmer!$B$3:$C$1002,2,0),\"\")","v":""},null,{"$f":"IFERROR(VLOOKUP(E678,Teilnehmer!$B$3:$C$1002,2,0),\"\")","v":""}]
[null,null,null,{"$f":"IFERROR(VLOOKUP(C679,Teilnehmer!$B$3:$C$1002,2,0),\"\")","v":""},null,{"$f":"IFERROR(VLOOKUP(E679,Teilnehmer!$B$3:$C$1002,2,0),\"\")","v":""}]
[null,null,null,{"$f":"IFERROR(VLOOKUP(C680,Teilnehmer!$B$3:$C$1002,2,0),\"\")","v":""},null,{"$f":"IFERROR(VLOOKUP(E680,Teilnehmer!$B$3:$C$1002,2,0),\"\")","v":""}]
[null,null,null,{"$f":"IFERROR(VLOOKUP(C681,Teilnehmer!$B$3:$C$1002,2,0),\"\")","v":""},null,{"$f":"IFERROR(VLOOKUP(E681,Teilnehmer!$B$3:$C$1002,2,0),\"\")","v":""}]
[null,null,null,{"$f":"IFERROR(VLOOKUP(C682,Teilnehmer!$B$3:$C$1002,2,0),\"\")","v":""},null,{"$f":"IFERROR(VLOOKUP(E682,Teilnehmer!$B$3:$C$1002,2,0),\"\")","v":""}]
[null,null,null,{"$f":"IFERROR(VLOOKUP(C683,Teilnehmer!$B$3:$C$1002,2,0),\"\")","v":""},null,{"$f":"IFERROR(VLOOKUP(E683,Teilnehmer!$B$3:$C$1002,2,0),\"\")","v":""}]
[null,null,null,{"$f":"IFERROR(VLOOKUP(C684,Teilnehmer!$B$3:$C$1002,2,0),\"\")","v":""},null,{"$f":"IFERROR(VLOOKUP(E684,Teilnehmer!$B$3:$C$1002,2,0),\"\")","v":""}]
[null,null,null,{"$f":"IFERROR(VLOOKUP(C685,Teilnehmer!$B$3:$C$1002,2,0),\"\")","v":""},null,{"$f":"IFERROR(VLOOKUP(E685,Teilnehmer!$B$3:$C$1002,2,0),\"\")","v":""}]
[null,null,null,{"$f":"IFERROR(VLOOKUP(C686,Teilnehmer!$B$3:$C$1002,2,0),\"\")","v":""},null,{"$f":"IFERROR(VLOOKUP(E686,Teilnehmer!$B$3:$C$1002,2,0),\"\")","v":""}]
[null,null,null,{"$f":"IFERROR(VLOOKUP(C687,Teilnehmer!$B$3:$C$1002,2,0),\"\")","v":""},null,{"$f":"IFERROR(VLOOKUP(E687,Teilnehmer!$B$3:$C$1002,2,0),\"\")","v":""}]
[null,null,null,{"$f":"IFERROR(VLOOKUP(C688,Teilnehmer!$B$3:$C$1002,2,0),\"\")","v":""},null,{"$f":"IFERROR(VLOOKUP(E688,Teilnehmer!$B$3:$C$1002,2,0),\"\")","v":""}]
[null,null,null,{"$f":"IFERROR(VLOOKUP(C689,Teilnehmer!$B$3:$C$1002,2,0),\"\")","v":""},null,{"$f":"IFERROR(VLOOKUP(E689,Teilnehmer!$B$3:$C$1002,2,0),\"\")","v":""}]
[null,null,null,{"$f":"IFERROR(VLOOKUP(C690,Teilnehmer!$B$3:$C$1002,2,0),\"\")","v":""},null,{"$f":"IFERROR(VLOOKUP(E690,Teilnehmer!$B$3:$C$1002,2,0),\"\")","v":""}]
[null,null,null,{"$f":"IFERROR(VLOOKUP(C691,Teilnehmer!$B$3:$C$1002,2,0),\"\")","v":""},null,{"$f":"IFERROR(VLOOKUP(E691,Teilnehmer!$B$3:$C$1002,2,0),\"\")","v":""}]
[null,null,null,{"$f":"IFERROR(VLOOKUP(C692,Teilnehmer!$B$3:$C$1002,2,0),\"\")","v":""},null,{"$f":"IFERROR(VLOOKUP(E692,Teilnehmer!$B$3:$C$1002,2,0),\"\")","v":""}]
[null,null,null,{"$f":"IFERROR(VLOOKUP(C693,Teilnehmer!$B$3:$C$1002,2,0),\"\")","v":""},null,{"$f":"IFERROR(VLOOKUP(E693,Teilnehmer!$B$3:$C$1002,2,0),\"\")","v":""}]
[null,null,null,{"$f":"IFERROR(VLOOKUP(C694,Teilnehmer!$B$3:$C$1002,2,0),\"\")","v":""},null,{"$f":"IFERROR(VLOOKUP(E694,Teilnehmer!$B$3:$C$1002,2,0),\"\")","v":""}]
[null,null,null,{"$f":"IFERROR(VLOOKUP(C695,Teilnehmer!$B$3:$C$1002,2,0),\"\")","v":""},null,{"$f":"IFERROR(VLOOKUP(E695,Teilnehmer!$B$3:$C$1002,2,0),\"\")","v":""}]
[null,null,null,{"$f":"IFERROR(VLOOKUP(C696,Teilnehmer!$B$3:$C$1002,2,0),\"\")","v":""},null,{"$f":"IFERROR(VLOOKUP(E696,Teilnehmer!$B$3:$C$1002,2,0),\"\")","v":""}]
[null,null,null,{"$f":"IFERROR(VLOOKUP(C697,Teilnehmer!$B$3:$C$1002,2,0),\"\")","v":""},null,{"$f":"IFERROR(VLOOKUP(E697,Teilnehmer!$B$3:$C$1002,2,0),\"\")","v":""}]
[null,null,null,{"$f":"IFERROR(VLOOKUP(C698,Teilnehmer!$B$3:$C$1002,2,0),\"\")","v":""},null,{"$f":"IFERROR(VLOOKUP(E698,Teilnehmer!$B$3:$C$1002,2,0),\"\")","v":""}]
[null,null,null,{"$f":"IFERROR(VLOOKUP(C699,Teilnehmer!$B$3:$C$1002,2,0),\"\")","v":""},null,{"$f":"IFERROR(VLOOKUP(E699,Teilnehmer!$B$3:$C$1002,2,0),\"\")","v":""}]
[null,null,null,{"$f":"IFERROR(VLOOKUP(C700,Teilnehmer!$B$3:$C$1002,2,0),\"\")","v":""},null,{"$f":"IFERROR(VLOOKUP(E700,Teilnehmer!$B$3:$C$1002,2,0),\"\")","v":""}]
[null,null,null,{"$f":"IFERROR(VLOOKUP(C701,Teilnehmer!$B$3:$C$1002,2,0),\"\")","v":""},null,{"$f":"IFERROR(VLOOKUP(E701,Teilnehmer!$B$3:$C$1002,2,0),\"\")","v":""}]
[null,null,null,{"$f":"IFERROR(VLOOKUP(C702,Teilnehmer!$B$3:$C$1002,2,0),\"\")","v":""},null,{"$f":"IFERROR(VLOOKUP(E702,Teilnehmer!$B$3:$C$1002,2,0),\"\")","v":""}]
[null,null,null,{"$f":"IFERROR(VLOOKUP(C703,Teilnehmer!$B$3:$C$1002,2,0),\"\")","v":""},null,{"$f":"IFERROR(VLOOKUP(E703,Teilnehmer!$B$3:$C$1002,2,0),\"\")","v":""}]
[null,null,null,{"$f":"IFERROR(VLOOKUP(C704,Teilnehmer!$B$3:$C$1002,2,0),\"\")","v":""},null,{"$f":"IFERROR(VLOOKUP(E704,Teilnehmer!$B$3:$C$1002,2,0),\"\")","v":""}]
[null,null,null,{"$f":"IFERROR(VLOOKUP(C705,Teilnehmer!$B$3:$C$1002,2,0),\"\")","v":""},null,{"$f":"IFERROR(VLOOKUP(E705,Teilnehmer!$B$3:$C$1002,2,0),\"\")","v":""}]
[null,null,null,{"$f":"IFERROR(VLOOKUP(C706,Teilnehmer!$B$3:$C$1002,2,0),\"\")","v":""},null,{"$f":"IFERROR(VLOOKUP(E706,Teilnehmer!$B$3:$C$1002,2,0),\"\")","v":""}]
[null,null,null,{"$f":"IFERROR(VLOOKUP(C707,Teilnehmer!$B$3:$C$1002,2,0),\"\")","v":""},null,{"$f":"IFERROR(VLOOKUP(E707,Teilnehmer!$B$3:$C$1002,2,0),\"\")","v":""}]
[null,null,null,{"$f":"IFERROR(VLOOKUP(C708,Teilnehmer!$B$3:$C$1002,2,0),\"\")","v":""},null,{"$f":"IFERROR(VLOOKUP(E708,Teilnehmer!$B$3:$C$1002,2,0),\"\")","v":""}]
[null,null,null,{"$f":"IFERROR(VLOOKUP(C709,Teilnehmer!$B$3:$C$1002,2,0),\"\")","v":""},null,{"$f":"IFERROR(VLOOKUP(E709,Teilnehmer!$B$3:$C$1002,2,0),\"\")","v":""}]
[null,null,null,{"$f":"IFERROR(VLOOKUP(C710,Teilnehmer!$B$3:$C$1002,2,0),\"\")","v":""},null,{"$f":"IFERROR(VLOOKUP(E710,Teilnehmer!$B$3:$C$1002,2,0),\"\")","v":""}]
[null,null,null,{"$f":"IFERROR(VLOOKUP(C711,Teilnehmer!$B$3:$C$1002,2,0),\"\")","v":""},null,{"$f":"IFERROR(VLOOKUP(E711,Teilnehmer!$B$3:$C$1002,2,0),\"\")","v":""}]
[null,null,null,{"$f":"IFERROR(VLOOKUP(C712,Teilnehmer!$B$3:$C$1002,2,0),\"\")","v":""},null,{"$f":"IFERROR(VLOOKUP(E712,Teilnehmer!$B$3:$C$1002,2,0),\"\")","v":""}]
[null,null,null,{"$f":"IFERROR(VLOOKUP(C713,Teilnehmer!$B$3:$C$1002,2,0),\"\")","v":""},null,{"$f":"IFERROR(VLOOKUP(E713,Teilnehmer!$B$3:$C$1002,2,0),\"\")","v":""}]
[null,null,null,{"$f":"IFERROR(VLOOKUP(C714,Teilnehmer!$B$3:$C$1002,2,0),\"\")","v":""},null,{"$f":"IFERROR(VLOOKUP(E714,Teilnehmer!$B$3:$C$1002,2,0),\"\")","v":""}]
[null,null,null,{"$f":"IFERROR(VLOOKUP(C715,Teilnehmer!$B$3:$C$1002,2,0),\"\")","v":""},null,{"$f":"IFERROR(VLOOKUP(E715,Teilnehmer!$B$3:$C$1002,2,0),\"\")","v":""}]
[null,null,null,{"$f":"IFERROR(VLOOKUP(C716,Teilnehmer!$B$3:$C$1002,2,0),\"\")","v":""},null,{"$f":"IFERROR(VLOOKUP(E716,Teilnehmer!$B$3:$C$1002,2,0),\"\")","v":""}]
[null,null,null,{"$f":"IFERROR(VLOOKUP(C717,Teilnehmer!$B$3:$C$1002,2,0),\"\")","v":""},null,{"$f":"IFERROR(VLOOKUP(E717,Teilnehmer!$B$3:$C$1002,2,0),\"\")","v":""}]
[null,null,null,{"$f":"IFERROR(VLOOKUP(C718,Teilnehmer!$B$3:$C$1002,2,0),\"\")","v":""},null,{"$f":"IFERROR(VLOOKUP(E718,Teilnehmer!$B$3:$C$1002,2,0),\"\")","v":""}]
[null,null,null,{"$f":"IFERROR(VLOOKUP(C719,Teilnehmer!$B$3:$C$1002,2,0),\"\")","v":""},null,{"$f":"IFERROR(VLOOKUP(E719,Teilnehmer!$B$3:$C$1002,2,0),\"\")","v":""}]
[null,null,null,{"$f":"IFERROR(VLOOKUP(C720,Teilnehmer!$B$3:$C$1002,2,0),\"\")","v":""},null,{"$f":"IFERROR(VLOOKUP(E720,Teilnehmer!$B$3:$C$1002,2,0),\"\")","v":""}]
[null,null,null,{"$f":"IFERROR(VLOOKUP(C721,Teilnehmer!$B$3:$C$1002,2,0),\"\")","v":""},null,{"$f":"IFERROR(VLOOKUP(E721,Teilnehmer!$B$3:$C$1002,2,0),\"\")","v":""}]
[null,null,null,{"$f":"IFERROR(VLOOKUP(C722,Teilnehmer!$B$3:$C$1002,2,0),\"\")","v":""},null,{"$f":"IFERROR(VLOOKUP(E722,Teilnehmer!$B$3:$C$1002,2,0),\"\")","v":""}]
[null,null,null,{"$f":"IFERROR(VLOOKUP(C723,Teilnehmer!$B$3:$C$1002,2,0),\"\")","v":""},null,{"$f":"IFERROR(VLOOKUP(E723,Teilnehmer!$B$3:$C$1002,2,0),\"\")","v":""}]
[null,null,null,{"$f":"IFERROR(VLOOKUP(C724,Teilnehmer!$B$3:$C$1002,2,0),\"\")","v":""},null,{"$f":"IFERROR(VLOOKUP(E724,Teilnehmer!$B$3:$C$1002,2,0),\"\")","v":""}]
[null,null,null,{"$f":"IFERROR(VLOOKUP(C725,Teilnehmer!$B$3:$C$1002,2,0),\"\")","v":""},null,{"$f":"IFERROR(VLOOKUP(E725,Teilnehmer!$B$3:$C$1002,2,0),\"\")","v":""}]
[null,null,null,{"$f":"IFERROR(VLOOKUP(C726,Teilnehmer!$B$3:$C$1002,2,0),\"\")","v":""},null,{"$f":"IFERROR(VLOOKUP(E726,Teilnehmer!$B$3:$C$1002,2,0),\"\")","v":""}]
[null,null,null,{"$f":"IFERROR(VLOOKUP(C727,Teilnehmer!$B$3:$C$1002,2,0),\"\")","v":""},null,{"$f":"IFERROR(VLOOKUP(E727,Teilnehmer!$B$3:$C$1002,2,0),\"\")","v":""}]
[null,null,null,{"$f":"IFERROR(VLOOKUP(C728,Teilnehmer!$B$3:$C$1002,2,0),\"\")","v":""},null,{"$f":"IFERROR(VLOOKUP(E728,Teilnehmer!$B$3:$C$1002,2,0),\"\")","v":""}]
[null,null,null,{"$f":"IFERROR(VLOOKUP(C729,Teilnehmer!$B$3:$C$1002,2,0),\"\")","v":""},null,{"$f":"IFERROR(VLOOKUP(E729,Teilnehmer!$B$3:$C$1002,2,0),\"\")","v":""}]
[null,null,null,{"$f":"IFERROR(VLOOKUP(C730,Teilnehmer!$B$3:$C$1002,2,0),\"\")","v":""},null,{"$f":"IFERROR(VLOOKUP(E730,Teilnehmer!$B$3:$C$1002,2,0),\"\")","v":""}]
[null,null,null,{"$f":"IFERROR(VLOOKUP(C731,Teilnehmer!$B$3:$C$1002,2,0),\"\")","v":""},null,{"$f":"IFERROR(VLOOKUP(E731,Teilnehmer!$B$3:$C$1002,2,0),\"\")","v":""}]
[null,null,null,{"$f":"IFERROR(VLOOKUP(C732,Teilnehmer!$B$3:$C$1002,2,0),\"\")","v":""},null,{"$f":"IFERROR(VLOOKUP(E732,Teilnehmer!$B$3:$C$1002,2,0),\"\")","v":""}]
[null,null,null,{"$f":"IFERROR(VLOOKUP(C733,Teilnehmer!$B$3:$C$1002,2,0),\"\")","v":""},null,{"$f":"IFERROR(VLOOKUP(E733,Teilnehmer!$B$3:$C$1002,2,0),\"\")","v":""}]
[null,null,null,{"$f":"IFERROR(VLOOKUP(C734,Teilnehmer!$B$3:$C$1002,2,0),\"\")","v":""},null,{"$f":"IFERROR(VLOOKUP(E734,Teilnehmer!$B$3:$C$1002,2,0),\"\")","v":""}]
[null,null,null,{"$f":"IFERROR(VLOOKUP(C735,Teilnehmer!$B$3:$C$1002,2,0),\"\")","v":""},null,{"$f":"IFERROR(VLOOKUP(E735,Teilnehmer!$B$3:$C$1002,2,0),\"\")","v":""}]
[null,null,null,{"$f":"IFERROR(VLOOKUP(C736,Teilnehmer!$B$3:$C$1002,2,0),\"\")","v":""},null,{"$f":"IFERROR(VLOOKUP(E736,Teilnehmer!$B$3:$C$1002,2,0),\"\")","v":""}]
[null,null,null,{"$f":"IFERROR(VLOOKUP(C737,Teilnehmer!$B$3:$C$1002,2,0),\"\")","v":""},null,{"$f":"IFERROR(VLOOKUP(E737,Teilnehmer!$B$3:$C$1002,2,0),\"\")","v":""}]
[null,null,null,{"$f":"IFERROR(VLOOKUP(C738,Teilnehmer!$B$3:$C$1002,2,0),\"\")","v":""},null,{"$f":"IFERROR(VLOOKUP(E738,Teilnehmer!$B$3:$C$1002,2,0),\"\")","v":""}]
[null,null,null,{"$f":"IFERROR(VLOOKUP(C739,Teilnehmer!$B$3:$C$1002,2,0),\"\")","v":""},null,{"$f":"IFERROR(VLOOKUP(E739,Teilnehmer!$B$3:$C$1002,2,0),\"\")","v":""}]
[null,null,null,{"$f":"IFERROR(VLOOKUP(C740,Teilnehmer!$B$3:$C$1002,2,0),\"\")","v":""},null,{"$f":"IFERROR(VLOOKUP(E740,Teilnehmer!$B$3:$C$1002,2,0),\"\")","v":""}]
[null,null,null,{"$f":"IFERROR(VLOOKUP(C741,Teilnehmer!$B$3:$C$1002,2,0),\"\")","v":""},null,{"$f":"IFERROR(VLOOKUP(E741,Teilnehmer!$B$3:$C$1002,2,0),\"\")","v":""}]
[null,null,null,{"$f":"IFERROR(VLOOKUP(C742,Teilnehmer!$B$3:$C$1002,2,0),\"\")","v":""},null,{"$f":"IFERROR(VLOOKUP(E742,Teilnehmer!$B$3:$C$1002,2,0),\"\")","v":""}]
[null,null,null,{"$f":"IFERROR(VLOOKUP(C743,Teilnehmer!$B$3:$C$1002,2,0),\"\")","v":""},null,{"$f":"IFERROR(VLOOKUP(E743,Teilnehmer!$B$3:$C$1002,2,0),\"\")","v":""}]
[null,null,null,{"$f":"IFERROR(VLOOKUP(C744,Teilnehmer!$B$3:$C$1002,2,0),\"\")","v":""},null,{"$f":"IFERROR(VLOOKUP(E744,Teilnehmer!$B$3:$C$1002,2,0),\"\")","v":""}]
[null,null,null,{"$f":"IFERROR(VLOOKUP(C745,Teilnehmer!$B$3:$C$1002,2,0),\"\")","v":""},null,{"$f":"IFERROR(VLOOKUP(E745,Teilnehmer!$B$3:$C$1002,2,0),\"\")","v":""}]
[null,null,null,{"$f":"IFERROR(VLOOKUP(C746,Teilnehmer!$B$3:$C$1002,2,0),\"\")","v":""},null,{"$f":"IFERROR(VLOOKUP(E746,Teilnehmer!$B$3:$C$1002,2,0),\"\")","v":""}]
[null,null,null,{"$f":"IFERROR(VLOOKUP(C747,Teilnehmer!$B$3:$C$1002,2,0),\"\")","v":""},null,{"$f":"IFERROR(VLOOKUP(E747,Teilnehmer!$B$3:$C$1002,2,0),\"\")","v":""}]
[null,null,null,{"$f":"IFERROR(VLOOKUP(C748,Teilnehmer!$B$3:$C$1002,2,0),\"\")","v":""},null,{"$f":"IFERROR(VLOOKUP(E748,Teilnehmer!$B$3:$C$1002,2,0),\"\")","v":""}]
[null,null,null,{"$f":"IFERROR(VLOOKUP(C749,Teilnehmer!$B$3:$C$1002,2,0),\"\")","v":""},null,{"$f":"IFERROR(VLOOKUP(E749,Teilnehmer!$B$3:$C$1002,2,0),\"\")","v":""}]
[null,null,null,{"$f":"IFERROR(VLOOKUP(C750,Teilnehmer!$B$3:$C$1002,2,0),\"\")","v":""},null,{"$f":"IFERROR(VLOOKUP(E750,Teilnehmer!$B$3:$C$1002,2,0),\"\")","v":""}]
[null,null,null,{"$f":"IFERROR(VLOOKUP(C751,Teilnehmer!$B$3:$C$1002,2,0),\"\")","v":""},null,{"$f":"IFERROR(VLOOKUP(E751,Teilnehmer!$B$3:$C$1002,2,0),\"\")","v":""}]
[null,null,null,{"$f":"IFERROR(VLOOKUP(C752,Teilnehmer!$B$3:$C$1002,2,0),\"\")","v":""},null,{"$f":"IFERROR(VLOOKUP(E752,Teilnehmer!$B$3:$C$1002,2,0),\"\")","v":""}]
[null,null,null,{"$f":"IFERROR(VLOOKUP(C753,Teilnehmer!$B$3:$C$1002,2,0),\"\")","v":""},null,{"$f":"IFERROR(VLOOKUP(E753,Teilnehmer!$B$3:$C$1002,2,0),\"\")","v":""}]
[null,null,null,{"$f":"IFERROR(VLOOKUP(C754,Teilnehmer!$B$3:$C$1002,2,0),\"\")","v":""},null,{"$f":"IFERROR(VLOOKUP(E754,Teilnehmer!$B$3:$C$1002,2,0),\"\")","v":""}]
[null,null,null,{"$f":"IFERROR(VLOOKUP(C755,Teilnehmer!$B$3:$C$1002,2,0),\"\")","v":""},null,{"$f":"IFERROR(VLOOKUP(E755,Teilnehmer!$B$3:$C$1002,2,0),\"\")","v":""}]
[null,null,null,{"$f":"IFERROR(VLOOKUP(C756,Teilnehmer!$B$3:$C$1002,2,0),\"\")","v":""},null,{"$f":"IFERROR(VLOOKUP(E756,Teilnehmer!$B$3:$C$1002,2,0),\"\")","v":""}]
[null,null,null,{"$f":"IFERROR(VLOOKUP(C757,Teilnehmer!$B$3:$C$1002,2,0),\"\")","v":""},null,{"$f":"IFERROR(VLOOKUP(E757,Teilnehmer!$B$3:$C$1002,2,0),\"\")","v":""}]
[null,null,null,{"$f":"IFERROR(VLOOKUP(C758,Teilnehmer!$B$3:$C$1002,2,0),\"\")","v":""},null,{"$f":"IFERROR(VLOOKUP(E758,Teilnehmer!$B$3:$C$1002,2,0),\"\")","v":""}]
[null,null,null,{"$f":"IFERROR(VLOOKUP(C759,Teilnehmer!$B$3:$C$1002,2,0),\"\")","v":""},null,{"$f":"IFERROR(VLOOKUP(E759,Teilnehmer!$B$3:$C$1002,2,0),\"\")","v":""}]
[null,null,null,{"$f":"IFERROR(VLOOKUP(C760,Teilnehmer!$B$3:$C$1002,2,0),\"\")","v":""},null,{"$f":"IFERROR(VLOOKUP(E760,Teilnehmer!$B$3:$C$1002,2,0),\"\")","v":""}]
[null,null,null,{"$f":"IFERROR(VLOOKUP(C761,Teilnehmer!$B$3:$C$1002,2,0),\"\")","v":""},null,{"$f":"IFERROR(VLOOKUP(E761,Teilnehmer!$B$3:$C$1002,2,0),\"\")","v":""}]
[null,null,null,{"$f":"IFERROR(VLOOKUP(C762,Teilnehmer!$B$3:$C$1002,2,0),\"\")","v":""},null,{"$f":"IFERROR(VLOOKUP(E762,Teilnehmer!$B$3:$C$1002,2,0),\"\")","v":""}]
[null,null,null,{"$f":"IFERROR(VLOOKUP(C763,Teilnehmer!$B$3:$C$1002,2,0),\"\")","v":""},null,{"$f":"IFERROR(VLOOKUP(E763,Teilnehmer!$B$3:$C$1002,2,0),\"\")","v":""}]
[null,null,null,{"$f":"IFERROR(VLOOKUP(C764,Teilnehmer!$B$3:$C$1002,2,0),\"\")","v":""},null,{"$f":"IFERROR(VLOOKUP(E764,Teilnehmer!$B$3:$C$1002,2,0),\"\")","v":""}]
[null,null,null,{"$f":"IFERROR(VLOOKUP(C765,Teilnehmer!$B$3:$C$1002,2,0),\"\")","v":""},null,{"$f":"IFERROR(VLOOKUP(E765,Teilnehmer!$B$3:$C$1002,2,0),\"\")","v":""}]
[null,null,null,{"$f":"IFERROR(VLOOKUP(C766,Teilnehmer!$B$3:$C$1002,2,0),\"\")","v":""},null,{"$f":"IFERROR(VLOOKUP(E766,Teilnehmer!$B$3:$C$1002,2,0),\"\")","v":""}]
[null,null,null,{"$f":"IFERROR(VLOOKUP(C767,Teilnehmer!$B$3:$C$1002,2,0),\"\")","v":""},null,{"$f":"IFERROR(VLOOKUP(E767,Teilnehmer!$B$3:$C$1002,2,0),\"\")","v":""}]
[null,null,null,{"$f":"IFERROR(VLOOKUP(C768,Teilnehmer!$B$3:$C$1002,2,0),\"\")","v":""},null,{"$f":"IFERROR(VLOOKUP(E768,Teilnehmer!$B$3:$C$1002,2,0),\"\")","v":""}]
[null,null,null,{"$f":"IFERROR(VLOOKUP(C769,Teilnehmer!$B$3:$C$1002,2,0),\"\")","v":""},null,{"$f":"IFERROR(VLOOKUP(E769,Teilnehmer!$B$3:$C$1002,2,0),\"\")","v":""}]
[null,null,null,{"$f":"IFERROR(VLOOKUP(C770,Teilnehmer!$B$3:$C$1002,2,0),\"\")","v":""},null,{"$f":"IFERROR(VLOOKUP(E770,Teilnehmer!$B$3:$C$1002,2,0),\"\")","v":""}]
[null,null,null,{"$f":"IFERROR(VLOOKUP(C771,Teilnehmer!$B$3:$C$1002,2,0),\"\")","v":""},null,{"$f":"IFERROR(VLOOKUP(E771,Teilnehmer!$B$3:$C$1002,2,0),\"\")","v":""}]
[null,null,null,{"$f":"IFERROR(VLOOKUP(C772,Teilnehmer!$B$3:$C$1002,2,0),\"\")","v":""},null,{"$f":"IFERROR(VLOOKUP(E772,Teilnehmer!$B$3:$C$1002,2,0),\"\")","v":""}]
[null,null,null,{"$f":"IFERROR(VLOOKUP(C773,Teilnehmer!$B$3:$C$1002,2,0),\"\")","v":""},null,{"$f":"IFERROR(VLOOKUP(E773,Teilnehmer!$B$3:$C$1002,2,0),\"\")","v":""}]
[null,null,null,{"$f":"IFERROR(VLOOKUP(C774,Teilnehmer!$B$3:$C$1002,2,0),\"\")","v":""},null,{"$f":"IFERROR(VLOOKUP(E774,Teilnehmer!$B$3:$C$1002,2,0),\"\")","v":""}]
[null,null,null,{"$f":"IFERROR(VLOOKUP(C775,Teilnehmer!$B$3:$C$1002,2,0),\"\")","v":""},null,{"$f":"IFERROR(VLOOKUP(E775,Teilnehmer!$B$3:$C$1002,2,0),\"\")","v":""}]
[null,null,null,{"$f":"IFERROR(VLOOKUP(C776,Teilnehmer!$B$3:$C$1002,2,0),\"\")","v":""},null,{"$f":"IFERROR(VLOOKUP(E776,Teilnehmer!$B$3:$C$1002,2,0),\"\")","v":""}]
[null,null,null,{"$f":"IFERROR(VLOOKUP(C777,Teilnehmer!$B$3:$C$1002,2,0),\"\")","v":""},null,{"$f":"IFERROR(VLOOKUP(E777,Teilnehmer!$B$3:$C$1002,2,0),\"\")","v":""}]
[null,null,null,{"$f":"IFERROR(VLOOKUP(C778,Teilnehmer!$B$3:$C$1002,2,0),\"\")","v":""},null,{"$f":"IFERROR(VLOOKUP(E778,Teilnehmer!$B$3:$C$1002,2,0),\"\")","v":""}]
[null,null,null,{"$f":"IFERROR(VLOOKUP(C779,Teilnehmer!$B$3:$C$1002,2,0),\"\")","v":""},null,{"$f":"IFERROR(VLOOKUP(E779,Teilnehmer!$B$3:$C$1002,2,0),\"\")","v":""}]
[null,null,null,{"$f":"IFERROR(VLOOKUP(C780,Teilnehmer!$B$3:$C$1002,2,0),\"\")","v":""},null,{"$f":"IFERROR(VLOOKUP(E780,Teilnehmer!$B$3:$C$1002,2,0),\"\")","v":""}]
[null,null,null,{"$f":"IFERROR(VLOOKUP(C781,Teilnehmer!$B$3:$C$1002,2,0),\"\")","v":""},null,{"$f":"IFERROR(VLOOKUP(E781,Teilnehmer!$B$3:$C$1002,2,0),\"\")","v":""}]
[null,null,null,{"$f":"IFERROR(VLOOKUP(C782,Teilnehmer!$B$3:$C$1002,2,0),\"\")","v":""},null,{"$f":"IFERROR(VLOOKUP(E782,Teilnehmer!$B$3:$C$1002,2,0),\"\")","v":""}]
[null,null,null,{"$f":"IFERROR(VLOOKUP(C783,Teilnehmer!$B$3:$C$1002,2,0),\"\")","v":""},null,{"$f":"IFERROR(VLOOKUP(E783,Teilnehmer!$B$3:$C$1002,2,0),\"\")","v":""}]
[null,null,null,{"$f":"IFERROR(VLOOKUP(C784,Teilnehmer!$B$3:$C$1002,2,0),\"\")","v":""},null,{"$f":"IFERROR(VLOOKUP(E784,Teilnehmer!$B$3:$C$1002,2,0),\"\")","v":""}]
[null,null,null,{"$f":"IFERROR(VLOOKUP(C785,Teilnehmer!$B$3:$C$1002,2,0),\"\")","v":""},null,{"$f":"IFERROR(VLOOKUP(E785,Teilnehmer!$B$3:$C$1002,2,0),\"\")","v":""}]
[null,null,null,{"$f":"IFERROR(VLOOKUP(C786,Teilnehmer!$B$3:$C$1002,2,0),\"\")","v":""},null,{"$f":"IFERROR(VLOOKUP(E786,Teilnehmer!$B$3:$C$1002,2,0),\"\")","v":""}]
[null,null,null,{"$f":"IFERROR(VLOOKUP(C787,Teilnehmer!$B$3:$C$1002,2,0),\"\")","v":""},null,{"$f":"IFERROR(VLOOKUP(E787,Teilnehmer!$B$3:$C$1002,2,0),\"\")","v":""}]
[null,null,null,{"$f":"IFERROR(VLOOKUP(C788,Teilnehmer!$B$3:$C$1002,2,0),\"\")","v":""},null,{"$f":"IFERROR(VLOOKUP(E788,Teilnehmer!$B$3:$C$1002,2,0),\"\")","v":""}]
[null,null,null,{"$f":"IFERROR(VLOOKUP(C789,Teilnehmer!$B$3:$C$1002,2,0),\"\")","v":""},null,{"$f":"IFERROR(VLOOKUP(E789,Teilnehmer!$B$3:$C$1002,2,0),\"\")","v":""}]
[null,null,null,{"$f":"IFERROR(VLOOKUP(C790,Teilnehmer!$B$3:$C$1002,2,0),\"\")","v":""},null,{"$f":"IFERROR(VLOOKUP(E790,Teilnehmer!$B$3:$C$1002,2,0),\"\")","v":""}]
[null,null,null,{"$f":"IFERROR(VLOOKUP(C791,Teilnehmer!$B$3:$C$1002,2,0),\"\")","v":""},null,{"$f":"IFERROR(VLOOKUP(E791,Teilnehmer!$B$3:$C$1002,2,0),\"\")","v":""}]
[null,null,null,{"$f":"IFERROR(VLOOKUP(C792,Teilnehmer!$B$3:$C$1002,2,0),\"\")","v":""},null,{"$f":"IFERROR(VLOOKUP(E792,Teilnehmer!$B$3:$C$1002,2,0),\"\")","v":""}]
[null,null,null,{"$f":"IFERROR(VLOOKUP(C793,Teilnehmer!$B$3:$C$1002,2,0),\"\")","v":""},null,{"$f":"IFERROR(VLOOKUP(E793,Teilnehmer!$B$3:$C$1002,2,0),\"\")","v":""}]
[null,null,null,{"$f":"IFERROR(VLOOKUP(C794,Teilnehmer!$B$3:$C$1002,2,0),\"\")","v":""},null,{"$f":"IFERROR(VLOOKUP(E794,Teilnehmer!$B$3:$C$1002,2,0),\"\")","v":""}]
[null,null,null,{"$f":"IFERROR(VLOOKUP(C795,Teilnehmer!$B$3:$C$1002,2,0),\"\")","v":""},null,{"$f":"IFERROR(VLOOKUP(E795,Teilnehmer!$B$3:$C$1002,2,0),\"\")","v":""}]
[null,null,null,{"$f":"IFERROR(VLOOKUP(C796,Teilnehmer!$B$3:$C$1002,2,0),\"\")","v":""},null,{"$f":"IFERROR(VLOOKUP(E796,Teilnehmer!$B$3:$C$1002,2,0),\"\")","v":""}]
[null,null,null,{"$f":"IFERROR(VLOOKUP(C797,Teilnehmer!$B$3:$C$1002,2,0),\"\")","v":""},null,{"$f":"IFERROR(VLOOKUP(E797,Teilnehmer!$B$3:$C$1002,2,0),\"\")","v":""}]
[null,null,null,{"$f":"IFERROR(VLOOKUP(C798,Teilnehmer!$B$3:$C$1002,2,0),\"\")","v":""},null,{"$f":"IFERROR(VLOOKUP(E798,Teilnehmer!$B$3:$C$1002,2,0),\"\")","v":""}]
[null,null,null,{"$f":"IFERROR(VLOOKUP(C799,Teilnehmer!$B$3:$C$1002,2,0),\"\")","v":""},null,{"$f":"IFERROR(VLOOKUP(E799,Teilnehmer!$B$3:$C$1002,2,0),\"\")","v":""}]
[null,null,null,{"$f":"IFERROR(VLOOKUP(C800,Teilnehmer!$B$3:$C$1002,2,0),\"\")","v":""},null,{"$f":"IFERROR(VLOOKUP(E800,Teilnehmer!$B$3:$C$1002,2,0),\"\")","v":""}]
[null,null,null,{"$f":"IFERROR(VLOOKUP(C801,Teilnehmer!$B$3:$C$1002,2,0),\"\")","v":""},null,{"$f":"IFERROR(VLOOKUP(E801,Teilnehmer!$B$3:$C$1002,2,0),\"\")","v":""}]
[null,null,null,{"$f":"IFERROR(VLOOKUP(C802,Teilnehmer!$B$3:$C$1002,2,0),\"\")","v":""},null,{"$f":"IFERROR(VLOOKUP(E802,Teilnehmer!$B$3:$C$1002,2,0),\"\")","v":""}]
[null,null,null,{"$f":"IFERROR(VLOOKUP(C803,Teilnehmer!$B$3:$C$1002,2,0),\"\")","v":""},null,{"$f":"IFERROR(VLOOKUP(E803,Teilnehmer!$B$3:$C$1002,2,0),\"\")","v":""}]
[null,null,null,{"$f":"IFERROR(VLOOKUP(C804,Teilnehmer!$B$3:$C$1002,2,0),\"\")","v":""},null,{"$f":"IFERROR(VLOOKUP(E804,Teilnehmer!$B$3:$C$1002,2,0),\"\")","v":""}]
[null,null,null,{"$f":"IFERROR(VLOOKUP(C805,Teilnehmer!$B$3:$C$1002,2,0),\"\")","v":""},null,{"$f":"IFERROR(VLOOKUP(E805,Teilnehmer!$B$3:$C$1002,2,0),\"\")","v":""}]
[null,null,null,{"$f":"IFERROR(VLOOKUP(C806,Teilnehmer!$B$3:$C$1002,2,0),\"\")","v":""},null,{"$f":"IFERROR(VLOOKUP(E806,Teilnehmer!$B$3:$C$1002,2,0),\"\")","v":""}]
[null,null,null,{"$f":"IFERROR(VLOOKUP(C807,Teilnehmer!$B$3:$C$1002,2,0),\"\")","v":""},null,{"$f":"IFERROR(VLOOKUP(E807,Teilnehmer!$B$3:$C$1002,2,0),\"\")","v":""}]
[null,null,null,{"$f":"IFERROR(VLOOKUP(C808,Teilnehmer!$B$3:$C$1002,2,0),\"\")","v":""},null,{"$f":"IFERROR(VLOOKUP(E808,Teilnehmer!$B$3:$C$1002,2,0),\"\")","v":""}]
[null,null,null,{"$f":"IFERROR(VLOOKUP(C809,Teilnehmer!$B$3:$C$1002,2,0),\"\")","v":""},null,{"$f":"IFERROR(VLOOKUP(E809,Teilnehmer!$B$3:$C$1002,2,0),\"\")","v":""}]
[null,null,null,{"$f":"IFERROR(VLOOKUP(C810,Teilnehmer!$B$3:$C$1002,2,0),\"\")","v":""},null,{"$f":"IFERROR(VLOOKUP(E810,Teilnehmer!$B$3:$C$1002,2,0),\"\")","v":""}]
[null,null,null,{"$f":"IFERROR(VLOOKUP(C811,Teilnehmer!$B$3:$C$1002,2,0),\"\")","v":""},null,{"$f":"IFERROR(VLOOKUP(E811,Teilnehmer!$B$3:$C$1002,2,0),\"\")","v":""}]
[null,null,null,{"$f":"IFERROR(VLOOKUP(C812,Teilnehmer!$B$3:$C$1002,2,0),\"\")","v":""},null,{"$f":"IFERROR(VLOOKUP(E812,Teilnehmer!$B$3:$C$1002,2,0),\"\")","v":""}]
[null,null,null,{"$f":"IFERROR(VLOOKUP(C813,Teilnehmer!$B$3:$C$1002,2,0),\"\")","v":""},null,{"$f":"IFERROR(VLOOKUP(E813,Teilnehmer!$B$3:$C$1002,2,0),\"\")","v":""}]
[null,null,null,{"$f":"IFERROR(VLOOKUP(C814,Teilnehmer!$B$3:$C$1002,2,0),\"\")","v":""},null,{"$f":"IFERROR(VLOOKUP(E814,Teilnehmer!$B$3:$C$1002,2,0),\"\")","v":""}]
[null,null,null,{"$f":"IFERROR(VLOOKUP(C815,Teilnehmer!$B$3:$C$1002,2,0),\"\")","v":""},null,{"$f":"IFERROR(VLOOKUP(E815,Teilnehmer!$B$3:$C$1002,2,0),\"\")","v":""}]
[null,null,null,{"$f":"IFERROR(VLOOKUP(C816,Teilnehmer!$B$3:$C$1002,2,0),\"\")","v":""},null,{"$f":"IFERROR(VLOOKUP(E816,Teilnehmer!$B$3:$C$1002,2,0),\"\")","v":""}]
[null,null,null,{"$f":"IFERROR(VLOOKUP(C817,Teilnehmer!$B$3:$C$1002,2,0),\"\")","v":""},null,{"$f":"IFERROR(VLOOKUP(E817,Teilnehmer!$B$3:$C$1002,2,0),\"\")","v":""}]
[null,null,null,{"$f":"IFERROR(VLOOKUP(C818,Teilnehmer!$B$3:$C$1002,2,0),\"\")","v":""},null,{"$f":"IFERROR(VLOOKUP(E818,Teilnehmer!$B$3:$C$1002,2,0),\"\")","v":""}]
[null,null,null,{"$f":"IFERROR(VLOOKUP(C819,Teilnehmer!$B$3:$C$1002,2,0),\"\")","v":""},null,{"$f":"IFERROR(VLOOKUP(E819,Teilnehmer!$B$3:$C$1002,2,0),\"\")","v":""}]
[null,null,null,{"$f":"IFERROR(VLOOKUP(C820,Teilnehmer!$B$3:$C$1002,2,0),\"\")","v":""},null,{"$f":"IFERROR(VLOOKUP(E820,Teilnehmer!$B$3:$C$1002,2,0),\"\")","v":""}]
[null,null,null,{"$f":"IFERROR(VLOOKUP(C821,Teilnehmer!$B$3:$C$1002,2,0),\"\")","v":""},null,{"$f":"IFERROR(VLOOKUP(E821,Teilnehmer!$B$3:$C$1002,2,0),\"\")","v":""}]
[null,null,null,{"$f":"IFERROR(VLOOKUP(C822,Teilnehmer!$B$3:$C$1002,2,0),\"\")","v":""},null,{"$f":"IFERROR(VLOOKUP(E822,Teilnehmer!$B$3:$C$1002,2,0),\"\")","v":""}]
[null,null,null,{"$f":"IFERROR(VLOOKUP(C823,Teilnehmer!$B$3:$C$1002,2,0),\"\")","v":""},null,{"$f":"IFERROR(VLOOKUP(E823,Teilnehmer!$B$3:$C$1002,2,0),\"\")","v":""}]
[null,null,null,{"$f":"IFERROR(VLOOKUP(C824,Teilnehmer!$B$3:$C$1002,2,0),\"\")","v":""},null,{"$f":"IFERROR(VLOOKUP(E824,Teilnehmer!$B$3:$C$1002,2,0),\"\")","v":""}]
[null,null,null,{"$f":"IFERROR(VLOOKUP(C825,Teilnehmer!$B$3:$C$1002,2,0),\"\")","v":""},null,{"$f":"IFERROR(VLOOKUP(E825,Teilnehmer!$B$3:$C$1002,2,0),\"\")","v":""}]
[null,null,null,{"$f":"IFERROR(VLOOKUP(C826,Teilnehmer!$B$3:$C$1002,2,0),\"\")","v":""},null,{"$f":"IFERROR(VLOOKUP(E826,Teilnehmer!$B$3:$C$1002,2,0),\"\")","v":""}]
[null,null,null,{"$f":"IFERROR(VLOOKUP(C827,Teilnehmer!$B$3:$C$1002,2,0),\"\")","v":""},null,{"$f":"IFERROR(VLOOKUP(E827,Teilnehmer!$B$3:$C$1002,2,0),\"\")","v":""}]
[null,null,null,{"$f":"IFERROR(VLOOKUP(C828,Teilnehmer!$B$3:$C$1002,2,0),\"\")","v":""},null,{"$f":"IFERROR(VLOOKUP(E828,Teilnehmer!$B$3:$C$1002,2,0),\"\")","v":""}]
[null,null,null,{"$f":"IFERROR(VLOOKUP(C829,Teilnehmer!$B$3:$C$1002,2,0),\"\")","v":""},null,{"$f":"IFERROR(VLOOKUP(E829,Teilnehmer!$B$3:$C$1002,2,0),\"\")","v":""}]
[null,null,null,{"$f":"IFERROR(VLOOKUP(C830,Teilnehmer!$B$3:$C$1002,2,0),\"\")","v":""},null,{"$f":"IFERROR(VLOOKUP(E830,Teilnehmer!$B$3:$C$1002,2,0),\"\")","v":""}]
[null,null,null,{"$f":"IFERROR(VLOOKUP(C831,Teilnehmer!$B$3:$C$1002,2,0),\"\")","v":""},null,{"$f":"IFERROR(VLOOKUP(E831,Teilnehmer!$B$3:$C$1002,2,0),\"\")","v":""}]
[null,null,null,{"$f":"IFERROR(VLOOKUP(C832,Teilnehmer!$B$3:$C$1002,2,0),\"\")","v":""},null,{"$f":"IFERROR(VLOOKUP(E832,Teilnehmer!$B$3:$C$1002,2,0),\"\")","v":""}]
[null,null,null,{"$f":"IFERROR(VLOOKUP(C833,Teilnehmer!$B$3:$C$1002,2,0),\"\")","v":""},null,{"$f":"IFERROR(VLOOKUP(E833,Teilnehmer!$B$3:$C$1002,2,0),\"\")","v":""}]
[null,null,null,{"$f":"IFERROR(VLOOKUP(C834,Teilnehmer!$B$3:$C$1002,2,0),\"\")","v":""},null,{"$f":"IFERROR(VLOOKUP(E834,Teilnehmer!$B$3:$C$1002,2,0),\"\")","v":""}]
[null,null,null,{"$f":"IFERROR(VLOOKUP(C835,Teilnehmer!$B$3:$C$1002,2,0),\"\")","v":""},null,{"$f":"IFERROR(VLOOKUP(E835,Teilnehmer!$B$3:$C$1002,2,0),\"\")","v":""}]
[null,null,null,{"$f":"IFERROR(VLOOKUP(C836,Teilnehmer!$B$3:$C$1002,2,0),\"\")","v":""},null,{"$f":"IFERROR(VLOOKUP(E836,Teilnehmer!$B$3:$C$1002,2,0),\"\")","v":""}]
[null,null,null,{"$f":"IFERROR(VLOOKUP(C837,Teilnehmer!$B$3:$C$1002,2,0),\"\")","v":""},null,{"$f":"IFERROR(VLOOKUP(E837,Teilnehmer!$B$3:$C$1002,2,0),\"\")","v":""}]
[null,null,null,{"$f":"IFERROR(VLOOKUP(C838,Teilnehmer!$B$3:$C$1002,2,0),\"\")","v":""},null,{"$f":"IFERROR(VLOOKUP(E838,Teilnehmer!$B$3:$C$1002,2,0),\"\")","v":""}]
[null,null,null,{"$f":"IFERROR(VLOOKUP(C839,Teilnehmer!$B$3:$C$1002,2,0),\"\")","v":""},null,{"$f":"IFERROR(VLOOKUP(E839,Teilnehmer!$B$3:$C$1002,2,0),\"\")","v":""}]
[null,null,null,{"$f":"IFERROR(VLOOKUP(C840,Teilnehmer!$B$3:$C$1002,2,0),\"\")","v":""},null,{"$f":"IFERROR(VLOOKUP(E840,Teilnehmer!$B$3:$C$1002,2,0),\"\")","v":""}]
[null,null,null,{"$f":"IFERROR(VLOOKUP(C841,Teilnehmer!$B$3:$C$1002,2,0),\"\")","v":""},null,{"$f":"IFERROR(VLOOKUP(E841,Teilnehmer!$B$3:$C$1002,2,0),\"\")","v":""}]
[null,null,null,{"$f":"IFERROR(VLOOKUP(C842,Teilnehmer!$B$3:$C$1002,2,0),\"\")","v":""},null,{"$f":"IFERROR(VLOOKUP(E842,Teilnehmer!$B$3:$C$1002,2,0),\"\")","v":""}]
[null,null,null,{"$f":"IFERROR(VLOOKUP(C843,Teilnehmer!$B$3:$C$1002,2,0),\"\")","v":""},null,{"$f":"IFERROR(VLOOKUP(E843,Teilnehmer!$B$3:$C$1002,2,0),\"\")","v":""}]
[null,null,null,{"$f":"IFERROR(VLOOKUP(C844,Teilnehmer!$B$3:$C$1002,2,0),\"\")","v":""},null,{"$f":"IFERROR(VLOOKUP(E844,Teilnehmer!$B$3:$C$1002,2,0),\"\")","v":""}]
[null,null,null,{"$f":"IFERROR(VLOOKUP(C845,Teilnehmer!$B$3:$C$1002,2,0),\"\")","v":""},null,{"$f":"IFERROR(VLOOKUP(E845,Teilnehmer!$B$3:$C$1002,2,0),\"\")","v":""}]
[null,null,null,{"$f":"IFERROR(VLOOKUP(C846,Teilnehmer!$B$3:$C$1002,2,0),\"\")","v":""},null,{"$f":"IFERROR(VLOOKUP(E846,Teilnehmer!$B$3:$C$1002,2,0),\"\")","v":""}]
[null,null,null,{"$f":"IFERROR(VLOOKUP(C847,Teilnehmer!$B$3:$C$1002,2,0),\"\")","v":""},null,{"$f":"IFERROR(VLOOKUP(E847,Teilnehmer!$B$3:$C$1002,2,0),\"\")","v":""}]
[null,null,null,{"$f":"IFERROR(VLOOKUP(C848,Teilnehmer!$B$3:$C$1002,2,0),\"\")","v":""},null,{"$f":"IFERROR(VLOOKUP(E848,Teilnehmer!$B$3:$C$1002,2,0),\"\")","v":""}]
[null,null,null,{"$f":"IFERROR(VLOOKUP(C849,Teilnehmer!$B$3:$C$1002,2,0),\"\")","v":""},null,{"$f":"IFERROR(VLOOKUP(E849,Teilnehmer!$B$3:$C$1002,2,0),\"\")","v":""}]
[null,null,null,{"$f":"IFERROR(VLOOKUP(C850,Teilnehmer!$B$3:$C$1002,2,0),\"\")","v":""},null,{"$f":"IFERROR(VLOOKUP(E850,Teilnehmer!$B$3:$C$1002,2,0),\"\")","v":""}]
[null,null,null,{"$f":"IFERROR(VLOOKUP(C851,Teilnehmer!$B$3:$C$1002,2,0),\"\")","v":""},null,{"$f":"IFERROR(VLOOKUP(E851,Teilnehmer!$B$3:$C$1002,2,0),\"\")","v":""}]
[null,null,null,{"$f":"IFERROR(VLOOKUP(C852,Teilnehmer!$B$3:$C$1002,2,0),\"\")","v":""},null,{"$f":"IFERROR(VLOOKUP(E852,Teilnehmer!$B$3:$C$1002,2,0),\"\")","v":""}]
[null,null,null,{"$f":"IFERROR(VLOOKUP(C853,Teilnehmer!$B$3:$C$1002,2,0),\"\")","v":""},null,{"$f":"IFERROR(VLOOKUP(E853,Teilnehmer!$B$3:$C$1002,2,0),\"\")","v":""}]
[null,null,null,{"$f":"IFERROR(VLOOKUP(C854,Teilnehmer!$B$3:$C$1002,2,0),\"\")","v":""},null,{"$f":"IFERROR(VLOOKUP(E854,Teilnehmer!$B$3:$C$1002,2,0),\"\")","v":""}]
[null,null,null,{"$f":"IFERROR(VLOOKUP(C855,Teilnehmer!$B$3:$C$1002,2,0),\"\")","v":""},null,{"$f":"IFERROR(VLOOKUP(E855,Teilnehmer!$B$3:$C$1002,2,0),\"\")","v":""}]
[null,null,null,{"$f":"IFERROR(VLOOKUP(C856,Teilnehmer!$B$3:$C$1002,2,0),\"\")","v":""},null,{"$f":"IFERROR(VLOOKUP(E856,Teilnehmer!$B$3:$C$1002,2,0),\"\")","v":""}]
[null,null,null,{"$f":"IFERROR(VLOOKUP(C857,Teilnehmer!$B$3:$C$1002,2,0),\"\")","v":""},null,{"$f":"IFERROR(VLOOKUP(E857,Teilnehmer!$B$3:$C$1002,2,0),\"\")","v":""}]
[null,null,null,{"$f":"IFERROR(VLOOKUP(C858,Teilnehmer!$B$3:$C$1002,2,0),\"\")","v":""},null,{"$f":"IFERROR(VLOOKUP(E858,Teilnehmer!$B$3:$C$1002,2,0),\"\")","v":""}]
[null,null,null,{"$f":"IFERROR(VLOOKUP(C859,Teilnehmer!$B$3:$C$1002,2,0),\"\")","v":""},null,{"$f":"IFERROR(VLOOKUP(E859,Teilnehmer!$B$3:$C$1002,2,0),\"\")","v":""}]
[null,null,null,{"$f":"IFERROR(VLOOKUP(C860,Teilnehmer!$B$3:$C$1002,2,0),\"\")","v":""},null,{"$f":"IFERROR(VLOOKUP(E860,Teilnehmer!$B$3:$C$1002,2,0),\"\")","v":""}]
[null,null,null,{"$f":"IFERROR(VLOOKUP(C861,Teilnehmer!$B$3:$C$1002,2,0),\"\")","v":""},null,{"$f":"IFERROR(VLOOKUP(E861,Teilnehmer!$B$3:$C$1002,2,0),\"\")","v":""}]
[null,null,null,{"$f":"IFERROR(VLOOKUP(C862,Teilnehmer!$B$3:$C$1002,2,0),\"\")","v":""},null,{"$f":"IFERROR(VLOOKUP(E862,Teilnehmer!$B$3:$C$1002,2,0),\"\")","v":""}]
[null,null,null,{"$f":"IFERROR(VLOOKUP(C863,Teilnehmer!$B$3:$C$1002,2,0),\"\")","v":""},null,{"$f":"IFERROR(VLOOKUP(E863,Teilnehmer!$B$3:$C$1002,2,0),\"\")","v":""}]
[null,null,null,{"$f":"IFERROR(VLOOKUP(C864,Teilnehmer!$B$3:$C$1002,2,0),\"\")","v":""},null,{"$f":"IFERROR(VLOOKUP(E864,Teilnehmer!$B$3:$C$1002,2,0),\"\")","v":""}]
[null,null,null,{"$f":"IFERROR(VLOOKUP(C865,Teilnehmer!$B$3:$C$1002,2,0),\"\")","v":""},null,{"$f":"IFERROR(VLOOKUP(E865,Teilnehmer!$B$3:$C$1002,2,0),\"\")","v":""}]
[null,null,null,{"$f":"IFERROR(VLOOKUP(C866,Teilnehmer!$B$3:$C$1002,2,0),\"\")","v":""},null,{"$f":"IFERROR(VLOOKUP(E866,Teilnehmer!$B$3:$C$1002,2,0),\"\")","v":""}]
[null,null,null,{"$f":"IFERROR(VLOOKUP(C867,Teilnehmer!$B$3:$C$1002,2,0),\"\")","v":""},null,{"$f":"IFERROR(VLOOKUP(E867,Teilnehmer!$B$3:$C$1002,2,0),\"\")","v":""}]
[null,null,null,{"$f":"IFERROR(VLOOKUP(C868,Teilnehmer!$B$3:$C$1002,2,0),\"\")","v":""},null,{"$f":"IFERROR(VLOOKUP(E868,Teilnehmer!$B$3:$C$1002,2,0),\"\")","v":""}]
[null,null,null,{"$f":"IFERROR(VLOOKUP(C869,Teilnehmer!$B$3:$C$1002,2,0),\"\")","v":""},null,{"$f":"IFERROR(VLOOKUP(E869,Teilnehmer!$B$3:$C$1002,2,0),\"\")","v":""}]
[null,null,null,{"$f":"IFERROR(VLOOKUP(C870,Teilnehmer!$B$3:$C$1002,2,0),\"\")","v":""},null,{"$f":"IFERROR(VLOOKUP(E870,Teilnehmer!$B$3:$C$1002,2,0),\"\")","v":""}]
[null,null,null,{"$f":"IFERROR(VLOOKUP(C871,Teilnehmer!$B$3:$C$1002,2,0),\"\")","v":""},null,{"$f":"IFERROR(VLOOKUP(E871,Teilnehmer!$B$3:$C$1002,2,0),\"\")","v":""}]
[null,null,null,{"$f":"IFERROR(VLOOKUP(C872,Teilnehmer!$B$3:$C$1002,2,0),\"\")","v":""},null,{"$f":"IFERROR(VLOOKUP(E872,Teilnehmer!$B$3:$C$1002,2,0),\"\")","v":""}]
[null,null,null,{"$f":"IFERROR(VLOOKUP(C873,Teilnehmer!$B$3:$C$1002,2,0),\"\")","v":""},null,{"$f":"IFERROR(VLOOKUP(E873,Teilnehmer!$B$3:$C$1002,2,0),\"\")","v":""}]
[null,null,null,{"$f":"IFERROR(VLOOKUP(C874,Teilnehmer!$B$3:$C$1002,2,0),\"\")","v":""},null,{"$f":"IFERROR(VLOOKUP(E874,Teilnehmer!$B$3:$C$1002,2,0),\"\")","v":""}]
[null,null,null,{"$f":"IFERROR(VLOOKUP(C875,Teilnehmer!$B$3:$C$1002,2,0),\"\")","v":""},null,{"$f":"IFERROR(VLOOKUP(E875,Teilnehmer!$B$3:$C$1002,2,0),\"\")","v":""}]
[null,null,null,{"$f":"IFERROR(VLOOKUP(C876,Teilnehmer!$B$3:$C$1002,2,0),\"\")","v":""},null,{"$f":"IFERROR(VLOOKUP(E876,Teilnehmer!$B$3:$C$1002,2,0),\"\")","v":""}]
[null,null,null,{"$f":"IFERROR(VLOOKUP(C877,Teilnehmer!$B$3:$C$1002,2,0),\"\")","v":""},null,{"$f":"IFERROR(VLOOKUP(E877,Teilnehmer!$B$3:$C$1002,2,0),\"\")","v":""}]
[null,null,null,{"$f":"IFERROR(VLOOKUP(C878,Teilnehmer!$B$3:$C$1002,2,0),\"\")","v":""},null,{"$f":"IFERROR(VLOOKUP(E878,Teilnehmer!$B$3:$C$1002,2,0),\"\")","v":""}]
[null,null,null,{"$f":"IFERROR(VLOOKUP(C879,Teilnehmer!$B$3:$C$1002,2,0),\"\")","v":""},null,{"$f":"IFERROR(VLOOKUP(E879,Teilnehmer!$B$3:$C$1002,2,0),\"\")","v":""}]
[null,null,null,{"$f":"IFERROR(VLOOKUP(C880,Teilnehmer!$B$3:$C$1002,2,0),\"\")","v":""},null,{"$f":"IFERROR(VLOOKUP(E880,Teilnehmer!$B$3:$C$1002,2,0),\"\")","v":""}]
[null,null,null,{"$f":"IFERROR(VLOOKUP(C881,Teilnehmer!$B$3:$C$1002,2,0),\"\")","v":""},null,{"$f":"IFERROR(VLOOKUP(E881,Teilnehmer!$B$3:$C$1002,2,0),\"\")","v":""}]
[null,null,null,{"$f":"IFERROR(VLOOKUP(C882,Teilnehmer!$B$3:$C$1002,2,0),\"\")","v":""},null,{"$f":"IFERROR(VLOOKUP(E882,Teilnehmer!$B$3:$C$1002,2,0),\"\")","v":""}]
[null,null,null,{"$f":"IFERROR(VLOOKUP(C883,Teilnehmer!$B$3:$C$1002,2,0),\"\")","v":""},null,{"$f":"IFERROR(VLOOKUP(E883,Teilnehmer!$B$3:$C$1002,2,0),\"\")","v":""}]
[null,null,null,{"$f":"IFERROR(VLOOKUP(C884,Teilnehmer!$B$3:$C$1002,2,0),\"\")","v":""},null,{"$f":"IFERROR(VLOOKUP(E884,Teilnehmer!$B$3:$C$1002,2,0),\"\")","v":""}]
[null,null,null,{"$f":"IFERROR(VLOOKUP(C885,Teilnehmer!$B$3:$C$1002,2,0),\"\")","v":""},null,{"$f":"IFERROR(VLOOKUP(E885,Teilnehmer!$B$3:$C$1002,2,0),\"\")","v":""}]
[null,null,null,{"$f":"IFERROR(VLOOKUP(C886,Teilnehmer!$B$3:$C$1002,2,0),\"\")","v":""},null,{"$f":"IFERROR(VLOOKUP(E886,Teilnehmer!$B$3:$C$1002,2,0),\"\")","v":""}]
[null,null,null,{"$f":"IFERROR(VLOOKUP(C887,Teilnehmer!$B$3:$C$1002,2,0),\"\")","v":""},null,{"$f":"IFERROR(VLOOKUP(E887,Teilnehmer!$B$3:$C$1002,2,0),\"\")","v":""}]
[null,null,null,{"$f":"IFERROR(VLOOKUP(C888,Teilnehmer!$B$3:$C$1002,2,0),\"\")","v":""},null,{"$f":"IFERROR(VLOOKUP(E888,Teilnehmer!$B$3:$C$1002,2,0),\"\")","v":""}]
[null,null,null,{"$f":"IFERROR(VLOOKUP(C889,Teilnehmer!$B$3:$C$1002,2,0),\"\")","v":""},null,{"$f":"IFERROR(VLOOKUP(E889,Teilnehmer!$B$3:$C$1002,2,0),\"\")","v":""}]
[null,null,null,{"$f":"IFERROR(VLOOKUP(C890,Teilnehmer!$B$3:$C$1002,2,0),\"\")","v":""},null,{"$f":"IFERROR(VLOOKUP(E890,Teilnehmer!$B$3:$C$1002,2,0),\"\")","v":""}]
[null,null,null,{"$f":"IFERROR(VLOOKUP(C891,Teilnehmer!$B$3:$C$1002,2,0),\"\")","v":""},null,{"$f":"IFERROR(VLOOKUP(E891,Teilnehmer!$B$3:$C$1002,2,0),\"\")","v":""}]
[null,null,null,{"$f":"IFERROR(VLOOKUP(C892,Teilnehmer!$B$3:$C$1002,2,0),\"\")","v":""},null,{"$f":"IFERROR(VLOOKUP(E892,Teilnehmer!$B$3:$C$1002,2,0),\"\")","v":""}]
[null,null,null,{"$f":"IFERROR(VLOOKUP(C893,Teilnehmer!$B$3:$C$1002,2,0),\"\")","v":""},null,{"$f":"IFERROR(VLOOKUP(E893,Teilnehmer!$B$3:$C$1002,2,0),\"\")","v":""}]
[null,null,null,{"$f":"IFERROR(VLOOKUP(C894,Teilnehmer!$B$3:$C$1002,2,0),\"\")","v":""},null,{"$f":"IFERROR(VLOOKUP(E894,Teilnehmer!$B$3:$C$1002,2,0),\"\")","v":""}]
[null,null,null,{"$f":"IFERROR(VLOOKUP(C895,Teilnehmer!$B$3:$C$1002,2,0),\"\")","v":""},null,{"$f":"IFERROR(VLOOKUP(E895,Teilnehmer!$B$3:$C$1002,2,0),\"\")","v":""}]
[null,null,null,{"$f":"IFERROR(VLOOKUP(C896,Teilnehmer!$B$3:$C$1002,2,0),\"\")","v":""},null,{"$f":"IFERROR(VLOOKUP(E896,Teilnehmer!$B$3:$C$1002,2,0),\"\")","v":""}]
[null,null,null,{"$f":"IFERROR(VLOOKUP(C897,Teilnehmer!$B$3:$C$1002,2,0),\"\")","v":""},null,{"$f":"IFERROR(VLOOKUP(E897,Teilnehmer!$B$3:$C$1002,2,0),\"\")","v":""}]
[null,null,null,{"$f":"IFERROR(VLOOKUP(C898,Teilnehmer!$B$3:$C$1002,2,0),\"\")","v":""},null,{"$f":"IFERROR(VLOOKUP(E898,Teilnehmer!$B$3:$C$1002,2,0),\"\")","v":""}]
[null,null,null,{"$f":"IFERROR(VLOOKUP(C899,Teilnehmer!$B$3:$C$1002,2,0),\"\")","v":""},null,{"$f":"IFERROR(VLOOKUP(E899,Teilnehmer!$B$3:$C$1002,2,0),\"\")","v":""}]
[null,null,null,{"$f":"IFERROR(VLOOKUP(C900,Teilnehmer!$B$3:$C$1002,2,0),\"\")","v":""},null,{"$f":"IFERROR(VLOOKUP(E900,Teilnehmer!$B$3:$C$1002,2,0),\"\")","v":""}]
[null,null,null,{"$f":"IFERROR(VLOOKUP(C901,Teilnehmer!$B$3:$C$1002,2,0),\"\")","v":""},null,{"$f":"IFERROR(VLOOKUP(E901,Teilnehmer!$B$3:$C$1002,2,0),\"\")","v":""}]
[null,null,null,{"$f":"IFERROR(VLOOKUP(C902,Teilnehmer!$B$3:$C$1002,2,0),\"\")","v":""},null,{"$f":"IFERROR(VLOOKUP(E902,Teilnehmer!$B$3:$C$1002,2,0),\"\")","v":""}]
[null,null,null,{"$f":"IFERROR(VLOOKUP(C903,Teilnehmer!$B$3:$C$1002,2,0),\"\")","v":""},null,{"$f":"IFERROR(VLOOKUP(E903,Teilnehmer!$B$3:$C$1002,2,0),\"\")","v":""}]
[null,null,null,{"$f":"IFERROR(VLOOKUP(C904,Teilnehmer!$B$3:$C$1002,2,0),\"\")","v":""},null,{"$f":"IFERROR(VLOOKUP(E904,Teilnehmer!$B$3:$C$1002,2,0),\"\")","v":""}]
[null,null,null,{"$f":"IFERROR(VLOOKUP(C905,Teilnehmer!$B$3:$C$1002,2,0),\"\")","v":""},null,{"$f":"IFERROR(VLOOKUP(E905,Teilnehmer!$B$3:$C$1002,2,0),\"\")","v":""}]
[null,null,null,{"$f":"IFERROR(VLOOKUP(C906,Teilnehmer!$B$3:$C$1002,2,0),\"\")","v":""},null,{"$f":"IFERROR(VLOOKUP(E906,Teilnehmer!$B$3:$C$1002,2,0),\"\")","v":""}]
[null,null,null,{"$f":"IFERROR(VLOOKUP(C907,Teilnehmer!$B$3:$C$1002,2,0),\"\")","v":""},null,{"$f":"IFERROR(VLOOKUP(E907,Teilnehmer!$B$3:$C$1002,2,0),\"\")","v":""}]
[null,null,null,{"$f":"IFERROR(VLOOKUP(C908,Teilnehmer!$B$3:$C$1002,2,0),\"\")","v":""},null,{"$f":"IFERROR(VLOOKUP(E908,Teilnehmer!$B$3:$C$1002,2,0),\"\")","v":""}]
[null,null,null,{"$f":"IFERROR(VLOOKUP(C909,Teilnehmer!$B$3:$C$1002,2,0),\"\")","v":""},null,{"$f":"IFERROR(VLOOKUP(E909,Teilnehmer!$B$3:$C$1002,2,0),\"\")","v":""}]
[null,null,null,{"$f":"IFERROR(VLOOKUP(C910,Teilnehmer!$B$3:$C$1002,2,0),\"\")","v":""},null,{"$f":"IFERROR(VLOOKUP(E910,Teilnehmer!$B$3:$C$1002,2,0),\"\")","v":""}]
[null,null,null,{"$f":"IFERROR(VLOOKUP(C911,Teilnehmer!$B$3:$C$1002,2,0),\"\")","v":""},null,{"$f":"IFERROR(VLOOKUP(E911,Teilnehmer!$B$3:$C$1002,2,0),\"\")","v":""}]
[null,null,null,{"$f":"IFERROR(VLOOKUP(C912,Teilnehmer!$B$3:$C$1002,2,0),\"\")","v":""},null,{"$f":"IFERROR(VLOOKUP(E912,Teilnehmer!$B$3:$C$1002,2,0),\"\")","v":""}]
[null,null,null,{"$f":"IFERROR(VLOOKUP(C913,Teilnehmer!$B$3:$C$1002,2,0),\"\")","v":""},null,{"$f":"IFERROR(VLOOKUP(E913,Teilnehmer!$B$3:$C$1002,2,0),\"\")","v":""}]
[null,null,null,{"$f":"IFERROR(VLOOKUP(C914,Teilnehmer!$B$3:$C$1002,2,0),\"\")","v":""},null,{"$f":"IFERROR(VLOOKUP(E914,Teilnehmer!$B$3:$C$1002,2,0),\"\")","v":""}]
[null,null,null,{"$f":"IFERROR(VLOOKUP(C915,Teilnehmer!$B$3:$C$1002,2,0),\"\")","v":""},null,{"$f":"IFERROR(VLOOKUP(E915,Teilnehmer!$B$3:$C$1002,2,0),\"\")","v":""}]
[null,null,null,{"$f":"IFERROR(VLOOKUP(C916,Teilnehmer!$B$3:$C$1002,2,0),\"\")","v":""},null,{"$f":"IFERROR(VLOOKUP(E916,Teilnehmer!$B$3:$C$1002,2,0),\"\")","v":""}]
[null,null,null,{"$f":"IFERROR(VLOOKUP(C917,Teilnehmer!$B$3:$C$1002,2,0),\"\")","v":""},null,{"$f":"IFERROR(VLOOKUP(E917,Teilnehmer!$B$3:$C$1002,2,0),\"\")","v":""}]
[null,null,null,{"$f":"IFERROR(VLOOKUP(C918,Teilnehmer!$B$3:$C$1002,2,0),\"\")","v":""},null,{"$f":"IFERROR(VLOOKUP(E918,Teilnehmer!$B$3:$C$1002,2,0),\"\")","v":""}]
[null,null,null,{"$f":"IFERROR(VLOOKUP(C919,Teilnehmer!$B$3:$C$1002,2,0),\"\")","v":""},null,{"$f":"IFERROR(VLOOKUP(E919,Teilnehmer!$B$3:$C$1002,2,0),\"\")","v":""}]
[null,null,null,{"$f":"IFERROR(VLOOKUP(C920,Teilnehmer!$B$3:$C$1002,2,0),\"\")","v":""},null,{"$f":"IFERROR(VLOOKUP(E920,Teilnehmer!$B$3:$C$1002,2,0),\"\")","v":""}]
[null,null,null,{"$f":"IFERROR(VLOOKUP(C921,Teilnehmer!$B$3:$C$1002,2,0),\"\")","v":""},null,{"$f":"IFERROR(VLOOKUP(E921,Teilnehmer!$B$3:$C$1002,2,0),\"\")","v":""}]
[null,null,null,{"$f":"IFERROR(VLOOKUP(C922,Teilnehmer!$B$3:$C$1002,2,0),\"\")","v":""},null,{"$f":"IFERROR(VLOOKUP(E922,Teilnehmer!$B$3:$C$1002,2,0),\"\")","v":""}]
[null,null,null,{"$f":"IFERROR(VLOOKUP(C923,Teilnehmer!$B$3:$C$1002,2,0),\"\")","v":""},null,{"$f":"IFERROR(VLOOKUP(E923,Teilnehmer!$B$3:$C$1002,2,0),\"\")","v":""}]
[null,null,null,{"$f":"IFERROR(VLOOKUP(C924,Teilnehmer!$B$3:$C$1002,2,0),\"\")","v":""},null,{"$f":"IFERROR(VLOOKUP(E924,Teilnehmer!$B$3:$C$1002,2,0),\"\")","v":""}]
[null,null,null,{"$f":"IFERROR(VLOOKUP(C925,Teilnehmer!$B$3:$C$1002,2,0),\"\")","v":""},null,{"$f":"IFERROR(VLOOKUP(E925,Teilnehmer!$B$3:$C$1002,2,0),\"\")","v":""}]
[null,null,null,{"$f":"IFERROR(VLOOKUP(C926,Teilnehmer!$B$3:$C$1002,2,0),\"\")","v":""},null,{"$f":"IFERROR(VLOOKUP(E926,Teilnehmer!$B$3:$C$1002,2,0),\"\")","v":""}]
[null,null,null,{"$f":"IFERROR(VLOOKUP(C927,Teilnehmer!$B$3:$C$1002,2,0),\"\")","v":""},null,{"$f":"IFERROR(VLOOKUP(E927,Teilnehmer!$B$3:$C$1002,2,0),\"\")","v":""}]
[null,null,null,{"$f":"IFERROR(VLOOKUP(C928,Teilnehmer!$B$3:$C$1002,2,0),\"\")","v":""},null,{"$f":"IFERROR(VLOOKUP(E928,Teilnehmer!$B$3:$C$1002,2,0),\"\")","v":""}]
[null,null,null,{"$f":"IFERROR(VLOOKUP(C929,Teilnehmer!$B$3:$C$1002,2,0),\"\")","v":""},null,{"$f":"IFERROR(VLOOKUP(E929,Teilnehmer!$B$3:$C$1002,2,0),\"\")","v":""}]
[null,null,null,{"$f":"IFERROR(VLOOKUP(C930,Teilnehmer!$B$3:$C$1002,2,0),\"\")","v":""},null,{"$f":"IFERROR(VLOOKUP(E930,Teilnehmer!$B$3:$C$1002,2,0),\"\")","v":""}]
[null,null,null,{"$f":"IFERROR(VLOOKUP(C931,Teilnehmer!$B$3:$C$1002,2,0),\"\")","v":""},null,{"$f":"IFERROR(VLOOKUP(E931,Teilnehmer!$B$3:$C$1002,2,0),\"\")","v":""}]
[null,null,null,{"$f":"IFERROR(VLOOKUP(C932,Teilnehmer!$B$3:$C$1002,2,0),\"\")","v":""},null,{"$f":"IFERROR(VLOOKUP(E932,Teilnehmer!$B$3:$C$1002,2,0),\"\")","v":""}]
[null,null,null,{"$f":"IFERROR(VLOOKUP(C933,Teilnehmer!$B$3:$C$1002,2,0),\"\")","v":""},null,{"$f":"IFERROR(VLOOKUP(E933,Teilnehmer!$B$3:$C$1002,2,0),\"\")","v":""}]
[null,null,null,{"$f":"IFERROR(VLOOKUP(C934,Teilnehmer!$B$3:$C$1002,2,0),\"\")","v":""},null,{"$f":"IFERROR(VLOOKUP(E934,Teilnehmer!$B$3:$C$1002,2,0),\"\")","v":""}]
[null,null,null,{"$f":"IFERROR(VLOOKUP(C935,Teilnehmer!$B$3:$C$1002,2,0),\"\")","v":""},null,{"$f":"IFERROR(VLOOKUP(E935,Teilnehmer!$B$3:$C$1002,2,0),\"\")","v":""}]
[null,null,null,{"$f":"IFERROR(VLOOKUP(C936,Teilnehmer!$B$3:$C$1002,2,0),\"\")","v":""},null,{"$f":"IFERROR(VLOOKUP(E936,Teilnehmer!$B$3:$C$1002,2,0),\"\")","v":""}]
[null,null,null,{"$f":"IFERROR(VLOOKUP(C937,Teilnehmer!$B$3:$C$1002,2,0),\"\")","v":""},null,{"$f":"IFERROR(VLOOKUP(E937,Teilnehmer!$B$3:$C$1002,2,0),\"\")","v":""}]
[null,null,null,{"$f":"IFERROR(VLOOKUP(C938,Teilnehmer!$B$3:$C$1002,2,0),\"\")","v":""},null,{"$f":"IFERROR(VLOOKUP(E938,Teilnehmer!$B$3:$C$1002,2,0),\"\")","v":""}]
[null,null,null,{"$f":"IFERROR(VLOOKUP(C939,Teilnehmer!$B$3:$C$1002,2,0),\"\")","v":""},null,{"$f":"IFERROR(VLOOKUP(E939,Teilnehmer!$B$3:$C$1002,2,0),\"\")","v":""}]
[null,null,null,{"$f":"IFERROR(VLOOKUP(C940,Teilnehmer!$B$3:$C$1002,2,0),\"\")","v":""},null,{"$f":"IFERROR(VLOOKUP(E940,Teilnehmer!$B$3:$C$1002,2,0),\"\")","v":""}]
[null,null,null,{"$f":"IFERROR(VLOOKUP(C941,Teilnehmer!$B$3:$C$1002,2,0),\"\")","v":""},null,{"$f":"IFERROR(VLOOKUP(E941,Teilnehmer!$B$3:$C$1002,2,0),\"\")","v":""}]
[null,null,null,{"$f":"IFERROR(VLOOKUP(C942,Teilnehmer!$B$3:$C$1002,2,0),\"\")","v":""},null,{"$f":"IFERROR(VLOOKUP(E942,Teilnehmer!$B$3:$C$1002,2,0),\"\")","v":""}]
[null,null,null,{"$f":"IFERROR(VLOOKUP(C943,Teilnehmer!$B$3:$C$1002,2,0),\"\")","v":""},null,{"$f":"IFERROR(VLOOKUP(E943,Teilnehmer!$B$3:$C$1002,2,0),\"\")","v":""}]
[null,null,null,{"$f":"IFERROR(VLOOKUP(C944,Teilnehmer!$B$3:$C$1002,2,0),\"\")","v":""},null,{"$f":"IFERROR(VLOOKUP(E944,Teilnehmer!$B$3:$C$1002,2,0),\"\")","v":""}]
[null,null,null,{"$f":"IFERROR(VLOOKUP(C945,Teilnehmer!$B$3:$C$1002,2,0),\"\")","v":""},null,{"$f":"IFERROR(VLOOKUP(E945,Teilnehmer!$B$3:$C$1002,2,0),\"\")","v":""}]
[null,null,null,{"$f":"IFERROR(VLOOKUP(C946,Teilnehmer!$B$3:$C$1002,2,0),\"\")","v":""},null,{"$f":"IFERROR(VLOOKUP(E946,Teilnehmer!$B$3:$C$1002,2,0),\"\")","v":""}]
[null,null,null,{"$f":"IFERROR(VLOOKUP(C947,Teilnehmer!$B$3:$C$1002,2,0),\"\")","v":""},null,{"$f":"IFERROR(VLOOKUP(E947,Teilnehmer!$B$3:$C$1002,2,0),\"\")","v":""}]
[null,null,null,{"$f":"IFERROR(VLOOKUP(C948,Teilnehmer!$B$3:$C$1002,2,0),\"\")","v":""},null,{"$f":"IFERROR(VLOOKUP(E948,Teilnehmer!$B$3:$C$1002,2,0),\"\")","v":""}]
[null,null,null,{"$f":"IFERROR(VLOOKUP(C949,Teilnehmer!$B$3:$C$1002,2,0),\"\")","v":""},null,{"$f":"IFERROR(VLOOKUP(E949,Teilnehmer!$B$3:$C$1002,2,0),\"\")","v":""}]
[null,null,null,{"$f":"IFERROR(VLOOKUP(C950,Teilnehmer!$B$3:$C$1002,2,0),\"\")","v":""},null,{"$f":"IFERROR(VLOOKUP(E950,Teilnehmer!$B$3:$C$1002,2,0),\"\")","v":""}]
[null,null,null,{"$f":"IFERROR(VLOOKUP(C951,Teilnehmer!$B$3:$C$1002,2,0),\"\")","v":""},null,{"$f":"IFERROR(VLOOKUP(E951,Teilnehmer!$B$3:$C$1002,2,0),\"\")","v":""}]
[null,null,null,{"$f":"IFERROR(VLOOKUP(C952,Teilnehmer!$B$3:$C$1002,2,0),\"\")","v":""},null,{"$f":"IFERROR(VLOOKUP(E952,Teilnehmer!$B$3:$C$1002,2,0),\"\")","v":""}]
[null,null,null,{"$f":"IFERROR(VLOOKUP(C953,Teilnehmer!$B$3:$C$1002,2,0),\"\")","v":""},null,{"$f":"IFERROR(VLOOKUP(E953,Teilnehmer!$B$3:$C$1002,2,0),\"\")","v":""}]
[null,null,null,{"$f":"IFERROR(VLOOKUP(C954,Teilnehmer!$B$3:$C$1002,2,0),\"\")","v":""},null,{"$f":"IFERROR(VLOOKUP(E954,Teilnehmer!$B$3:$C$1002,2,0),\"\")","v":""}]
[null,null,null,{"$f":"IFERROR(VLOOKUP(C955,Teilnehmer!$B$3:$C$1002,2,0),\"\")","v":""},null,{"$f":"IFERROR(VLOOKUP(E955,Teilnehmer!$B$3:$C$1002,2,0),\"\")","v":""}]
[null,null,null,{"$f":"IFERROR(VLOOKUP(C956,Teilnehmer!$B$3:$C$1002,2,0),\"\")","v":""},null,{"$f":"IFERROR(VLOOKUP(E956,Teilnehmer!$B$3:$C$1002,2,0),\"\")","v":""}]
[null,null,null,{"$f":"IFERROR(VLOOKUP(C957,Teilnehmer!$B$3:$C$1002,2,0),\"\")","v":""},null,{"$f":"IFERROR(VLOOKUP(E957,Teilnehmer!$B$3:$C$1002,2,0),\"\")","v":""}]
[null,null,null,{"$f":"IFERROR(VLOOKUP(C958,Teilnehmer!$B$3:$C$1002,2,0),\"\")","v":""},null,{"$f":"IFERROR(VLOOKUP(E958,Teilnehmer!$B$3:$C$1002,2,0),\"\")","v":""}]
[null,null,null,{"$f":"IFERROR(VLOOKUP(C959,Teilnehmer!$B$3:$C$1002,2,0),\"\")","v":""},null,{"$f":"IFERROR(VLOOKUP(E959,Teilnehmer!$B$3:$C$1002,2,0),\"\")","v":""}]
[null,null,null,{"$f":"IFERROR(VLOOKUP(C960,Teilnehmer!$B$3:$C$1002,2,0),\"\")","v":""},null,{"$f":"IFERROR(VLOOKUP(E960,Teilnehmer!$B$3:$C$1002,2,0),\"\")","v":""}]
[null,null,null,{"$f":"IFERROR(VLOOKUP(C961,Teilnehmer!$B$3:$C$1002,2,0),\"\")","v":""},null,{"$f":"IFERROR(VLOOKUP(E961,Teilnehmer!$B$3:$C$1002,2,0),\"\")","v":""}]
[null,null,null,{"$f":"IFERROR(VLOOKUP(C962,Teilnehmer!$B$3:$C$1002,2,0),\"\")","v":""},null,{"$f":"IFERROR(VLOOKUP(E962,Teilnehmer!$B$3:$C$1002,2,0),\"\")","v":""}]
[null,null,null,{"$f":"IFERROR(VLOOKUP(C963,Teilnehmer!$B$3:$C$1002,2,0),\"\")","v":""},null,{"$f":"IFERROR(VLOOKUP(E963,Teilnehmer!$B$3:$C$1002,2,0),\"\")","v":""}]
[null,null,null,{"$f":"IFERROR(VLOOKUP(C964,Teilnehmer!$B$3:$C$1002,2,0),\"\")","v":""},null,{"$f":"IFERROR(VLOOKUP(E964,Teilnehmer!$B$3:$C$1002,2,0),\"\")","v":""}]
[null,null,null,{"$f":"IFERROR(VLOOKUP(C965,Teilnehmer!$B$3:$C$1002,2,0),\"\")","v":""},null,{"$f":"IFERROR(VLOOKUP(E965,Teilnehmer!$B$3:$C$1002,2,0),\"\")","v":""}]
[null,null,null,{"$f":"IFERROR(VLOOKUP(C966,Teilnehmer!$B$3:$C$1002,2,0),\"\")","v":""},null,{"$f":"IFERROR(VLOOKUP(E966,Teilnehmer!$B$3:$C$1002,2,0),\"\")","v":""}]
[null,null,null,{"$f":"IFERROR(VLOOKUP(C967,Teilnehmer!$B$3:$C$1002,2,0),\"\")","v":""},null,{"$f":"IFERROR(VLOOKUP(E967,Teilnehmer!$B$3:$C$1002,2,0),\"\")","v":""}]
[null,null,null,{"$f":"IFERROR(VLOOKUP(C968,Teilnehmer!$B$3:$C$1002,2,0),\"\")","v":""},null,{"$f":"IFERROR(VLOOKUP(E968,Teilnehmer!$B$3:$C$1002,2,0),\"\")","v":""}]
[null,null,null,{"$f":"IFERROR(VLOOKUP(C969,Teilnehmer!$B$3:$C$1002,2,0),\"\")","v":""},null,{"$f":"IFERROR(VLOOKUP(E969,Teilnehmer!$B$3:$C$1002,2,0),\"\")","v":""}]
[null,null,null,{"$f":"IFERROR(VLOOKUP(C970,Teilnehmer!$B$3:$C$1002,2,0),\"\")","v":""},null,{"$f":"IFERROR(VLOOKUP(E970,Teilnehmer!$B$3:$C$1002,2,0),\"\")","v":""}]
[null,null,null,{"$f":"IFERROR(VLOOKUP(C971,Teilnehmer!$B$3:$C$1002,2,0),\"\")","v":""},null,{"$f":"IFERROR(VLOOKUP(E971,Teilnehmer!$B$3:$C$1002,2,0),\"\")","v":""}]
[null,null,null,{"$f":"IFERROR(VLOOKUP(C972,Teilnehmer!$B$3:$C$1002,2,0),\"\")","v":""},null,{"$f":"IFERROR(VLOOKUP(E972,Teilnehmer!$B$3:$C$1002,2,0),\"\")","v":""}]
[null,null,null,{"$f":"IFERROR(VLOOKUP(C973,Teilnehmer!$B$3:$C$1002,2,0),\"\")","v":""},null,{"$f":"IFERROR(VLOOKUP(E973,Teilnehmer!$B$3:$C$1002,2,0),\"\")","v":""}]
[null,null,null,{"$f":"IFERROR(VLOOKUP(C974,Teilnehmer!$B$3:$C$1002,2,0),\"\")","v":""},null,{"$f":"IFERROR(VLOOKUP(E974,Teilnehmer!$B$3:$C$1002,2,0),\"\")","v":""}]
[null,null,null,{"$f":"IFERROR(VLOOKUP(C975,Teilnehmer!$B$3:$C$1002,2,0),\"\")","v":""},null,{"$f":"IFERROR(VLOOKUP(E975,Teilnehmer!$B$3:$C$1002,2,0),\"\")","v":""}]
[null,null,null,{"$f":"IFERROR(VLOOKUP(C976,Teilnehmer!$B$3:$C$1002,2,0),\"\")","v":""},null,{"$f":"IFERROR(VLOOKUP(E976,Teilnehmer!$B$3:$C$1002,2,0),\"\")","v":""}]
[null,null,null,{"$f":"IFERROR(VLOOKUP(C977,Teilnehmer!$B$3:$C$1002,2,0),\"\")","v":""},null,{"$f":"IFERROR(VLOOKUP(E977,Teilnehmer!$B$3:$C$1002,2,0),\"\")","v":""}]
[null,null,null,{"$f":"IFERROR(VLOOKUP(C978,Teilnehmer!$B$3:$C$1002,2,0),\"\")","v":""},null,{"$f":"IFERROR(VLOOKUP(E978,Teilnehmer!$B$3:$C$1002,2,0),\"\")","v":""}]
[null,null,null,{"$f":"IFERROR(VLOOKUP(C979,Teilnehmer!$B$3:$C$1002,2,0),\"\")","v":""},null,{"$f":"IFERROR(VLOOKUP(E979,Teilnehmer!$B$3:$C$1002,2,0),\"\")","v":""}]
[null,null,null,{"$f":"IFERROR(VLOOKUP(C980,Teilnehmer!$B$3:$C$1002,2,0),\"\")","v":""},null,{"$f":"IFERROR(VLOOKUP(E980,Teilnehmer!$B$3:$C$1002,2,0),\"\")","v":""}]
[null,null,null,{"$f":"IFERROR(VLOOKUP(C981,Teilnehmer!$B$3:$C$1002,2,0),\"\")","v":""},null,{"$f":"IFERROR(VLOOKUP(E981,Teilnehmer!$B$3:$C$1002,2,0),\"\")","v":""}]
[null,null,null,{"$f":"IFERROR(VLOOKUP(C982,Teilnehmer!$B$3:$C$1002,2,0),\"\")","v":""},null,{"$f":"IFERROR(VLOOKUP(E982,Teilnehmer!$B$3:$C$1002,2,0),\"\")","v":""}]
[null,null,null,{"$f":"IFERROR(VLOOKUP(C983,Teilnehmer!$B$3:$C$1002,2,0),\"\")","v":""},null,{"$f":"IFERROR(VLOOKUP(E983,Teilnehmer!$B$3:$C$1002,2,0),\"\")","v":""}]
[null,null,null,{"$f":"IFERROR(VLOOKUP(C984,Teilnehmer!$B$3:$C$1002,2,0),\"\")","v":""},null,{"$f":"IFERROR(VLOOKUP(E984,Teilnehmer!$B$3:$C$1002,2,0),\"\")","v":""}]
[null,null,null,{"$f":"IFERROR(VLOOKUP(C985,Teilnehmer!$B$3:$C$1002,2,0),\"\")","v":""},null,{"$f":"IFERROR(VLOOKUP(E985,Teilnehmer!$B$3:$C$1002,2,0),\"\")","v":""}]
[null,null,null,{"$f":"IFERROR(VLOOKUP(C986,Teilnehmer!$B$3:$C$1002,2,0),\"\")","v":""},null,{"$f":"IFERROR(VLOOKUP(E986,Teilnehmer!$B$3:$C$1002,2,0),\"\")","v":""}]
[null,null,null,{"$f":"IFERROR(VLOOKUP(C987,Teilnehmer!$B$3:$C$1002,2,0),\"\")","v":""},null,{"$f":"IFERROR(VLOOKUP(E987,Teilnehmer!$B$3:$C$1002,2,0),\"\")","v":""}]
[null,null,null,{"$f":"IFERROR(VLOOKUP(C988,Teilnehmer!$B$3:$C$1002,2,0),\"\")","v":""},null,{"$f":"IFERROR(VLOOKUP(E988,Teilnehmer!$B$3:$C$1002,2,0),\"\")","v":""}]
[null,null,null,{"$f":"IFERROR(VLOOKUP(C989,Teilnehmer!$B$3:$C$1002,2,0),\"\")","v":""},null,{"$f":"IFERROR(VLOOKUP(E989,Teilnehmer!$B$3:$C$1002,2,0),\"\")","v":""}]
[null,null,null,{"$f":"IFERROR(VLOOKUP(C990,Teilnehmer!$B$3:$C$1002,2,0),\"\")","v":""},null,{"$f":"IFERROR(VLOOKUP(E990,Teilnehmer!$B$3:$C$1002,2,0),\"\")","v":""}]
[null,null,null,{"$f":"IFERROR(VLOOKUP(C991,Teilnehmer!$B$3:$C$1002,2,0),\"\")","v":""},null,{"$f":"IFERROR(VLOOKUP(E991,Teilnehmer!$B$3:$C$1002,2,0),\"\")","v":""}]
[null,null,null,{"$f":"IFERROR(VLOOKUP(C992,Teilnehmer!$B$3:$C$1002,2,0),\"\")","v":""},null,{"$f":"IFERROR(VLOOKUP(E992,Teilnehmer!$B$3:$C$1002,2,0),\"\")","v":""}]
[null,null,null,{"$f":"IFERROR(VLOOKUP(C993,Teilnehmer!$B$3:$C$1002,2,0),\"\")","v":""},null,{"$f":"IFERROR(VLOOKUP(E993,Teilnehmer!$B$3:$C$1002,2,0),\"\")","v":""}]
[null,null,null,{"$f":"IFERROR(VLOOKUP(C994,Teilnehmer!$B$3:$C$1002,2,0),\"\")","v":""},null,{"$f":"IFERROR(VLOOKUP(E994,Teilnehmer!$B$3:$C$1002,2,0),\"\")","v":""}]
[null,null,null,{"$f":"IFERROR(VLOOKUP(C995,Teilnehmer!$B$3:$C$1002,2,0),\"\")","v":""},null,{"$f":"IFERROR(VLOOKUP(E995,Teilnehmer!$B$3:$C$1002,2,0),\"\")","v":""}]
[null,null,null,{"$f":"IFERROR(VLOOKUP(C996,Teilnehmer!$B$3:$C$1002,2,0),\"\")","v":""},null,{"$f":"IFERROR(VLOOKUP(E996,Teilnehmer!$B$3:$C$1002,2,0),\"\")","v":""}]
[null,null,null,{"$f":"IFERROR(VLOOKUP(C997,Teilnehmer!$B$3:$C$1002,2,0),\"\")","v":""},null,{"$f":"IFERROR(VLOOKUP(E997,Teilnehmer!$B$3:$C$1002,2,0),\"\")","v":""}]
[null,null,null,{"$f":"IFERROR(VLOOKUP(C998,Teilnehmer!$B$3:$C$1002,2,0),\"\")","v":""},null,{"$f":"IFERROR(VLOOKUP(E998,Teilnehmer!$B$3:$C$1002,2,0),\"\")","v":""}]
[null,null,null,{"$f":"IFERROR(VLOOKUP(C999,Teilnehmer!$B$3:$C$1002,2,0),\"\")","v":""},null,{"$f":"IFERROR(VLOOKUP(E999,Teilnehmer!$B$3:$C$1002,2,0),\"\")","v":""}]
[null,null,null,{"$f":"IFERROR(VLOOKUP(C1000,Teilnehmer!$B$3:$C$1002,2,0),\"\")","v":""},null,{"$f":"IFERROR(VLOOKUP(E1000,Teilnehmer!$B$3:$C$1002,2,0),\"\")","v":""}]
[null,null,null,{"$f":"IFERROR(VLOOKUP(C1001,Teilnehmer!$B$3:$C$1002,2,0),\"\")","v":""},null,{"$f":"IFERROR(VLOOKUP(E1001,Teilnehmer!$B$3:$C$1002,2,0),\"\")","v":""}]
[null,null,null,{"$f":"IFERROR(VLOOKUP(C1002,Teilnehmer!$B$3:$C$1002,2,0),\"\")","v":""},null,{"$f":"IFERROR(VLOOKUP(E1002,Teilnehmer!$B$3:$C$1002,2,0),\"\")","v":""}]
[null,null,null,{"$f":"IFERROR(VLOOKUP(C1003,Teilnehmer!$B$3:$C$1002,2,0),\"\")","v":""},null,{"$f":"IFERROR(VLOOKUP(E1003,Teilnehmer!$B$3:$C$1002,2,0),\"\")","v":""}]
[null,null,null,{"$f":"IFERROR(VLOOKUP(C1004,Teilnehmer!$B$3:$C$1002,2,0),\"\")","v":""},null,{"$f":"IFERROR(VLOOKUP(E1004,Teilnehmer!$B$3:$C$1002,2,0),\"\")","v":""}]
[null,null,null,{"$f":"IFERROR(VLOOKUP(C1005,Teilnehmer!$B$3:$C$1002,2,0),\"\")","v":""},null,{"$f":"IFERROR(VLOOKUP(E1005,Teilnehmer!$B$3:$C$1002,2,0),\"\")","v":""}]
[null,null,null,{"$f":"IFERROR(VLOOKUP(C1006,Teilnehmer!$B$3:$C$1002,2,0),\"\")","v":""},null,{"$f":"IFERROR(VLOOKUP(E1006,Teilnehmer!$B$3:$C$1002,2,0),\"\")","v":""}]
[null,null,null,{"$f":"IFERROR(VLOOKUP(C1007,Teilnehmer!$B$3:$C$1002,2,0),\"\")","v":""},null,{"$f":"IFERROR(VLOOKUP(E1007,Teilnehmer!$B$3:$C$1002,2,0),\"\")","v":""}]
[null,null,null,{"$f":"IFERROR(VLOOKUP(C1008,Teilnehmer!$B$3:$C$1002,2,0),\"\")","v":""},null,{"$f":"IFERROR(VLOOKUP(E1008,Teilnehmer!$B$3:$C$1002,2,0),\"\")","v":""}]
[null,null,null,{"$f":"IFERROR(VLOOKUP(C1009,Teilnehmer!$B$3:$C$1002,2,0),\"\")","v":""},null,{"$f":"IFERROR(VLOOKUP(E1009,Teilnehmer!$B$3:$C$1002,2,0),\"\")","v":""}]
[null,null,null,{"$f":"IFERROR(VLOOKUP(C1010,Teilnehmer!$B$3:$C$1002,2,0),\"\")","v":""},null,{"$f":"IFERROR(VLOOKUP(E1010,Teilnehmer!$B$3:$C$1002,2,0),\"\")","v":""}]
[null,null,null,{"$f":"IFERROR(VLOOKUP(C1011,Teilnehmer!$B$3:$C$1002,2,0),\"\")","v":""},null,{"$f":"IFERROR(VLOOKUP(E1011,Teilnehmer!$B$3:$C$1002,2,0),\"\")","v":""}]
[null,null,null,{"$f":"IFERROR(VLOOKUP(C1012,Teilnehmer!$B$3:$C$1002,2,0),\"\")","v":""},null,{"$f":"IFERROR(VLOOKUP(E1012,Teilnehmer!$B$3:$C$1002,2,0),\"\")","v":""}]
[null,null,null,{"$f":"IFERROR(VLOOKUP(C1013,Teilnehmer!$B$3:$C$1002,2,0),\"\")","v":""},null,{"$f":"IFERROR(VLOOKUP(E1013,Teilnehmer!$B$3:$C$1002,2,0),\"\")","v":""}]
[null,null,null,{"$f":"IFERROR(VLOOKUP(C1014,Teilnehmer!$B$3:$C$1002,2,0),\"\")","v":""},null,{"$f":"IFERROR(VLOOKUP(E1014,Teilnehmer!$B$3:$C$1002,2,0),\"\")","v":""}]
[null,null,null,{"$f":"IFERROR(VLOOKUP(C1015,Teilnehmer!$B$3:$C$1002,2,0),\"\")","v":""},null,{"$f":"IFERROR(VLOOKUP(E1015,Teilnehmer!$B$3:$C$1002,2,0),\"\")","v":""}]
[null,null,null,{"$f":"IFERROR(VLOOKUP(C1016,Teilnehmer!$B$3:$C$1002,2,0),\"\")","v":""},null,{"$f":"IFERROR(VLOOKUP(E1016,Teilnehmer!$B$3:$C$1002,2,0),\"\")","v":""}]
[null,null,null,{"$f":"IFERROR(VLOOKUP(C1017,Teilnehmer!$B$3:$C$1002,2,0),\"\")","v":""},null,{"$f":"IFERROR(VLOOKUP(E1017,Teilnehmer!$B$3:$C$1002,2,0),\"\")","v":""}]
[null,null,null,{"$f":"IFERROR(VLOOKUP(C1018,Teilnehmer!$B$3:$C$1002,2,0),\"\")","v":""},null,{"$f":"IFERROR(VLOOKUP(E1018,Teilnehmer!$B$3:$C$1002,2,0),\"\")","v":""}]
[null,null,null,{"$f":"IFERROR(VLOOKUP(C1019,Teilnehmer!$B$3:$C$1002,2,0),\"\")","v":""},null,{"$f":"IFERROR(VLOOKUP(E1019,Teilnehmer!$B$3:$C$1002,2,0),\"\")","v":""}]
[null,null,null,{"$f":"IFERROR(VLOOKUP(C1020,Teilnehmer!$B$3:$C$1002,2,0),\"\")","v":""},null,{"$f":"IFERROR(VLOOKUP(E1020,Teilnehmer!$B$3:$C$1002,2,0),\"\")","v":""}]
[null,null,null,{"$f":"IFERROR(VLOOKUP(C1021,Teilnehmer!$B$3:$C$1002,2,0),\"\")","v":""},null,{"$f":"IFERROR(VLOOKUP(E1021,Teilnehmer!$B$3:$C$1002,2,0),\"\")","v":""}]
[null,null,null,{"$f":"IFERROR(VLOOKUP(C1022,Teilnehmer!$B$3:$C$1002,2,0),\"\")","v":""},null,{"$f":"IFERROR(VLOOKUP(E1022,Teilnehmer!$B$3:$C$1002,2,0),\"\")","v":""}]
[null,null,null,{"$f":"IFERROR(VLOOKUP(C1023,Teilnehmer!$B$3:$C$1002,2,0),\"\")","v":""},null,{"$f":"IFERROR(VLOOKUP(E1023,Teilnehmer!$B$3:$C$1002,2,0),\"\")","v":""}]
[null,null,null,{"$f":"IFERROR(VLOOKUP(C1024,Teilnehmer!$B$3:$C$1002,2,0),\"\")","v":""},null,{"$f":"IFERROR(VLOOKUP(E1024,Teilnehmer!$B$3:$C$1002,2,0),\"\")","v":""}]
[null,null,null,{"$f":"IFERROR(VLOOKUP(C1025,Teilnehmer!$B$3:$C$1002,2,0),\"\")","v":""},null,{"$f":"IFERROR(VLOOKUP(E1025,Teilnehmer!$B$3:$C$1002,2,0),\"\")","v":""}]
[null,null,null,{"$f":"IFERROR(VLOOKUP(C1026,Teilnehmer!$B$3:$C$1002,2,0),\"\")","v":""},null,{"$f":"IFERROR(VLOOKUP(E1026,Teilnehmer!$B$3:$C$1002,2,0),\"\")","v":""}]
[null,null,null,{"$f":"IFERROR(VLOOKUP(C1027,Teilnehmer!$B$3:$C$1002,2,0),\"\")","v":""},null,{"$f":"IFERROR(VLOOKUP(E1027,Teilnehmer!$B$3:$C$1002,2,0),\"\")","v":""}]
[null,null,null,{"$f":"IFERROR(VLOOKUP(C1028,Teilnehmer!$B$3:$C$1002,2,0),\"\")","v":""},null,{"$f":"IFERROR(VLOOKUP(E1028,Teilnehmer!$B$3:$C$1002,2,0),\"\")","v":""}]
[null,null,null,{"$f":"IFERROR(VLOOKUP(C1029,Teilnehmer!$B$3:$C$1002,2,0),\"\")","v":""},null,{"$f":"IFERROR(VLOOKUP(E1029,Teilnehmer!$B$3:$C$1002,2,0),\"\")","v":""}]
[null,null,null,{"$f":"IFERROR(VLOOKUP(C1030,Teilnehmer!$B$3:$C$1002,2,0),\"\")","v":""},null,{"$f":"IFERROR(VLOOKUP(E1030,Teilnehmer!$B$3:$C$1002,2,0),\"\")","v":""}]
[null,null,null,{"$f":"IFERROR(VLOOKUP(C1031,Teilnehmer!$B$3:$C$1002,2,0),\"\")","v":""},null,{"$f":"IFERROR(VLOOKUP(E1031,Teilnehmer!$B$3:$C$1002,2,0),\"\")","v":""}]
[null,null,null,{"$f":"IFERROR(VLOOKUP(C1032,Teilnehmer!$B$3:$C$1002,2,0),\"\")","v":""},null,{"$f":"IFERROR(VLOOKUP(E1032,Teilnehmer!$B$3:$C$1002,2,0),\"\")","v":""}]
[null,null,null,{"$f":"IFERROR(VLOOKUP(C1033,Teilnehmer!$B$3:$C$1002,2,0),\"\")","v":""},null,{"$f":"IFERROR(VLOOKUP(E1033,Teilnehmer!$B$3:$C$1002,2,0),\"\")","v":""}]
[null,null,null,{"$f":"IFERROR(VLOOKUP(C1034,Teilnehmer!$B$3:$C$1002,2,0),\"\")","v":""},null,{"$f":"IFERROR(VLOOKUP(E1034,Teilnehmer!$B$3:$C$1002,2,0),\"\")","v":""}]
[null,null,null,{"$f":"IFERROR(VLOOKUP(C1035,Teilnehmer!$B$3:$C$1002,2,0),\"\")","v":""},null,{"$f":"IFERROR(VLOOKUP(E1035,Teilnehmer!$B$3:$C$1002,2,0),\"\")","v":""}]
[null,null,null,{"$f":"IFERROR(VLOOKUP(C1036,Teilnehmer!$B$3:$C$1002,2,0),\"\")","v":""},null,{"$f":"IFERROR(VLOOKUP(E1036,Teilnehmer!$B$3:$C$1002,2,0),\"\")","v":""}]
[null,null,null,{"$f":"IFERROR(VLOOKUP(C1037,Teilnehmer!$B$3:$C$1002,2,0),\"\")","v":""},null,{"$f":"IFERROR(VLOOKUP(E1037,Teilnehmer!$B$3:$C$1002,2,0),\"\")","v":""}]
[null,null,null,{"$f":"IFERROR(VLOOKUP(C1038,Teilnehmer!$B$3:$C$1002,2,0),\"\")","v":""},null,{"$f":"IFERROR(VLOOKUP(E1038,Teilnehmer!$B$3:$C$1002,2,0),\"\")","v":""}]
[null,null,null,{"$f":"IFERROR(VLOOKUP(C1039,Teilnehmer!$B$3:$C$1002,2,0),\"\")","v":""},null,{"$f":"IFERROR(VLOOKUP(E1039,Teilnehmer!$B$3:$C$1002,2,0),\"\")","v":""}]
[null,null,null,{"$f":"IFERROR(VLOOKUP(C1040,Teilnehmer!$B$3:$C$1002,2,0),\"\")","v":""},null,{"$f":"IFERROR(VLOOKUP(E1040,Teilnehmer!$B$3:$C$1002,2,0),\"\")","v":""}]
[null,null,null,{"$f":"IFERROR(VLOOKUP(C1041,Teilnehmer!$B$3:$C$1002,2,0),\"\")","v":""},null,{"$f":"IFERROR(VLOOKUP(E1041,Teilnehmer!$B$3:$C$1002,2,0),\"\")","v":""}]
[null,null,null,{"$f":"IFERROR(VLOOKUP(C1042,Teilnehmer!$B$3:$C$1002,2,0),\"\")","v":""},null,{"$f":"IFERROR(VLOOKUP(E1042,Teilnehmer!$B$3:$C$1002,2,0),\"\")","v":""}]
[null,null,null,{"$f":"IFERROR(VLOOKUP(C1043,Teilnehmer!$B$3:$C$1002,2,0),\"\")","v":""},null,{"$f":"IFERROR(VLOOKUP(E1043,Teilnehmer!$B$3:$C$1002,2,0),\"\")","v":""}]
[null,null,null,{"$f":"IFERROR(VLOOKUP(C1044,Teilnehmer!$B$3:$C$1002,2,0),\"\")","v":""},null,{"$f":"IFERROR(VLOOKUP(E1044,Teilnehmer!$B$3:$C$1002,2,0),\"\")","v":""}]
[null,null,null,{"$f":"IFERROR(VLOOKUP(C1045,Teilnehmer!$B$3:$C$1002,2,0),\"\")","v":""},null,{"$f":"IFERROR(VLOOKUP(E1045,Teilnehmer!$B$3:$C$1002,2,0),\"\")","v":""}]
[null,null,null,{"$f":"IFERROR(VLOOKUP(C1046,Teilnehmer!$B$3:$C$1002,2,0),\"\")","v":""},null,{"$f":"IFERROR(VLOOKUP(E1046,Teilnehmer!$B$3:$C$1002,2,0),\"\")","v":""}]
[null,null,null,{"$f":"IFERROR(VLOOKUP(C1047,Teilnehmer!$B$3:$C$1002,2,0),\"\")","v":""},null,{"$f":"IFERROR(VLOOKUP(E1047,Teilnehmer!$B$3:$C$1002,2,0),\"\")","v":""}]
[null,null,null,{"$f":"IFERROR(VLOOKUP(C1048,Teilnehmer!$B$3:$C$1002,2,0),\"\")","v":""},null,{"$f":"IFERROR(VLOOKUP(E1048,Teilnehmer!$B$3:$C$1002,2,0),\"\")","v":""}]
[null,null,null,{"$f":"IFERROR(VLOOKUP(C1049,Teilnehmer!$B$3:$C$1002,2,0),\"\")","v":""},null,{"$f":"IFERROR(VLOOKUP(E1049,Teilnehmer!$B$3:$C$1002,2,0),\"\")","v":""}]
[null,null,null,{"$f":"IFERROR(VLOOKUP(C1050,Teilnehmer!$B$3:$C$1002,2,0),\"\")","v":""},null,{"$f":"IFERROR(VLOOKUP(E1050,Teilnehmer!$B$3:$C$1002,2,0),\"\")","v":""}]
[null,null,null,{"$f":"IFERROR(VLOOKUP(C1051,Teilnehmer!$B$3:$C$1002,2,0),\"\")","v":""},null,{"$f":"IFERROR(VLOOKUP(E1051,Teilnehmer!$B$3:$C$1002,2,0),\"\")","v":""}]
[null,null,null,{"$f":"IFERROR(VLOOKUP(C1052,Teilnehmer!$B$3:$C$1002,2,0),\"\")","v":""},null,{"$f":"IFERROR(VLOOKUP(E1052,Teilnehmer!$B$3:$C$1002,2,0),\"\")","v":""}]
[null,null,null,{"$f":"IFERROR(VLOOKUP(C1053,Teilnehmer!$B$3:$C$1002,2,0),\"\")","v":""},null,{"$f":"IFERROR(VLOOKUP(E1053,Teilnehmer!$B$3:$C$1002,2,0),\"\")","v":""}]
[null,null,null,{"$f":"IFERROR(VLOOKUP(C1054,Teilnehmer!$B$3:$C$1002,2,0),\"\")","v":""},null,{"$f":"IFERROR(VLOOKUP(E1054,Teilnehmer!$B$3:$C$1002,2,0),\"\")","v":""}]
[null,null,null,{"$f":"IFERROR(VLOOKUP(C1055,Teilnehmer!$B$3:$C$1002,2,0),\"\")","v":""},null,{"$f":"IFERROR(VLOOKUP(E1055,Teilnehmer!$B$3:$C$1002,2,0),\"\")","v":""}]
[null,null,null,{"$f":"IFERROR(VLOOKUP(C1056,Teilnehmer!$B$3:$C$1002,2,0),\"\")","v":""},null,{"$f":"IFERROR(VLOOKUP(E1056,Teilnehmer!$B$3:$C$1002,2,0),\"\")","v":""}]
[null,null,null,{"$f":"IFERROR(VLOOKUP(C1057,Teilnehmer!$B$3:$C$1002,2,0),\"\")","v":""},null,{"$f":"IFERROR(VLOOKUP(E1057,Teilnehmer!$B$3:$C$1002,2,0),\"\")","v":""}]
[null,null,null,{"$f":"IFERROR(VLOOKUP(C1058,Teilnehmer!$B$3:$C$1002,2,0),\"\")","v":""},null,{"$f":"IFERROR(VLOOKUP(E1058,Teilnehmer!$B$3:$C$1002,2,0),\"\")","v":""}]
[null,null,null,{"$f":"IFERROR(VLOOKUP(C1059,Teilnehmer!$B$3:$C$1002,2,0),\"\")","v":""},null,{"$f":"IFERROR(VLOOKUP(E1059,Teilnehmer!$B$3:$C$1002,2,0),\"\")","v":""}]
[null,null,null,{"$f":"IFERROR(VLOOKUP(C1060,Teilnehmer!$B$3:$C$1002,2,0),\"\")","v":""},null,{"$f":"IFERROR(VLOOKUP(E1060,Teilnehmer!$B$3:$C$1002,2,0),\"\")","v":""}]
[null,null,null,{"$f":"IFERROR(VLOOKUP(C1061,Teilnehmer!$B$3:$C$1002,2,0),\"\")","v":""},null,{"$f":"IFERROR(VLOOKUP(E1061,Teilnehmer!$B$3:$C$1002,2,0),\"\")","v":""}]
[null,null,null,{"$f":"IFERROR(VLOOKUP(C1062,Teilnehmer!$B$3:$C$1002,2,0),\"\")","v":""},null,{"$f":"IFERROR(VLOOKUP(E1062,Teilnehmer!$B$3:$C$1002,2,0),\"\")","v":""}]
[null,null,null,{"$f":"IFERROR(VLOOKUP(C1063,Teilnehmer!$B$3:$C$1002,2,0),\"\")","v":""},null,{"$f":"IFERROR(VLOOKUP(E1063,Teilnehmer!$B$3:$C$1002,2,0),\"\")","v":""}]
[null,null,null,{"$f":"IFERROR(VLOOKUP(C1064,Teilnehmer!$B$3:$C$1002,2,0),\"\")","v":""},null,{"$f":"IFERROR(VLOOKUP(E1064,Teilnehmer!$B$3:$C$1002,2,0),\"\")","v":""}]
[null,null,null,{"$f":"IFERROR(VLOOKUP(C1065,Teilnehmer!$B$3:$C$1002,2,0),\"\")","v":""},null,{"$f":"IFERROR(VLOOKUP(E1065,Teilnehmer!$B$3:$C$1002,2,0),\"\")","v":""}]
[null,null,null,{"$f":"IFERROR(VLOOKUP(C1066,Teilnehmer!$B$3:$C$1002,2,0),\"\")","v":""},null,{"$f":"IFERROR(VLOOKUP(E1066,Teilnehmer!$B$3:$C$1002,2,0),\"\")","v":""}]
[null,null,null,{"$f":"IFERROR(VLOOKUP(C1067,Teilnehmer!$B$3:$C$1002,2,0),\"\")","v":""},null,{"$f":"IFERROR(VLOOKUP(E1067,Teilnehmer!$B$3:$C$1002,2,0),\"\")","v":""}]
[null,null,null,{"$f":"IFERROR(VLOOKUP(C1068,Teilnehmer!$B$3:$C$1002,2,0),\"\")","v":""},null,{"$f":"IFERROR(VLOOKUP(E1068,Teilnehmer!$B$3:$C$1002,2,0),\"\")","v":""}]
[null,null,null,{"$f":"IFERROR(VLOOKUP(C1069,Teilnehmer!$B$3:$C$1002,2,0),\"\")","v":""},null,{"$f":"IFERROR(VLOOKUP(E1069,Teilnehmer!$B$3:$C$1002,2,0),\"\")","v":""}]
[null,null,null,{"$f":"IFERROR(VLOOKUP(C1070,Teilnehmer!$B$3:$C$1002,2,0),\"\")","v":""},null,{"$f":"IFERROR(VLOOKUP(E1070,Teilnehmer!$B$3:$C$1002,2,0),\"\")","v":""}]
[null,null,null,{"$f":"IFERROR(VLOOKUP(C1071,Teilnehmer!$B$3:$C$1002,2,0),\"\")","v":""},null,{"$f":"IFERROR(VLOOKUP(E1071,Teilnehmer!$B$3:$C$1002,2,0),\"\")","v":""}]
[null,null,null,{"$f":"IFERROR(VLOOKUP(C1072,Teilnehmer!$B$3:$C$1002,2,0),\"\")","v":""},null,{"$f":"IFERROR(VLOOKUP(E1072,Teilnehmer!$B$3:$C$1002,2,0),\"\")","v":""}]
[null,null,null,{"$f":"IFERROR(VLOOKUP(C1073,Teilnehmer!$B$3:$C$1002,2,0),\"\")","v":""},null,{"$f":"IFERROR(VLOOKUP(E1073,Teilnehmer!$B$3:$C$1002,2,0),\"\")","v":""}]
[null,null,null,{"$f":"IFERROR(VLOOKUP(C1074,Teilnehmer!$B$3:$C$1002,2,0),\"\")","v":""},null,{"$f":"IFERROR(VLOOKUP(E1074,Teilnehmer!$B$3:$C$1002,2,0),\"\")","v":""}]
[null,null,null,{"$f":"IFERROR(VLOOKUP(C1075,Teilnehmer!$B$3:$C$1002,2,0),\"\")","v":""},null,{"$f":"IFERROR(VLOOKUP(E1075,Teilnehmer!$B$3:$C$1002,2,0),\"\")","v":""}]
[null,null,null,{"$f":"IFERROR(VLOOKUP(C1076,Teilnehmer!$B$3:$C$1002,2,0),\"\")","v":""},null,{"$f":"IFERROR(VLOOKUP(E1076,Teilnehmer!$B$3:$C$1002,2,0),\"\")","v":""}]
[null,null,null,{"$f":"IFERROR(VLOOKUP(C1077,Teilnehmer!$B$3:$C$1002,2,0),\"\")","v":""},null,{"$f":"IFERROR(VLOOKUP(E1077,Teilnehmer!$B$3:$C$1002,2,0),\"\")","v":""}]
[null,null,null,{"$f":"IFERROR(VLOOKUP(C1078,Teilnehmer!$B$3:$C$1002,2,0),\"\")","v":""},null,{"$f":"IFERROR(VLOOKUP(E1078,Teilnehmer!$B$3:$C$1002,2,0),\"\")","v":""}]
[null,null,null,{"$f":"IFERROR(VLOOKUP(C1079,Teilnehmer!$B$3:$C$1002,2,0),\"\")","v":""},null,{"$f":"IFERROR(VLOOKUP(E1079,Teilnehmer!$B$3:$C$1002,2,0),\"\")","v":""}]
[null,null,null,{"$f":"IFERROR(VLOOKUP(C1080,Teilnehmer!$B$3:$C$1002,2,0),\"\")","v":""},null,{"$f":"IFERROR(VLOOKUP(E1080,Teilnehmer!$B$3:$C$1002,2,0),\"\")","v":""}]
[null,null,null,{"$f":"IFERROR(VLOOKUP(C1081,Teilnehmer!$B$3:$C$1002,2,0),\"\")","v":""},null,{"$f":"IFERROR(VLOOKUP(E1081,Teilnehmer!$B$3:$C$1002,2,0),\"\")","v":""}]
[null,null,null,{"$f":"IFERROR(VLOOKUP(C1082,Teilnehmer!$B$3:$C$1002,2,0),\"\")","v":""},null,{"$f":"IFERROR(VLOOKUP(E1082,Teilnehmer!$B$3:$C$1002,2,0),\"\")","v":""}]
[null,null,null,{"$f":"IFERROR(VLOOKUP(C1083,Teilnehmer!$B$3:$C$1002,2,0),\"\")","v":""},null,{"$f":"IFERROR(VLOOKUP(E1083,Teilnehmer!$B$3:$C$1002,2,0),\"\")","v":""}]
[null,null,null,{"$f":"IFERROR(VLOOKUP(C1084,Teilnehmer!$B$3:$C$1002,2,0),\"\")","v":""},null,{"$f":"IFERROR(VLOOKUP(E1084,Teilnehmer!$B$3:$C$1002,2,0),\"\")","v":""}]
[null,null,null,{"$f":"IFERROR(VLOOKUP(C1085,Teilnehmer!$B$3:$C$1002,2,0),\"\")","v":""},null,{"$f":"IFERROR(VLOOKUP(E1085,Teilnehmer!$B$3:$C$1002,2,0),\"\")","v":""}]
[null,null,null,{"$f":"IFERROR(VLOOKUP(C1086,Teilnehmer!$B$3:$C$1002,2,0),\"\")","v":""},null,{"$f":"IFERROR(VLOOKUP(E1086,Teilnehmer!$B$3:$C$1002,2,0),\"\")","v":""}]
[null,null,null,{"$f":"IFERROR(VLOOKUP(C1087,Teilnehmer!$B$3:$C$1002,2,0),\"\")","v":""},null,{"$f":"IFERROR(VLOOKUP(E1087,Teilnehmer!$B$3:$C$1002,2,0),\"\")","v":""}]
[null,null,null,{"$f":"IFERROR(VLOOKUP(C1088,Teilnehmer!$B$3:$C$1002,2,0),\"\")","v":""},null,{"$f":"IFERROR(VLOOKUP(E1088,Teilnehmer!$B$3:$C$1002,2,0),\"\")","v":""}]
[null,null,null,{"$f":"IFERROR(VLOOKUP(C1089,Teilnehmer!$B$3:$C$1002,2,0),\"\")","v":""},null,{"$f":"IFERROR(VLOOKUP(E1089,Teilnehmer!$B$3:$C$1002,2,0),\"\")","v":""}]
[null,null,null,{"$f":"IFERROR(VLOOKUP(C1090,Teilnehmer!$B$3:$C$1002,2,0),\"\")","v":""},null,{"$f":"IFERROR(VLOOKUP(E1090,Teilnehmer!$B$3:$C$1002,2,0),\"\")","v":""}]
[null,null,null,{"$f":"IFERROR(VLOOKUP(C1091,Teilnehmer!$B$3:$C$1002,2,0),\"\")","v":""},null,{"$f":"IFERROR(VLOOKUP(E1091,Teilnehmer!$B$3:$C$1002,2,0),\"\")","v":""}]
[null,null,null,{"$f":"IFERROR(VLOOKUP(C1092,Teilnehmer!$B$3:$C$1002,2,0),\"\")","v":""},null,{"$f":"IFERROR(VLOOKUP(E1092,Teilnehmer!$B$3:$C$1002,2,0),\"\")","v":""}]
[null,null,null,{"$f":"IFERROR(VLOOKUP(C1093,Teilnehmer!$B$3:$C$1002,2,0),\"\")","v":""},null,{"$f":"IFERROR(VLOOKUP(E1093,Teilnehmer!$B$3:$C$1002,2,0),\"\")","v":""}]
[null,null,null,{"$f":"IFERROR(VLOOKUP(C1094,Teilnehmer!$B$3:$C$1002,2,0),\"\")","v":""},null,{"$f":"IFERROR(VLOOKUP(E1094,Teilnehmer!$B$3:$C$1002,2,0),\"\")","v":""}]
[null,null,null,{"$f":"IFERROR(VLOOKUP(C1095,Teilnehmer!$B$3:$C$1002,2,0),\"\")","v":""},null,{"$f":"IFERROR(VLOOKUP(E1095,Teilnehmer!$B$3:$C$1002,2,0),\"\")","v":""}]
[null,null,null,{"$f":"IFERROR(VLOOKUP(C1096,Teilnehmer!$B$3:$C$1002,2,0),\"\")","v":""},null,{"$f":"IFERROR(VLOOKUP(E1096,Teilnehmer!$B$3:$C$1002,2,0),\"\")","v":""}]
[null,null,null,{"$f":"IFERROR(VLOOKUP(C1097,Teilnehmer!$B$3:$C$1002,2,0),\"\")","v":""},null,{"$f":"IFERROR(VLOOKUP(E1097,Teilnehmer!$B$3:$C$1002,2,0),\"\")","v":""}]
[null,null,null,{"$f":"IFERROR(VLOOKUP(C1098,Teilnehmer!$B$3:$C$1002,2,0),\"\")","v":""},null,{"$f":"IFERROR(VLOOKUP(E1098,Teilnehmer!$B$3:$C$1002,2,0),\"\")","v":""}]
[null,null,null,{"$f":"IFERROR(VLOOKUP(C1099,Teilnehmer!$B$3:$C$1002,2,0),\"\")","v":""},null,{"$f":"IFERROR(VLOOKUP(E1099,Teilnehmer!$B$3:$C$1002,2,0),\"\")","v":""}]
[null,null,null,{"$f":"IFERROR(VLOOKUP(C1100,Teilnehmer!$B$3:$C$1002,2,0),\"\")","v":""},null,{"$f":"IFERROR(VLOOKUP(E1100,Teilnehmer!$B$3:$C$1002,2,0),\"\")","v":""}]
[null,null,null,{"$f":"IFERROR(VLOOKUP(C1101,Teilnehmer!$B$3:$C$1002,2,0),\"\")","v":""},null,{"$f":"IFERROR(VLOOKUP(E1101,Teilnehmer!$B$3:$C$1002,2,0),\"\")","v":""}]
[null,null,null,{"$f":"IFERROR(VLOOKUP(C1102,Teilnehmer!$B$3:$C$1002,2,0),\"\")","v":""},null,{"$f":"IFERROR(VLOOKUP(E1102,Teilnehmer!$B$3:$C$1002,2,0),\"\")","v":""}]
[null,null,null,{"$f":"IFERROR(VLOOKUP(C1103,Teilnehmer!$B$3:$C$1002,2,0),\"\")","v":""},null,{"$f":"IFERROR(VLOOKUP(E1103,Teilnehmer!$B$3:$C$1002,2,0),\"\")","v":""}]
[null,null,null,{"$f":"IFERROR(VLOOKUP(C1104,Teilnehmer!$B$3:$C$1002,2,0),\"\")","v":""},null,{"$f":"IFERROR(VLOOKUP(E1104,Teilnehmer!$B$3:$C$1002,2,0),\"\")","v":""}]
[null,null,null,{"$f":"IFERROR(VLOOKUP(C1105,Teilnehmer!$B$3:$C$1002,2,0),\"\")","v":""},null,{"$f":"IFERROR(VLOOKUP(E1105,Teilnehmer!$B$3:$C$1002,2,0),\"\")","v":""}]
[null,null,null,{"$f":"IFERROR(VLOOKUP(C1106,Teilnehmer!$B$3:$C$1002,2,0),\"\")","v":""},null,{"$f":"IFERROR(VLOOKUP(E1106,Teilnehmer!$B$3:$C$1002,2,0),\"\")","v":""}]
[null,null,null,{"$f":"IFERROR(VLOOKUP(C1107,Teilnehmer!$B$3:$C$1002,2,0),\"\")","v":""},null,{"$f":"IFERROR(VLOOKUP(E1107,Teilnehmer!$B$3:$C$1002,2,0),\"\")","v":""}]
[null,null,null,{"$f":"IFERROR(VLOOKUP(C1108,Teilnehmer!$B$3:$C$1002,2,0),\"\")","v":""},null,{"$f":"IFERROR(VLOOKUP(E1108,Teilnehmer!$B$3:$C$1002,2,0),\"\")","v":""}]
[null,null,null,{"$f":"IFERROR(VLOOKUP(C1109,Teilnehmer!$B$3:$C$1002,2,0),\"\")","v":""},null,{"$f":"IFERROR(VLOOKUP(E1109,Teilnehmer!$B$3:$C$1002,2,0),\"\")","v":""}]
[null,null,null,{"$f":"IFERROR(VLOOKUP(C1110,Teilnehmer!$B$3:$C$1002,2,0),\"\")","v":""},null,{"$f":"IFERROR(VLOOKUP(E1110,Teilnehmer!$B$3:$C$1002,2,0),\"\")","v":""}]
[null,null,null,{"$f":"IFERROR(VLOOKUP(C1111,Teilnehmer!$B$3:$C$1002,2,0),\"\")","v":""},null,{"$f":"IFERROR(VLOOKUP(E1111,Teilnehmer!$B$3:$C$1002,2,0),\"\")","v":""}]
[null,null,null,{"$f":"IFERROR(VLOOKUP(C1112,Teilnehmer!$B$3:$C$1002,2,0),\"\")","v":""},null,{"$f":"IFERROR(VLOOKUP(E1112,Teilnehmer!$B$3:$C$1002,2,0),\"\")","v":""}]
[null,null,null,{"$f":"IFERROR(VLOOKUP(C1113,Teilnehmer!$B$3:$C$1002,2,0),\"\")","v":""},null,{"$f":"IFERROR(VLOOKUP(E1113,Teilnehmer!$B$3:$C$1002,2,0),\"\")","v":""}]
[null,null,null,{"$f":"IFERROR(VLOOKUP(C1114,Teilnehmer!$B$3:$C$1002,2,0),\"\")","v":""},null,{"$f":"IFERROR(VLOOKUP(E1114,Teilnehmer!$B$3:$C$1002,2,0),\"\")","v":""}]
[null,null,null,{"$f":"IFERROR(VLOOKUP(C1115,Teilnehmer!$B$3:$C$1002,2,0),\"\")","v":""},null,{"$f":"IFERROR(VLOOKUP(E1115,Teilnehmer!$B$3:$C$1002,2,0),\"\")","v":""}]
[null,null,null,{"$f":"IFERROR(VLOOKUP(C1116,Teilnehmer!$B$3:$C$1002,2,0),\"\")","v":""},null,{"$f":"IFERROR(VLOOKUP(E1116,Teilnehmer!$B$3:$C$1002,2,0),\"\")","v":""}]
[null,null,null,{"$f":"IFERROR(VLOOKUP(C1117,Teilnehmer!$B$3:$C$1002,2,0),\"\")","v":""},null,{"$f":"IFERROR(VLOOKUP(E1117,Teilnehmer!$B$3:$C$1002,2,0),\"\")","v":""}]
[null,null,null,{"$f":"IFERROR(VLOOKUP(C1118,Teilnehmer!$B$3:$C$1002,2,0),\"\")","v":""},null,{"$f":"IFERROR(VLOOKUP(E1118,Teilnehmer!$B$3:$C$1002,2,0),\"\")","v":""}]
[null,null,null,{"$f":"IFERROR(VLOOKUP(C1119,Teilnehmer!$B$3:$C$1002,2,0),\"\")","v":""},null,{"$f":"IFERROR(VLOOKUP(E1119,Teilnehmer!$B$3:$C$1002,2,0),\"\")","v":""}]
[null,null,null,{"$f":"IFERROR(VLOOKUP(C1120,Teilnehmer!$B$3:$C$1002,2,0),\"\")","v":""},null,{"$f":"IFERROR(VLOOKUP(E1120,Teilnehmer!$B$3:$C$1002,2,0),\"\")","v":""}]
[null,null,null,{"$f":"IFERROR(VLOOKUP(C1121,Teilnehmer!$B$3:$C$1002,2,0),\"\")","v":""},null,{"$f":"IFERROR(VLOOKUP(E1121,Teilnehmer!$B$3:$C$1002,2,0),\"\")","v":""}]
[null,null,null,{"$f":"IFERROR(VLOOKUP(C1122,Teilnehmer!$B$3:$C$1002,2,0),\"\")","v":""},null,{"$f":"IFERROR(VLOOKUP(E1122,Teilnehmer!$B$3:$C$1002,2,0),\"\")","v":""}]
[null,null,null,{"$f":"IFERROR(VLOOKUP(C1123,Teilnehmer!$B$3:$C$1002,2,0),\"\")","v":""},null,{"$f":"IFERROR(VLOOKUP(E1123,Teilnehmer!$B$3:$C$1002,2,0),\"\")","v":""}]
[null,null,null,{"$f":"IFERROR(VLOOKUP(C1124,Teilnehmer!$B$3:$C$1002,2,0),\"\")","v":""},null,{"$f":"IFERROR(VLOOKUP(E1124,Teilnehmer!$B$3:$C$1002,2,0),\"\")","v":""}]
[null,null,null,{"$f":"IFERROR(VLOOKUP(C1125,Teilnehmer!$B$3:$C$1002,2,0),\"\")","v":""},null,{"$f":"IFERROR(VLOOKUP(E1125,Teilnehmer!$B$3:$C$1002,2,0),\"\")","v":""}]
[null,null,null,{"$f":"IFERROR(VLOOKUP(C1126,Teilnehmer!$B$3:$C$1002,2,0),\"\")","v":""},null,{"$f":"IFERROR(VLOOKUP(E1126,Teilnehmer!$B$3:$C$1002,2,0),\"\")","v":""}]
[null,null,null,{"$f":"IFERROR(VLOOKUP(C1127,Teilnehmer!$B$3:$C$1002,2,0),\"\")","v":""},null,{"$f":"IFERROR(VLOOKUP(E1127,Teilnehmer!$B$3:$C$1002,2,0),\"\")","v":""}]
[null,null,null,{"$f":"IFERROR(VLOOKUP(C1128,Teilnehmer!$B$3:$C$1002,2,0),\"\")","v":""},null,{"$f":"IFERROR(VLOOKUP(E1128,Teilnehmer!$B$3:$C$1002,2,0),\"\")","v":""}]
[null,null,null,{"$f":"IFERROR(VLOOKUP(C1129,Teilnehmer!$B$3:$C$1002,2,0),\"\")","v":""},null,{"$f":"IFERROR(VLOOKUP(E1129,Teilnehmer!$B$3:$C$1002,2,0),\"\")","v":""}]
[null,null,null,{"$f":"IFERROR(VLOOKUP(C1130,Teilnehmer!$B$3:$C$1002,2,0),\"\")","v":""},null,{"$f":"IFERROR(VLOOKUP(E1130,Teilnehmer!$B$3:$C$1002,2,0),\"\")","v":""}]
[null,null,null,{"$f":"IFERROR(VLOOKUP(C1131,Teilnehmer!$B$3:$C$1002,2,0),\"\")","v":""},null,{"$f":"IFERROR(VLOOKUP(E1131,Teilnehmer!$B$3:$C$1002,2,0),\"\")","v":""}]
[null,null,null,{"$f":"IFERROR(VLOOKUP(C1132,Teilnehmer!$B$3:$C$1002,2,0),\"\")","v":""},null,{"$f":"IFERROR(VLOOKUP(E1132,Teilnehmer!$B$3:$C$1002,2,0),\"\")","v":""}]
[null,null,null,{"$f":"IFERROR(VLOOKUP(C1133,Teilnehmer!$B$3:$C$1002,2,0),\"\")","v":""},null,{"$f":"IFERROR(VLOOKUP(E1133,Teilnehmer!$B$3:$C$1002,2,0),\"\")","v":""}]
[null,null,null,{"$f":"IFERROR(VLOOKUP(C1134,Teilnehmer!$B$3:$C$1002,2,0),\"\")","v":""},null,{"$f":"IFERROR(VLOOKUP(E1134,Teilnehmer!$B$3:$C$1002,2,0),\"\")","v":""}]
[null,null,null,{"$f":"IFERROR(VLOOKUP(C1135,Teilnehmer!$B$3:$C$1002,2,0),\"\")","v":""},null,{"$f":"IFERROR(VLOOKUP(E1135,Teilnehmer!$B$3:$C$1002,2,0),\"\")","v":""}]
[null,null,null,{"$f":"IFERROR(VLOOKUP(C1136,Teilnehmer!$B$3:$C$1002,2,0),\"\")","v":""},null,{"$f":"IFERROR(VLOOKUP(E1136,Teilnehmer!$B$3:$C$1002,2,0),\"\")","v":""}]
[null,null,null,{"$f":"IFERROR(VLOOKUP(C1137,Teilnehmer!$B$3:$C$1002,2,0),\"\")","v":""},null,{"$f":"IFERROR(VLOOKUP(E1137,Teilnehmer!$B$3:$C$1002,2,0),\"\")","v":""}]
[null,null,null,{"$f":"IFERROR(VLOOKUP(C1138,Teilnehmer!$B$3:$C$1002,2,0),\"\")","v":""},null,{"$f":"IFERROR(VLOOKUP(E1138,Teilnehmer!$B$3:$C$1002,2,0),\"\")","v":""}]
[null,null,null,{"$f":"IFERROR(VLOOKUP(C1139,Teilnehmer!$B$3:$C$1002,2,0),\"\")","v":""},null,{"$f":"IFERROR(VLOOKUP(E1139,Teilnehmer!$B$3:$C$1002,2,0),\"\")","v":""}]
[null,null,null,{"$f":"IFERROR(VLOOKUP(C1140,Teilnehmer!$B$3:$C$1002,2,0),\"\")","v":""},null,{"$f":"IFERROR(VLOOKUP(E1140,Teilnehmer!$B$3:$C$1002,2,0),\"\")","v":""}]
[null,null,null,{"$f":"IFERROR(VLOOKUP(C1141,Teilnehmer!$B$3:$C$1002,2,0),\"\")","v":""},null,{"$f":"IFERROR(VLOOKUP(E1141,Teilnehmer!$B$3:$C$1002,2,0),\"\")","v":""}]
[null,null,null,{"$f":"IFERROR(VLOOKUP(C1142,Teilnehmer!$B$3:$C$1002,2,0),\"\")","v":""},null,{"$f":"IFERROR(VLOOKUP(E1142,Teilnehmer!$B$3:$C$1002,2,0),\"\")","v":""}]
[null,null,null,{"$f":"IFERROR(VLOOKUP(C1143,Teilnehmer!$B$3:$C$1002,2,0),\"\")","v":""},null,{"$f":"IFERROR(VLOOKUP(E1143,Teilnehmer!$B$3:$C$1002,2,0),\"\")","v":""}]
[null,null,null,{"$f":"IFERROR(VLOOKUP(C1144,Teilnehmer!$B$3:$C$1002,2,0),\"\")","v":""},null,{"$f":"IFERROR(VLOOKUP(E1144,Teilnehmer!$B$3:$C$1002,2,0),\"\")","v":""}]
[null,null,null,{"$f":"IFERROR(VLOOKUP(C1145,Teilnehmer!$B$3:$C$1002,2,0),\"\")","v":""},null,{"$f":"IFERROR(VLOOKUP(E1145,Teilnehmer!$B$3:$C$1002,2,0),\"\")","v":""}]
[null,null,null,{"$f":"IFERROR(VLOOKUP(C1146,Teilnehmer!$B$3:$C$1002,2,0),\"\")","v":""},null,{"$f":"IFERROR(VLOOKUP(E1146,Teilnehmer!$B$3:$C$1002,2,0),\"\")","v":""}]
[null,null,null,{"$f":"IFERROR(VLOOKUP(C1147,Teilnehmer!$B$3:$C$1002,2,0),\"\")","v":""},null,{"$f":"IFERROR(VLOOKUP(E1147,Teilnehmer!$B$3:$C$1002,2,0),\"\")","v":""}]
[null,null,null,{"$f":"IFERROR(VLOOKUP(C1148,Teilnehmer!$B$3:$C$1002,2,0),\"\")","v":""},null,{"$f":"IFERROR(VLOOKUP(E1148,Teilnehmer!$B$3:$C$1002,2,0),\"\")","v":""}]
[null,null,null,{"$f":"IFERROR(VLOOKUP(C1149,Teilnehmer!$B$3:$C$1002,2,0),\"\")","v":""},null,{"$f":"IFERROR(VLOOKUP(E1149,Teilnehmer!$B$3:$C$1002,2,0),\"\")","v":""}]
[null,null,null,{"$f":"IFERROR(VLOOKUP(C1150,Teilnehmer!$B$3:$C$1002,2,0),\"\")","v":""},null,{"$f":"IFERROR(VLOOKUP(E1150,Teilnehmer!$B$3:$C$1002,2,0),\"\")","v":""}]
[null,null,null,{"$f":"IFERROR(VLOOKUP(C1151,Teilnehmer!$B$3:$C$1002,2,0),\"\")","v":""},null,{"$f":"IFERROR(VLOOKUP(E1151,Teilnehmer!$B$3:$C$1002,2,0),\"\")","v":""}]
[null,null,null,{"$f":"IFERROR(VLOOKUP(C1152,Teilnehmer!$B$3:$C$1002,2,0),\"\")","v":""},null,{"$f":"IFERROR(VLOOKUP(E1152,Teilnehmer!$B$3:$C$1002,2,0),\"\")","v":""}]
[null,null,null,{"$f":"IFERROR(VLOOKUP(C1153,Teilnehmer!$B$3:$C$1002,2,0),\"\")","v":""},null,{"$f":"IFERROR(VLOOKUP(E1153,Teilnehmer!$B$3:$C$1002,2,0),\"\")","v":""}]
[null,null,null,{"$f":"IFERROR(VLOOKUP(C1154,Teilnehmer!$B$3:$C$1002,2,0),\"\")","v":""},null,{"$f":"IFERROR(VLOOKUP(E1154,Teilnehmer!$B$3:$C$1002,2,0),\"\")","v":""}]
[null,null,null,{"$f":"IFERROR(VLOOKUP(C1155,Teilnehmer!$B$3:$C$1002,2,0),\"\")","v":""},null,{"$f":"IFERROR(VLOOKUP(E1155,Teilnehmer!$B$3:$C$1002,2,0),\"\")","v":""}]
[null,null,null,{"$f":"IFERROR(VLOOKUP(C1156,Teilnehmer!$B$3:$C$1002,2,0),\"\")","v":""},null,{"$f":"IFERROR(VLOOKUP(E1156,Teilnehmer!$B$3:$C$1002,2,0),\"\")","v":""}]
[null,null,null,{"$f":"IFERROR(VLOOKUP(C1157,Teilnehmer!$B$3:$C$1002,2,0),\"\")","v":""},null,{"$f":"IFERROR(VLOOKUP(E1157,Teilnehmer!$B$3:$C$1002,2,0),\"\")","v":""}]
[null,null,null,{"$f":"IFERROR(VLOOKUP(C1158,Teilnehmer!$B$3:$C$1002,2,0),\"\")","v":""},null,{"$f":"IFERROR(VLOOKUP(E1158,Teilnehmer!$B$3:$C$1002,2,0),\"\")","v":""}]
[null,null,null,{"$f":"IFERROR(VLOOKUP(C1159,Teilnehmer!$B$3:$C$1002,2,0),\"\")","v":""},null,{"$f":"IFERROR(VLOOKUP(E1159,Teilnehmer!$B$3:$C$1002,2,0),\"\")","v":""}]
[null,null,null,{"$f":"IFERROR(VLOOKUP(C1160,Teilnehmer!$B$3:$C$1002,2,0),\"\")","v":""},null,{"$f":"IFERROR(VLOOKUP(E1160,Teilnehmer!$B$3:$C$1002,2,0),\"\")","v":""}]
[null,null,null,{"$f":"IFERROR(VLOOKUP(C1161,Teilnehmer!$B$3:$C$1002,2,0),\"\")","v":""},null,{"$f":"IFERROR(VLOOKUP(E1161,Teilnehmer!$B$3:$C$1002,2,0),\"\")","v":""}]
[null,null,null,{"$f":"IFERROR(VLOOKUP(C1162,Teilnehmer!$B$3:$C$1002,2,0),\"\")","v":""},null,{"$f":"IFERROR(VLOOKUP(E1162,Teilnehmer!$B$3:$C$1002,2,0),\"\")","v":""}]
[null,null,null,{"$f":"IFERROR(VLOOKUP(C1163,Teilnehmer!$B$3:$C$1002,2,0),\"\")","v":""},null,{"$f":"IFERROR(VLOOKUP(E1163,Teilnehmer!$B$3:$C$1002,2,0),\"\")","v":""}]
[null,null,null,{"$f":"IFERROR(VLOOKUP(C1164,Teilnehmer!$B$3:$C$1002,2,0),\"\")","v":""},null,{"$f":"IFERROR(VLOOKUP(E1164,Teilnehmer!$B$3:$C$1002,2,0),\"\")","v":""}]
[null,null,null,{"$f":"IFERROR(VLOOKUP(C1165,Teilnehmer!$B$3:$C$1002,2,0),\"\")","v":""},null,{"$f":"IFERROR(VLOOKUP(E1165,Teilnehmer!$B$3:$C$1002,2,0),\"\")","v":""}]
[null,null,null,{"$f":"IFERROR(VLOOKUP(C1166,Teilnehmer!$B$3:$C$1002,2,0),\"\")","v":""},null,{"$f":"IFERROR(VLOOKUP(E1166,Teilnehmer!$B$3:$C$1002,2,0),\"\")","v":""}]
[null,null,null,{"$f":"IFERROR(VLOOKUP(C1167,Teilnehmer!$B$3:$C$1002,2,0),\"\")","v":""},null,{"$f":"IFERROR(VLOOKUP(E1167,Teilnehmer!$B$3:$C$1002,2,0),\"\")","v":""}]
[null,null,null,{"$f":"IFERROR(VLOOKUP(C1168,Teilnehmer!$B$3:$C$1002,2,0),\"\")","v":""},null,{"$f":"IFERROR(VLOOKUP(E1168,Teilnehmer!$B$3:$C$1002,2,0),\"\")","v":""}]
[null,null,null,{"$f":"IFERROR(VLOOKUP(C1169,Teilnehmer!$B$3:$C$1002,2,0),\"\")","v":""},null,{"$f":"IFERROR(VLOOKUP(E1169,Teilnehmer!$B$3:$C$1002,2,0),\"\")","v":""}]
[null,null,null,{"$f":"IFERROR(VLOOKUP(C1170,Teilnehmer!$B$3:$C$1002,2,0),\"\")","v":""},null,{"$f":"IFERROR(VLOOKUP(E1170,Teilnehmer!$B$3:$C$1002,2,0),\"\")","v":""}]
[null,null,null,{"$f":"IFERROR(VLOOKUP(C1171,Teilnehmer!$B$3:$C$1002,2,0),\"\")","v":""},null,{"$f":"IFERROR(VLOOKUP(E1171,Teilnehmer!$B$3:$C$1002,2,0),\"\")","v":""}]
[null,null,null,{"$f":"IFERROR(VLOOKUP(C1172,Teilnehmer!$B$3:$C$1002,2,0),\"\")","v":""},null,{"$f":"IFERROR(VLOOKUP(E1172,Teilnehmer!$B$3:$C$1002,2,0),\"\")","v":""}]
[null,null,null,{"$f":"IFERROR(VLOOKUP(C1173,Teilnehmer!$B$3:$C$1002,2,0),\"\")","v":""},null,{"$f":"IFERROR(VLOOKUP(E1173,Teilnehmer!$B$3:$C$1002,2,0),\"\")","v":""}]
[null,null,null,{"$f":"IFERROR(VLOOKUP(C1174,Teilnehmer!$B$3:$C$1002,2,0),\"\")","v":""},null,{"$f":"IFERROR(VLOOKUP(E1174,Teilnehmer!$B$3:$C$1002,2,0),\"\")","v":""}]
[null,null,null,{"$f":"IFERROR(VLOOKUP(C1175,Teilnehmer!$B$3:$C$1002,2,0),\"\")","v":""},null,{"$f":"IFERROR(VLOOKUP(E1175,Teilnehmer!$B$3:$C$1002,2,0),\"\")","v":""}]
[null,null,null,{"$f":"IFERROR(VLOOKUP(C1176,Teilnehmer!$B$3:$C$1002,2,0),\"\")","v":""},null,{"$f":"IFERROR(VLOOKUP(E1176,Teilnehmer!$B$3:$C$1002,2,0),\"\")","v":""}]
[null,null,null,{"$f":"IFERROR(VLOOKUP(C1177,Teilnehmer!$B$3:$C$1002,2,0),\"\")","v":""},null,{"$f":"IFERROR(VLOOKUP(E1177,Teilnehmer!$B$3:$C$1002,2,0),\"\")","v":""}]
[null,null,null,{"$f":"IFERROR(VLOOKUP(C1178,Teilnehmer!$B$3:$C$1002,2,0),\"\")","v":""},null,{"$f":"IFERROR(VLOOKUP(E1178,Teilnehmer!$B$3:$C$1002,2,0),\"\")","v":""}]
[null,null,null,{"$f":"IFERROR(VLOOKUP(C1179,Teilnehmer!$B$3:$C$1002,2,0),\"\")","v":""},null,{"$f":"IFERROR(VLOOKUP(E1179,Teilnehmer!$B$3:$C$1002,2,0),\"\")","v":""}]
[null,null,null,{"$f":"IFERROR(VLOOKUP(C1180,Teilnehmer!$B$3:$C$1002,2,0),\"\")","v":""},null,{"$f":"IFERROR(VLOOKUP(E1180,Teilnehmer!$B$3:$C$1002,2,0),\"\")","v":""}]
[null,null,null,{"$f":"IFERROR(VLOOKUP(C1181,Teilnehmer!$B$3:$C$1002,2,0),\"\")","v":""},null,{"$f":"IFERROR(VLOOKUP(E1181,Teilnehmer!$B$3:$C$1002,2,0),\"\")","v":""}]
[null,null,null,{"$f":"IFERROR(VLOOKUP(C1182,Teilnehmer!$B$3:$C$1002,2,0),\"\")","v":""},null,{"$f":"IFERROR(VLOOKUP(E1182,Teilnehmer!$B$3:$C$1002,2,0),\"\")","v":""}]
[null,null,null,{"$f":"IFERROR(VLOOKUP(C1183,Teilnehmer!$B$3:$C$1002,2,0),\"\")","v":""},null,{"$f":"IFERROR(VLOOKUP(E1183,Teilnehmer!$B$3:$C$1002,2,0),\"\")","v":""}]
[null,null,null,{"$f":"IFERROR(VLOOKUP(C1184,Teilnehmer!$B$3:$C$1002,2,0),\"\")","v":""},null,{"$f":"IFERROR(VLOOKUP(E1184,Teilnehmer!$B$3:$C$1002,2,0),\"\")","v":""}]
[null,null,null,{"$f":"IFERROR(VLOOKUP(C1185,Teilnehmer!$B$3:$C$1002,2,0),\"\")","v":""},null,{"$f":"IFERROR(VLOOKUP(E1185,Teilnehmer!$B$3:$C$1002,2,0),\"\")","v":""}]
[null,null,null,{"$f":"IFERROR(VLOOKUP(C1186,Teilnehmer!$B$3:$C$1002,2,0),\"\")","v":""},null,{"$f":"IFERROR(VLOOKUP(E1186,Teilnehmer!$B$3:$C$1002,2,0),\"\")","v":""}]
[null,null,null,{"$f":"IFERROR(VLOOKUP(C1187,Teilnehmer!$B$3:$C$1002,2,0),\"\")","v":""},null,{"$f":"IFERROR(VLOOKUP(E1187,Teilnehmer!$B$3:$C$1002,2,0),\"\")","v":""}]
[null,null,null,{"$f":"IFERROR(VLOOKUP(C1188,Teilnehmer!$B$3:$C$1002,2,0),\"\")","v":""},null,{"$f":"IFERROR(VLOOKUP(E1188,Teilnehmer!$B$3:$C$1002,2,0),\"\")","v":""}]
[null,null,null,{"$f":"IFERROR(VLOOKUP(C1189,Teilnehmer!$B$3:$C$1002,2,0),\"\")","v":""},null,{"$f":"IFERROR(VLOOKUP(E1189,Teilnehmer!$B$3:$C$1002,2,0),\"\")","v":""}]
[null,null,null,{"$f":"IFERROR(VLOOKUP(C1190,Teilnehmer!$B$3:$C$1002,2,0),\"\")","v":""},null,{"$f":"IFERROR(VLOOKUP(E1190,Teilnehmer!$B$3:$C$1002,2,0),\"\")","v":""}]
[null,null,null,{"$f":"IFERROR(VLOOKUP(C1191,Teilnehmer!$B$3:$C$1002,2,0),\"\")","v":""},null,{"$f":"IFERROR(VLOOKUP(E1191,Teilnehmer!$B$3:$C$1002,2,0),\"\")","v":""}]
[null,null,null,{"$f":"IFERROR(VLOOKUP(C1192,Teilnehmer!$B$3:$C$1002,2,0),\"\")","v":""},null,{"$f":"IFERROR(VLOOKUP(E1192,Teilnehmer!$B$3:$C$1002,2,0),\"\")","v":""}]
[null,null,null,{"$f":"IFERROR(VLOOKUP(C1193,Teilnehmer!$B$3:$C$1002,2,0),\"\")","v":""},null,{"$f":"IFERROR(VLOOKUP(E1193,Teilnehmer!$B$3:$C$1002,2,0),\"\")","v":""}]
[null,null,null,{"$f":"IFERROR(VLOOKUP(C1194,Teilnehmer!$B$3:$C$1002,2,0),\"\")","v":""},null,{"$f":"IFERROR(VLOOKUP(E1194,Teilnehmer!$B$3:$C$1002,2,0),\"\")","v":""}]
[null,null,null,{"$f":"IFERROR(VLOOKUP(C1195,Teilnehmer!$B$3:$C$1002,2,0),\"\")","v":""},null,{"$f":"IFERROR(VLOOKUP(E1195,Teilnehmer!$B$3:$C$1002,2,0),\"\")","v":""}]
[null,null,null,{"$f":"IFERROR(VLOOKUP(C1196,Teilnehmer!$B$3:$C$1002,2,0),\"\")","v":""},null,{"$f":"IFERROR(VLOOKUP(E1196,Teilnehmer!$B$3:$C$1002,2,0),\"\")","v":""}]
[null,null,null,{"$f":"IFERROR(VLOOKUP(C1197,Teilnehmer!$B$3:$C$1002,2,0),\"\")","v":""},null,{"$f":"IFERROR(VLOOKUP(E1197,Teilnehmer!$B$3:$C$1002,2,0),\"\")","v":""}]
[null,null,null,{"$f":"IFERROR(VLOOKUP(C1198,Teilnehmer!$B$3:$C$1002,2,0),\"\")","v":""},null,{"$f":"IFERROR(VLOOKUP(E1198,Teilnehmer!$B$3:$C$1002,2,0),\"\")","v":""}]
[null,null,null,{"$f":"IFERROR(VLOOKUP(C1199,Teilnehmer!$B$3:$C$1002,2,0),\"\")","v":""},null,{"$f":"IFERROR(VLOOKUP(E1199,Teilnehmer!$B$3:$C$1002,2,0),\"\")","v":""}]
[null,null,null,{"$f":"IFERROR(VLOOKUP(C1200,Teilnehmer!$B$3:$C$1002,2,0),\"\")","v":""},null,{"$f":"IFERROR(VLOOKUP(E1200,Teilnehmer!$B$3:$C$1002,2,0),\"\")","v":""}]
[null,null,null,{"$f":"IFERROR(VLOOKUP(C1201,Teilnehmer!$B$3:$C$1002,2,0),\"\")","v":""},null,{"$f":"IFERROR(VLOOKUP(E1201,Teilnehmer!$B$3:$C$1002,2,0),\"\")","v":""}]
[null,null,null,{"$f":"IFERROR(VLOOKUP(C1202,Teilnehmer!$B$3:$C$1002,2,0),\"\")","v":""},null,{"$f":"IFERROR(VLOOKUP(E1202,Teilnehmer!$B$3:$C$1002,2,0),\"\")","v":""}]
[null,null,null,{"$f":"IFERROR(VLOOKUP(C1203,Teilnehmer!$B$3:$C$1002,2,0),\"\")","v":""},null,{"$f":"IFERROR(VLOOKUP(E1203,Teilnehmer!$B$3:$C$1002,2,0),\"\")","v":""}]
[null,null,null,{"$f":"IFERROR(VLOOKUP(C1204,Teilnehmer!$B$3:$C$1002,2,0),\"\")","v":""},null,{"$f":"IFERROR(VLOOKUP(E1204,Teilnehmer!$B$3:$C$1002,2,0),\"\")","v":""}]
[null,null,null,{"$f":"IFERROR(VLOOKUP(C1205,Teilnehmer!$B$3:$C$1002,2,0),\"\")","v":""},null,{"$f":"IFERROR(VLOOKUP(E1205,Teilnehmer!$B$3:$C$1002,2,0),\"\")","v":""}]
[null,null,null,{"$f":"IFERROR(VLOOKUP(C1206,Teilnehmer!$B$3:$C$1002,2,0),\"\")","v":""},null,{"$f":"IFERROR(VLOOKUP(E1206,Teilnehmer!$B$3:$C$1002,2,0),\"\")","v":""}]
[null,null,null,{"$f":"IFERROR(VLOOKUP(C1207,Teilnehmer!$B$3:$C$1002,2,0),\"\")","v":""},null,{"$f":"IFERROR(VLOOKUP(E1207,Teilnehmer!$B$3:$C$1002,2,0),\"\")","v":""}]
[null,null,null,{"$f":"IFERROR(VLOOKUP(C1208,Teilnehmer!$B$3:$C$1002,2,0),\"\")","v":""},null,{"$f":"IFERROR(VLOOKUP(E1208,Teilnehmer!$B$3:$C$1002,2,0),\"\")","v":""}]
[null,null,null,{"$f":"IFERROR(VLOOKUP(C1209,Teilnehmer!$B$3:$C$1002,2,0),\"\")","v":""},null,{"$f":"IFERROR(VLOOKUP(E1209,Teilnehmer!$B$3:$C$1002,2,0),\"\")","v":""}]
[null,null,null,{"$f":"IFERROR(VLOOKUP(C1210,Teilnehmer!$B$3:$C$1002,2,0),\"\")","v":""},null,{"$f":"IFERROR(VLOOKUP(E1210,Teilnehmer!$B$3:$C$1002,2,0),\"\")","v":""}]
[null,null,null,{"$f":"IFERROR(VLOOKUP(C1211,Teilnehmer!$B$3:$C$1002,2,0),\"\")","v":""},null,{"$f":"IFERROR(VLOOKUP(E1211,Teilnehmer!$B$3:$C$1002,2,0),\"\")","v":""}]
[null,null,null,{"$f":"IFERROR(VLOOKUP(C1212,Teilnehmer!$B$3:$C$1002,2,0),\"\")","v":""},null,{"$f":"IFERROR(VLOOKUP(E1212,Teilnehmer!$B$3:$C$1002,2,0),\"\")","v":""}]
[null,null,null,{"$f":"IFERROR(VLOOKUP(C1213,Teilnehmer!$B$3:$C$1002,2,0),\"\")","v":""},null,{"$f":"IFERROR(VLOOKUP(E1213,Teilnehmer!$B$3:$C$1002,2,0),\"\")","v":""}]
[null,null,null,{"$f":"IFERROR(VLOOKUP(C1214,Teilnehmer!$B$3:$C$1002,2,0),\"\")","v":""},null,{"$f":"IFERROR(VLOOKUP(E1214,Teilnehmer!$B$3:$C$1002,2,0),\"\")","v":""}]
[null,null,null,{"$f":"IFERROR(VLOOKUP(C1215,Teilnehmer!$B$3:$C$1002,2,0),\"\")","v":""},null,{"$f":"IFERROR(VLOOKUP(E1215,Teilnehmer!$B$3:$C$1002,2,0),\"\")","v":""}]
[null,null,null,{"$f":"IFERROR(VLOOKUP(C1216,Teilnehmer!$B$3:$C$1002,2,0),\"\")","v":""},null,{"$f":"IFERROR(VLOOKUP(E1216,Teilnehmer!$B$3:$C$1002,2,0),\"\")","v":""}]
[null,null,null,{"$f":"IFERROR(VLOOKUP(C1217,Teilnehmer!$B$3:$C$1002,2,0),\"\")","v":""},null,{"$f":"IFERROR(VLOOKUP(E1217,Teilnehmer!$B$3:$C$1002,2,0),\"\")","v":""}]
[null,null,null,{"$f":"IFERROR(VLOOKUP(C1218,Teilnehmer!$B$3:$C$1002,2,0),\"\")","v":""},null,{"$f":"IFERROR(VLOOKUP(E1218,Teilnehmer!$B$3:$C$1002,2,0),\"\")","v":""}]
[null,null,null,{"$f":"IFERROR(VLOOKUP(C1219,Teilnehmer!$B$3:$C$1002,2,0),\"\")","v":""},null,{"$f":"IFERROR(VLOOKUP(E1219,Teilnehmer!$B$3:$C$1002,2,0),\"\")","v":""}]
[null,null,null,{"$f":"IFERROR(VLOOKUP(C1220,Teilnehmer!$B$3:$C$1002,2,0),\"\")","v":""},null,{"$f":"IFERROR(VLOOKUP(E1220,Teilnehmer!$B$3:$C$1002,2,0),\"\")","v":""}]
[null,null,null,{"$f":"IFERROR(VLOOKUP(C1221,Teilnehmer!$B$3:$C$1002,2,0),\"\")","v":""},null,{"$f":"IFERROR(VLOOKUP(E1221,Teilnehmer!$B$3:$C$1002,2,0),\"\")","v":""}]
[null,null,null,{"$f":"IFERROR(VLOOKUP(C1222,Teilnehmer!$B$3:$C$1002,2,0),\"\")","v":""},null,{"$f":"IFERROR(VLOOKUP(E1222,Teilnehmer!$B$3:$C$1002,2,0),\"\")","v":""}]
[null,null,null,{"$f":"IFERROR(VLOOKUP(C1223,Teilnehmer!$B$3:$C$1002,2,0),\"\")","v":""},null,{"$f":"IFERROR(VLOOKUP(E1223,Teilnehmer!$B$3:$C$1002,2,0),\"\")","v":""}]
[null,null,null,{"$f":"IFERROR(VLOOKUP(C1224,Teilnehmer!$B$3:$C$1002,2,0),\"\")","v":""},null,{"$f":"IFERROR(VLOOKUP(E1224,Teilnehmer!$B$3:$C$1002,2,0),\"\")","v":""}]
[null,null,null,{"$f":"IFERROR(VLOOKUP(C1225,Teilnehmer!$B$3:$C$1002,2,0),\"\")","v":""},null,{"$f":"IFERROR(VLOOKUP(E1225,Teilnehmer!$B$3:$C$1002,2,0),\"\")","v":""}]
[null,null,null,{"$f":"IFERROR(VLOOKUP(C1226,Teilnehmer!$B$3:$C$1002,2,0),\"\")","v":""},null,{"$f":"IFERROR(VLOOKUP(E1226,Teilnehmer!$B$3:$C$1002,2,0),\"\")","v":""}]
[null,null,null,{"$f":"IFERROR(VLOOKUP(C1227,Teilnehmer!$B$3:$C$1002,2,0),\"\")","v":""},null,{"$f":"IFERROR(VLOOKUP(E1227,Teilnehmer!$B$3:$C$1002,2,0),\"\")","v":""}]
[null,null,null,{"$f":"IFERROR(VLOOKUP(C1228,Teilnehmer!$B$3:$C$1002,2,0),\"\")","v":""},null,{"$f":"IFERROR(VLOOKUP(E1228,Teilnehmer!$B$3:$C$1002,2,0),\"\")","v":""}]
[null,null,null,{"$f":"IFERROR(VLOOKUP(C1229,Teilnehmer!$B$3:$C$1002,2,0),\"\")","v":""},null,{"$f":"IFERROR(VLOOKUP(E1229,Teilnehmer!$B$3:$C$1002,2,0),\"\")","v":""}]
[null,null,null,{"$f":"IFERROR(VLOOKUP(C1230,Teilnehmer!$B$3:$C$1002,2,0),\"\")","v":""},null,{"$f":"IFERROR(VLOOKUP(E1230,Teilnehmer!$B$3:$C$1002,2,0),\"\")","v":""}]
[null,null,null,{"$f":"IFERROR(VLOOKUP(C1231,Teilnehmer!$B$3:$C$1002,2,0),\"\")","v":""},null,{"$f":"IFERROR(VLOOKUP(E1231,Teilnehmer!$B$3:$C$1002,2,0),\"\")","v":""}]
[null,null,null,{"$f":"IFERROR(VLOOKUP(C1232,Teilnehmer!$B$3:$C$1002,2,0),\"\")","v":""},null,{"$f":"IFERROR(VLOOKUP(E1232,Teilnehmer!$B$3:$C$1002,2,0),\"\")","v":""}]
[null,null,null,{"$f":"IFERROR(VLOOKUP(C1233,Teilnehmer!$B$3:$C$1002,2,0),\"\")","v":""},null,{"$f":"IFERROR(VLOOKUP(E1233,Teilnehmer!$B$3:$C$1002,2,0),\"\")","v":""}]
[null,null,null,{"$f":"IFERROR(VLOOKUP(C1234,Teilnehmer!$B$3:$C$1002,2,0),\"\")","v":""},null,{"$f":"IFERROR(VLOOKUP(E1234,Teilnehmer!$B$3:$C$1002,2,0),\"\")","v":""}]
[null,null,null,{"$f":"IFERROR(VLOOKUP(C1235,Teilnehmer!$B$3:$C$1002,2,0),\"\")","v":""},null,{"$f":"IFERROR(VLOOKUP(E1235,Teilnehmer!$B$3:$C$1002,2,0),\"\")","v":""}]
[null,null,null,{"$f":"IFERROR(VLOOKUP(C1236,Teilnehmer!$B$3:$C$1002,2,0),\"\")","v":""},null,{"$f":"IFERROR(VLOOKUP(E1236,Teilnehmer!$B$3:$C$1002,2,0),\"\")","v":""}]
[null,null,null,{"$f":"IFERROR(VLOOKUP(C1237,Teilnehmer!$B$3:$C$1002,2,0),\"\")","v":""},null,{"$f":"IFERROR(VLOOKUP(E1237,Teilnehmer!$B$3:$C$1002,2,0),\"\")","v":""}]
[null,null,null,{"$f":"IFERROR(VLOOKUP(C1238,Teilnehmer!$B$3:$C$1002,2,0),\"\")","v":""},null,{"$f":"IFERROR(VLOOKUP(E1238,Teilnehmer!$B$3:$C$1002,2,0),\"\")","v":""}]
[null,null,null,{"$f":"IFERROR(VLOOKUP(C1239,Teilnehmer!$B$3:$C$1002,2,0),\"\")","v":""},null,{"$f":"IFERROR(VLOOKUP(E1239,Teilnehmer!$B$3:$C$1002,2,0),\"\")","v":""}]
[null,null,null,{"$f":"IFERROR(VLOOKUP(C1240,Teilnehmer!$B$3:$C$1002,2,0),\"\")","v":""},null,{"$f":"IFERROR(VLOOKUP(E1240,Teilnehmer!$B$3:$C$1002,2,0),\"\")","v":""}]
[null,null,null,{"$f":"IFERROR(VLOOKUP(C1241,Teilnehmer!$B$3:$C$1002,2,0),\"\")","v":""},null,{"$f":"IFERROR(VLOOKUP(E1241,Teilnehmer!$B$3:$C$1002,2,0),\"\")","v":""}]
[null,null,null,{"$f":"IFERROR(VLOOKUP(C1242,Teilnehmer!$B$3:$C$1002,2,0),\"\")","v":""},null,{"$f":"IFERROR(VLOOKUP(E1242,Teilnehmer!$B$3:$C$1002,2,0),\"\")","v":""}]
[null,null,null,{"$f":"IFERROR(VLOOKUP(C1243,Teilnehmer!$B$3:$C$1002,2,0),\"\")","v":""},null,{"$f":"IFERROR(VLOOKUP(E1243,Teilnehmer!$B$3:$C$1002,2,0),\"\")","v":""}]
[null,null,null,{"$f":"IFERROR(VLOOKUP(C1244,Teilnehmer!$B$3:$C$1002,2,0),\"\")","v":""},null,{"$f":"IFERROR(VLOOKUP(E1244,Teilnehmer!$B$3:$C$1002,2,0),\"\")","v":""}]
[null,null,null,{"$f":"IFERROR(VLOOKUP(C1245,Teilnehmer!$B$3:$C$1002,2,0),\"\")","v":""},null,{"$f":"IFERROR(VLOOKUP(E1245,Teilnehmer!$B$3:$C$1002,2,0),\"\")","v":""}]
[null,null,null,{"$f":"IFERROR(VLOOKUP(C1246,Teilnehmer!$B$3:$C$1002,2,0),\"\")","v":""},null,{"$f":"IFERROR(VLOOKUP(E1246,Teilnehmer!$B$3:$C$1002,2,0),\"\")","v":""}]
[null,null,null,{"$f":"IFERROR(VLOOKUP(C1247,Teilnehmer!$B$3:$C$1002,2,0),\"\")","v":""},null,{"$f":"IFERROR(VLOOKUP(E1247,Teilnehmer!$B$3:$C$1002,2,0),\"\")","v":""}]
[null,null,null,{"$f":"IFERROR(VLOOKUP(C1248,Teilnehmer!$B$3:$C$1002,2,0),\"\")","v":""},null,{"$f":"IFERROR(VLOOKUP(E1248,Teilnehmer!$B$3:$C$1002,2,0),\"\")","v":""}]
[null,null,null,{"$f":"IFERROR(VLOOKUP(C1249,Teilnehmer!$B$3:$C$1002,2,0),\"\")","v":""},null,{"$f":"IFERROR(VLOOKUP(E1249,Teilnehmer!$B$3:$C$1002,2,0),\"\")","v":""}]
[null,null,null,{"$f":"IFERROR(VLOOKUP(C1250,Teilnehmer!$B$3:$C$1002,2,0),\"\")","v":""},null,{"$f":"IFERROR(VLOOKUP(E1250,Teilnehmer!$B$3:$C$1002,2,0),\"\")","v":""}]
[null,null,null,{"$f":"IFERROR(VLOOKUP(C1251,Teilnehmer!$B$3:$C$1002,2,0),\"\")","v":""},null,{"$f":"IFERROR(VLOOKUP(E1251,Teilnehmer!$B$3:$C$1002,2,0),\"\")","v":""}]
[null,null,null,{"$f":"IFERROR(VLOOKUP(C1252,Teilnehmer!$B$3:$C$1002,2,0),\"\")","v":""},null,{"$f":"IFERROR(VLOOKUP(E1252,Teilnehmer!$B$3:$C$1002,2,0),\"\")","v":""}]
[null,null,null,{"$f":"IFERROR(VLOOKUP(C1253,Teilnehmer!$B$3:$C$1002,2,0),\"\")","v":""},null,{"$f":"IFERROR(VLOOKUP(E1253,Teilnehmer!$B$3:$C$1002,2,0),\"\")","v":""}]
[null,null,null,{"$f":"IFERROR(VLOOKUP(C1254,Teilnehmer!$B$3:$C$1002,2,0),\"\")","v":""},null,{"$f":"IFERROR(VLOOKUP(E1254,Teilnehmer!$B$3:$C$1002,2,0),\"\")","v":""}]
[null,null,null,{"$f":"IFERROR(VLOOKUP(C1255,Teilnehmer!$B$3:$C$1002,2,0),\"\")","v":""},null,{"$f":"IFERROR(VLOOKUP(E1255,Teilnehmer!$B$3:$C$1002,2,0),\"\")","v":""}]
[null,null,null,{"$f":"IFERROR(VLOOKUP(C1256,Teilnehmer!$B$3:$C$1002,2,0),\"\")","v":""},null,{"$f":"IFERROR(VLOOKUP(E1256,Teilnehmer!$B$3:$C$1002,2,0),\"\")","v":""}]
[null,null,null,{"$f":"IFERROR(VLOOKUP(C1257,Teilnehmer!$B$3:$C$1002,2,0),\"\")","v":""},null,{"$f":"IFERROR(VLOOKUP(E1257,Teilnehmer!$B$3:$C$1002,2,0),\"\")","v":""}]
[null,null,null,{"$f":"IFERROR(VLOOKUP(C1258,Teilnehmer!$B$3:$C$1002,2,0),\"\")","v":""},null,{"$f":"IFERROR(VLOOKUP(E1258,Teilnehmer!$B$3:$C$1002,2,0),\"\")","v":""}]
[null,null,null,{"$f":"IFERROR(VLOOKUP(C1259,Teilnehmer!$B$3:$C$1002,2,0),\"\")","v":""},null,{"$f":"IFERROR(VLOOKUP(E1259,Teilnehmer!$B$3:$C$1002,2,0),\"\")","v":""}]
[null,null,null,{"$f":"IFERROR(VLOOKUP(C1260,Teilnehmer!$B$3:$C$1002,2,0),\"\")","v":""},null,{"$f":"IFERROR(VLOOKUP(E1260,Teilnehmer!$B$3:$C$1002,2,0),\"\")","v":""}]
[null,null,null,{"$f":"IFERROR(VLOOKUP(C1261,Teilnehmer!$B$3:$C$1002,2,0),\"\")","v":""},null,{"$f":"IFERROR(VLOOKUP(E1261,Teilnehmer!$B$3:$C$1002,2,0),\"\")","v":""}]
[null,null,null,{"$f":"IFERROR(VLOOKUP(C1262,Teilnehmer!$B$3:$C$1002,2,0),\"\")","v":""},null,{"$f":"IFERROR(VLOOKUP(E1262,Teilnehmer!$B$3:$C$1002,2,0),\"\")","v":""}]
[null,null,null,{"$f":"IFERROR(VLOOKUP(C1263,Teilnehmer!$B$3:$C$1002,2,0),\"\")","v":""},null,{"$f":"IFERROR(VLOOKUP(E1263,Teilnehmer!$B$3:$C$1002,2,0),\"\")","v":""}]
[null,null,null,{"$f":"IFERROR(VLOOKUP(C1264,Teilnehmer!$B$3:$C$1002,2,0),\"\")","v":""},null,{"$f":"IFERROR(VLOOKUP(E1264,Teilnehmer!$B$3:$C$1002,2,0),\"\")","v":""}]
[null,null,null,{"$f":"IFERROR(VLOOKUP(C1265,Teilnehmer!$B$3:$C$1002,2,0),\"\")","v":""},null,{"$f":"IFERROR(VLOOKUP(E1265,Teilnehmer!$B$3:$C$1002,2,0),\"\")","v":""}]
[null,null,null,{"$f":"IFERROR(VLOOKUP(C1266,Teilnehmer!$B$3:$C$1002,2,0),\"\")","v":""},null,{"$f":"IFERROR(VLOOKUP(E1266,Teilnehmer!$B$3:$C$1002,2,0),\"\")","v":""}]
[null,null,null,{"$f":"IFERROR(VLOOKUP(C1267,Teilnehmer!$B$3:$C$1002,2,0),\"\")","v":""},null,{"$f":"IFERROR(VLOOKUP(E1267,Teilnehmer!$B$3:$C$1002,2,0),\"\")","v":""}]
[null,null,null,{"$f":"IFERROR(VLOOKUP(C1268,Teilnehmer!$B$3:$C$1002,2,0),\"\")","v":""},null,{"$f":"IFERROR(VLOOKUP(E1268,Teilnehmer!$B$3:$C$1002,2,0),\"\")","v":""}]
[null,null,null,{"$f":"IFERROR(VLOOKUP(C1269,Teilnehmer!$B$3:$C$1002,2,0),\"\")","v":""},null,{"$f":"IFERROR(VLOOKUP(E1269,Teilnehmer!$B$3:$C$1002,2,0),\"\")","v":""}]
[null,null,null,{"$f":"IFERROR(VLOOKUP(C1270,Teilnehmer!$B$3:$C$1002,2,0),\"\")","v":""},null,{"$f":"IFERROR(VLOOKUP(E1270,Teilnehmer!$B$3:$C$1002,2,0),\"\")","v":""}]
[null,null,null,{"$f":"IFERROR(VLOOKUP(C1271,Teilnehmer!$B$3:$C$1002,2,0),\"\")","v":""},null,{"$f":"IFERROR(VLOOKUP(E1271,Teilnehmer!$B$3:$C$1002,2,0),\"\")","v":""}]
[null,null,null,{"$f":"IFERROR(VLOOKUP(C1272,Teilnehmer!$B$3:$C$1002,2,0),\"\")","v":""},null,{"$f":"IFERROR(VLOOKUP(E1272,Teilnehmer!$B$3:$C$1002,2,0),\"\")","v":""}]
[null,null,null,{"$f":"IFERROR(VLOOKUP(C1273,Teilnehmer!$B$3:$C$1002,2,0),\"\")","v":""},null,{"$f":"IFERROR(VLOOKUP(E1273,Teilnehmer!$B$3:$C$1002,2,0),\"\")","v":""}]
[null,null,null,{"$f":"IFERROR(VLOOKUP(C1274,Teilnehmer!$B$3:$C$1002,2,0),\"\")","v":""},null,{"$f":"IFERROR(VLOOKUP(E1274,Teilnehmer!$B$3:$C$1002,2,0),\"\")","v":""}]
[null,null,null,{"$f":"IFERROR(VLOOKUP(C1275,Teilnehmer!$B$3:$C$1002,2,0),\"\")","v":""},null,{"$f":"IFERROR(VLOOKUP(E1275,Teilnehmer!$B$3:$C$1002,2,0),\"\")","v":""}]
[null,null,null,{"$f":"IFERROR(VLOOKUP(C1276,Teilnehmer!$B$3:$C$1002,2,0),\"\")","v":""},null,{"$f":"IFERROR(VLOOKUP(E1276,Teilnehmer!$B$3:$C$1002,2,0),\"\")","v":""}]
[null,null,null,{"$f":"IFERROR(VLOOKUP(C1277,Teilnehmer!$B$3:$C$1002,2,0),\"\")","v":""},null,{"$f":"IFERROR(VLOOKUP(E1277,Teilnehmer!$B$3:$C$1002,2,0),\"\")","v":""}]
[null,null,null,{"$f":"IFERROR(VLOOKUP(C1278,Teilnehmer!$B$3:$C$1002,2,0),\"\")","v":""},null,{"$f":"IFERROR(VLOOKUP(E1278,Teilnehmer!$B$3:$C$1002,2,0),\"\")","v":""}]
[null,null,null,{"$f":"IFERROR(VLOOKUP(C1279,Teilnehmer!$B$3:$C$1002,2,0),\"\")","v":""},null,{"$f":"IFERROR(VLOOKUP(E1279,Teilnehmer!$B$3:$C$1002,2,0),\"\")","v":""}]
[null,null,null,{"$f":"IFERROR(VLOOKUP(C1280,Teilnehmer!$B$3:$C$1002,2,0),\"\")","v":""},null,{"$f":"IFERROR(VLOOKUP(E1280,Teilnehmer!$B$3:$C$1002,2,0),\"\")","v":""}]
[null,null,null,{"$f":"IFERROR(VLOOKUP(C1281,Teilnehmer!$B$3:$C$1002,2,0),\"\")","v":""},null,{"$f":"IFERROR(VLOOKUP(E1281,Teilnehmer!$B$3:$C$1002,2,0),\"\")","v":""}]
[null,null,null,{"$f":"IFERROR(VLOOKUP(C1282,Teilnehmer!$B$3:$C$1002,2,0),\"\")","v":""},null,{"$f":"IFERROR(VLOOKUP(E1282,Teilnehmer!$B$3:$C$1002,2,0),\"\")","v":""}]
[null,null,null,{"$f":"IFERROR(VLOOKUP(C1283,Teilnehmer!$B$3:$C$1002,2,0),\"\")","v":""},null,{"$f":"IFERROR(VLOOKUP(E1283,Teilnehmer!$B$3:$C$1002,2,0),\"\")","v":""}]
[null,null,null,{"$f":"IFERROR(VLOOKUP(C1284,Teilnehmer!$B$3:$C$1002,2,0),\"\")","v":""},null,{"$f":"IFERROR(VLOOKUP(E1284,Teilnehmer!$B$3:$C$1002,2,0),\"\")","v":""}]
[null,null,null,{"$f":"IFERROR(VLOOKUP(C1285,Teilnehmer!$B$3:$C$1002,2,0),\"\")","v":""},null,{"$f":"IFERROR(VLOOKUP(E1285,Teilnehmer!$B$3:$C$1002,2,0),\"\")","v":""}]
[null,null,null,{"$f":"IFERROR(VLOOKUP(C1286,Teilnehmer!$B$3:$C$1002,2,0),\"\")","v":""},null,{"$f":"IFERROR(VLOOKUP(E1286,Teilnehmer!$B$3:$C$1002,2,0),\"\")","v":""}]
[null,null,null,{"$f":"IFERROR(VLOOKUP(C1287,Teilnehmer!$B$3:$C$1002,2,0),\"\")","v":""},null,{"$f":"IFERROR(VLOOKUP(E1287,Teilnehmer!$B$3:$C$1002,2,0),\"\")","v":""}]
[null,null,null,{"$f":"IFERROR(VLOOKUP(C1288,Teilnehmer!$B$3:$C$1002,2,0),\"\")","v":""},null,{"$f":"IFERROR(VLOOKUP(E1288,Teilnehmer!$B$3:$C$1002,2,0),\"\")","v":""}]
[null,null,null,{"$f":"IFERROR(VLOOKUP(C1289,Teilnehmer!$B$3:$C$1002,2,0),\"\")","v":""},null,{"$f":"IFERROR(VLOOKUP(E1289,Teilnehmer!$B$3:$C$1002,2,0),\"\")","v":""}]
[null,null,null,{"$f":"IFERROR(VLOOKUP(C1290,Teilnehmer!$B$3:$C$1002,2,0),\"\")","v":""},null,{"$f":"IFERROR(VLOOKUP(E1290,Teilnehmer!$B$3:$C$1002,2,0),\"\")","v":""}]
[null,null,null,{"$f":"IFERROR(VLOOKUP(C1291,Teilnehmer!$B$3:$C$1002,2,0),\"\")","v":""},null,{"$f":"IFERROR(VLOOKUP(E1291,Teilnehmer!$B$3:$C$1002,2,0),\"\")","v":""}]
[null,null,null,{"$f":"IFERROR(VLOOKUP(C1292,Teilnehmer!$B$3:$C$1002,2,0),\"\")","v":""},null,{"$f":"IFERROR(VLOOKUP(E1292,Teilnehmer!$B$3:$C$1002,2,0),\"\")","v":""}]
[null,null,null,{"$f":"IFERROR(VLOOKUP(C1293,Teilnehmer!$B$3:$C$1002,2,0),\"\")","v":""},null,{"$f":"IFERROR(VLOOKUP(E1293,Teilnehmer!$B$3:$C$1002,2,0),\"\")","v":""}]
[null,null,null,{"$f":"IFERROR(VLOOKUP(C1294,Teilnehmer!$B$3:$C$1002,2,0),\"\")","v":""},null,{"$f":"IFERROR(VLOOKUP(E1294,Teilnehmer!$B$3:$C$1002,2,0),\"\")","v":""}]
[null,null,null,{"$f":"IFERROR(VLOOKUP(C1295,Teilnehmer!$B$3:$C$1002,2,0),\"\")","v":""},null,{"$f":"IFERROR(VLOOKUP(E1295,Teilnehmer!$B$3:$C$1002,2,0),\"\")","v":""}]
[null,null,null,{"$f":"IFERROR(VLOOKUP(C1296,Teilnehmer!$B$3:$C$1002,2,0),\"\")","v":""},null,{"$f":"IFERROR(VLOOKUP(E1296,Teilnehmer!$B$3:$C$1002,2,0),\"\")","v":""}]
[null,null,null,{"$f":"IFERROR(VLOOKUP(C1297,Teilnehmer!$B$3:$C$1002,2,0),\"\")","v":""},null,{"$f":"IFERROR(VLOOKUP(E1297,Teilnehmer!$B$3:$C$1002,2,0),\"\")","v":""}]
[null,null,null,{"$f":"IFERROR(VLOOKUP(C1298,Teilnehmer!$B$3:$C$1002,2,0),\"\")","v":""},null,{"$f":"IFERROR(VLOOKUP(E1298,Teilnehmer!$B$3:$C$1002,2,0),\"\")","v":""}]
[null,null,null,{"$f":"IFERROR(VLOOKUP(C1299,Teilnehmer!$B$3:$C$1002,2,0),\"\")","v":""},null,{"$f":"IFERROR(VLOOKUP(E1299,Teilnehmer!$B$3:$C$1002,2,0),\"\")","v":""}]
[null,null,null,{"$f":"IFERROR(VLOOKUP(C1300,Teilnehmer!$B$3:$C$1002,2,0),\"\")","v":""},null,{"$f":"IFERROR(VLOOKUP(E1300,Teilnehmer!$B$3:$C$1002,2,0),\"\")","v":""}]
[null,null,null,{"$f":"IFERROR(VLOOKUP(C1301,Teilnehmer!$B$3:$C$1002,2,0),\"\")","v":""},null,{"$f":"IFERROR(VLOOKUP(E1301,Teilnehmer!$B$3:$C$1002,2,0),\"\")","v":""}]
[null,null,null,{"$f":"IFERROR(VLOOKUP(C1302,Teilnehmer!$B$3:$C$1002,2,0),\"\")","v":""},null,{"$f":"IFERROR(VLOOKUP(E1302,Teilnehmer!$B$3:$C$1002,2,0),\"\")","v":""}]
[null,null,null,{"$f":"IFERROR(VLOOKUP(C1303,Teilnehmer!$B$3:$C$1002,2,0),\"\")","v":""},null,{"$f":"IFERROR(VLOOKUP(E1303,Teilnehmer!$B$3:$C$1002,2,0),\"\")","v":""}]
[null,null,null,{"$f":"IFERROR(VLOOKUP(C1304,Teilnehmer!$B$3:$C$1002,2,0),\"\")","v":""},null,{"$f":"IFERROR(VLOOKUP(E1304,Teilnehmer!$B$3:$C$1002,2,0),\"\")","v":""}]
[null,null,null,{"$f":"IFERROR(VLOOKUP(C1305,Teilnehmer!$B$3:$C$1002,2,0),\"\")","v":""},null,{"$f":"IFERROR(VLOOKUP(E1305,Teilnehmer!$B$3:$C$1002,2,0),\"\")","v":""}]
[null,null,null,{"$f":"IFERROR(VLOOKUP(C1306,Teilnehmer!$B$3:$C$1002,2,0),\"\")","v":""},null,{"$f":"IFERROR(VLOOKUP(E1306,Teilnehmer!$B$3:$C$1002,2,0),\"\")","v":""}]
[null,null,null,{"$f":"IFERROR(VLOOKUP(C1307,Teilnehmer!$B$3:$C$1002,2,0),\"\")","v":""},null,{"$f":"IFERROR(VLOOKUP(E1307,Teilnehmer!$B$3:$C$1002,2,0),\"\")","v":""}]
[null,null,null,{"$f":"IFERROR(VLOOKUP(C1308,Teilnehmer!$B$3:$C$1002,2,0),\"\")","v":""},null,{"$f":"IFERROR(VLOOKUP(E1308,Teilnehmer!$B$3:$C$1002,2,0),\"\")","v":""}]
[null,null,null,{"$f":"IFERROR(VLOOKUP(C1309,Teilnehmer!$B$3:$C$1002,2,0),\"\")","v":""},null,{"$f":"IFERROR(VLOOKUP(E1309,Teilnehmer!$B$3:$C$1002,2,0),\"\")","v":""}]
[null,null,null,{"$f":"IFERROR(VLOOKUP(C1310,Teilnehmer!$B$3:$C$1002,2,0),\"\")","v":""},null,{"$f":"IFERROR(VLOOKUP(E1310,Teilnehmer!$B$3:$C$1002,2,0),\"\")","v":""}]
[null,null,null,{"$f":"IFERROR(VLOOKUP(C1311,Teilnehmer!$B$3:$C$1002,2,0),\"\")","v":""},null,{"$f":"IFERROR(VLOOKUP(E1311,Teilnehmer!$B$3:$C$1002,2,0),\"\")","v":""}]
[null,null,null,{"$f":"IFERROR(VLOOKUP(C1312,Teilnehmer!$B$3:$C$1002,2,0),\"\")","v":""},null,{"$f":"IFERROR(VLOOKUP(E1312,Teilnehmer!$B$3:$C$1002,2,0),\"\")","v":""}]
[null,null,null,{"$f":"IFERROR(VLOOKUP(C1313,Teilnehmer!$B$3:$C$1002,2,0),\"\")","v":""},null,{"$f":"IFERROR(VLOOKUP(E1313,Teilnehmer!$B$3:$C$1002,2,0),\"\")","v":""}]
[null,null,null,{"$f":"IFERROR(VLOOKUP(C1314,Teilnehmer!$B$3:$C$1002,2,0),\"\")","v":""},null,{"$f":"IFERROR(VLOOKUP(E1314,Teilnehmer!$B$3:$C$1002,2,0),\"\")","v":""}]
[null,null,null,{"$f":"IFERROR(VLOOKUP(C1315,Teilnehmer!$B$3:$C$1002,2,0),\"\")","v":""},null,{"$f":"IFERROR(VLOOKUP(E1315,Teilnehmer!$B$3:$C$1002,2,0),\"\")","v":""}]
[null,null,null,{"$f":"IFERROR(VLOOKUP(C1316,Teilnehmer!$B$3:$C$1002,2,0),\"\")","v":""},null,{"$f":"IFERROR(VLOOKUP(E1316,Teilnehmer!$B$3:$C$1002,2,0),\"\")","v":""}]
[null,null,null,{"$f":"IFERROR(VLOOKUP(C1317,Teilnehmer!$B$3:$C$1002,2,0),\"\")","v":""},null,{"$f":"IFERROR(VLOOKUP(E1317,Teilnehmer!$B$3:$C$1002,2,0),\"\")","v":""}]
[null,null,null,{"$f":"IFERROR(VLOOKUP(C1318,Teilnehmer!$B$3:$C$1002,2,0),\"\")","v":""},null,{"$f":"IFERROR(VLOOKUP(E1318,Teilnehmer!$B$3:$C$1002,2,0),\"\")","v":""}]
[null,null,null,{"$f":"IFERROR(VLOOKUP(C1319,Teilnehmer!$B$3:$C$1002,2,0),\"\")","v":""},null,{"$f":"IFERROR(VLOOKUP(E1319,Teilnehmer!$B$3:$C$1002,2,0),\"\")","v":""}]
[null,null,null,{"$f":"IFERROR(VLOOKUP(C1320,Teilnehmer!$B$3:$C$1002,2,0),\"\")","v":""},null,{"$f":"IFERROR(VLOOKUP(E1320,Teilnehmer!$B$3:$C$1002,2,0),\"\")","v":""}]
[null,null,null,{"$f":"IFERROR(VLOOKUP(C1321,Teilnehmer!$B$3:$C$1002,2,0),\"\")","v":""},null,{"$f":"IFERROR(VLOOKUP(E1321,Teilnehmer!$B$3:$C$1002,2,0),\"\")","v":""}]
[null,null,null,{"$f":"IFERROR(VLOOKUP(C1322,Teilnehmer!$B$3:$C$1002,2,0),\"\")","v":""},null,{"$f":"IFERROR(VLOOKUP(E1322,Teilnehmer!$B$3:$C$1002,2,0),\"\")","v":""}]
[null,null,null,{"$f":"IFERROR(VLOOKUP(C1323,Teilnehmer!$B$3:$C$1002,2,0),\"\")","v":""},null,{"$f":"IFERROR(VLOOKUP(E1323,Teilnehmer!$B$3:$C$1002,2,0),\"\")","v":""}]
[null,null,null,{"$f":"IFERROR(VLOOKUP(C1324,Teilnehmer!$B$3:$C$1002,2,0),\"\")","v":""},null,{"$f":"IFERROR(VLOOKUP(E1324,Teilnehmer!$B$3:$C$1002,2,0),\"\")","v":""}]
[null,null,null,{"$f":"IFERROR(VLOOKUP(C1325,Teilnehmer!$B$3:$C$1002,2,0),\"\")","v":""},null,{"$f":"IFERROR(VLOOKUP(E1325,Teilnehmer!$B$3:$C$1002,2,0),\"\")","v":""}]
[null,null,null,{"$f":"IFERROR(VLOOKUP(C1326,Teilnehmer!$B$3:$C$1002,2,0),\"\")","v":""},null,{"$f":"IFERROR(VLOOKUP(E1326,Teilnehmer!$B$3:$C$1002,2,0),\"\")","v":""}]
[null,null,null,{"$f":"IFERROR(VLOOKUP(C1327,Teilnehmer!$B$3:$C$1002,2,0),\"\")","v":""},null,{"$f":"IFERROR(VLOOKUP(E1327,Teilnehmer!$B$3:$C$1002,2,0),\"\")","v":""}]
[null,null,null,{"$f":"IFERROR(VLOOKUP(C1328,Teilnehmer!$B$3:$C$1002,2,0),\"\")","v":""},null,{"$f":"IFERROR(VLOOKUP(E1328,Teilnehmer!$B$3:$C$1002,2,0),\"\")","v":""}]
[null,null,null,{"$f":"IFERROR(VLOOKUP(C1329,Teilnehmer!$B$3:$C$1002,2,0),\"\")","v":""},null,{"$f":"IFERROR(VLOOKUP(E1329,Teilnehmer!$B$3:$C$1002,2,0),\"\")","v":""}]
[null,null,null,{"$f":"IFERROR(VLOOKUP(C1330,Teilnehmer!$B$3:$C$1002,2,0),\"\")","v":""},null,{"$f":"IFERROR(VLOOKUP(E1330,Teilnehmer!$B$3:$C$1002,2,0),\"\")","v":""}]
[null,null,null,{"$f":"IFERROR(VLOOKUP(C1331,Teilnehmer!$B$3:$C$1002,2,0),\"\")","v":""},null,{"$f":"IFERROR(VLOOKUP(E1331,Teilnehmer!$B$3:$C$1002,2,0),\"\")","v":""}]
[null,null,null,{"$f":"IFERROR(VLOOKUP(C1332,Teilnehmer!$B$3:$C$1002,2,0),\"\")","v":""},null,{"$f":"IFERROR(VLOOKUP(E1332,Teilnehmer!$B$3:$C$1002,2,0),\"\")","v":""}]
[null,null,null,{"$f":"IFERROR(VLOOKUP(C1333,Teilnehmer!$B$3:$C$1002,2,0),\"\")","v":""},null,{"$f":"IFERROR(VLOOKUP(E1333,Teilnehmer!$B$3:$C$1002,2,0),\"\")","v":""}]
[null,null,null,{"$f":"IFERROR(VLOOKUP(C1334,Teilnehmer!$B$3:$C$1002,2,0),\"\")","v":""},null,{"$f":"IFERROR(VLOOKUP(E1334,Teilnehmer!$B$3:$C$1002,2,0),\"\")","v":""}]
[null,null,null,{"$f":"IFERROR(VLOOKUP(C1335,Teilnehmer!$B$3:$C$1002,2,0),\"\")","v":""},null,{"$f":"IFERROR(VLOOKUP(E1335,Teilnehmer!$B$3:$C$1002,2,0),\"\")","v":""}]
[null,null,null,{"$f":"IFERROR(VLOOKUP(C1336,Teilnehmer!$B$3:$C$1002,2,0),\"\")","v":""},null,{"$f":"IFERROR(VLOOKUP(E1336,Teilnehmer!$B$3:$C$1002,2,0),\"\")","v":""}]
[null,null,null,{"$f":"IFERROR(VLOOKUP(C1337,Teilnehmer!$B$3:$C$1002,2,0),\"\")","v":""},null,{"$f":"IFERROR(VLOOKUP(E1337,Teilnehmer!$B$3:$C$1002,2,0),\"\")","v":""}]
[null,null,null,{"$f":"IFERROR(VLOOKUP(C1338,Teilnehmer!$B$3:$C$1002,2,0),\"\")","v":""},null,{"$f":"IFERROR(VLOOKUP(E1338,Teilnehmer!$B$3:$C$1002,2,0),\"\")","v":""}]
[null,null,null,{"$f":"IFERROR(VLOOKUP(C1339,Teilnehmer!$B$3:$C$1002,2,0),\"\")","v":""},null,{"$f":"IFERROR(VLOOKUP(E1339,Teilnehmer!$B$3:$C$1002,2,0),\"\")","v":""}]
[null,null,null,{"$f":"IFERROR(VLOOKUP(C1340,Teilnehmer!$B$3:$C$1002,2,0),\"\")","v":""},null,{"$f":"IFERROR(VLOOKUP(E1340,Teilnehmer!$B$3:$C$1002,2,0),\"\")","v":""}]
[null,null,null,{"$f":"IFERROR(VLOOKUP(C1341,Teilnehmer!$B$3:$C$1002,2,0),\"\")","v":""},null,{"$f":"IFERROR(VLOOKUP(E1341,Teilnehmer!$B$3:$C$1002,2,0),\"\")","v":""}]
[null,null,null,{"$f":"IFERROR(VLOOKUP(C1342,Teilnehmer!$B$3:$C$1002,2,0),\"\")","v":""},null,{"$f":"IFERROR(VLOOKUP(E1342,Teilnehmer!$B$3:$C$1002,2,0),\"\")","v":""}]
[null,null,null,{"$f":"IFERROR(VLOOKUP(C1343,Teilnehmer!$B$3:$C$1002,2,0),\"\")","v":""},null,{"$f":"IFERROR(VLOOKUP(E1343,Teilnehmer!$B$3:$C$1002,2,0),\"\")","v":""}]
[null,null,null,{"$f":"IFERROR(VLOOKUP(C1344,Teilnehmer!$B$3:$C$1002,2,0),\"\")","v":""},null,{"$f":"IFERROR(VLOOKUP(E1344,Teilnehmer!$B$3:$C$1002,2,0),\"\")","v":""}]
[null,null,null,{"$f":"IFERROR(VLOOKUP(C1345,Teilnehmer!$B$3:$C$1002,2,0),\"\")","v":""},null,{"$f":"IFERROR(VLOOKUP(E1345,Teilnehmer!$B$3:$C$1002,2,0),\"\")","v":""}]
[null,null,null,{"$f":"IFERROR(VLOOKUP(C1346,Teilnehmer!$B$3:$C$1002,2,0),\"\")","v":""},null,{"$f":"IFERROR(VLOOKUP(E1346,Teilnehmer!$B$3:$C$1002,2,0),\"\")","v":""}]
[null,null,null,{"$f":"IFERROR(VLOOKUP(C1347,Teilnehmer!$B$3:$C$1002,2,0),\"\")","v":""},null,{"$f":"IFERROR(VLOOKUP(E1347,Teilnehmer!$B$3:$C$1002,2,0),\"\")","v":""}]
[null,null,null,{"$f":"IFERROR(VLOOKUP(C1348,Teilnehmer!$B$3:$C$1002,2,0),\"\")","v":""},null,{"$f":"IFERROR(VLOOKUP(E1348,Teilnehmer!$B$3:$C$1002,2,0),\"\")","v":""}]
[null,null,null,{"$f":"IFERROR(VLOOKUP(C1349,Teilnehmer!$B$3:$C$1002,2,0),\"\")","v":""},null,{"$f":"IFERROR(VLOOKUP(E1349,Teilnehmer!$B$3:$C$1002,2,0),\"\")","v":""}]
[null,null,null,{"$f":"IFERROR(VLOOKUP(C1350,Teilnehmer!$B$3:$C$1002,2,0),\"\")","v":""},null,{"$f":"IFERROR(VLOOKUP(E1350,Teilnehmer!$B$3:$C$1002,2,0),\"\")","v":""}]
[null,null,null,{"$f":"IFERROR(VLOOKUP(C1351,Teilnehmer!$B$3:$C$1002,2,0),\"\")","v":""},null,{"$f":"IFERROR(VLOOKUP(E1351,Teilnehmer!$B$3:$C$1002,2,0),\"\")","v":""}]
[null,null,null,{"$f":"IFERROR(VLOOKUP(C1352,Teilnehmer!$B$3:$C$1002,2,0),\"\")","v":""},null,{"$f":"IFERROR(VLOOKUP(E1352,Teilnehmer!$B$3:$C$1002,2,0),\"\")","v":""}]
[null,null,null,{"$f":"IFERROR(VLOOKUP(C1353,Teilnehmer!$B$3:$C$1002,2,0),\"\")","v":""},null,{"$f":"IFERROR(VLOOKUP(E1353,Teilnehmer!$B$3:$C$1002,2,0),\"\")","v":""}]
[null,null,null,{"$f":"IFERROR(VLOOKUP(C1354,Teilnehmer!$B$3:$C$1002,2,0),\"\")","v":""},null,{"$f":"IFERROR(VLOOKUP(E1354,Teilnehmer!$B$3:$C$1002,2,0),\"\")","v":""}]
[null,null,null,{"$f":"IFERROR(VLOOKUP(C1355,Teilnehmer!$B$3:$C$1002,2,0),\"\")","v":""},null,{"$f":"IFERROR(VLOOKUP(E1355,Teilnehmer!$B$3:$C$1002,2,0),\"\")","v":""}]
[null,null,null,{"$f":"IFERROR(VLOOKUP(C1356,Teilnehmer!$B$3:$C$1002,2,0),\"\")","v":""},null,{"$f":"IFERROR(VLOOKUP(E1356,Teilnehmer!$B$3:$C$1002,2,0),\"\")","v":""}]
[null,null,null,{"$f":"IFERROR(VLOOKUP(C1357,Teilnehmer!$B$3:$C$1002,2,0),\"\")","v":""},null,{"$f":"IFERROR(VLOOKUP(E1357,Teilnehmer!$B$3:$C$1002,2,0),\"\")","v":""}]
[null,null,null,{"$f":"IFERROR(VLOOKUP(C1358,Teilnehmer!$B$3:$C$1002,2,0),\"\")","v":""},null,{"$f":"IFERROR(VLOOKUP(E1358,Teilnehmer!$B$3:$C$1002,2,0),\"\")","v":""}]
[null,null,null,{"$f":"IFERROR(VLOOKUP(C1359,Teilnehmer!$B$3:$C$1002,2,0),\"\")","v":""},null,{"$f":"IFERROR(VLOOKUP(E1359,Teilnehmer!$B$3:$C$1002,2,0),\"\")","v":""}]
[null,null,null,{"$f":"IFERROR(VLOOKUP(C1360,Teilnehmer!$B$3:$C$1002,2,0),\"\")","v":""},null,{"$f":"IFERROR(VLOOKUP(E1360,Teilnehmer!$B$3:$C$1002,2,0),\"\")","v":""}]
[null,null,null,{"$f":"IFERROR(VLOOKUP(C1361,Teilnehmer!$B$3:$C$1002,2,0),\"\")","v":""},null,{"$f":"IFERROR(VLOOKUP(E1361,Teilnehmer!$B$3:$C$1002,2,0),\"\")","v":""}]
[null,null,null,{"$f":"IFERROR(VLOOKUP(C1362,Teilnehmer!$B$3:$C$1002,2,0),\"\")","v":""},null,{"$f":"IFERROR(VLOOKUP(E1362,Teilnehmer!$B$3:$C$1002,2,0),\"\")","v":""}]
[null,null,null,{"$f":"IFERROR(VLOOKUP(C1363,Teilnehmer!$B$3:$C$1002,2,0),\"\")","v":""},null,{"$f":"IFERROR(VLOOKUP(E1363,Teilnehmer!$B$3:$C$1002,2,0),\"\")","v":""}]
[null,null,null,{"$f":"IFERROR(VLOOKUP(C1364,Teilnehmer!$B$3:$C$1002,2,0),\"\")","v":""},null,{"$f":"IFERROR(VLOOKUP(E1364,Teilnehmer!$B$3:$C$1002,2,0),\"\")","v":""}]
[null,null,null,{"$f":"IFERROR(VLOOKUP(C1365,Teilnehmer!$B$3:$C$1002,2,0),\"\")","v":""},null,{"$f":"IFERROR(VLOOKUP(E1365,Teilnehmer!$B$3:$C$1002,2,0),\"\")","v":""}]
[null,null,null,{"$f":"IFERROR(VLOOKUP(C1366,Teilnehmer!$B$3:$C$1002,2,0),\"\")","v":""},null,{"$f":"IFERROR(VLOOKUP(E1366,Teilnehmer!$B$3:$C$1002,2,0),\"\")","v":""}]
[null,null,null,{"$f":"IFERROR(VLOOKUP(C1367,Teilnehmer!$B$3:$C$1002,2,0),\"\")","v":""},null,{"$f":"IFERROR(VLOOKUP(E1367,Teilnehmer!$B$3:$C$1002,2,0),\"\")","v":""}]
[null,null,null,{"$f":"IFERROR(VLOOKUP(C1368,Teilnehmer!$B$3:$C$1002,2,0),\"\")","v":""},null,{"$f":"IFERROR(VLOOKUP(E1368,Teilnehmer!$B$3:$C$1002,2,0),\"\")","v":""}]
[null,null,null,{"$f":"IFERROR(VLOOKUP(C1369,Teilnehmer!$B$3:$C$1002,2,0),\"\")","v":""},null,{"$f":"IFERROR(VLOOKUP(E1369,Teilnehmer!$B$3:$C$1002,2,0),\"\")","v":""}]
[null,null,null,{"$f":"IFERROR(VLOOKUP(C1370,Teilnehmer!$B$3:$C$1002,2,0),\"\")","v":""},null,{"$f":"IFERROR(VLOOKUP(E1370,Teilnehmer!$B$3:$C$1002,2,0),\"\")","v":""}]
[null,null,null,{"$f":"IFERROR(VLOOKUP(C1371,Teilnehmer!$B$3:$C$1002,2,0),\"\")","v":""},null,{"$f":"IFERROR(VLOOKUP(E1371,Teilnehmer!$B$3:$C$1002,2,0),\"\")","v":""}]
[null,null,null,{"$f":"IFERROR(VLOOKUP(C1372,Teilnehmer!$B$3:$C$1002,2,0),\"\")","v":""},null,{"$f":"IFERROR(VLOOKUP(E1372,Teilnehmer!$B$3:$C$1002,2,0),\"\")","v":""}]
[null,null,null,{"$f":"IFERROR(VLOOKUP(C1373,Teilnehmer!$B$3:$C$1002,2,0),\"\")","v":""},null,{"$f":"IFERROR(VLOOKUP(E1373,Teilnehmer!$B$3:$C$1002,2,0),\"\")","v":""}]
[null,null,null,{"$f":"IFERROR(VLOOKUP(C1374,Teilnehmer!$B$3:$C$1002,2,0),\"\")","v":""},null,{"$f":"IFERROR(VLOOKUP(E1374,Teilnehmer!$B$3:$C$1002,2,0),\"\")","v":""}]
[null,null,null,{"$f":"IFERROR(VLOOKUP(C1375,Teilnehmer!$B$3:$C$1002,2,0),\"\")","v":""},null,{"$f":"IFERROR(VLOOKUP(E1375,Teilnehmer!$B$3:$C$1002,2,0),\"\")","v":""}]
[null,null,null,{"$f":"IFERROR(VLOOKUP(C1376,Teilnehmer!$B$3:$C$1002,2,0),\"\")","v":""},null,{"$f":"IFERROR(VLOOKUP(E1376,Teilnehmer!$B$3:$C$1002,2,0),\"\")","v":""}]
[null,null,null,{"$f":"IFERROR(VLOOKUP(C1377,Teilnehmer!$B$3:$C$1002,2,0),\"\")","v":""},null,{"$f":"IFERROR(VLOOKUP(E1377,Teilnehmer!$B$3:$C$1002,2,0),\"\")","v":""}]
[null,null,null,{"$f":"IFERROR(VLOOKUP(C1378,Teilnehmer!$B$3:$C$1002,2,0),\"\")","v":""},null,{"$f":"IFERROR(VLOOKUP(E1378,Teilnehmer!$B$3:$C$1002,2,0),\"\")","v":""}]
[null,null,null,{"$f":"IFERROR(VLOOKUP(C1379,Teilnehmer!$B$3:$C$1002,2,0),\"\")","v":""},null,{"$f":"IFERROR(VLOOKUP(E1379,Teilnehmer!$B$3:$C$1002,2,0),\"\")","v":""}]
[null,null,null,{"$f":"IFERROR(VLOOKUP(C1380,Teilnehmer!$B$3:$C$1002,2,0),\"\")","v":""},null,{"$f":"IFERROR(VLOOKUP(E1380,Teilnehmer!$B$3:$C$1002,2,0),\"\")","v":""}]
[null,null,null,{"$f":"IFERROR(VLOOKUP(C1381,Teilnehmer!$B$3:$C$1002,2,0),\"\")","v":""},null,{"$f":"IFERROR(VLOOKUP(E1381,Teilnehmer!$B$3:$C$1002,2,0),\"\")","v":""}]
[null,null,null,{"$f":"IFERROR(VLOOKUP(C1382,Teilnehmer!$B$3:$C$1002,2,0),\"\")","v":""},null,{"$f":"IFERROR(VLOOKUP(E1382,Teilnehmer!$B$3:$C$1002,2,0),\"\")","v":""}]
[null,null,null,{"$f":"IFERROR(VLOOKUP(C1383,Teilnehmer!$B$3:$C$1002,2,0),\"\")","v":""},null,{"$f":"IFERROR(VLOOKUP(E1383,Teilnehmer!$B$3:$C$1002,2,0),\"\")","v":""}]
[null,null,null,{"$f":"IFERROR(VLOOKUP(C1384,Teilnehmer!$B$3:$C$1002,2,0),\"\")","v":""},null,{"$f":"IFERROR(VLOOKUP(E1384,Teilnehmer!$B$3:$C$1002,2,0),\"\")","v":""}]
[null,null,null,{"$f":"IFERROR(VLOOKUP(C1385,Teilnehmer!$B$3:$C$1002,2,0),\"\")","v":""},null,{"$f":"IFERROR(VLOOKUP(E1385,Teilnehmer!$B$3:$C$1002,2,0),\"\")","v":""}]
[null,null,null,{"$f":"IFERROR(VLOOKUP(C1386,Teilnehmer!$B$3:$C$1002,2,0),\"\")","v":""},null,{"$f":"IFERROR(VLOOKUP(E1386,Teilnehmer!$B$3:$C$1002,2,0),\"\")","v":""}]
[null,null,null,{"$f":"IFERROR(VLOOKUP(C1387,Teilnehmer!$B$3:$C$1002,2,0),\"\")","v":""},null,{"$f":"IFERROR(VLOOKUP(E1387,Teilnehmer!$B$3:$C$1002,2,0),\"\")","v":""}]
[null,null,null,{"$f":"IFERROR(VLOOKUP(C1388,Teilnehmer!$B$3:$C$1002,2,0),\"\")","v":""},null,{"$f":"IFERROR(VLOOKUP(E1388,Teilnehmer!$B$3:$C$1002,2,0),\"\")","v":""}]
[null,null,null,{"$f":"IFERROR(VLOOKUP(C1389,Teilnehmer!$B$3:$C$1002,2,0),\"\")","v":""},null,{"$f":"IFERROR(VLOOKUP(E1389,Teilnehmer!$B$3:$C$1002,2,0),\"\")","v":""}]
[null,null,null,{"$f":"IFERROR(VLOOKUP(C1390,Teilnehmer!$B$3:$C$1002,2,0),\"\")","v":""},null,{"$f":"IFERROR(VLOOKUP(E1390,Teilnehmer!$B$3:$C$1002,2,0),\"\")","v":""}]
[null,null,null,{"$f":"IFERROR(VLOOKUP(C1391,Teilnehmer!$B$3:$C$1002,2,0),\"\")","v":""},null,{"$f":"IFERROR(VLOOKUP(E1391,Teilnehmer!$B$3:$C$1002,2,0),\"\")","v":""}]
[null,null,null,{"$f":"IFERROR(VLOOKUP(C1392,Teilnehmer!$B$3:$C$1002,2,0),\"\")","v":""},null,{"$f":"IFERROR(VLOOKUP(E1392,Teilnehmer!$B$3:$C$1002,2,0),\"\")","v":""}]
[null,null,null,{"$f":"IFERROR(VLOOKUP(C1393,Teilnehmer!$B$3:$C$1002,2,0),\"\")","v":""},null,{"$f":"IFERROR(VLOOKUP(E1393,Teilnehmer!$B$3:$C$1002,2,0),\"\")","v":""}]
[null,null,null,{"$f":"IFERROR(VLOOKUP(C1394,Teilnehmer!$B$3:$C$1002,2,0),\"\")","v":""},null,{"$f":"IFERROR(VLOOKUP(E1394,Teilnehmer!$B$3:$C$1002,2,0),\"\")","v":""}]
[null,null,null,{"$f":"IFERROR(VLOOKUP(C1395,Teilnehmer!$B$3:$C$1002,2,0),\"\")","v":""},null,{"$f":"IFERROR(VLOOKUP(E1395,Teilnehmer!$B$3:$C$1002,2,0),\"\")","v":""}]
[null,null,null,{"$f":"IFERROR(VLOOKUP(C1396,Teilnehmer!$B$3:$C$1002,2,0),\"\")","v":""},null,{"$f":"IFERROR(VLOOKUP(E1396,Teilnehmer!$B$3:$C$1002,2,0),\"\")","v":""}]
[null,null,null,{"$f":"IFERROR(VLOOKUP(C1397,Teilnehmer!$B$3:$C$1002,2,0),\"\")","v":""},null,{"$f":"IFERROR(VLOOKUP(E1397,Teilnehmer!$B$3:$C$1002,2,0),\"\")","v":""}]
[null,null,null,{"$f":"IFERROR(VLOOKUP(C1398,Teilnehmer!$B$3:$C$1002,2,0),\"\")","v":""},null,{"$f":"IFERROR(VLOOKUP(E1398,Teilnehmer!$B$3:$C$1002,2,0),\"\")","v":""}]
[null,null,null,{"$f":"IFERROR(VLOOKUP(C1399,Teilnehmer!$B$3:$C$1002,2,0),\"\")","v":""},null,{"$f":"IFERROR(VLOOKUP(E1399,Teilnehmer!$B$3:$C$1002,2,0),\"\")","v":""}]
[null,null,null,{"$f":"IFERROR(VLOOKUP(C1400,Teilnehmer!$B$3:$C$1002,2,0),\"\")","v":""},null,{"$f":"IFERROR(VLOOKUP(E1400,Teilnehmer!$B$3:$C$1002,2,0),\"\")","v":""}]
[null,null,null,{"$f":"IFERROR(VLOOKUP(C1401,Teilnehmer!$B$3:$C$1002,2,0),\"\")","v":""},null,{"$f":"IFERROR(VLOOKUP(E1401,Teilnehmer!$B$3:$C$1002,2,0),\"\")","v":""}]
[null,null,null,{"$f":"IFERROR(VLOOKUP(C1402,Teilnehmer!$B$3:$C$1002,2,0),\"\")","v":""},null,{"$f":"IFERROR(VLOOKUP(E1402,Teilnehmer!$B$3:$C$1002,2,0),\"\")","v":""}]
[null,null,null,{"$f":"IFERROR(VLOOKUP(C1403,Teilnehmer!$B$3:$C$1002,2,0),\"\")","v":""},null,{"$f":"IFERROR(VLOOKUP(E1403,Teilnehmer!$B$3:$C$1002,2,0),\"\")","v":""}]
[null,null,null,{"$f":"IFERROR(VLOOKUP(C1404,Teilnehmer!$B$3:$C$1002,2,0),\"\")","v":""},null,{"$f":"IFERROR(VLOOKUP(E1404,Teilnehmer!$B$3:$C$1002,2,0),\"\")","v":""}]
[null,null,null,{"$f":"IFERROR(VLOOKUP(C1405,Teilnehmer!$B$3:$C$1002,2,0),\"\")","v":""},null,{"$f":"IFERROR(VLOOKUP(E1405,Teilnehmer!$B$3:$C$1002,2,0),\"\")","v":""}]
[null,null,null,{"$f":"IFERROR(VLOOKUP(C1406,Teilnehmer!$B$3:$C$1002,2,0),\"\")","v":""},null,{"$f":"IFERROR(VLOOKUP(E1406,Teilnehmer!$B$3:$C$1002,2,0),\"\")","v":""}]
[null,null,null,{"$f":"IFERROR(VLOOKUP(C1407,Teilnehmer!$B$3:$C$1002,2,0),\"\")","v":""},null,{"$f":"IFERROR(VLOOKUP(E1407,Teilnehmer!$B$3:$C$1002,2,0),\"\")","v":""}]
[null,null,null,{"$f":"IFERROR(VLOOKUP(C1408,Teilnehmer!$B$3:$C$1002,2,0),\"\")","v":""},null,{"$f":"IFERROR(VLOOKUP(E1408,Teilnehmer!$B$3:$C$1002,2,0),\"\")","v":""}]
[null,null,null,{"$f":"IFERROR(VLOOKUP(C1409,Teilnehmer!$B$3:$C$1002,2,0),\"\")","v":""},null,{"$f":"IFERROR(VLOOKUP(E1409,Teilnehmer!$B$3:$C$1002,2,0),\"\")","v":""}]
[null,null,null,{"$f":"IFERROR(VLOOKUP(C1410,Teilnehmer!$B$3:$C$1002,2,0),\"\")","v":""},null,{"$f":"IFERROR(VLOOKUP(E1410,Teilnehmer!$B$3:$C$1002,2,0),\"\")","v":""}]
[null,null,null,{"$f":"IFERROR(VLOOKUP(C1411,Teilnehmer!$B$3:$C$1002,2,0),\"\")","v":""},null,{"$f":"IFERROR(VLOOKUP(E1411,Teilnehmer!$B$3:$C$1002,2,0),\"\")","v":""}]
[null,null,null,{"$f":"IFERROR(VLOOKUP(C1412,Teilnehmer!$B$3:$C$1002,2,0),\"\")","v":""},null,{"$f":"IFERROR(VLOOKUP(E1412,Teilnehmer!$B$3:$C$1002,2,0),\"\")","v":""}]
[null,null,null,{"$f":"IFERROR(VLOOKUP(C1413,Teilnehmer!$B$3:$C$1002,2,0),\"\")","v":""},null,{"$f":"IFERROR(VLOOKUP(E1413,Teilnehmer!$B$3:$C$1002,2,0),\"\")","v":""}]
[null,null,null,{"$f":"IFERROR(VLOOKUP(C1414,Teilnehmer!$B$3:$C$1002,2,0),\"\")","v":""},null,{"$f":"IFERROR(VLOOKUP(E1414,Teilnehmer!$B$3:$C$1002,2,0),\"\")","v":""}]
[null,null,null,{"$f":"IFERROR(VLOOKUP(C1415,Teilnehmer!$B$3:$C$1002,2,0),\"\")","v":""},null,{"$f":"IFERROR(VLOOKUP(E1415,Teilnehmer!$B$3:$C$1002,2,0),\"\")","v":""}]
[null,null,null,{"$f":"IFERROR(VLOOKUP(C1416,Teilnehmer!$B$3:$C$1002,2,0),\"\")","v":""},null,{"$f":"IFERROR(VLOOKUP(E1416,Teilnehmer!$B$3:$C$1002,2,0),\"\")","v":""}]
[null,null,null,{"$f":"IFERROR(VLOOKUP(C1417,Teilnehmer!$B$3:$C$1002,2,0),\"\")","v":""},null,{"$f":"IFERROR(VLOOKUP(E1417,Teilnehmer!$B$3:$C$1002,2,0),\"\")","v":""}]
[null,null,null,{"$f":"IFERROR(VLOOKUP(C1418,Teilnehmer!$B$3:$C$1002,2,0),\"\")","v":""},null,{"$f":"IFERROR(VLOOKUP(E1418,Teilnehmer!$B$3:$C$1002,2,0),\"\")","v":""}]
[null,null,null,{"$f":"IFERROR(VLOOKUP(C1419,Teilnehmer!$B$3:$C$1002,2,0),\"\")","v":""},null,{"$f":"IFERROR(VLOOKUP(E1419,Teilnehmer!$B$3:$C$1002,2,0),\"\")","v":""}]
[null,null,null,{"$f":"IFERROR(VLOOKUP(C1420,Teilnehmer!$B$3:$C$1002,2,0),\"\")","v":""},null,{"$f":"IFERROR(VLOOKUP(E1420,Teilnehmer!$B$3:$C$1002,2,0),\"\")","v":""}]
[null,null,null,{"$f":"IFERROR(VLOOKUP(C1421,Teilnehmer!$B$3:$C$1002,2,0),\"\")","v":""},null,{"$f":"IFERROR(VLOOKUP(E1421,Teilnehmer!$B$3:$C$1002,2,0),\"\")","v":""}]
[null,null,null,{"$f":"IFERROR(VLOOKUP(C1422,Teilnehmer!$B$3:$C$1002,2,0),\"\")","v":""},null,{"$f":"IFERROR(VLOOKUP(E1422,Teilnehmer!$B$3:$C$1002,2,0),\"\")","v":""}]
[null,null,null,{"$f":"IFERROR(VLOOKUP(C1423,Teilnehmer!$B$3:$C$1002,2,0),\"\")","v":""},null,{"$f":"IFERROR(VLOOKUP(E1423,Teilnehmer!$B$3:$C$1002,2,0),\"\")","v":""}]
[null,null,null,{"$f":"IFERROR(VLOOKUP(C1424,Teilnehmer!$B$3:$C$1002,2,0),\"\")","v":""},null,{"$f":"IFERROR(VLOOKUP(E1424,Teilnehmer!$B$3:$C$1002,2,0),\"\")","v":""}]
[null,null,null,{"$f":"IFERROR(VLOOKUP(C1425,Teilnehmer!$B$3:$C$1002,2,0),\"\")","v":""},null,{"$f":"IFERROR(VLOOKUP(E1425,Teilnehmer!$B$3:$C$1002,2,0),\"\")","v":""}]
[null,null,null,{"$f":"IFERROR(VLOOKUP(C1426,Teilnehmer!$B$3:$C$1002,2,0),\"\")","v":""},null,{"$f":"IFERROR(VLOOKUP(E1426,Teilnehmer!$B$3:$C$1002,2,0),\"\")","v":""}]
[null,null,null,{"$f":"IFERROR(VLOOKUP(C1427,Teilnehmer!$B$3:$C$1002,2,0),\"\")","v":""},null,{"$f":"IFERROR(VLOOKUP(E1427,Teilnehmer!$B$3:$C$1002,2,0),\"\")","v":""}]
[null,null,null,{"$f":"IFERROR(VLOOKUP(C1428,Teilnehmer!$B$3:$C$1002,2,0),\"\")","v":""},null,{"$f":"IFERROR(VLOOKUP(E1428,Teilnehmer!$B$3:$C$1002,2,0),\"\")","v":""}]
[null,null,null,{"$f":"IFERROR(VLOOKUP(C1429,Teilnehmer!$B$3:$C$1002,2,0),\"\")","v":""},null,{"$f":"IFERROR(VLOOKUP(E1429,Teilnehmer!$B$3:$C$1002,2,0),\"\")","v":""}]
[null,null,null,{"$f":"IFERROR(VLOOKUP(C1430,Teilnehmer!$B$3:$C$1002,2,0),\"\")","v":""},null,{"$f":"IFERROR(VLOOKUP(E1430,Teilnehmer!$B$3:$C$1002,2,0),\"\")","v":""}]
[null,null,null,{"$f":"IFERROR(VLOOKUP(C1431,Teilnehmer!$B$3:$C$1002,2,0),\"\")","v":""},null,{"$f":"IFERROR(VLOOKUP(E1431,Teilnehmer!$B$3:$C$1002,2,0),\"\")","v":""}]
[null,null,null,{"$f":"IFERROR(VLOOKUP(C1432,Teilnehmer!$B$3:$C$1002,2,0),\"\")","v":""},null,{"$f":"IFERROR(VLOOKUP(E1432,Teilnehmer!$B$3:$C$1002,2,0),\"\")","v":""}]
[null,null,null,{"$f":"IFERROR(VLOOKUP(C1433,Teilnehmer!$B$3:$C$1002,2,0),\"\")","v":""},null,{"$f":"IFERROR(VLOOKUP(E1433,Teilnehmer!$B$3:$C$1002,2,0),\"\")","v":""}]
[null,null,null,{"$f":"IFERROR(VLOOKUP(C1434,Teilnehmer!$B$3:$C$1002,2,0),\"\")","v":""},null,{"$f":"IFERROR(VLOOKUP(E1434,Teilnehmer!$B$3:$C$1002,2,0),\"\")","v":""}]
[null,null,null,{"$f":"IFERROR(VLOOKUP(C1435,Teilnehmer!$B$3:$C$1002,2,0),\"\")","v":""},null,{"$f":"IFERROR(VLOOKUP(E1435,Teilnehmer!$B$3:$C$1002,2,0),\"\")","v":""}]
[null,null,null,{"$f":"IFERROR(VLOOKUP(C1436,Teilnehmer!$B$3:$C$1002,2,0),\"\")","v":""},null,{"$f":"IFERROR(VLOOKUP(E1436,Teilnehmer!$B$3:$C$1002,2,0),\"\")","v":""}]
[null,null,null,{"$f":"IFERROR(VLOOKUP(C1437,Teilnehmer!$B$3:$C$1002,2,0),\"\")","v":""},null,{"$f":"IFERROR(VLOOKUP(E1437,Teilnehmer!$B$3:$C$1002,2,0),\"\")","v":""}]
[null,null,null,{"$f":"IFERROR(VLOOKUP(C1438,Teilnehmer!$B$3:$C$1002,2,0),\"\")","v":""},null,{"$f":"IFERROR(VLOOKUP(E1438,Teilnehmer!$B$3:$C$1002,2,0),\"\")","v":""}]
[null,null,null,{"$f":"IFERROR(VLOOKUP(C1439,Teilnehmer!$B$3:$C$1002,2,0),\"\")","v":""},null,{"$f":"IFERROR(VLOOKUP(E1439,Teilnehmer!$B$3:$C$1002,2,0),\"\")","v":""}]
[null,null,null,{"$f":"IFERROR(VLOOKUP(C1440,Teilnehmer!$B$3:$C$1002,2,0),\"\")","v":""},null,{"$f":"IFERROR(VLOOKUP(E1440,Teilnehmer!$B$3:$C$1002,2,0),\"\")","v":""}]
[null,null,null,{"$f":"IFERROR(VLOOKUP(C1441,Teilnehmer!$B$3:$C$1002,2,0),\"\")","v":""},null,{"$f":"IFERROR(VLOOKUP(E1441,Teilnehmer!$B$3:$C$1002,2,0),\"\")","v":""}]
[null,null,null,{"$f":"IFERROR(VLOOKUP(C1442,Teilnehmer!$B$3:$C$1002,2,0),\"\")","v":""},null,{"$f":"IFERROR(VLOOKUP(E1442,Teilnehmer!$B$3:$C$1002,2,0),\"\")","v":""}]
[null,null,null,{"$f":"IFERROR(VLOOKUP(C1443,Teilnehmer!$B$3:$C$1002,2,0),\"\")","v":""},null,{"$f":"IFERROR(VLOOKUP(E1443,Teilnehmer!$B$3:$C$1002,2,0),\"\")","v":""}]
[null,null,null,{"$f":"IFERROR(VLOOKUP(C1444,Teilnehmer!$B$3:$C$1002,2,0),\"\")","v":""},null,{"$f":"IFERROR(VLOOKUP(E1444,Teilnehmer!$B$3:$C$1002,2,0),\"\")","v":""}]
[null,null,null,{"$f":"IFERROR(VLOOKUP(C1445,Teilnehmer!$B$3:$C$1002,2,0),\"\")","v":""},null,{"$f":"IFERROR(VLOOKUP(E1445,Teilnehmer!$B$3:$C$1002,2,0),\"\")","v":""}]
[null,null,null,{"$f":"IFERROR(VLOOKUP(C1446,Teilnehmer!$B$3:$C$1002,2,0),\"\")","v":""},null,{"$f":"IFERROR(VLOOKUP(E1446,Teilnehmer!$B$3:$C$1002,2,0),\"\")","v":""}]
[null,null,null,{"$f":"IFERROR(VLOOKUP(C1447,Teilnehmer!$B$3:$C$1002,2,0),\"\")","v":""},null,{"$f":"IFERROR(VLOOKUP(E1447,Teilnehmer!$B$3:$C$1002,2,0),\"\")","v":""}]
[null,null,null,{"$f":"IFERROR(VLOOKUP(C1448,Teilnehmer!$B$3:$C$1002,2,0),\"\")","v":""},null,{"$f":"IFERROR(VLOOKUP(E1448,Teilnehmer!$B$3:$C$1002,2,0),\"\")","v":""}]
[null,null,null,{"$f":"IFERROR(VLOOKUP(C1449,Teilnehmer!$B$3:$C$1002,2,0),\"\")","v":""},null,{"$f":"IFERROR(VLOOKUP(E1449,Teilnehmer!$B$3:$C$1002,2,0),\"\")","v":""}]
[null,null,null,{"$f":"IFERROR(VLOOKUP(C1450,Teilnehmer!$B$3:$C$1002,2,0),\"\")","v":""},null,{"$f":"IFERROR(VLOOKUP(E1450,Teilnehmer!$B$3:$C$1002,2,0),\"\")","v":""}]
[null,null,null,{"$f":"IFERROR(VLOOKUP(C1451,Teilnehmer!$B$3:$C$1002,2,0),\"\")","v":""},null,{"$f":"IFERROR(VLOOKUP(E1451,Teilnehmer!$B$3:$C$1002,2,0),\"\")","v":""}]
[null,null,null,{"$f":"IFERROR(VLOOKUP(C1452,Teilnehmer!$B$3:$C$1002,2,0),\"\")","v":""},null,{"$f":"IFERROR(VLOOKUP(E1452,Teilnehmer!$B$3:$C$1002,2,0),\"\")","v":""}]
[null,null,null,{"$f":"IFERROR(VLOOKUP(C1453,Teilnehmer!$B$3:$C$1002,2,0),\"\")","v":""},null,{"$f":"IFERROR(VLOOKUP(E1453,Teilnehmer!$B$3:$C$1002,2,0),\"\")","v":""}]
[null,null,null,{"$f":"IFERROR(VLOOKUP(C1454,Teilnehmer!$B$3:$C$1002,2,0),\"\")","v":""},null,{"$f":"IFERROR(VLOOKUP(E1454,Teilnehmer!$B$3:$C$1002,2,0),\"\")","v":""}]
[null,null,null,{"$f":"IFERROR(VLOOKUP(C1455,Teilnehmer!$B$3:$C$1002,2,0),\"\")","v":""},null,{"$f":"IFERROR(VLOOKUP(E1455,Teilnehmer!$B$3:$C$1002,2,0),\"\")","v":""}]
[null,null,null,{"$f":"IFERROR(VLOOKUP(C1456,Teilnehmer!$B$3:$C$1002,2,0),\"\")","v":""},null,{"$f":"IFERROR(VLOOKUP(E1456,Teilnehmer!$B$3:$C$1002,2,0),\"\")","v":""}]
[null,null,null,{"$f":"IFERROR(VLOOKUP(C1457,Teilnehmer!$B$3:$C$1002,2,0),\"\")","v":""},null,{"$f":"IFERROR(VLOOKUP(E1457,Teilnehmer!$B$3:$C$1002,2,0),\"\")","v":""}]
[null,null,null,{"$f":"IFERROR(VLOOKUP(C1458,Teilnehmer!$B$3:$C$1002,2,0),\"\")","v":""},null,{"$f":"IFERROR(VLOOKUP(E1458,Teilnehmer!$B$3:$C$1002,2,0),\"\")","v":""}]
[null,null,null,{"$f":"IFERROR(VLOOKUP(C1459,Teilnehmer!$B$3:$C$1002,2,0),\"\")","v":""},null,{"$f":"IFERROR(VLOOKUP(E1459,Teilnehmer!$B$3:$C$1002,2,0),\"\")","v":""}]
[null,null,null,{"$f":"IFERROR(VLOOKUP(C1460,Teilnehmer!$B$3:$C$1002,2,0),\"\")","v":""},null,{"$f":"IFERROR(VLOOKUP(E1460,Teilnehmer!$B$3:$C$1002,2,0),\"\")","v":""}]
[null,null,null,{"$f":"IFERROR(VLOOKUP(C1461,Teilnehmer!$B$3:$C$1002,2,0),\"\")","v":""},null,{"$f":"IFERROR(VLOOKUP(E1461,Teilnehmer!$B$3:$C$1002,2,0),\"\")","v":""}]
[null,null,null,{"$f":"IFERROR(VLOOKUP(C1462,Teilnehmer!$B$3:$C$1002,2,0),\"\")","v":""},null,{"$f":"IFERROR(VLOOKUP(E1462,Teilnehmer!$B$3:$C$1002,2,0),\"\")","v":""}]
[null,null,null,{"$f":"IFERROR(VLOOKUP(C1463,Teilnehmer!$B$3:$C$1002,2,0),\"\")","v":""},null,{"$f":"IFERROR(VLOOKUP(E1463,Teilnehmer!$B$3:$C$1002,2,0),\"\")","v":""}]
[null,null,null,{"$f":"IFERROR(VLOOKUP(C1464,Teilnehmer!$B$3:$C$1002,2,0),\"\")","v":""},null,{"$f":"IFERROR(VLOOKUP(E1464,Teilnehmer!$B$3:$C$1002,2,0),\"\")","v":""}]
[null,null,null,{"$f":"IFERROR(VLOOKUP(C1465,Teilnehmer!$B$3:$C$1002,2,0),\"\")","v":""},null,{"$f":"IFERROR(VLOOKUP(E1465,Teilnehmer!$B$3:$C$1002,2,0),\"\")","v":""}]
[null,null,null,{"$f":"IFERROR(VLOOKUP(C1466,Teilnehmer!$B$3:$C$1002,2,0),\"\")","v":""},null,{"$f":"IFERROR(VLOOKUP(E1466,Teilnehmer!$B$3:$C$1002,2,0),\"\")","v":""}]
[null,null,null,{"$f":"IFERROR(VLOOKUP(C1467,Teilnehmer!$B$3:$C$1002,2,0),\"\")","v":""},null,{"$f":"IFERROR(VLOOKUP(E1467,Teilnehmer!$B$3:$C$1002,2,0),\"\")","v":""}]
[null,null,null,{"$f":"IFERROR(VLOOKUP(C1468,Teilnehmer!$B$3:$C$1002,2,0),\"\")","v":""},null,{"$f":"IFERROR(VLOOKUP(E1468,Teilnehmer!$B$3:$C$1002,2,0),\"\")","v":""}]
[null,null,null,{"$f":"IFERROR(VLOOKUP(C1469,Teilnehmer!$B$3:$C$1002,2,0),\"\")","v":""},null,{"$f":"IFERROR(VLOOKUP(E1469,Teilnehmer!$B$3:$C$1002,2,0),\"\")","v":""}]
[null,null,null,{"$f":"IFERROR(VLOOKUP(C1470,Teilnehmer!$B$3:$C$1002,2,0),\"\")","v":""},null,{"$f":"IFERROR(VLOOKUP(E1470,Teilnehmer!$B$3:$C$1002,2,0),\"\")","v":""}]
[null,null,null,{"$f":"IFERROR(VLOOKUP(C1471,Teilnehmer!$B$3:$C$1002,2,0),\"\")","v":""},null,{"$f":"IFERROR(VLOOKUP(E1471,Teilnehmer!$B$3:$C$1002,2,0),\"\")","v":""}]
[null,null,null,{"$f":"IFERROR(VLOOKUP(C1472,Teilnehmer!$B$3:$C$1002,2,0),\"\")","v":""},null,{"$f":"IFERROR(VLOOKUP(E1472,Teilnehmer!$B$3:$C$1002,2,0),\"\")","v":""}]
[null,null,null,{"$f":"IFERROR(VLOOKUP(C1473,Teilnehmer!$B$3:$C$1002,2,0),\"\")","v":""},null,{"$f":"IFERROR(VLOOKUP(E1473,Teilnehmer!$B$3:$C$1002,2,0),\"\")","v":""}]
[null,null,null,{"$f":"IFERROR(VLOOKUP(C1474,Teilnehmer!$B$3:$C$1002,2,0),\"\")","v":""},null,{"$f":"IFERROR(VLOOKUP(E1474,Teilnehmer!$B$3:$C$1002,2,0),\"\")","v":""}]
[null,null,null,{"$f":"IFERROR(VLOOKUP(C1475,Teilnehmer!$B$3:$C$1002,2,0),\"\")","v":""},null,{"$f":"IFERROR(VLOOKUP(E1475,Teilnehmer!$B$3:$C$1002,2,0),\"\")","v":""}]
[null,null,null,{"$f":"IFERROR(VLOOKUP(C1476,Teilnehmer!$B$3:$C$1002,2,0),\"\")","v":""},null,{"$f":"IFERROR(VLOOKUP(E1476,Teilnehmer!$B$3:$C$1002,2,0),\"\")","v":""}]
[null,null,null,{"$f":"IFERROR(VLOOKUP(C1477,Teilnehmer!$B$3:$C$1002,2,0),\"\")","v":""},null,{"$f":"IFERROR(VLOOKUP(E1477,Teilnehmer!$B$3:$C$1002,2,0),\"\")","v":""}]
[null,null,null,{"$f":"IFERROR(VLOOKUP(C1478,Teilnehmer!$B$3:$C$1002,2,0),\"\")","v":""},null,{"$f":"IFERROR(VLOOKUP(E1478,Teilnehmer!$B$3:$C$1002,2,0),\"\")","v":""}]
[null,null,null,{"$f":"IFERROR(VLOOKUP(C1479,Teilnehmer!$B$3:$C$1002,2,0),\"\")","v":""},null,{"$f":"IFERROR(VLOOKUP(E1479,Teilnehmer!$B$3:$C$1002,2,0),\"\")","v":""}]
[null,null,null,{"$f":"IFERROR(VLOOKUP(C1480,Teilnehmer!$B$3:$C$1002,2,0),\"\")","v":""},null,{"$f":"IFERROR(VLOOKUP(E1480,Teilnehmer!$B$3:$C$1002,2,0),\"\")","v":""}]
[null,null,null,{"$f":"IFERROR(VLOOKUP(C1481,Teilnehmer!$B$3:$C$1002,2,0),\"\")","v":""},null,{"$f":"IFERROR(VLOOKUP(E1481,Teilnehmer!$B$3:$C$1002,2,0),\"\")","v":""}]
[null,null,null,{"$f":"IFERROR(VLOOKUP(C1482,Teilnehmer!$B$3:$C$1002,2,0),\"\")","v":""},null,{"$f":"IFERROR(VLOOKUP(E1482,Teilnehmer!$B$3:$C$1002,2,0),\"\")","v":""}]
[null,null,null,{"$f":"IFERROR(VLOOKUP(C1483,Teilnehmer!$B$3:$C$1002,2,0),\"\")","v":""},null,{"$f":"IFERROR(VLOOKUP(E1483,Teilnehmer!$B$3:$C$1002,2,0),\"\")","v":""}]
[null,null,null,{"$f":"IFERROR(VLOOKUP(C1484,Teilnehmer!$B$3:$C$1002,2,0),\"\")","v":""},null,{"$f":"IFERROR(VLOOKUP(E1484,Teilnehmer!$B$3:$C$1002,2,0),\"\")","v":""}]
[null,null,null,{"$f":"IFERROR(VLOOKUP(C1485,Teilnehmer!$B$3:$C$1002,2,0),\"\")","v":""},null,{"$f":"IFERROR(VLOOKUP(E1485,Teilnehmer!$B$3:$C$1002,2,0),\"\")","v":""}]
[null,null,null,{"$f":"IFERROR(VLOOKUP(C1486,Teilnehmer!$B$3:$C$1002,2,0),\"\")","v":""},null,{"$f":"IFERROR(VLOOKUP(E1486,Teilnehmer!$B$3:$C$1002,2,0),\"\")","v":""}]
[null,null,null,{"$f":"IFERROR(VLOOKUP(C1487,Teilnehmer!$B$3:$C$1002,2,0),\"\")","v":""},null,{"$f":"IFERROR(VLOOKUP(E1487,Teilnehmer!$B$3:$C$1002,2,0),\"\")","v":""}]
[null,null,null,{"$f":"IFERROR(VLOOKUP(C1488,Teilnehmer!$B$3:$C$1002,2,0),\"\")","v":""},null,{"$f":"IFERROR(VLOOKUP(E1488,Teilnehmer!$B$3:$C$1002,2,0),\"\")","v":""}]
[null,null,null,{"$f":"IFERROR(VLOOKUP(C1489,Teilnehmer!$B$3:$C$1002,2,0),\"\")","v":""},null,{"$f":"IFERROR(VLOOKUP(E1489,Teilnehmer!$B$3:$C$1002,2,0),\"\")","v":""}]
[null,null,null,{"$f":"IFERROR(VLOOKUP(C1490,Teilnehmer!$B$3:$C$1002,2,0),\"\")","v":""},null,{"$f":"IFERROR(VLOOKUP(E1490,Teilnehmer!$B$3:$C$1002,2,0),\"\")","v":""}]
[null,null,null,{"$f":"IFERROR(VLOOKUP(C1491,Teilnehmer!$B$3:$C$1002,2,0),\"\")","v":""},null,{"$f":"IFERROR(VLOOKUP(E1491,Teilnehmer!$B$3:$C$1002,2,0),\"\")","v":""}]
[null,null,null,{"$f":"IFERROR(VLOOKUP(C1492,Teilnehmer!$B$3:$C$1002,2,0),\"\")","v":""},null,{"$f":"IFERROR(VLOOKUP(E1492,Teilnehmer!$B$3:$C$1002,2,0),\"\")","v":""}]
[null,null,null,{"$f":"IFERROR(VLOOKUP(C1493,Teilnehmer!$B$3:$C$1002,2,0),\"\")","v":""},null,{"$f":"IFERROR(VLOOKUP(E1493,Teilnehmer!$B$3:$C$1002,2,0),\"\")","v":""}]
[null,null,null,{"$f":"IFERROR(VLOOKUP(C1494,Teilnehmer!$B$3:$C$1002,2,0),\"\")","v":""},null,{"$f":"IFERROR(VLOOKUP(E1494,Teilnehmer!$B$3:$C$1002,2,0),\"\")","v":""}]
[null,null,null,{"$f":"IFERROR(VLOOKUP(C1495,Teilnehmer!$B$3:$C$1002,2,0),\"\")","v":""},null,{"$f":"IFERROR(VLOOKUP(E1495,Teilnehmer!$B$3:$C$1002,2,0),\"\")","v":""}]
[null,null,null,{"$f":"IFERROR(VLOOKUP(C1496,Teilnehmer!$B$3:$C$1002,2,0),\"\")","v":""},null,{"$f":"IFERROR(VLOOKUP(E1496,Teilnehmer!$B$3:$C$1002,2,0),\"\")","v":""}]
[null,null,null,{"$f":"IFERROR(VLOOKUP(C1497,Teilnehmer!$B$3:$C$1002,2,0),\"\")","v":""},null,{"$f":"IFERROR(VLOOKUP(E1497,Teilnehmer!$B$3:$C$1002,2,0),\"\")","v":""}]
[null,null,null,{"$f":"IFERROR(VLOOKUP(C1498,Teilnehmer!$B$3:$C$1002,2,0),\"\")","v":""},null,{"$f":"IFERROR(VLOOKUP(E1498,Teilnehmer!$B$3:$C$1002,2,0),\"\")","v":""}]
[null,null,null,{"$f":"IFERROR(VLOOKUP(C1499,Teilnehmer!$B$3:$C$1002,2,0),\"\")","v":""},null,{"$f":"IFERROR(VLOOKUP(E1499,Teilnehmer!$B$3:$C$1002,2,0),\"\")","v":""}]
[null,null,null,{"$f":"IFERROR(VLOOKUP(C1500,Teilnehmer!$B$3:$C$1002,2,0),\"\")","v":""},null,{"$f":"IFERROR(VLOOKUP(E1500,Teilnehmer!$B$3:$C$1002,2,0),\"\")","v":""}]
[null,null,null,{"$f":"IFERROR(VLOOKUP(C1501,Teilnehmer!$B$3:$C$1002,2,0),\"\")","v":""},null,{"$f":"IFERROR(VLOOKUP(E1501,Teilnehmer!$B$3:$C$1002,2,0),\"\")","v":""}]
[null,null,null,{"$f":"IFERROR(VLOOKUP(C1502,Teilnehmer!$B$3:$C$1002,2,0),\"\")","v":""},null,{"$f":"IFERROR(VLOOKUP(E1502,Teilnehmer!$B$3:$C$1002,2,0),\"\")","v":""}]
[null,null,null,{"$f":"IFERROR(VLOOKUP(C1503,Teilnehmer!$B$3:$C$1002,2,0),\"\")","v":""},null,{"$f":"IFERROR(VLOOKUP(E1503,Teilnehmer!$B$3:$C$1002,2,0),\"\")","v":""}]
[null,null,null,{"$f":"IFERROR(VLOOKUP(C1504,Teilnehmer!$B$3:$C$1002,2,0),\"\")","v":""},null,{"$f":"IFERROR(VLOOKUP(E1504,Teilnehmer!$B$3:$C$1002,2,0),\"\")","v":""}]
[null,null,null,{"$f":"IFERROR(VLOOKUP(C1505,Teilnehmer!$B$3:$C$1002,2,0),\"\")","v":""},null,{"$f":"IFERROR(VLOOKUP(E1505,Teilnehmer!$B$3:$C$1002,2,0),\"\")","v":""}]
[null,null,null,{"$f":"IFERROR(VLOOKUP(C1506,Teilnehmer!$B$3:$C$1002,2,0),\"\")","v":""},null,{"$f":"IFERROR(VLOOKUP(E1506,Teilnehmer!$B$3:$C$1002,2,0),\"\")","v":""}]
[null,null,null,{"$f":"IFERROR(VLOOKUP(C1507,Teilnehmer!$B$3:$C$1002,2,0),\"\")","v":""},null,{"$f":"IFERROR(VLOOKUP(E1507,Teilnehmer!$B$3:$C$1002,2,0),\"\")","v":""}]
[null,null,null,{"$f":"IFERROR(VLOOKUP(C1508,Teilnehmer!$B$3:$C$1002,2,0),\"\")","v":""},null,{"$f":"IFERROR(VLOOKUP(E1508,Teilnehmer!$B$3:$C$1002,2,0),\"\")","v":""}]
[null,null,null,{"$f":"IFERROR(VLOOKUP(C1509,Teilnehmer!$B$3:$C$1002,2,0),\"\")","v":""},null,{"$f":"IFERROR(VLOOKUP(E1509,Teilnehmer!$B$3:$C$1002,2,0),\"\")","v":""}]
[null,null,null,{"$f":"IFERROR(VLOOKUP(C1510,Teilnehmer!$B$3:$C$1002,2,0),\"\")","v":""},null,{"$f":"IFERROR(VLOOKUP(E1510,Teilnehmer!$B$3:$C$1002,2,0),\"\")","v":""}]
[null,null,null,{"$f":"IFERROR(VLOOKUP(C1511,Teilnehmer!$B$3:$C$1002,2,0),\"\")","v":""},null,{"$f":"IFERROR(VLOOKUP(E1511,Teilnehmer!$B$3:$C$1002,2,0),\"\")","v":""}]
[null,null,null,{"$f":"IFERROR(VLOOKUP(C1512,Teilnehmer!$B$3:$C$1002,2,0),\"\")","v":""},null,{"$f":"IFERROR(VLOOKUP(E1512,Teilnehmer!$B$3:$C$1002,2,0),\"\")","v":""}]
[null,null,null,{"$f":"IFERROR(VLOOKUP(C1513,Teilnehmer!$B$3:$C$1002,2,0),\"\")","v":""},null,{"$f":"IFERROR(VLOOKUP(E1513,Teilnehmer!$B$3:$C$1002,2,0),\"\")","v":""}]
[null,null,null,{"$f":"IFERROR(VLOOKUP(C1514,Teilnehmer!$B$3:$C$1002,2,0),\"\")","v":""},null,{"$f":"IFERROR(VLOOKUP(E1514,Teilnehmer!$B$3:$C$1002,2,0),\"\")","v":""}]
[null,null,null,{"$f":"IFERROR(VLOOKUP(C1515,Teilnehmer!$B$3:$C$1002,2,0),\"\")","v":""},null,{"$f":"IFERROR(VLOOKUP(E1515,Teilnehmer!$B$3:$C$1002,2,0),\"\")","v":""}]
[null,null,null,{"$f":"IFERROR(VLOOKUP(C1516,Teilnehmer!$B$3:$C$1002,2,0),\"\")","v":""},null,{"$f":"IFERROR(VLOOKUP(E1516,Teilnehmer!$B$3:$C$1002,2,0),\"\")","v":""}]
[null,null,null,{"$f":"IFERROR(VLOOKUP(C1517,Teilnehmer!$B$3:$C$1002,2,0),\"\")","v":""},null,{"$f":"IFERROR(VLOOKUP(E1517,Teilnehmer!$B$3:$C$1002,2,0),\"\")","v":""}]
[null,null,null,{"$f":"IFERROR(VLOOKUP(C1518,Teilnehmer!$B$3:$C$1002,2,0),\"\")","v":""},null,{"$f":"IFERROR(VLOOKUP(E1518,Teilnehmer!$B$3:$C$1002,2,0),\"\")","v":""}]
[null,null,null,{"$f":"IFERROR(VLOOKUP(C1519,Teilnehmer!$B$3:$C$1002,2,0),\"\")","v":""},null,{"$f":"IFERROR(VLOOKUP(E1519,Teilnehmer!$B$3:$C$1002,2,0),\"\")","v":""}]
[null,null,null,{"$f":"IFERROR(VLOOKUP(C1520,Teilnehmer!$B$3:$C$1002,2,0),\"\")","v":""},null,{"$f":"IFERROR(VLOOKUP(E1520,Teilnehmer!$B$3:$C$1002,2,0),\"\")","v":""}]
[null,null,null,{"$f":"IFERROR(VLOOKUP(C1521,Teilnehmer!$B$3:$C$1002,2,0),\"\")","v":""},null,{"$f":"IFERROR(VLOOKUP(E1521,Teilnehmer!$B$3:$C$1002,2,0),\"\")","v":""}]
[null,null,null,{"$f":"IFERROR(VLOOKUP(C1522,Teilnehmer!$B$3:$C$1002,2,0),\"\")","v":""},null,{"$f":"IFERROR(VLOOKUP(E1522,Teilnehmer!$B$3:$C$1002,2,0),\"\")","v":""}]
[null,null,null,{"$f":"IFERROR(VLOOKUP(C1523,Teilnehmer!$B$3:$C$1002,2,0),\"\")","v":""},null,{"$f":"IFERROR(VLOOKUP(E1523,Teilnehmer!$B$3:$C$1002,2,0),\"\")","v":""}]
[null,null,null,{"$f":"IFERROR(VLOOKUP(C1524,Teilnehmer!$B$3:$C$1002,2,0),\"\")","v":""},null,{"$f":"IFERROR(VLOOKUP(E1524,Teilnehmer!$B$3:$C$1002,2,0),\"\")","v":""}]
[null,null,null,{"$f":"IFERROR(VLOOKUP(C1525,Teilnehmer!$B$3:$C$1002,2,0),\"\")","v":""},null,{"$f":"IFERROR(VLOOKUP(E1525,Teilnehmer!$B$3:$C$1002,2,0),\"\")","v":""}]
[null,null,null,{"$f":"IFERROR(VLOOKUP(C1526,Teilnehmer!$B$3:$C$1002,2,0),\"\")","v":""},null,{"$f":"IFERROR(VLOOKUP(E1526,Teilnehmer!$B$3:$C$1002,2,0),\"\")","v":""}]
[null,null,null,{"$f":"IFERROR(VLOOKUP(C1527,Teilnehmer!$B$3:$C$1002,2,0),\"\")","v":""},null,{"$f":"IFERROR(VLOOKUP(E1527,Teilnehmer!$B$3:$C$1002,2,0),\"\")","v":""}]
[null,null,null,{"$f":"IFERROR(VLOOKUP(C1528,Teilnehmer!$B$3:$C$1002,2,0),\"\")","v":""},null,{"$f":"IFERROR(VLOOKUP(E1528,Teilnehmer!$B$3:$C$1002,2,0),\"\")","v":""}]
[null,null,null,{"$f":"IFERROR(VLOOKUP(C1529,Teilnehmer!$B$3:$C$1002,2,0),\"\")","v":""},null,{"$f":"IFERROR(VLOOKUP(E1529,Teilnehmer!$B$3:$C$1002,2,0),\"\")","v":""}]
[null,null,null,{"$f":"IFERROR(VLOOKUP(C1530,Teilnehmer!$B$3:$C$1002,2,0),\"\")","v":""},null,{"$f":"IFERROR(VLOOKUP(E1530,Teilnehmer!$B$3:$C$1002,2,0),\"\")","v":""}]
[null,null,null,{"$f":"IFERROR(VLOOKUP(C1531,Teilnehmer!$B$3:$C$1002,2,0),\"\")","v":""},null,{"$f":"IFERROR(VLOOKUP(E1531,Teilnehmer!$B$3:$C$1002,2,0),\"\")","v":""}]
[null,null,null,{"$f":"IFERROR(VLOOKUP(C1532,Teilnehmer!$B$3:$C$1002,2,0),\"\")","v":""},null,{"$f":"IFERROR(VLOOKUP(E1532,Teilnehmer!$B$3:$C$1002,2,0),\"\")","v":""}]
[null,null,null,{"$f":"IFERROR(VLOOKUP(C1533,Teilnehmer!$B$3:$C$1002,2,0),\"\")","v":""},null,{"$f":"IFERROR(VLOOKUP(E1533,Teilnehmer!$B$3:$C$1002,2,0),\"\")","v":""}]
[null,null,null,{"$f":"IFERROR(VLOOKUP(C1534,Teilnehmer!$B$3:$C$1002,2,0),\"\")","v":""},null,{"$f":"IFERROR(VLOOKUP(E1534,Teilnehmer!$B$3:$C$1002,2,0),\"\")","v":""}]
[null,null,null,{"$f":"IFERROR(VLOOKUP(C1535,Teilnehmer!$B$3:$C$1002,2,0),\"\")","v":""},null,{"$f":"IFERROR(VLOOKUP(E1535,Teilnehmer!$B$3:$C$1002,2,0),\"\")","v":""}]
[null,null,null,{"$f":"IFERROR(VLOOKUP(C1536,Teilnehmer!$B$3:$C$1002,2,0),\"\")","v":""},null,{"$f":"IFERROR(VLOOKUP(E1536,Teilnehmer!$B$3:$C$1002,2,0),\"\")","v":""}]
[null,null,null,{"$f":"IFERROR(VLOOKUP(C1537,Teilnehmer!$B$3:$C$1002,2,0),\"\")","v":""},null,{"$f":"IFERROR(VLOOKUP(E1537,Teilnehmer!$B$3:$C$1002,2,0),\"\")","v":""}]
[null,null,null,{"$f":"IFERROR(VLOOKUP(C1538,Teilnehmer!$B$3:$C$1002,2,0),\"\")","v":""},null,{"$f":"IFERROR(VLOOKUP(E1538,Teilnehmer!$B$3:$C$1002,2,0),\"\")","v":""}]
[null,null,null,{"$f":"IFERROR(VLOOKUP(C1539,Teilnehmer!$B$3:$C$1002,2,0),\"\")","v":""},null,{"$f":"IFERROR(VLOOKUP(E1539,Teilnehmer!$B$3:$C$1002,2,0),\"\")","v":""}]
[null,null,null,{"$f":"IFERROR(VLOOKUP(C1540,Teilnehmer!$B$3:$C$1002,2,0),\"\")","v":""},null,{"$f":"IFERROR(VLOOKUP(E1540,Teilnehmer!$B$3:$C$1002,2,0),\"\")","v":""}]
[null,null,null,{"$f":"IFERROR(VLOOKUP(C1541,Teilnehmer!$B$3:$C$1002,2,0),\"\")","v":""},null,{"$f":"IFERROR(VLOOKUP(E1541,Teilnehmer!$B$3:$C$1002,2,0),\"\")","v":""}]
[null,null,null,{"$f":"IFERROR(VLOOKUP(C1542,Teilnehmer!$B$3:$C$1002,2,0),\"\")","v":""},null,{"$f":"IFERROR(VLOOKUP(E1542,Teilnehmer!$B$3:$C$1002,2,0),\"\")","v":""}]
[null,null,null,{"$f":"IFERROR(VLOOKUP(C1543,Teilnehmer!$B$3:$C$1002,2,0),\"\")","v":""},null,{"$f":"IFERROR(VLOOKUP(E1543,Teilnehmer!$B$3:$C$1002,2,0),\"\")","v":""}]
[null,null,null,{"$f":"IFERROR(VLOOKUP(C1544,Teilnehmer!$B$3:$C$1002,2,0),\"\")","v":""},null,{"$f":"IFERROR(VLOOKUP(E1544,Teilnehmer!$B$3:$C$1002,2,0),\"\")","v":""}]
[null,null,null,{"$f":"IFERROR(VLOOKUP(C1545,Teilnehmer!$B$3:$C$1002,2,0),\"\")","v":""},null,{"$f":"IFERROR(VLOOKUP(E1545,Teilnehmer!$B$3:$C$1002,2,0),\"\")","v":""}]
[null,null,null,{"$f":"IFERROR(VLOOKUP(C1546,Teilnehmer!$B$3:$C$1002,2,0),\"\")","v":""},null,{"$f":"IFERROR(VLOOKUP(E1546,Teilnehmer!$B$3:$C$1002,2,0),\"\")","v":""}]
[null,null,null,{"$f":"IFERROR(VLOOKUP(C1547,Teilnehmer!$B$3:$C$1002,2,0),\"\")","v":""},null,{"$f":"IFERROR(VLOOKUP(E1547,Teilnehmer!$B$3:$C$1002,2,0),\"\")","v":""}]
[null,null,null,{"$f":"IFERROR(VLOOKUP(C1548,Teilnehmer!$B$3:$C$1002,2,0),\"\")","v":""},null,{"$f":"IFERROR(VLOOKUP(E1548,Teilnehmer!$B$3:$C$1002,2,0),\"\")","v":""}]
[null,null,null,{"$f":"IFERROR(VLOOKUP(C1549,Teilnehmer!$B$3:$C$1002,2,0),\"\")","v":""},null,{"$f":"IFERROR(VLOOKUP(E1549,Teilnehmer!$B$3:$C$1002,2,0),\"\")","v":""}]
[null,null,null,{"$f":"IFERROR(VLOOKUP(C1550,Teilnehmer!$B$3:$C$1002,2,0),\"\")","v":""},null,{"$f":"IFERROR(VLOOKUP(E1550,Teilnehmer!$B$3:$C$1002,2,0),\"\")","v":""}]
[null,null,null,{"$f":"IFERROR(VLOOKUP(C1551,Teilnehmer!$B$3:$C$1002,2,0),\"\")","v":""},null,{"$f":"IFERROR(VLOOKUP(E1551,Teilnehmer!$B$3:$C$1002,2,0),\"\")","v":""}]
[null,null,null,{"$f":"IFERROR(VLOOKUP(C1552,Teilnehmer!$B$3:$C$1002,2,0),\"\")","v":""},null,{"$f":"IFERROR(VLOOKUP(E1552,Teilnehmer!$B$3:$C$1002,2,0),\"\")","v":""}]
[null,null,null,{"$f":"IFERROR(VLOOKUP(C1553,Teilnehmer!$B$3:$C$1002,2,0),\"\")","v":""},null,{"$f":"IFERROR(VLOOKUP(E1553,Teilnehmer!$B$3:$C$1002,2,0),\"\")","v":""}]
[null,null,null,{"$f":"IFERROR(VLOOKUP(C1554,Teilnehmer!$B$3:$C$1002,2,0),\"\")","v":""},null,{"$f":"IFERROR(VLOOKUP(E1554,Teilnehmer!$B$3:$C$1002,2,0),\"\")","v":""}]
[null,null,null,{"$f":"IFERROR(VLOOKUP(C1555,Teilnehmer!$B$3:$C$1002,2,0),\"\")","v":""},null,{"$f":"IFERROR(VLOOKUP(E1555,Teilnehmer!$B$3:$C$1002,2,0),\"\")","v":""}]
[null,null,null,{"$f":"IFERROR(VLOOKUP(C1556,Teilnehmer!$B$3:$C$1002,2,0),\"\")","v":""},null,{"$f":"IFERROR(VLOOKUP(E1556,Teilnehmer!$B$3:$C$1002,2,0),\"\")","v":""}]
[null,null,null,{"$f":"IFERROR(VLOOKUP(C1557,Teilnehmer!$B$3:$C$1002,2,0),\"\")","v":""},null,{"$f":"IFERROR(VLOOKUP(E1557,Teilnehmer!$B$3:$C$1002,2,0),\"\")","v":""}]
[null,null,null,{"$f":"IFERROR(VLOOKUP(C1558,Teilnehmer!$B$3:$C$1002,2,0),\"\")","v":""},null,{"$f":"IFERROR(VLOOKUP(E1558,Teilnehmer!$B$3:$C$1002,2,0),\"\")","v":""}]
[null,null,null,{"$f":"IFERROR(VLOOKUP(C1559,Teilnehmer!$B$3:$C$1002,2,0),\"\")","v":""},null,{"$f":"IFERROR(VLOOKUP(E1559,Teilnehmer!$B$3:$C$1002,2,0),\"\")","v":""}]
[null,null,null,{"$f":"IFERROR(VLOOKUP(C1560,Teilnehmer!$B$3:$C$1002,2,0),\"\")","v":""},null,{"$f":"IFERROR(VLOOKUP(E1560,Teilnehmer!$B$3:$C$1002,2,0),\"\")","v":""}]
[null,null,null,{"$f":"IFERROR(VLOOKUP(C1561,Teilnehmer!$B$3:$C$1002,2,0),\"\")","v":""},null,{"$f":"IFERROR(VLOOKUP(E1561,Teilnehmer!$B$3:$C$1002,2,0),\"\")","v":""}]
[null,null,null,{"$f":"IFERROR(VLOOKUP(C1562,Teilnehmer!$B$3:$C$1002,2,0),\"\")","v":""},null,{"$f":"IFERROR(VLOOKUP(E1562,Teilnehmer!$B$3:$C$1002,2,0),\"\")","v":""}]
[null,null,null,{"$f":"IFERROR(VLOOKUP(C1563,Teilnehmer!$B$3:$C$1002,2,0),\"\")","v":""},null,{"$f":"IFERROR(VLOOKUP(E1563,Teilnehmer!$B$3:$C$1002,2,0),\"\")","v":""}]
[null,null,null,{"$f":"IFERROR(VLOOKUP(C1564,Teilnehmer!$B$3:$C$1002,2,0),\"\")","v":""},null,{"$f":"IFERROR(VLOOKUP(E1564,Teilnehmer!$B$3:$C$1002,2,0),\"\")","v":""}]
[null,null,null,{"$f":"IFERROR(VLOOKUP(C1565,Teilnehmer!$B$3:$C$1002,2,0),\"\")","v":""},null,{"$f":"IFERROR(VLOOKUP(E1565,Teilnehmer!$B$3:$C$1002,2,0),\"\")","v":""}]
[null,null,null,{"$f":"IFERROR(VLOOKUP(C1566,Teilnehmer!$B$3:$C$1002,2,0),\"\")","v":""},null,{"$f":"IFERROR(VLOOKUP(E1566,Teilnehmer!$B$3:$C$1002,2,0),\"\")","v":""}]
[null,null,null,{"$f":"IFERROR(VLOOKUP(C1567,Teilnehmer!$B$3:$C$1002,2,0),\"\")","v":""},null,{"$f":"IFERROR(VLOOKUP(E1567,Teilnehmer!$B$3:$C$1002,2,0),\"\")","v":""}]
[null,null,null,{"$f":"IFERROR(VLOOKUP(C1568,Teilnehmer!$B$3:$C$1002,2,0),\"\")","v":""},null,{"$f":"IFERROR(VLOOKUP(E1568,Teilnehmer!$B$3:$C$1002,2,0),\"\")","v":""}]
[null,null,null,{"$f":"IFERROR(VLOOKUP(C1569,Teilnehmer!$B$3:$C$1002,2,0),\"\")","v":""},null,{"$f":"IFERROR(VLOOKUP(E1569,Teilnehmer!$B$3:$C$1002,2,0),\"\")","v":""}]
[null,null,null,{"$f":"IFERROR(VLOOKUP(C1570,Teilnehmer!$B$3:$C$1002,2,0),\"\")","v":""},null,{"$f":"IFERROR(VLOOKUP(E1570,Teilnehmer!$B$3:$C$1002,2,0),\"\")","v":""}]
[null,null,null,{"$f":"IFERROR(VLOOKUP(C1571,Teilnehmer!$B$3:$C$1002,2,0),\"\")","v":""},null,{"$f":"IFERROR(VLOOKUP(E1571,Teilnehmer!$B$3:$C$1002,2,0),\"\")","v":""}]
[null,null,null,{"$f":"IFERROR(VLOOKUP(C1572,Teilnehmer!$B$3:$C$1002,2,0),\"\")","v":""},null,{"$f":"IFERROR(VLOOKUP(E1572,Teilnehmer!$B$3:$C$1002,2,0),\"\")","v":""}]
[null,null,null,{"$f":"IFERROR(VLOOKUP(C1573,Teilnehmer!$B$3:$C$1002,2,0),\"\")","v":""},null,{"$f":"IFERROR(VLOOKUP(E1573,Teilnehmer!$B$3:$C$1002,2,0),\"\")","v":""}]
[null,null,null,{"$f":"IFERROR(VLOOKUP(C1574,Teilnehmer!$B$3:$C$1002,2,0),\"\")","v":""},null,{"$f":"IFERROR(VLOOKUP(E1574,Teilnehmer!$B$3:$C$1002,2,0),\"\")","v":""}]
[null,null,null,{"$f":"IFERROR(VLOOKUP(C1575,Teilnehmer!$B$3:$C$1002,2,0),\"\")","v":""},null,{"$f":"IFERROR(VLOOKUP(E1575,Teilnehmer!$B$3:$C$1002,2,0),\"\")","v":""}]
[null,null,null,{"$f":"IFERROR(VLOOKUP(C1576,Teilnehmer!$B$3:$C$1002,2,0),\"\")","v":""},null,{"$f":"IFERROR(VLOOKUP(E1576,Teilnehmer!$B$3:$C$1002,2,0),\"\")","v":""}]
[null,null,null,{"$f":"IFERROR(VLOOKUP(C1577,Teilnehmer!$B$3:$C$1002,2,0),\"\")","v":""},null,{"$f":"IFERROR(VLOOKUP(E1577,Teilnehmer!$B$3:$C$1002,2,0),\"\")","v":""}]
[null,null,null,{"$f":"IFERROR(VLOOKUP(C1578,Teilnehmer!$B$3:$C$1002,2,0),\"\")","v":""},null,{"$f":"IFERROR(VLOOKUP(E1578,Teilnehmer!$B$3:$C$1002,2,0),\"\")","v":""}]
[null,null,null,{"$f":"IFERROR(VLOOKUP(C1579,Teilnehmer!$B$3:$C$1002,2,0),\"\")","v":""},null,{"$f":"IFERROR(VLOOKUP(E1579,Teilnehmer!$B$3:$C$1002,2,0),\"\")","v":""}]
[null,null,null,{"$f":"IFERROR(VLOOKUP(C1580,Teilnehmer!$B$3:$C$1002,2,0),\"\")","v":""},null,{"$f":"IFERROR(VLOOKUP(E1580,Teilnehmer!$B$3:$C$1002,2,0),\"\")","v":""}]
[null,null,null,{"$f":"IFERROR(VLOOKUP(C1581,Teilnehmer!$B$3:$C$1002,2,0),\"\")","v":""},null,{"$f":"IFERROR(VLOOKUP(E1581,Teilnehmer!$B$3:$C$1002,2,0),\"\")","v":""}]
[null,null,null,{"$f":"IFERROR(VLOOKUP(C1582,Teilnehmer!$B$3:$C$1002,2,0),\"\")","v":""},null,{"$f":"IFERROR(VLOOKUP(E1582,Teilnehmer!$B$3:$C$1002,2,0),\"\")","v":""}]
[null,null,null,{"$f":"IFERROR(VLOOKUP(C1583,Teilnehmer!$B$3:$C$1002,2,0),\"\")","v":""},null,{"$f":"IFERROR(VLOOKUP(E1583,Teilnehmer!$B$3:$C$1002,2,0),\"\")","v":""}]
[null,null,null,{"$f":"IFERROR(VLOOKUP(C1584,Teilnehmer!$B$3:$C$1002,2,0),\"\")","v":""},null,{"$f":"IFERROR(VLOOKUP(E1584,Teilnehmer!$B$3:$C$1002,2,0),\"\")","v":""}]
[null,null,null,{"$f":"IFERROR(VLOOKUP(C1585,Teilnehmer!$B$3:$C$1002,2,0),\"\")","v":""},null,{"$f":"IFERROR(VLOOKUP(E1585,Teilnehmer!$B$3:$C$1002,2,0),\"\")","v":""}]
[null,null,null,{"$f":"IFERROR(VLOOKUP(C1586,Teilnehmer!$B$3:$C$1002,2,0),\"\")","v":""},null,{"$f":"IFERROR(VLOOKUP(E1586,Teilnehmer!$B$3:$C$1002,2,0),\"\")","v":""}]
[null,null,null,{"$f":"IFERROR(VLOOKUP(C1587,Teilnehmer!$B$3:$C$1002,2,0),\"\")","v":""},null,{"$f":"IFERROR(VLOOKUP(E1587,Teilnehmer!$B$3:$C$1002,2,0),\"\")","v":""}]
[null,null,null,{"$f":"IFERROR(VLOOKUP(C1588,Teilnehmer!$B$3:$C$1002,2,0),\"\")","v":""},null,{"$f":"IFERROR(VLOOKUP(E1588,Teilnehmer!$B$3:$C$1002,2,0),\"\")","v":""}]
[null,null,null,{"$f":"IFERROR(VLOOKUP(C1589,Teilnehmer!$B$3:$C$1002,2,0),\"\")","v":""},null,{"$f":"IFERROR(VLOOKUP(E1589,Teilnehmer!$B$3:$C$1002,2,0),\"\")","v":""}]
[null,null,null,{"$f":"IFERROR(VLOOKUP(C1590,Teilnehmer!$B$3:$C$1002,2,0),\"\")","v":""},null,{"$f":"IFERROR(VLOOKUP(E1590,Teilnehmer!$B$3:$C$1002,2,0),\"\")","v":""}]
[null,null,null,{"$f":"IFERROR(VLOOKUP(C1591,Teilnehmer!$B$3:$C$1002,2,0),\"\")","v":""},null,{"$f":"IFERROR(VLOOKUP(E1591,Teilnehmer!$B$3:$C$1002,2,0),\"\")","v":""}]
[null,null,null,{"$f":"IFERROR(VLOOKUP(C1592,Teilnehmer!$B$3:$C$1002,2,0),\"\")","v":""},null,{"$f":"IFERROR(VLOOKUP(E1592,Teilnehmer!$B$3:$C$1002,2,0),\"\")","v":""}]
[null,null,null,{"$f":"IFERROR(VLOOKUP(C1593,Teilnehmer!$B$3:$C$1002,2,0),\"\")","v":""},null,{"$f":"IFERROR(VLOOKUP(E1593,Teilnehmer!$B$3:$C$1002,2,0),\"\")","v":""}]
[null,null,null,{"$f":"IFERROR(VLOOKUP(C1594,Teilnehmer!$B$3:$C$1002,2,0),\"\")","v":""},null,{"$f":"IFERROR(VLOOKUP(E1594,Teilnehmer!$B$3:$C$1002,2,0),\"\")","v":""}]
[null,null,null,{"$f":"IFERROR(VLOOKUP(C1595,Teilnehmer!$B$3:$C$1002,2,0),\"\")","v":""},null,{"$f":"IFERROR(VLOOKUP(E1595,Teilnehmer!$B$3:$C$1002,2,0),\"\")","v":""}]
[null,null,null,{"$f":"IFERROR(VLOOKUP(C1596,Teilnehmer!$B$3:$C$1002,2,0),\"\")","v":""},null,{"$f":"IFERROR(VLOOKUP(E1596,Teilnehmer!$B$3:$C$1002,2,0),\"\")","v":""}]
[null,null,null,{"$f":"IFERROR(VLOOKUP(C1597,Teilnehmer!$B$3:$C$1002,2,0),\"\")","v":""},null,{"$f":"IFERROR(VLOOKUP(E1597,Teilnehmer!$B$3:$C$1002,2,0),\"\")","v":""}]
[null,null,null,{"$f":"IFERROR(VLOOKUP(C1598,Teilnehmer!$B$3:$C$1002,2,0),\"\")","v":""},null,{"$f":"IFERROR(VLOOKUP(E1598,Teilnehmer!$B$3:$C$1002,2,0),\"\")","v":""}]
[null,null,null,{"$f":"IFERROR(VLOOKUP(C1599,Teilnehmer!$B$3:$C$1002,2,0),\"\")","v":""},null,{"$f":"IFERROR(VLOOKUP(E1599,Teilnehmer!$B$3:$C$1002,2,0),\"\")","v":""}]
[null,null,null,{"$f":"IFERROR(VLOOKUP(C1600,Teilnehmer!$B$3:$C$1002,2,0),\"\")","v":""},null,{"$f":"IFERROR(VLOOKUP(E1600,Teilnehmer!$B$3:$C$1002,2,0),\"\")","v":""}]
[null,null,null,{"$f":"IFERROR(VLOOKUP(C1601,Teilnehmer!$B$3:$C$1002,2,0),\"\")","v":""},null,{"$f":"IFERROR(VLOOKUP(E1601,Teilnehmer!$B$3:$C$1002,2,0),\"\")","v":""}]
[null,null,null,{"$f":"IFERROR(VLOOKUP(C1602,Teilnehmer!$B$3:$C$1002,2,0),\"\")","v":""},null,{"$f":"IFERROR(VLOOKUP(E1602,Teilnehmer!$B$3:$C$1002,2,0),\"\")","v":""}]
[null,null,null,{"$f":"IFERROR(VLOOKUP(C1603,Teilnehmer!$B$3:$C$1002,2,0),\"\")","v":""},null,{"$f":"IFERROR(VLOOKUP(E1603,Teilnehmer!$B$3:$C$1002,2,0),\"\")","v":""}]
[null,null,null,{"$f":"IFERROR(VLOOKUP(C1604,Teilnehmer!$B$3:$C$1002,2,0),\"\")","v":""},null,{"$f":"IFERROR(VLOOKUP(E1604,Teilnehmer!$B$3:$C$1002,2,0),\"\")","v":""}]
[null,null,null,{"$f":"IFERROR(VLOOKUP(C1605,Teilnehmer!$B$3:$C$1002,2,0),\"\")","v":""},null,{"$f":"IFERROR(VLOOKUP(E1605,Teilnehmer!$B$3:$C$1002,2,0),\"\")","v":""}]
[null,null,null,{"$f":"IFERROR(VLOOKUP(C1606,Teilnehmer!$B$3:$C$1002,2,0),\"\")","v":""},null,{"$f":"IFERROR(VLOOKUP(E1606,Teilnehmer!$B$3:$C$1002,2,0),\"\")","v":""}]
[null,null,null,{"$f":"IFERROR(VLOOKUP(C1607,Teilnehmer!$B$3:$C$1002,2,0),\"\")","v":""},null,{"$f":"IFERROR(VLOOKUP(E1607,Teilnehmer!$B$3:$C$1002,2,0),\"\")","v":""}]
[null,null,null,{"$f":"IFERROR(VLOOKUP(C1608,Teilnehmer!$B$3:$C$1002,2,0),\"\")","v":""},null,{"$f":"IFERROR(VLOOKUP(E1608,Teilnehmer!$B$3:$C$1002,2,0),\"\")","v":""}]
[null,null,null,{"$f":"IFERROR(VLOOKUP(C1609,Teilnehmer!$B$3:$C$1002,2,0),\"\")","v":""},null,{"$f":"IFERROR(VLOOKUP(E1609,Teilnehmer!$B$3:$C$1002,2,0),\"\")","v":""}]
[null,null,null,{"$f":"IFERROR(VLOOKUP(C1610,Teilnehmer!$B$3:$C$1002,2,0),\"\")","v":""},null,{"$f":"IFERROR(VLOOKUP(E1610,Teilnehmer!$B$3:$C$1002,2,0),\"\")","v":""}]
[null,null,null,{"$f":"IFERROR(VLOOKUP(C1611,Teilnehmer!$B$3:$C$1002,2,0),\"\")","v":""},null,{"$f":"IFERROR(VLOOKUP(E1611,Teilnehmer!$B$3:$C$1002,2,0),\"\")","v":""}]
[null,null,null,{"$f":"IFERROR(VLOOKUP(C1612,Teilnehmer!$B$3:$C$1002,2,0),\"\")","v":""},null,{"$f":"IFERROR(VLOOKUP(E1612,Teilnehmer!$B$3:$C$1002,2,0),\"\")","v":""}]
[null,null,null,{"$f":"IFERROR(VLOOKUP(C1613,Teilnehmer!$B$3:$C$1002,2,0),\"\")","v":""},null,{"$f":"IFERROR(VLOOKUP(E1613,Teilnehmer!$B$3:$C$1002,2,0),\"\")","v":""}]
[null,null,null,{"$f":"IFERROR(VLOOKUP(C1614,Teilnehmer!$B$3:$C$1002,2,0),\"\")","v":""},null,{"$f":"IFERROR(VLOOKUP(E1614,Teilnehmer!$B$3:$C$1002,2,0),\"\")","v":""}]
[null,null,null,{"$f":"IFERROR(VLOOKUP(C1615,Teilnehmer!$B$3:$C$1002,2,0),\"\")","v":""},null,{"$f":"IFERROR(VLOOKUP(E1615,Teilnehmer!$B$3:$C$1002,2,0),\"\")","v":""}]
[null,null,null,{"$f":"IFERROR(VLOOKUP(C1616,Teilnehmer!$B$3:$C$1002,2,0),\"\")","v":""},null,{"$f":"IFERROR(VLOOKUP(E1616,Teilnehmer!$B$3:$C$1002,2,0),\"\")","v":""}]
[null,null,null,{"$f":"IFERROR(VLOOKUP(C1617,Teilnehmer!$B$3:$C$1002,2,0),\"\")","v":""},null,{"$f":"IFERROR(VLOOKUP(E1617,Teilnehmer!$B$3:$C$1002,2,0),\"\")","v":""}]
[null,null,null,{"$f":"IFERROR(VLOOKUP(C1618,Teilnehmer!$B$3:$C$1002,2,0),\"\")","v":""},null,{"$f":"IFERROR(VLOOKUP(E1618,Teilnehmer!$B$3:$C$1002,2,0),\"\")","v":""}]
[null,null,null,{"$f":"IFERROR(VLOOKUP(C1619,Teilnehmer!$B$3:$C$1002,2,0),\"\")","v":""},null,{"$f":"IFERROR(VLOOKUP(E1619,Teilnehmer!$B$3:$C$1002,2,0),\"\")","v":""}]
[null,null,null,{"$f":"IFERROR(VLOOKUP(C1620,Teilnehmer!$B$3:$C$1002,2,0),\"\")","v":""},null,{"$f":"IFERROR(VLOOKUP(E1620,Teilnehmer!$B$3:$C$1002,2,0),\"\")","v":""}]
[null,null,null,{"$f":"IFERROR(VLOOKUP(C1621,Teilnehmer!$B$3:$C$1002,2,0),\"\")","v":""},null,{"$f":"IFERROR(VLOOKUP(E1621,Teilnehmer!$B$3:$C$1002,2,0),\"\")","v":""}]
[null,null,null,{"$f":"IFERROR(VLOOKUP(C1622,Teilnehmer!$B$3:$C$1002,2,0),\"\")","v":""},null,{"$f":"IFERROR(VLOOKUP(E1622,Teilnehmer!$B$3:$C$1002,2,0),\"\")","v":""}]
[null,null,null,{"$f":"IFERROR(VLOOKUP(C1623,Teilnehmer!$B$3:$C$1002,2,0),\"\")","v":""},null,{"$f":"IFERROR(VLOOKUP(E1623,Teilnehmer!$B$3:$C$1002,2,0),\"\")","v":""}]
[null,null,null,{"$f":"IFERROR(VLOOKUP(C1624,Teilnehmer!$B$3:$C$1002,2,0),\"\")","v":""},null,{"$f":"IFERROR(VLOOKUP(E1624,Teilnehmer!$B$3:$C$1002,2,0),\"\")","v":""}]
[null,null,null,{"$f":"IFERROR(VLOOKUP(C1625,Teilnehmer!$B$3:$C$1002,2,0),\"\")","v":""},null,{"$f":"IFERROR(VLOOKUP(E1625,Teilnehmer!$B$3:$C$1002,2,0),\"\")","v":""}]
[null,null,null,{"$f":"IFERROR(VLOOKUP(C1626,Teilnehmer!$B$3:$C$1002,2,0),\"\")","v":""},null,{"$f":"IFERROR(VLOOKUP(E1626,Teilnehmer!$B$3:$C$1002,2,0),\"\")","v":""}]
[null,null,null,{"$f":"IFERROR(VLOOKUP(C1627,Teilnehmer!$B$3:$C$1002,2,0),\"\")","v":""},null,{"$f":"IFERROR(VLOOKUP(E1627,Teilnehmer!$B$3:$C$1002,2,0),\"\")","v":""}]
[null,null,null,{"$f":"IFERROR(VLOOKUP(C1628,Teilnehmer!$B$3:$C$1002,2,0),\"\")","v":""},null,{"$f":"IFERROR(VLOOKUP(E1628,Teilnehmer!$B$3:$C$1002,2,0),\"\")","v":""}]
[null,null,null,{"$f":"IFERROR(VLOOKUP(C1629,Teilnehmer!$B$3:$C$1002,2,0),\"\")","v":""},null,{"$f":"IFERROR(VLOOKUP(E1629,Teilnehmer!$B$3:$C$1002,2,0),\"\")","v":""}]
[null,null,null,{"$f":"IFERROR(VLOOKUP(C1630,Teilnehmer!$B$3:$C$1002,2,0),\"\")","v":""},null,{"$f":"IFERROR(VLOOKUP(E1630,Teilnehmer!$B$3:$C$1002,2,0),\"\")","v":""}]
[null,null,null,{"$f":"IFERROR(VLOOKUP(C1631,Teilnehmer!$B$3:$C$1002,2,0),\"\")","v":""},null,{"$f":"IFERROR(VLOOKUP(E1631,Teilnehmer!$B$3:$C$1002,2,0),\"\")","v":""}]
[null,null,null,{"$f":"IFERROR(VLOOKUP(C1632,Teilnehmer!$B$3:$C$1002,2,0),\"\")","v":""},null,{"$f":"IFERROR(VLOOKUP(E1632,Teilnehmer!$B$3:$C$1002,2,0),\"\")","v":""}]
[null,null,null,{"$f":"IFERROR(VLOOKUP(C1633,Teilnehmer!$B$3:$C$1002,2,0),\"\")","v":""},null,{"$f":"IFERROR(VLOOKUP(E1633,Teilnehmer!$B$3:$C$1002,2,0),\"\")","v":""}]
[null,null,null,{"$f":"IFERROR(VLOOKUP(C1634,Teilnehmer!$B$3:$C$1002,2,0),\"\")","v":""},null,{"$f":"IFERROR(VLOOKUP(E1634,Teilnehmer!$B$3:$C$1002,2,0),\"\")","v":""}]
[null,null,null,{"$f":"IFERROR(VLOOKUP(C1635,Teilnehmer!$B$3:$C$1002,2,0),\"\")","v":""},null,{"$f":"IFERROR(VLOOKUP(E1635,Teilnehmer!$B$3:$C$1002,2,0),\"\")","v":""}]
[null,null,null,{"$f":"IFERROR(VLOOKUP(C1636,Teilnehmer!$B$3:$C$1002,2,0),\"\")","v":""},null,{"$f":"IFERROR(VLOOKUP(E1636,Teilnehmer!$B$3:$C$1002,2,0),\"\")","v":""}]
[null,null,null,{"$f":"IFERROR(VLOOKUP(C1637,Teilnehmer!$B$3:$C$1002,2,0),\"\")","v":""},null,{"$f":"IFERROR(VLOOKUP(E1637,Teilnehmer!$B$3:$C$1002,2,0),\"\")","v":""}]
[null,null,null,{"$f":"IFERROR(VLOOKUP(C1638,Teilnehmer!$B$3:$C$1002,2,0),\"\")","v":""},null,{"$f":"IFERROR(VLOOKUP(E1638,Teilnehmer!$B$3:$C$1002,2,0),\"\")","v":""}]
[null,null,null,{"$f":"IFERROR(VLOOKUP(C1639,Teilnehmer!$B$3:$C$1002,2,0),\"\")","v":""},null,{"$f":"IFERROR(VLOOKUP(E1639,Teilnehmer!$B$3:$C$1002,2,0),\"\")","v":""}]
[null,null,null,{"$f":"IFERROR(VLOOKUP(C1640,Teilnehmer!$B$3:$C$1002,2,0),\"\")","v":""},null,{"$f":"IFERROR(VLOOKUP(E1640,Teilnehmer!$B$3:$C$1002,2,0),\"\")","v":""}]
[null,null,null,{"$f":"IFERROR(VLOOKUP(C1641,Teilnehmer!$B$3:$C$1002,2,0),\"\")","v":""},null,{"$f":"IFERROR(VLOOKUP(E1641,Teilnehmer!$B$3:$C$1002,2,0),\"\")","v":""}]
[null,null,null,{"$f":"IFERROR(VLOOKUP(C1642,Teilnehmer!$B$3:$C$1002,2,0),\"\")","v":""},null,{"$f":"IFERROR(VLOOKUP(E1642,Teilnehmer!$B$3:$C$1002,2,0),\"\")","v":""}]
[null,null,null,{"$f":"IFERROR(VLOOKUP(C1643,Teilnehmer!$B$3:$C$1002,2,0),\"\")","v":""},null,{"$f":"IFERROR(VLOOKUP(E1643,Teilnehmer!$B$3:$C$1002,2,0),\"\")","v":""}]
[null,null,null,{"$f":"IFERROR(VLOOKUP(C1644,Teilnehmer!$B$3:$C$1002,2,0),\"\")","v":""},null,{"$f":"IFERROR(VLOOKUP(E1644,Teilnehmer!$B$3:$C$1002,2,0),\"\")","v":""}]
[null,null,null,{"$f":"IFERROR(VLOOKUP(C1645,Teilnehmer!$B$3:$C$1002,2,0),\"\")","v":""},null,{"$f":"IFERROR(VLOOKUP(E1645,Teilnehmer!$B$3:$C$1002,2,0),\"\")","v":""}]
[null,null,null,{"$f":"IFERROR(VLOOKUP(C1646,Teilnehmer!$B$3:$C$1002,2,0),\"\")","v":""},null,{"$f":"IFERROR(VLOOKUP(E1646,Teilnehmer!$B$3:$C$1002,2,0),\"\")","v":""}]
[null,null,null,{"$f":"IFERROR(VLOOKUP(C1647,Teilnehmer!$B$3:$C$1002,2,0),\"\")","v":""},null,{"$f":"IFERROR(VLOOKUP(E1647,Teilnehmer!$B$3:$C$1002,2,0),\"\")","v":""}]
[null,null,null,{"$f":"IFERROR(VLOOKUP(C1648,Teilnehmer!$B$3:$C$1002,2,0),\"\")","v":""},null,{"$f":"IFERROR(VLOOKUP(E1648,Teilnehmer!$B$3:$C$1002,2,0),\"\")","v":""}]
[null,null,null,{"$f":"IFERROR(VLOOKUP(C1649,Teilnehmer!$B$3:$C$1002,2,0),\"\")","v":""},null,{"$f":"IFERROR(VLOOKUP(E1649,Teilnehmer!$B$3:$C$1002,2,0),\"\")","v":""}]
[null,null,null,{"$f":"IFERROR(VLOOKUP(C1650,Teilnehmer!$B$3:$C$1002,2,0),\"\")","v":""},null,{"$f":"IFERROR(VLOOKUP(E1650,Teilnehmer!$B$3:$C$1002,2,0),\"\")","v":""}]
[null,null,null,{"$f":"IFERROR(VLOOKUP(C1651,Teilnehmer!$B$3:$C$1002,2,0),\"\")","v":""},null,{"$f":"IFERROR(VLOOKUP(E1651,Teilnehmer!$B$3:$C$1002,2,0),\"\")","v":""}]
[null,null,null,{"$f":"IFERROR(VLOOKUP(C1652,Teilnehmer!$B$3:$C$1002,2,0),\"\")","v":""},null,{"$f":"IFERROR(VLOOKUP(E1652,Teilnehmer!$B$3:$C$1002,2,0),\"\")","v":""}]
[null,null,null,{"$f":"IFERROR(VLOOKUP(C1653,Teilnehmer!$B$3:$C$1002,2,0),\"\")","v":""},null,{"$f":"IFERROR(VLOOKUP(E1653,Teilnehmer!$B$3:$C$1002,2,0),\"\")","v":""}]
[null,null,null,{"$f":"IFERROR(VLOOKUP(C1654,Teilnehmer!$B$3:$C$1002,2,0),\"\")","v":""},null,{"$f":"IFERROR(VLOOKUP(E1654,Teilnehmer!$B$3:$C$1002,2,0),\"\")","v":""}]
[null,null,null,{"$f":"IFERROR(VLOOKUP(C1655,Teilnehmer!$B$3:$C$1002,2,0),\"\")","v":""},null,{"$f":"IFERROR(VLOOKUP(E1655,Teilnehmer!$B$3:$C$1002,2,0),\"\")","v":""}]
[null,null,null,{"$f":"IFERROR(VLOOKUP(C1656,Teilnehmer!$B$3:$C$1002,2,0),\"\")","v":""},null,{"$f":"IFERROR(VLOOKUP(E1656,Teilnehmer!$B$3:$C$1002,2,0),\"\")","v":""}]
[null,null,null,{"$f":"IFERROR(VLOOKUP(C1657,Teilnehmer!$B$3:$C$1002,2,0),\"\")","v":""},null,{"$f":"IFERROR(VLOOKUP(E1657,Teilnehmer!$B$3:$C$1002,2,0),\"\")","v":""}]
[null,null,null,{"$f":"IFERROR(VLOOKUP(C1658,Teilnehmer!$B$3:$C$1002,2,0),\"\")","v":""},null,{"$f":"IFERROR(VLOOKUP(E1658,Teilnehmer!$B$3:$C$1002,2,0),\"\")","v":""}]
[null,null,null,{"$f":"IFERROR(VLOOKUP(C1659,Teilnehmer!$B$3:$C$1002,2,0),\"\")","v":""},null,{"$f":"IFERROR(VLOOKUP(E1659,Teilnehmer!$B$3:$C$1002,2,0),\"\")","v":""}]
[null,null,null,{"$f":"IFERROR(VLOOKUP(C1660,Teilnehmer!$B$3:$C$1002,2,0),\"\")","v":""},null,{"$f":"IFERROR(VLOOKUP(E1660,Teilnehmer!$B$3:$C$1002,2,0),\"\")","v":""}]
[null,null,null,{"$f":"IFERROR(VLOOKUP(C1661,Teilnehmer!$B$3:$C$1002,2,0),\"\")","v":""},null,{"$f":"IFERROR(VLOOKUP(E1661,Teilnehmer!$B$3:$C$1002,2,0),\"\")","v":""}]
[null,null,null,{"$f":"IFERROR(VLOOKUP(C1662,Teilnehmer!$B$3:$C$1002,2,0),\"\")","v":""},null,{"$f":"IFERROR(VLOOKUP(E1662,Teilnehmer!$B$3:$C$1002,2,0),\"\")","v":""}]
[null,null,null,{"$f":"IFERROR(VLOOKUP(C1663,Teilnehmer!$B$3:$C$1002,2,0),\"\")","v":""},null,{"$f":"IFERROR(VLOOKUP(E1663,Teilnehmer!$B$3:$C$1002,2,0),\"\")","v":""}]
[null,null,null,{"$f":"IFERROR(VLOOKUP(C1664,Teilnehmer!$B$3:$C$1002,2,0),\"\")","v":""},null,{"$f":"IFERROR(VLOOKUP(E1664,Teilnehmer!$B$3:$C$1002,2,0),\"\")","v":""}]
[null,null,null,{"$f":"IFERROR(VLOOKUP(C1665,Teilnehmer!$B$3:$C$1002,2,0),\"\")","v":""},null,{"$f":"IFERROR(VLOOKUP(E1665,Teilnehmer!$B$3:$C$1002,2,0),\"\")","v":""}]
[null,null,null,{"$f":"IFERROR(VLOOKUP(C1666,Teilnehmer!$B$3:$C$1002,2,0),\"\")","v":""},null,{"$f":"IFERROR(VLOOKUP(E1666,Teilnehmer!$B$3:$C$1002,2,0),\"\")","v":""}]
[null,null,null,{"$f":"IFERROR(VLOOKUP(C1667,Teilnehmer!$B$3:$C$1002,2,0),\"\")","v":""},null,{"$f":"IFERROR(VLOOKUP(E1667,Teilnehmer!$B$3:$C$1002,2,0),\"\")","v":""}]
[null,null,null,{"$f":"IFERROR(VLOOKUP(C1668,Teilnehmer!$B$3:$C$1002,2,0),\"\")","v":""},null,{"$f":"IFERROR(VLOOKUP(E1668,Teilnehmer!$B$3:$C$1002,2,0),\"\")","v":""}]
[null,null,null,{"$f":"IFERROR(VLOOKUP(C1669,Teilnehmer!$B$3:$C$1002,2,0),\"\")","v":""},null,{"$f":"IFERROR(VLOOKUP(E1669,Teilnehmer!$B$3:$C$1002,2,0),\"\")","v":""}]
[null,null,null,{"$f":"IFERROR(VLOOKUP(C1670,Teilnehmer!$B$3:$C$1002,2,0),\"\")","v":""},null,{"$f":"IFERROR(VLOOKUP(E1670,Teilnehmer!$B$3:$C$1002,2,0),\"\")","v":""}]
[null,null,null,{"$f":"IFERROR(VLOOKUP(C1671,Teilnehmer!$B$3:$C$1002,2,0),\"\")","v":""},null,{"$f":"IFERROR(VLOOKUP(E1671,Teilnehmer!$B$3:$C$1002,2,0),\"\")","v":""}]
[null,null,null,{"$f":"IFERROR(VLOOKUP(C1672,Teilnehmer!$B$3:$C$1002,2,0),\"\")","v":""},null,{"$f":"IFERROR(VLOOKUP(E1672,Teilnehmer!$B$3:$C$1002,2,0),\"\")","v":""}]
[null,null,null,{"$f":"IFERROR(VLOOKUP(C1673,Teilnehmer!$B$3:$C$1002,2,0),\"\")","v":""},null,{"$f":"IFERROR(VLOOKUP(E1673,Teilnehmer!$B$3:$C$1002,2,0),\"\")","v":""}]
[null,null,null,{"$f":"IFERROR(VLOOKUP(C1674,Teilnehmer!$B$3:$C$1002,2,0),\"\")","v":""},null,{"$f":"IFERROR(VLOOKUP(E1674,Teilnehmer!$B$3:$C$1002,2,0),\"\")","v":""}]
[null,null,null,{"$f":"IFERROR(VLOOKUP(C1675,Teilnehmer!$B$3:$C$1002,2,0),\"\")","v":""},null,{"$f":"IFERROR(VLOOKUP(E1675,Teilnehmer!$B$3:$C$1002,2,0),\"\")","v":""}]
[null,null,null,{"$f":"IFERROR(VLOOKUP(C1676,Teilnehmer!$B$3:$C$1002,2,0),\"\")","v":""},null,{"$f":"IFERROR(VLOOKUP(E1676,Teilnehmer!$B$3:$C$1002,2,0),\"\")","v":""}]
[null,null,null,{"$f":"IFERROR(VLOOKUP(C1677,Teilnehmer!$B$3:$C$1002,2,0),\"\")","v":""},null,{"$f":"IFERROR(VLOOKUP(E1677,Teilnehmer!$B$3:$C$1002,2,0),\"\")","v":""}]
[null,null,null,{"$f":"IFERROR(VLOOKUP(C1678,Teilnehmer!$B$3:$C$1002,2,0),\"\")","v":""},null,{"$f":"IFERROR(VLOOKUP(E1678,Teilnehmer!$B$3:$C$1002,2,0),\"\")","v":""}]
[null,null,null,{"$f":"IFERROR(VLOOKUP(C1679,Teilnehmer!$B$3:$C$1002,2,0),\"\")","v":""},null,{"$f":"IFERROR(VLOOKUP(E1679,Teilnehmer!$B$3:$C$1002,2,0),\"\")","v":""}]
[null,null,null,{"$f":"IFERROR(VLOOKUP(C1680,Teilnehmer!$B$3:$C$1002,2,0),\"\")","v":""},null,{"$f":"IFERROR(VLOOKUP(E1680,Teilnehmer!$B$3:$C$1002,2,0),\"\")","v":""}]
[null,null,null,{"$f":"IFERROR(VLOOKUP(C1681,Teilnehmer!$B$3:$C$1002,2,0),\"\")","v":""},null,{"$f":"IFERROR(VLOOKUP(E1681,Teilnehmer!$B$3:$C$1002,2,0),\"\")","v":""}]
[null,null,null,{"$f":"IFERROR(VLOOKUP(C1682,Teilnehmer!$B$3:$C$1002,2,0),\"\")","v":""},null,{"$f":"IFERROR(VLOOKUP(E1682,Teilnehmer!$B$3:$C$1002,2,0),\"\")","v":""}]
[null,null,null,{"$f":"IFERROR(VLOOKUP(C1683,Teilnehmer!$B$3:$C$1002,2,0),\"\")","v":""},null,{"$f":"IFERROR(VLOOKUP(E1683,Teilnehmer!$B$3:$C$1002,2,0),\"\")","v":""}]
[null,null,null,{"$f":"IFERROR(VLOOKUP(C1684,Teilnehmer!$B$3:$C$1002,2,0),\"\")","v":""},null,{"$f":"IFERROR(VLOOKUP(E1684,Teilnehmer!$B$3:$C$1002,2,0),\"\")","v":""}]
[null,null,null,{"$f":"IFERROR(VLOOKUP(C1685,Teilnehmer!$B$3:$C$1002,2,0),\"\")","v":""},null,{"$f":"IFERROR(VLOOKUP(E1685,Teilnehmer!$B$3:$C$1002,2,0),\"\")","v":""}]
[null,null,null,{"$f":"IFERROR(VLOOKUP(C1686,Teilnehmer!$B$3:$C$1002,2,0),\"\")","v":""},null,{"$f":"IFERROR(VLOOKUP(E1686,Teilnehmer!$B$3:$C$1002,2,0),\"\")","v":""}]
[null,null,null,{"$f":"IFERROR(VLOOKUP(C1687,Teilnehmer!$B$3:$C$1002,2,0),\"\")","v":""},null,{"$f":"IFERROR(VLOOKUP(E1687,Teilnehmer!$B$3:$C$1002,2,0),\"\")","v":""}]
[null,null,null,{"$f":"IFERROR(VLOOKUP(C1688,Teilnehmer!$B$3:$C$1002,2,0),\"\")","v":""},null,{"$f":"IFERROR(VLOOKUP(E1688,Teilnehmer!$B$3:$C$1002,2,0),\"\")","v":""}]
[null,null,null,{"$f":"IFERROR(VLOOKUP(C1689,Teilnehmer!$B$3:$C$1002,2,0),\"\")","v":""},null,{"$f":"IFERROR(VLOOKUP(E1689,Teilnehmer!$B$3:$C$1002,2,0),\"\")","v":""}]
[null,null,null,{"$f":"IFERROR(VLOOKUP(C1690,Teilnehmer!$B$3:$C$1002,2,0),\"\")","v":""},null,{"$f":"IFERROR(VLOOKUP(E1690,Teilnehmer!$B$3:$C$1002,2,0),\"\")","v":""}]
[null,null,null,{"$f":"IFERROR(VLOOKUP(C1691,Teilnehmer!$B$3:$C$1002,2,0),\"\")","v":""},null,{"$f":"IFERROR(VLOOKUP(E1691,Teilnehmer!$B$3:$C$1002,2,0),\"\")","v":""}]
[null,null,null,{"$f":"IFERROR(VLOOKUP(C1692,Teilnehmer!$B$3:$C$1002,2,0),\"\")","v":""},null,{"$f":"IFERROR(VLOOKUP(E1692,Teilnehmer!$B$3:$C$1002,2,0),\"\")","v":""}]
[null,null,null,{"$f":"IFERROR(VLOOKUP(C1693,Teilnehmer!$B$3:$C$1002,2,0),\"\")","v":""},null,{"$f":"IFERROR(VLOOKUP(E1693,Teilnehmer!$B$3:$C$1002,2,0),\"\")","v":""}]
[null,null,null,{"$f":"IFERROR(VLOOKUP(C1694,Teilnehmer!$B$3:$C$1002,2,0),\"\")","v":""},null,{"$f":"IFERROR(VLOOKUP(E1694,Teilnehmer!$B$3:$C$1002,2,0),\"\")","v":""}]
[null,null,null,{"$f":"IFERROR(VLOOKUP(C1695,Teilnehmer!$B$3:$C$1002,2,0),\"\")","v":""},null,{"$f":"IFERROR(VLOOKUP(E1695,Teilnehmer!$B$3:$C$1002,2,0),\"\")","v":""}]
[null,null,null,{"$f":"IFERROR(VLOOKUP(C1696,Teilnehmer!$B$3:$C$1002,2,0),\"\")","v":""},null,{"$f":"IFERROR(VLOOKUP(E1696,Teilnehmer!$B$3:$C$1002,2,0),\"\")","v":""}]
[null,null,null,{"$f":"IFERROR(VLOOKUP(C1697,Teilnehmer!$B$3:$C$1002,2,0),\"\")","v":""},null,{"$f":"IFERROR(VLOOKUP(E1697,Teilnehmer!$B$3:$C$1002,2,0),\"\")","v":""}]
[null,null,null,{"$f":"IFERROR(VLOOKUP(C1698,Teilnehmer!$B$3:$C$1002,2,0),\"\")","v":""},null,{"$f":"IFERROR(VLOOKUP(E1698,Teilnehmer!$B$3:$C$1002,2,0),\"\")","v":""}]
[null,null,null,{"$f":"IFERROR(VLOOKUP(C1699,Teilnehmer!$B$3:$C$1002,2,0),\"\")","v":""},null,{"$f":"IFERROR(VLOOKUP(E1699,Teilnehmer!$B$3:$C$1002,2,0),\"\")","v":""}]
[null,null,null,{"$f":"IFERROR(VLOOKUP(C1700,Teilnehmer!$B$3:$C$1002,2,0),\"\")","v":""},null,{"$f":"IFERROR(VLOOKUP(E1700,Teilnehmer!$B$3:$C$1002,2,0),\"\")","v":""}]
[null,null,null,{"$f":"IFERROR(VLOOKUP(C1701,Teilnehmer!$B$3:$C$1002,2,0),\"\")","v":""},null,{"$f":"IFERROR(VLOOKUP(E1701,Teilnehmer!$B$3:$C$1002,2,0),\"\")","v":""}]
[null,null,null,{"$f":"IFERROR(VLOOKUP(C1702,Teilnehmer!$B$3:$C$1002,2,0),\"\")","v":""},null,{"$f":"IFERROR(VLOOKUP(E1702,Teilnehmer!$B$3:$C$1002,2,0),\"\")","v":""}]
[null,null,null,{"$f":"IFERROR(VLOOKUP(C1703,Teilnehmer!$B$3:$C$1002,2,0),\"\")","v":""},null,{"$f":"IFERROR(VLOOKUP(E1703,Teilnehmer!$B$3:$C$1002,2,0),\"\")","v":""}]
[null,null,null,{"$f":"IFERROR(VLOOKUP(C1704,Teilnehmer!$B$3:$C$1002,2,0),\"\")","v":""},null,{"$f":"IFERROR(VLOOKUP(E1704,Teilnehmer!$B$3:$C$1002,2,0),\"\")","v":""}]
[null,null,null,{"$f":"IFERROR(VLOOKUP(C1705,Teilnehmer!$B$3:$C$1002,2,0),\"\")","v":""},null,{"$f":"IFERROR(VLOOKUP(E1705,Teilnehmer!$B$3:$C$1002,2,0),\"\")","v":""}]
[null,null,null,{"$f":"IFERROR(VLOOKUP(C1706,Teilnehmer!$B$3:$C$1002,2,0),\"\")","v":""},null,{"$f":"IFERROR(VLOOKUP(E1706,Teilnehmer!$B$3:$C$1002,2,0),\"\")","v":""}]
[null,null,null,{"$f":"IFERROR(VLOOKUP(C1707,Teilnehmer!$B$3:$C$1002,2,0),\"\")","v":""},null,{"$f":"IFERROR(VLOOKUP(E1707,Teilnehmer!$B$3:$C$1002,2,0),\"\")","v":""}]
[null,null,null,{"$f":"IFERROR(VLOOKUP(C1708,Teilnehmer!$B$3:$C$1002,2,0),\"\")","v":""},null,{"$f":"IFERROR(VLOOKUP(E1708,Teilnehmer!$B$3:$C$1002,2,0),\"\")","v":""}]
[null,null,null,{"$f":"IFERROR(VLOOKUP(C1709,Teilnehmer!$B$3:$C$1002,2,0),\"\")","v":""},null,{"$f":"IFERROR(VLOOKUP(E1709,Teilnehmer!$B$3:$C$1002,2,0),\"\")","v":""}]
[null,null,null,{"$f":"IFERROR(VLOOKUP(C1710,Teilnehmer!$B$3:$C$1002,2,0),\"\")","v":""},null,{"$f":"IFERROR(VLOOKUP(E1710,Teilnehmer!$B$3:$C$1002,2,0),\"\")","v":""}]
[null,null,null,{"$f":"IFERROR(VLOOKUP(C1711,Teilnehmer!$B$3:$C$1002,2,0),\"\")","v":""},null,{"$f":"IFERROR(VLOOKUP(E1711,Teilnehmer!$B$3:$C$1002,2,0),\"\")","v":""}]
[null,null,null,{"$f":"IFERROR(VLOOKUP(C1712,Teilnehmer!$B$3:$C$1002,2,0),\"\")","v":""},null,{"$f":"IFERROR(VLOOKUP(E1712,Teilnehmer!$B$3:$C$1002,2,0),\"\")","v":""}]
[null,null,null,{"$f":"IFERROR(VLOOKUP(C1713,Teilnehmer!$B$3:$C$1002,2,0),\"\")","v":""},null,{"$f":"IFERROR(VLOOKUP(E1713,Teilnehmer!$B$3:$C$1002,2,0),\"\")","v":""}]
[null,null,null,{"$f":"IFERROR(VLOOKUP(C1714,Teilnehmer!$B$3:$C$1002,2,0),\"\")","v":""},null,{"$f":"IFERROR(VLOOKUP(E1714,Teilnehmer!$B$3:$C$1002,2,0),\"\")","v":""}]
[null,null,null,{"$f":"IFERROR(VLOOKUP(C1715,Teilnehmer!$B$3:$C$1002,2,0),\"\")","v":""},null,{"$f":"IFERROR(VLOOKUP(E1715,Teilnehmer!$B$3:$C$1002,2,0),\"\")","v":""}]
[null,null,null,{"$f":"IFERROR(VLOOKUP(C1716,Teilnehmer!$B$3:$C$1002,2,0),\"\")","v":""},null,{"$f":"IFERROR(VLOOKUP(E1716,Teilnehmer!$B$3:$C$1002,2,0),\"\")","v":""}]
[null,null,null,{"$f":"IFERROR(VLOOKUP(C1717,Teilnehmer!$B$3:$C$1002,2,0),\"\")","v":""},null,{"$f":"IFERROR(VLOOKUP(E1717,Teilnehmer!$B$3:$C$1002,2,0),\"\")","v":""}]
[null,null,null,{"$f":"IFERROR(VLOOKUP(C1718,Teilnehmer!$B$3:$C$1002,2,0),\"\")","v":""},null,{"$f":"IFERROR(VLOOKUP(E1718,Teilnehmer!$B$3:$C$1002,2,0),\"\")","v":""}]
[null,null,null,{"$f":"IFERROR(VLOOKUP(C1719,Teilnehmer!$B$3:$C$1002,2,0),\"\")","v":""},null,{"$f":"IFERROR(VLOOKUP(E1719,Teilnehmer!$B$3:$C$1002,2,0),\"\")","v":""}]
[null,null,null,{"$f":"IFERROR(VLOOKUP(C1720,Teilnehmer!$B$3:$C$1002,2,0),\"\")","v":""},null,{"$f":"IFERROR(VLOOKUP(E1720,Teilnehmer!$B$3:$C$1002,2,0),\"\")","v":""}]
[null,null,null,{"$f":"IFERROR(VLOOKUP(C1721,Teilnehmer!$B$3:$C$1002,2,0),\"\")","v":""},null,{"$f":"IFERROR(VLOOKUP(E1721,Teilnehmer!$B$3:$C$1002,2,0),\"\")","v":""}]
[null,null,null,{"$f":"IFERROR(VLOOKUP(C1722,Teilnehmer!$B$3:$C$1002,2,0),\"\")","v":""},null,{"$f":"IFERROR(VLOOKUP(E1722,Teilnehmer!$B$3:$C$1002,2,0),\"\")","v":""}]
[null,null,null,{"$f":"IFERROR(VLOOKUP(C1723,Teilnehmer!$B$3:$C$1002,2,0),\"\")","v":""},null,{"$f":"IFERROR(VLOOKUP(E1723,Teilnehmer!$B$3:$C$1002,2,0),\"\")","v":""}]
[null,null,null,{"$f":"IFERROR(VLOOKUP(C1724,Teilnehmer!$B$3:$C$1002,2,0),\"\")","v":""},null,{"$f":"IFERROR(VLOOKUP(E1724,Teilnehmer!$B$3:$C$1002,2,0),\"\")","v":""}]
[null,null,null,{"$f":"IFERROR(VLOOKUP(C1725,Teilnehmer!$B$3:$C$1002,2,0),\"\")","v":""},null,{"$f":"IFERROR(VLOOKUP(E1725,Teilnehmer!$B$3:$C$1002,2,0),\"\")","v":""}]
[null,null,null,{"$f":"IFERROR(VLOOKUP(C1726,Teilnehmer!$B$3:$C$1002,2,0),\"\")","v":""},null,{"$f":"IFERROR(VLOOKUP(E1726,Teilnehmer!$B$3:$C$1002,2,0),\"\")","v":""}]
[null,null,null,{"$f":"IFERROR(VLOOKUP(C1727,Teilnehmer!$B$3:$C$1002,2,0),\"\")","v":""},null,{"$f":"IFERROR(VLOOKUP(E1727,Teilnehmer!$B$3:$C$1002,2,0),\"\")","v":""}]
[null,null,null,{"$f":"IFERROR(VLOOKUP(C1728,Teilnehmer!$B$3:$C$1002,2,0),\"\")","v":""},null,{"$f":"IFERROR(VLOOKUP(E1728,Teilnehmer!$B$3:$C$1002,2,0),\"\")","v":""}]
[null,null,null,{"$f":"IFERROR(VLOOKUP(C1729,Teilnehmer!$B$3:$C$1002,2,0),\"\")","v":""},null,{"$f":"IFERROR(VLOOKUP(E1729,Teilnehmer!$B$3:$C$1002,2,0),\"\")","v":""}]
[null,null,null,{"$f":"IFERROR(VLOOKUP(C1730,Teilnehmer!$B$3:$C$1002,2,0),\"\")","v":""},null,{"$f":"IFERROR(VLOOKUP(E1730,Teilnehmer!$B$3:$C$1002,2,0),\"\")","v":""}]
[null,null,null,{"$f":"IFERROR(VLOOKUP(C1731,Teilnehmer!$B$3:$C$1002,2,0),\"\")","v":""},null,{"$f":"IFERROR(VLOOKUP(E1731,Teilnehmer!$B$3:$C$1002,2,0),\"\")","v":""}]
[null,null,null,{"$f":"IFERROR(VLOOKUP(C1732,Teilnehmer!$B$3:$C$1002,2,0),\"\")","v":""},null,{"$f":"IFERROR(VLOOKUP(E1732,Teilnehmer!$B$3:$C$1002,2,0),\"\")","v":""}]
[null,null,null,{"$f":"IFERROR(VLOOKUP(C1733,Teilnehmer!$B$3:$C$1002,2,0),\"\")","v":""},null,{"$f":"IFERROR(VLOOKUP(E1733,Teilnehmer!$B$3:$C$1002,2,0),\"\")","v":""}]
[null,null,null,{"$f":"IFERROR(VLOOKUP(C1734,Teilnehmer!$B$3:$C$1002,2,0),\"\")","v":""},null,{"$f":"IFERROR(VLOOKUP(E1734,Teilnehmer!$B$3:$C$1002,2,0),\"\")","v":""}]
[null,null,null,{"$f":"IFERROR(VLOOKUP(C1735,Teilnehmer!$B$3:$C$1002,2,0),\"\")","v":""},null,{"$f":"IFERROR(VLOOKUP(E1735,Teilnehmer!$B$3:$C$1002,2,0),\"\")","v":""}]
[null,null,null,{"$f":"IFERROR(VLOOKUP(C1736,Teilnehmer!$B$3:$C$1002,2,0),\"\")","v":""},null,{"$f":"IFERROR(VLOOKUP(E1736,Teilnehmer!$B$3:$C$1002,2,0),\"\")","v":""}]
[null,null,null,{"$f":"IFERROR(VLOOKUP(C1737,Teilnehmer!$B$3:$C$1002,2,0),\"\")","v":""},null,{"$f":"IFERROR(VLOOKUP(E1737,Teilnehmer!$B$3:$C$1002,2,0),\"\")","v":""}]
[null,null,null,{"$f":"IFERROR(VLOOKUP(C1738,Teilnehmer!$B$3:$C$1002,2,0),\"\")","v":""},null,{"$f":"IFERROR(VLOOKUP(E1738,Teilnehmer!$B$3:$C$1002,2,0),\"\")","v":""}]
[null,null,null,{"$f":"IFERROR(VLOOKUP(C1739,Teilnehmer!$B$3:$C$1002,2,0),\"\")","v":""},null,{"$f":"IFERROR(VLOOKUP(E1739,Teilnehmer!$B$3:$C$1002,2,0),\"\")","v":""}]
[null,null,null,{"$f":"IFERROR(VLOOKUP(C1740,Teilnehmer!$B$3:$C$1002,2,0),\"\")","v":""},null,{"$f":"IFERROR(VLOOKUP(E1740,Teilnehmer!$B$3:$C$1002,2,0),\"\")","v":""}]
[null,null,null,{"$f":"IFERROR(VLOOKUP(C1741,Teilnehmer!$B$3:$C$1002,2,0),\"\")","v":""},null,{"$f":"IFERROR(VLOOKUP(E1741,Teilnehmer!$B$3:$C$1002,2,0),\"\")","v":""}]
[null,null,null,{"$f":"IFERROR(VLOOKUP(C1742,Teilnehmer!$B$3:$C$1002,2,0),\"\")","v":""},null,{"$f":"IFERROR(VLOOKUP(E1742,Teilnehmer!$B$3:$C$1002,2,0),\"\")","v":""}]
[null,null,null,{"$f":"IFERROR(VLOOKUP(C1743,Teilnehmer!$B$3:$C$1002,2,0),\"\")","v":""},null,{"$f":"IFERROR(VLOOKUP(E1743,Teilnehmer!$B$3:$C$1002,2,0),\"\")","v":""}]
[null,null,null,{"$f":"IFERROR(VLOOKUP(C1744,Teilnehmer!$B$3:$C$1002,2,0),\"\")","v":""},null,{"$f":"IFERROR(VLOOKUP(E1744,Teilnehmer!$B$3:$C$1002,2,0),\"\")","v":""}]
[null,null,null,{"$f":"IFERROR(VLOOKUP(C1745,Teilnehmer!$B$3:$C$1002,2,0),\"\")","v":""},null,{"$f":"IFERROR(VLOOKUP(E1745,Teilnehmer!$B$3:$C$1002,2,0),\"\")","v":""}]
[null,null,null,{"$f":"IFERROR(VLOOKUP(C1746,Teilnehmer!$B$3:$C$1002,2,0),\"\")","v":""},null,{"$f":"IFERROR(VLOOKUP(E1746,Teilnehmer!$B$3:$C$1002,2,0),\"\")","v":""}]
[null,null,null,{"$f":"IFERROR(VLOOKUP(C1747,Teilnehmer!$B$3:$C$1002,2,0),\"\")","v":""},null,{"$f":"IFERROR(VLOOKUP(E1747,Teilnehmer!$B$3:$C$1002,2,0),\"\")","v":""}]
[null,null,null,{"$f":"IFERROR(VLOOKUP(C1748,Teilnehmer!$B$3:$C$1002,2,0),\"\")","v":""},null,{"$f":"IFERROR(VLOOKUP(E1748,Teilnehmer!$B$3:$C$1002,2,0),\"\")","v":""}]
[null,null,null,{"$f":"IFERROR(VLOOKUP(C1749,Teilnehmer!$B$3:$C$1002,2,0),\"\")","v":""},null,{"$f":"IFERROR(VLOOKUP(E1749,Teilnehmer!$B$3:$C$1002,2,0),\"\")","v":""}]
[null,null,null,{"$f":"IFERROR(VLOOKUP(C1750,Teilnehmer!$B$3:$C$1002,2,0),\"\")","v":""},null,{"$f":"IFERROR(VLOOKUP(E1750,Teilnehmer!$B$3:$C$1002,2,0),\"\")","v":""}]
[null,null,null,{"$f":"IFERROR(VLOOKUP(C1751,Teilnehmer!$B$3:$C$1002,2,0),\"\")","v":""},null,{"$f":"IFERROR(VLOOKUP(E1751,Teilnehmer!$B$3:$C$1002,2,0),\"\")","v":""}]
[null,null,null,{"$f":"IFERROR(VLOOKUP(C1752,Teilnehmer!$B$3:$C$1002,2,0),\"\")","v":""},null,{"$f":"IFERROR(VLOOKUP(E1752,Teilnehmer!$B$3:$C$1002,2,0),\"\")","v":""}]
[null,null,null,{"$f":"IFERROR(VLOOKUP(C1753,Teilnehmer!$B$3:$C$1002,2,0),\"\")","v":""},null,{"$f":"IFERROR(VLOOKUP(E1753,Teilnehmer!$B$3:$C$1002,2,0),\"\")","v":""}]
[null,null,null,{"$f":"IFERROR(VLOOKUP(C1754,Teilnehmer!$B$3:$C$1002,2,0),\"\")","v":""},null,{"$f":"IFERROR(VLOOKUP(E1754,Teilnehmer!$B$3:$C$1002,2,0),\"\")","v":""}]
[null,null,null,{"$f":"IFERROR(VLOOKUP(C1755,Teilnehmer!$B$3:$C$1002,2,0),\"\")","v":""},null,{"$f":"IFERROR(VLOOKUP(E1755,Teilnehmer!$B$3:$C$1002,2,0),\"\")","v":""}]
[null,null,null,{"$f":"IFERROR(VLOOKUP(C1756,Teilnehmer!$B$3:$C$1002,2,0),\"\")","v":""},null,{"$f":"IFERROR(VLOOKUP(E1756,Teilnehmer!$B$3:$C$1002,2,0),\"\")","v":""}]
[null,null,null,{"$f":"IFERROR(VLOOKUP(C1757,Teilnehmer!$B$3:$C$1002,2,0),\"\")","v":""},null,{"$f":"IFERROR(VLOOKUP(E1757,Teilnehmer!$B$3:$C$1002,2,0),\"\")","v":""}]
[null,null,null,{"$f":"IFERROR(VLOOKUP(C1758,Teilnehmer!$B$3:$C$1002,2,0),\"\")","v":""},null,{"$f":"IFERROR(VLOOKUP(E1758,Teilnehmer!$B$3:$C$1002,2,0),\"\")","v":""}]
[null,null,null,{"$f":"IFERROR(VLOOKUP(C1759,Teilnehmer!$B$3:$C$1002,2,0),\"\")","v":""},null,{"$f":"IFERROR(VLOOKUP(E1759,Teilnehmer!$B$3:$C$1002,2,0),\"\")","v":""}]
[null,null,null,{"$f":"IFERROR(VLOOKUP(C1760,Teilnehmer!$B$3:$C$1002,2,0),\"\")","v":""},null,{"$f":"IFERROR(VLOOKUP(E1760,Teilnehmer!$B$3:$C$1002,2,0),\"\")","v":""}]
[null,null,null,{"$f":"IFERROR(VLOOKUP(C1761,Teilnehmer!$B$3:$C$1002,2,0),\"\")","v":""},null,{"$f":"IFERROR(VLOOKUP(E1761,Teilnehmer!$B$3:$C$1002,2,0),\"\")","v":""}]
[null,null,null,{"$f":"IFERROR(VLOOKUP(C1762,Teilnehmer!$B$3:$C$1002,2,0),\"\")","v":""},null,{"$f":"IFERROR(VLOOKUP(E1762,Teilnehmer!$B$3:$C$1002,2,0),\"\")","v":""}]
[null,null,null,{"$f":"IFERROR(VLOOKUP(C1763,Teilnehmer!$B$3:$C$1002,2,0),\"\")","v":""},null,{"$f":"IFERROR(VLOOKUP(E1763,Teilnehmer!$B$3:$C$1002,2,0),\"\")","v":""}]
[null,null,null,{"$f":"IFERROR(VLOOKUP(C1764,Teilnehmer!$B$3:$C$1002,2,0),\"\")","v":""},null,{"$f":"IFERROR(VLOOKUP(E1764,Teilnehmer!$B$3:$C$1002,2,0),\"\")","v":""}]
[null,null,null,{"$f":"IFERROR(VLOOKUP(C1765,Teilnehmer!$B$3:$C$1002,2,0),\"\")","v":""},null,{"$f":"IFERROR(VLOOKUP(E1765,Teilnehmer!$B$3:$C$1002,2,0),\"\")","v":""}]
[null,null,null,{"$f":"IFERROR(VLOOKUP(C1766,Teilnehmer!$B$3:$C$1002,2,0),\"\")","v":""},null,{"$f":"IFERROR(VLOOKUP(E1766,Teilnehmer!$B$3:$C$1002,2,0),\"\")","v":""}]
[null,null,null,{"$f":"IFERROR(VLOOKUP(C1767,Teilnehmer!$B$3:$C$1002,2,0),\"\")","v":""},null,{"$f":"IFERROR(VLOOKUP(E1767,Teilnehmer!$B$3:$C$1002,2,0),\"\")","v":""}]
[null,null,null,{"$f":"IFERROR(VLOOKUP(C1768,Teilnehmer!$B$3:$C$1002,2,0),\"\")","v":""},null,{"$f":"IFERROR(VLOOKUP(E1768,Teilnehmer!$B$3:$C$1002,2,0),\"\")","v":""}]
[null,null,null,{"$f":"IFERROR(VLOOKUP(C1769,Teilnehmer!$B$3:$C$1002,2,0),\"\")","v":""},null,{"$f":"IFERROR(VLOOKUP(E1769,Teilnehmer!$B$3:$C$1002,2,0),\"\")","v":""}]
[null,null,null,{"$f":"IFERROR(VLOOKUP(C1770,Teilnehmer!$B$3:$C$1002,2,0),\"\")","v":""},null,{"$f":"IFERROR(VLOOKUP(E1770,Teilnehmer!$B$3:$C$1002,2,0),\"\")","v":""}]
[null,null,null,{"$f":"IFERROR(VLOOKUP(C1771,Teilnehmer!$B$3:$C$1002,2,0),\"\")","v":""},null,{"$f":"IFERROR(VLOOKUP(E1771,Teilnehmer!$B$3:$C$1002,2,0),\"\")","v":""}]
[null,null,null,{"$f":"IFERROR(VLOOKUP(C1772,Teilnehmer!$B$3:$C$1002,2,0),\"\")","v":""},null,{"$f":"IFERROR(VLOOKUP(E1772,Teilnehmer!$B$3:$C$1002,2,0),\"\")","v":""}]
[null,null,null,{"$f":"IFERROR(VLOOKUP(C1773,Teilnehmer!$B$3:$C$1002,2,0),\"\")","v":""},null,{"$f":"IFERROR(VLOOKUP(E1773,Teilnehmer!$B$3:$C$1002,2,0),\"\")","v":""}]
[null,null,null,{"$f":"IFERROR(VLOOKUP(C1774,Teilnehmer!$B$3:$C$1002,2,0),\"\")","v":""},null,{"$f":"IFERROR(VLOOKUP(E1774,Teilnehmer!$B$3:$C$1002,2,0),\"\")","v":""}]
[null,null,null,{"$f":"IFERROR(VLOOKUP(C1775,Teilnehmer!$B$3:$C$1002,2,0),\"\")","v":""},null,{"$f":"IFERROR(VLOOKUP(E1775,Teilnehmer!$B$3:$C$1002,2,0),\"\")","v":""}]
[null,null,null,{"$f":"IFERROR(VLOOKUP(C1776,Teilnehmer!$B$3:$C$1002,2,0),\"\")","v":""},null,{"$f":"IFERROR(VLOOKUP(E1776,Teilnehmer!$B$3:$C$1002,2,0),\"\")","v":""}]
[null,null,null,{"$f":"IFERROR(VLOOKUP(C1777,Teilnehmer!$B$3:$C$1002,2,0),\"\")","v":""},null,{"$f":"IFERROR(VLOOKUP(E1777,Teilnehmer!$B$3:$C$1002,2,0),\"\")","v":""}]
[null,null,null,{"$f":"IFERROR(VLOOKUP(C1778,Teilnehmer!$B$3:$C$1002,2,0),\"\")","v":""},null,{"$f":"IFERROR(VLOOKUP(E1778,Teilnehmer!$B$3:$C$1002,2,0),\"\")","v":""}]
[null,null,null,{"$f":"IFERROR(VLOOKUP(C1779,Teilnehmer!$B$3:$C$1002,2,0),\"\")","v":""},null,{"$f":"IFERROR(VLOOKUP(E1779,Teilnehmer!$B$3:$C$1002,2,0),\"\")","v":""}]
[null,null,null,{"$f":"IFERROR(VLOOKUP(C1780,Teilnehmer!$B$3:$C$1002,2,0),\"\")","v":""},null,{"$f":"IFERROR(VLOOKUP(E1780,Teilnehmer!$B$3:$C$1002,2,0),\"\")","v":""}]
[null,null,null,{"$f":"IFERROR(VLOOKUP(C1781,Teilnehmer!$B$3:$C$1002,2,0),\"\")","v":""},null,{"$f":"IFERROR(VLOOKUP(E1781,Teilnehmer!$B$3:$C$1002,2,0),\"\")","v":""}]
[null,null,null,{"$f":"IFERROR(VLOOKUP(C1782,Teilnehmer!$B$3:$C$1002,2,0),\"\")","v":""},null,{"$f":"IFERROR(VLOOKUP(E1782,Teilnehmer!$B$3:$C$1002,2,0),\"\")","v":""}]
[null,null,null,{"$f":"IFERROR(VLOOKUP(C1783,Teilnehmer!$B$3:$C$1002,2,0),\"\")","v":""},null,{"$f":"IFERROR(VLOOKUP(E1783,Teilnehmer!$B$3:$C$1002,2,0),\"\")","v":""}]
[null,null,null,{"$f":"IFERROR(VLOOKUP(C1784,Teilnehmer!$B$3:$C$1002,2,0),\"\")","v":""},null,{"$f":"IFERROR(VLOOKUP(E1784,Teilnehmer!$B$3:$C$1002,2,0),\"\")","v":""}]
[null,null,null,{"$f":"IFERROR(VLOOKUP(C1785,Teilnehmer!$B$3:$C$1002,2,0),\"\")","v":""},null,{"$f":"IFERROR(VLOOKUP(E1785,Teilnehmer!$B$3:$C$1002,2,0),\"\")","v":""}]
[null,null,null,{"$f":"IFERROR(VLOOKUP(C1786,Teilnehmer!$B$3:$C$1002,2,0),\"\")","v":""},null,{"$f":"IFERROR(VLOOKUP(E1786,Teilnehmer!$B$3:$C$1002,2,0),\"\")","v":""}]
[null,null,null,{"$f":"IFERROR(VLOOKUP(C1787,Teilnehmer!$B$3:$C$1002,2,0),\"\")","v":""},null,{"$f":"IFERROR(VLOOKUP(E1787,Teilnehmer!$B$3:$C$1002,2,0),\"\")","v":""}]
[null,null,null,{"$f":"IFERROR(VLOOKUP(C1788,Teilnehmer!$B$3:$C$1002,2,0),\"\")","v":""},null,{"$f":"IFERROR(VLOOKUP(E1788,Teilnehmer!$B$3:$C$1002,2,0),\"\")","v":""}]
[null,null,null,{"$f":"IFERROR(VLOOKUP(C1789,Teilnehmer!$B$3:$C$1002,2,0),\"\")","v":""},null,{"$f":"IFERROR(VLOOKUP(E1789,Teilnehmer!$B$3:$C$1002,2,0),\"\")","v":""}]
[null,null,null,{"$f":"IFERROR(VLOOKUP(C1790,Teilnehmer!$B$3:$C$1002,2,0),\"\")","v":""},null,{"$f":"IFERROR(VLOOKUP(E1790,Teilnehmer!$B$3:$C$1002,2,0),\"\")","v":""}]
[null,null,null,{"$f":"IFERROR(VLOOKUP(C1791,Teilnehmer!$B$3:$C$1002,2,0),\"\")","v":""},null,{"$f":"IFERROR(VLOOKUP(E1791,Teilnehmer!$B$3:$C$1002,2,0),\"\")","v":""}]
[null,null,null,{"$f":"IFERROR(VLOOKUP(C1792,Teilnehmer!$B$3:$C$1002,2,0),\"\")","v":""},null,{"$f":"IFERROR(VLOOKUP(E1792,Teilnehmer!$B$3:$C$1002,2,0),\"\")","v":""}]
[null,null,null,{"$f":"IFERROR(VLOOKUP(C1793,Teilnehmer!$B$3:$C$1002,2,0),\"\")","v":""},null,{"$f":"IFERROR(VLOOKUP(E1793,Teilnehmer!$B$3:$C$1002,2,0),\"\")","v":""}]
[null,null,null,{"$f":"IFERROR(VLOOKUP(C1794,Teilnehmer!$B$3:$C$1002,2,0),\"\")","v":""},null,{"$f":"IFERROR(VLOOKUP(E1794,Teilnehmer!$B$3:$C$1002,2,0),\"\")","v":""}]
[null,null,null,{"$f":"IFERROR(VLOOKUP(C1795,Teilnehmer!$B$3:$C$1002,2,0),\"\")","v":""},null,{"$f":"IFERROR(VLOOKUP(E1795,Teilnehmer!$B$3:$C$1002,2,0),\"\")","v":""}]
[null,null,null,{"$f":"IFERROR(VLOOKUP(C1796,Teilnehmer!$B$3:$C$1002,2,0),\"\")","v":""},null,{"$f":"IFERROR(VLOOKUP(E1796,Teilnehmer!$B$3:$C$1002,2,0),\"\")","v":""}]
[null,null,null,{"$f":"IFERROR(VLOOKUP(C1797,Teilnehmer!$B$3:$C$1002,2,0),\"\")","v":""},null,{"$f":"IFERROR(VLOOKUP(E1797,Teilnehmer!$B$3:$C$1002,2,0),\"\")","v":""}]
[null,null,null,{"$f":"IFERROR(VLOOKUP(C1798,Teilnehmer!$B$3:$C$1002,2,0),\"\")","v":""},null,{"$f":"IFERROR(VLOOKUP(E1798,Teilnehmer!$B$3:$C$1002,2,0),\"\")","v":""}]
[null,null,null,{"$f":"IFERROR(VLOOKUP(C1799,Teilnehmer!$B$3:$C$1002,2,0),\"\")","v":""},null,{"$f":"IFERROR(VLOOKUP(E1799,Teilnehmer!$B$3:$C$1002,2,0),\"\")","v":""}]
[null,null,null,{"$f":"IFERROR(VLOOKUP(C1800,Teilnehmer!$B$3:$C$1002,2,0),\"\")","v":""},null,{"$f":"IFERROR(VLOOKUP(E1800,Teilnehmer!$B$3:$C$1002,2,0),\"\")","v":""}]
[null,null,null,{"$f":"IFERROR(VLOOKUP(C1801,Teilnehmer!$B$3:$C$1002,2,0),\"\")","v":""},null,{"$f":"IFERROR(VLOOKUP(E1801,Teilnehmer!$B$3:$C$1002,2,0),\"\")","v":""}]
[null,null,null,{"$f":"IFERROR(VLOOKUP(C1802,Teilnehmer!$B$3:$C$1002,2,0),\"\")","v":""},null,{"$f":"IFERROR(VLOOKUP(E1802,Teilnehmer!$B$3:$C$1002,2,0),\"\")","v":""}]
[null,null,null,{"$f":"IFERROR(VLOOKUP(C1803,Teilnehmer!$B$3:$C$1002,2,0),\"\")","v":""},null,{"$f":"IFERROR(VLOOKUP(E1803,Teilnehmer!$B$3:$C$1002,2,0),\"\")","v":""}]
[null,null,null,{"$f":"IFERROR(VLOOKUP(C1804,Teilnehmer!$B$3:$C$1002,2,0),\"\")","v":""},null,{"$f":"IFERROR(VLOOKUP(E1804,Teilnehmer!$B$3:$C$1002,2,0),\"\")","v":""}]
[null,null,null,{"$f":"IFERROR(VLOOKUP(C1805,Teilnehmer!$B$3:$C$1002,2,0),\"\")","v":""},null,{"$f":"IFERROR(VLOOKUP(E1805,Teilnehmer!$B$3:$C$1002,2,0),\"\")","v":""}]
[null,null,null,{"$f":"IFERROR(VLOOKUP(C1806,Teilnehmer!$B$3:$C$1002,2,0),\"\")","v":""},null,{"$f":"IFERROR(VLOOKUP(E1806,Teilnehmer!$B$3:$C$1002,2,0),\"\")","v":""}]
[null,null,null,{"$f":"IFERROR(VLOOKUP(C1807,Teilnehmer!$B$3:$C$1002,2,0),\"\")","v":""},null,{"$f":"IFERROR(VLOOKUP(E1807,Teilnehmer!$B$3:$C$1002,2,0),\"\")","v":""}]
[null,null,null,{"$f":"IFERROR(VLOOKUP(C1808,Teilnehmer!$B$3:$C$1002,2,0),\"\")","v":""},null,{"$f":"IFERROR(VLOOKUP(E1808,Teilnehmer!$B$3:$C$1002,2,0),\"\")","v":""}]
[null,null,null,{"$f":"IFERROR(VLOOKUP(C1809,Teilnehmer!$B$3:$C$1002,2,0),\"\")","v":""},null,{"$f":"IFERROR(VLOOKUP(E1809,Teilnehmer!$B$3:$C$1002,2,0),\"\")","v":""}]
[null,null,null,{"$f":"IFERROR(VLOOKUP(C1810,Teilnehmer!$B$3:$C$1002,2,0),\"\")","v":""},null,{"$f":"IFERROR(VLOOKUP(E1810,Teilnehmer!$B$3:$C$1002,2,0),\"\")","v":""}]
[null,null,null,{"$f":"IFERROR(VLOOKUP(C1811,Teilnehmer!$B$3:$C$1002,2,0),\"\")","v":""},null,{"$f":"IFERROR(VLOOKUP(E1811,Teilnehmer!$B$3:$C$1002,2,0),\"\")","v":""}]
[null,null,null,{"$f":"IFERROR(VLOOKUP(C1812,Teilnehmer!$B$3:$C$1002,2,0),\"\")","v":""},null,{"$f":"IFERROR(VLOOKUP(E1812,Teilnehmer!$B$3:$C$1002,2,0),\"\")","v":""}]
[null,null,null,{"$f":"IFERROR(VLOOKUP(C1813,Teilnehmer!$B$3:$C$1002,2,0),\"\")","v":""},null,{"$f":"IFERROR(VLOOKUP(E1813,Teilnehmer!$B$3:$C$1002,2,0),\"\")","v":""}]
[null,null,null,{"$f":"IFERROR(VLOOKUP(C1814,Teilnehmer!$B$3:$C$1002,2,0),\"\")","v":""},null,{"$f":"IFERROR(VLOOKUP(E1814,Teilnehmer!$B$3:$C$1002,2,0),\"\")","v":""}]
[null,null,null,{"$f":"IFERROR(VLOOKUP(C1815,Teilnehmer!$B$3:$C$1002,2,0),\"\")","v":""},null,{"$f":"IFERROR(VLOOKUP(E1815,Teilnehmer!$B$3:$C$1002,2,0),\"\")","v":""}]
[null,null,null,{"$f":"IFERROR(VLOOKUP(C1816,Teilnehmer!$B$3:$C$1002,2,0),\"\")","v":""},null,{"$f":"IFERROR(VLOOKUP(E1816,Teilnehmer!$B$3:$C$1002,2,0),\"\")","v":""}]
[null,null,null,{"$f":"IFERROR(VLOOKUP(C1817,Teilnehmer!$B$3:$C$1002,2,0),\"\")","v":""},null,{"$f":"IFERROR(VLOOKUP(E1817,Teilnehmer!$B$3:$C$1002,2,0),\"\")","v":""}]
[null,null,null,{"$f":"IFERROR(VLOOKUP(C1818,Teilnehmer!$B$3:$C$1002,2,0),\"\")","v":""},null,{"$f":"IFERROR(VLOOKUP(E1818,Teilnehmer!$B$3:$C$1002,2,0),\"\")","v":""}]
[null,null,null,{"$f":"IFERROR(VLOOKUP(C1819,Teilnehmer!$B$3:$C$1002,2,0),\"\")","v":""},null,{"$f":"IFERROR(VLOOKUP(E1819,Teilnehmer!$B$3:$C$1002,2,0),\"\")","v":""}]
[null,null,null,{"$f":"IFERROR(VLOOKUP(C1820,Teilnehmer!$B$3:$C$1002,2,0),\"\")","v":""},null,{"$f":"IFERROR(VLOOKUP(E1820,Teilnehmer!$B$3:$C$1002,2,0),\"\")","v":""}]
[null,null,null,{"$f":"IFERROR(VLOOKUP(C1821,Teilnehmer!$B$3:$C$1002,2,0),\"\")","v":""},null,{"$f":"IFERROR(VLOOKUP(E1821,Teilnehmer!$B$3:$C$1002,2,0),\"\")","v":""}]
[null,null,null,{"$f":"IFERROR(VLOOKUP(C1822,Teilnehmer!$B$3:$C$1002,2,0),\"\")","v":""},null,{"$f":"IFERROR(VLOOKUP(E1822,Teilnehmer!$B$3:$C$1002,2,0),\"\")","v":""}]
[null,null,null,{"$f":"IFERROR(VLOOKUP(C1823,Teilnehmer!$B$3:$C$1002,2,0),\"\")","v":""},null,{"$f":"IFERROR(VLOOKUP(E1823,Teilnehmer!$B$3:$C$1002,2,0),\"\")","v":""}]
[null,null,null,{"$f":"IFERROR(VLOOKUP(C1824,Teilnehmer!$B$3:$C$1002,2,0),\"\")","v":""},null,{"$f":"IFERROR(VLOOKUP(E1824,Teilnehmer!$B$3:$C$1002,2,0),\"\")","v":""}]
[null,null,null,{"$f":"IFERROR(VLOOKUP(C1825,Teilnehmer!$B$3:$C$1002,2,0),\"\")","v":""},null,{"$f":"IFERROR(VLOOKUP(E1825,Teilnehmer!$B$3:$C$1002,2,0),\"\")","v":""}]
[null,null,null,{"$f":"IFERROR(VLOOKUP(C1826,Teilnehmer!$B$3:$C$1002,2,0),\"\")","v":""},null,{"$f":"IFERROR(VLOOKUP(E1826,Teilnehmer!$B$3:$C$1002,2,0),\"\")","v":""}]
[null,null,null,{"$f":"IFERROR(VLOOKUP(C1827,Teilnehmer!$B$3:$C$1002,2,0),\"\")","v":""},null,{"$f":"IFERROR(VLOOKUP(E1827,Teilnehmer!$B$3:$C$1002,2,0),\"\")","v":""}]
[null,null,null,{"$f":"IFERROR(VLOOKUP(C1828,Teilnehmer!$B$3:$C$1002,2,0),\"\")","v":""},null,{"$f":"IFERROR(VLOOKUP(E1828,Teilnehmer!$B$3:$C$1002,2,0),\"\")","v":""}]
[null,null,null,{"$f":"IFERROR(VLOOKUP(C1829,Teilnehmer!$B$3:$C$1002,2,0),\"\")","v":""},null,{"$f":"IFERROR(VLOOKUP(E1829,Teilnehmer!$B$3:$C$1002,2,0),\"\")","v":""}]
[null,null,null,{"$f":"IFERROR(VLOOKUP(C1830,Teilnehmer!$B$3:$C$1002,2,0),\"\")","v":""},null,{"$f":"IFERROR(VLOOKUP(E1830,Teilnehmer!$B$3:$C$1002,2,0),\"\")","v":""}]
[null,null,null,{"$f":"IFERROR(VLOOKUP(C1831,Teilnehmer!$B$3:$C$1002,2,0),\"\")","v":""},null,{"$f":"IFERROR(VLOOKUP(E1831,Teilnehmer!$B$3:$C$1002,2,0),\"\")","v":""}]
[null,null,null,{"$f":"IFERROR(VLOOKUP(C1832,Teilnehmer!$B$3:$C$1002,2,0),\"\")","v":""},null,{"$f":"IFERROR(VLOOKUP(E1832,Teilnehmer!$B$3:$C$1002,2,0),\"\")","v":""}]
[null,null,null,{"$f":"IFERROR(VLOOKUP(C1833,Teilnehmer!$B$3:$C$1002,2,0),\"\")","v":""},null,{"$f":"IFERROR(VLOOKUP(E1833,Teilnehmer!$B$3:$C$1002,2,0),\"\")","v":""}]
[null,null,null,{"$f":"IFERROR(VLOOKUP(C1834,Teilnehmer!$B$3:$C$1002,2,0),\"\")","v":""},null,{"$f":"IFERROR(VLOOKUP(E1834,Teilnehmer!$B$3:$C$1002,2,0),\"\")","v":""}]
[null,null,null,{"$f":"IFERROR(VLOOKUP(C1835,Teilnehmer!$B$3:$C$1002,2,0),\"\")","v":""},null,{"$f":"IFERROR(VLOOKUP(E1835,Teilnehmer!$B$3:$C$1002,2,0),\"\")","v":""}]
[null,null,null,{"$f":"IFERROR(VLOOKUP(C1836,Teilnehmer!$B$3:$C$1002,2,0),\"\")","v":""},null,{"$f":"IFERROR(VLOOKUP(E1836,Teilnehmer!$B$3:$C$1002,2,0),\"\")","v":""}]
[null,null,null,{"$f":"IFERROR(VLOOKUP(C1837,Teilnehmer!$B$3:$C$1002,2,0),\"\")","v":""},null,{"$f":"IFERROR(VLOOKUP(E1837,Teilnehmer!$B$3:$C$1002,2,0),\"\")","v":""}]
[null,null,null,{"$f":"IFERROR(VLOOKUP(C1838,Teilnehmer!$B$3:$C$1002,2,0),\"\")","v":""},null,{"$f":"IFERROR(VLOOKUP(E1838,Teilnehmer!$B$3:$C$1002,2,0),\"\")","v":""}]
[null,null,null,{"$f":"IFERROR(VLOOKUP(C1839,Teilnehmer!$B$3:$C$1002,2,0),\"\")","v":""},null,{"$f":"IFERROR(VLOOKUP(E1839,Teilnehmer!$B$3:$C$1002,2,0),\"\")","v":""}]
[null,null,null,{"$f":"IFERROR(VLOOKUP(C1840,Teilnehmer!$B$3:$C$1002,2,0),\"\")","v":""},null,{"$f":"IFERROR(VLOOKUP(E1840,Teilnehmer!$B$3:$C$1002,2,0),\"\")","v":""}]
[null,null,null,{"$f":"IFERROR(VLOOKUP(C1841,Teilnehmer!$B$3:$C$1002,2,0),\"\")","v":""},null,{"$f":"IFERROR(VLOOKUP(E1841,Teilnehmer!$B$3:$C$1002,2,0),\"\")","v":""}]
[null,null,null,{"$f":"IFERROR(VLOOKUP(C1842,Teilnehmer!$B$3:$C$1002,2,0),\"\")","v":""},null,{"$f":"IFERROR(VLOOKUP(E1842,Teilnehmer!$B$3:$C$1002,2,0),\"\")","v":""}]
[null,null,null,{"$f":"IFERROR(VLOOKUP(C1843,Teilnehmer!$B$3:$C$1002,2,0),\"\")","v":""},null,{"$f":"IFERROR(VLOOKUP(E1843,Teilnehmer!$B$3:$C$1002,2,0),\"\")","v":""}]
[null,null,null,{"$f":"IFERROR(VLOOKUP(C1844,Teilnehmer!$B$3:$C$1002,2,0),\"\")","v":""},null,{"$f":"IFERROR(VLOOKUP(E1844,Teilnehmer!$B$3:$C$1002,2,0),\"\")","v":""}]
[null,null,null,{"$f":"IFERROR(VLOOKUP(C1845,Teilnehmer!$B$3:$C$1002,2,0),\"\")","v":""},null,{"$f":"IFERROR(VLOOKUP(E1845,Teilnehmer!$B$3:$C$1002,2,0),\"\")","v":""}]
[null,null,null,{"$f":"IFERROR(VLOOKUP(C1846,Teilnehmer!$B$3:$C$1002,2,0),\"\")","v":""},null,{"$f":"IFERROR(VLOOKUP(E1846,Teilnehmer!$B$3:$C$1002,2,0),\"\")","v":""}]
[null,null,null,{"$f":"IFERROR(VLOOKUP(C1847,Teilnehmer!$B$3:$C$1002,2,0),\"\")","v":""},null,{"$f":"IFERROR(VLOOKUP(E1847,Teilnehmer!$B$3:$C$1002,2,0),\"\")","v":""}]
[null,null,null,{"$f":"IFERROR(VLOOKUP(C1848,Teilnehmer!$B$3:$C$1002,2,0),\"\")","v":""},null,{"$f":"IFERROR(VLOOKUP(E1848,Teilnehmer!$B$3:$C$1002,2,0),\"\")","v":""}]
[null,null,null,{"$f":"IFERROR(VLOOKUP(C1849,Teilnehmer!$B$3:$C$1002,2,0),\"\")","v":""},null,{"$f":"IFERROR(VLOOKUP(E1849,Teilnehmer!$B$3:$C$1002,2,0),\"\")","v":""}]
[null,null,null,{"$f":"IFERROR(VLOOKUP(C1850,Teilnehmer!$B$3:$C$1002,2,0),\"\")","v":""},null,{"$f":"IFERROR(VLOOKUP(E1850,Teilnehmer!$B$3:$C$1002,2,0),\"\")","v":""}]
[null,null,null,{"$f":"IFERROR(VLOOKUP(C1851,Teilnehmer!$B$3:$C$1002,2,0),\"\")","v":""},null,{"$f":"IFERROR(VLOOKUP(E1851,Teilnehmer!$B$3:$C$1002,2,0),\"\")","v":""}]
[null,null,null,{"$f":"IFERROR(VLOOKUP(C1852,Teilnehmer!$B$3:$C$1002,2,0),\"\")","v":""},null,{"$f":"IFERROR(VLOOKUP(E1852,Teilnehmer!$B$3:$C$1002,2,0),\"\")","v":""}]
[null,null,null,{"$f":"IFERROR(VLOOKUP(C1853,Teilnehmer!$B$3:$C$1002,2,0),\"\")","v":""},null,{"$f":"IFERROR(VLOOKUP(E1853,Teilnehmer!$B$3:$C$1002,2,0),\"\")","v":""}]
[null,null,null,{"$f":"IFERROR(VLOOKUP(C1854,Teilnehmer!$B$3:$C$1002,2,0),\"\")","v":""},null,{"$f":"IFERROR(VLOOKUP(E1854,Teilnehmer!$B$3:$C$1002,2,0),\"\")","v":""}]
[null,null,null,{"$f":"IFERROR(VLOOKUP(C1855,Teilnehmer!$B$3:$C$1002,2,0),\"\")","v":""},null,{"$f":"IFERROR(VLOOKUP(E1855,Teilnehmer!$B$3:$C$1002,2,0),\"\")","v":""}]
[null,null,null,{"$f":"IFERROR(VLOOKUP(C1856,Teilnehmer!$B$3:$C$1002,2,0),\"\")","v":""},null,{"$f":"IFERROR(VLOOKUP(E1856,Teilnehmer!$B$3:$C$1002,2,0),\"\")","v":""}]
[null,null,null,{"$f":"IFERROR(VLOOKUP(C1857,Teilnehmer!$B$3:$C$1002,2,0),\"\")","v":""},null,{"$f":"IFERROR(VLOOKUP(E1857,Teilnehmer!$B$3:$C$1002,2,0),\"\")","v":""}]
[null,null,null,{"$f":"IFERROR(VLOOKUP(C1858,Teilnehmer!$B$3:$C$1002,2,0),\"\")","v":""},null,{"$f":"IFERROR(VLOOKUP(E1858,Teilnehmer!$B$3:$C$1002,2,0),\"\")","v":""}]
[null,null,null,{"$f":"IFERROR(VLOOKUP(C1859,Teilnehmer!$B$3:$C$1002,2,0),\"\")","v":""},null,{"$f":"IFERROR(VLOOKUP(E1859,Teilnehmer!$B$3:$C$1002,2,0),\"\")","v":""}]
[null,null,null,{"$f":"IFERROR(VLOOKUP(C1860,Teilnehmer!$B$3:$C$1002,2,0),\"\")","v":""},null,{"$f":"IFERROR(VLOOKUP(E1860,Teilnehmer!$B$3:$C$1002,2,0),\"\")","v":""}]
[null,null,null,{"$f":"IFERROR(VLOOKUP(C1861,Teilnehmer!$B$3:$C$1002,2,0),\"\")","v":""},null,{"$f":"IFERROR(VLOOKUP(E1861,Teilnehmer!$B$3:$C$1002,2,0),\"\")","v":""}]
[null,null,null,{"$f":"IFERROR(VLOOKUP(C1862,Teilnehmer!$B$3:$C$1002,2,0),\"\")","v":""},null,{"$f":"IFERROR(VLOOKUP(E1862,Teilnehmer!$B$3:$C$1002,2,0),\"\")","v":""}]
[null,null,null,{"$f":"IFERROR(VLOOKUP(C1863,Teilnehmer!$B$3:$C$1002,2,0),\"\")","v":""},null,{"$f":"IFERROR(VLOOKUP(E1863,Teilnehmer!$B$3:$C$1002,2,0),\"\")","v":""}]
[null,null,null,{"$f":"IFERROR(VLOOKUP(C1864,Teilnehmer!$B$3:$C$1002,2,0),\"\")","v":""},null,{"$f":"IFERROR(VLOOKUP(E1864,Teilnehmer!$B$3:$C$1002,2,0),\"\")","v":""}]
[null,null,null,{"$f":"IFERROR(VLOOKUP(C1865,Teilnehmer!$B$3:$C$1002,2,0),\"\")","v":""},null,{"$f":"IFERROR(VLOOKUP(E1865,Teilnehmer!$B$3:$C$1002,2,0),\"\")","v":""}]
[null,null,null,{"$f":"IFERROR(VLOOKUP(C1866,Teilnehmer!$B$3:$C$1002,2,0),\"\")","v":""},null,{"$f":"IFERROR(VLOOKUP(E1866,Teilnehmer!$B$3:$C$1002,2,0),\"\")","v":""}]
[null,null,null,{"$f":"IFERROR(VLOOKUP(C1867,Teilnehmer!$B$3:$C$1002,2,0),\"\")","v":""},null,{"$f":"IFERROR(VLOOKUP(E1867,Teilnehmer!$B$3:$C$1002,2,0),\"\")","v":""}]
[null,null,null,{"$f":"IFERROR(VLOOKUP(C1868,Teilnehmer!$B$3:$C$1002,2,0),\"\")","v":""},null,{"$f":"IFERROR(VLOOKUP(E1868,Teilnehmer!$B$3:$C$1002,2,0),\"\")","v":""}]
[null,null,null,{"$f":"IFERROR(VLOOKUP(C1869,Teilnehmer!$B$3:$C$1002,2,0),\"\")","v":""},null,{"$f":"IFERROR(VLOOKUP(E1869,Teilnehmer!$B$3:$C$1002,2,0),\"\")","v":""}]
[null,null,null,{"$f":"IFERROR(VLOOKUP(C1870,Teilnehmer!$B$3:$C$1002,2,0),\"\")","v":""},null,{"$f":"IFERROR(VLOOKUP(E1870,Teilnehmer!$B$3:$C$1002,2,0),\"\")","v":""}]
[null,null,null,{"$f":"IFERROR(VLOOKUP(C1871,Teilnehmer!$B$3:$C$1002,2,0),\"\")","v":""},null,{"$f":"IFERROR(VLOOKUP(E1871,Teilnehmer!$B$3:$C$1002,2,0),\"\")","v":""}]
[null,null,null,{"$f":"IFERROR(VLOOKUP(C1872,Teilnehmer!$B$3:$C$1002,2,0),\"\")","v":""},null,{"$f":"IFERROR(VLOOKUP(E1872,Teilnehmer!$B$3:$C$1002,2,0),\"\")","v":""}]
[null,null,null,{"$f":"IFERROR(VLOOKUP(C1873,Teilnehmer!$B$3:$C$1002,2,0),\"\")","v":""},null,{"$f":"IFERROR(VLOOKUP(E1873,Teilnehmer!$B$3:$C$1002,2,0),\"\")","v":""}]
[null,null,null,{"$f":"IFERROR(VLOOKUP(C1874,Teilnehmer!$B$3:$C$1002,2,0),\"\")","v":""},null,{"$f":"IFERROR(VLOOKUP(E1874,Teilnehmer!$B$3:$C$1002,2,0),\"\")","v":""}]
[null,null,null,{"$f":"IFERROR(VLOOKUP(C1875,Teilnehmer!$B$3:$C$1002,2,0),\"\")","v":""},null,{"$f":"IFERROR(VLOOKUP(E1875,Teilnehmer!$B$3:$C$1002,2,0),\"\")","v":""}]
[null,null,null,{"$f":"IFERROR(VLOOKUP(C1876,Teilnehmer!$B$3:$C$1002,2,0),\"\")","v":""},null,{"$f":"IFERROR(VLOOKUP(E1876,Teilnehmer!$B$3:$C$1002,2,0),\"\")","v":""}]
[null,null,null,{"$f":"IFERROR(VLOOKUP(C1877,Teilnehmer!$B$3:$C$1002,2,0),\"\")","v":""},null,{"$f":"IFERROR(VLOOKUP(E1877,Teilnehmer!$B$3:$C$1002,2,0),\"\")","v":""}]
[null,null,null,{"$f":"IFERROR(VLOOKUP(C1878,Teilnehmer!$B$3:$C$1002,2,0),\"\")","v":""},null,{"$f":"IFERROR(VLOOKUP(E1878,Teilnehmer!$B$3:$C$1002,2,0),\"\")","v":""}]
[null,null,null,{"$f":"IFERROR(VLOOKUP(C1879,Teilnehmer!$B$3:$C$1002,2,0),\"\")","v":""},null,{"$f":"IFERROR(VLOOKUP(E1879,Teilnehmer!$B$3:$C$1002,2,0),\"\")","v":""}]
[null,null,null,{"$f":"IFERROR(VLOOKUP(C1880,Teilnehmer!$B$3:$C$1002,2,0),\"\")","v":""},null,{"$f":"IFERROR(VLOOKUP(E1880,Teilnehmer!$B$3:$C$1002,2,0),\"\")","v":""}]
[null,null,null,{"$f":"IFERROR(VLOOKUP(C1881,Teilnehmer!$B$3:$C$1002,2,0),\"\")","v":""},null,{"$f":"IFERROR(VLOOKUP(E1881,Teilnehmer!$B$3:$C$1002,2,0),\"\")","v":""}]
[null,null,null,{"$f":"IFERROR(VLOOKUP(C1882,Teilnehmer!$B$3:$C$1002,2,0),\"\")","v":""},null,{"$f":"IFERROR(VLOOKUP(E1882,Teilnehmer!$B$3:$C$1002,2,0),\"\")","v":""}]
[null,null,null,{"$f":"IFERROR(VLOOKUP(C1883,Teilnehmer!$B$3:$C$1002,2,0),\"\")","v":""},null,{"$f":"IFERROR(VLOOKUP(E1883,Teilnehmer!$B$3:$C$1002,2,0),\"\")","v":""}]
[null,null,null,{"$f":"IFERROR(VLOOKUP(C1884,Teilnehmer!$B$3:$C$1002,2,0),\"\")","v":""},null,{"$f":"IFERROR(VLOOKUP(E1884,Teilnehmer!$B$3:$C$1002,2,0),\"\")","v":""}]
[null,null,null,{"$f":"IFERROR(VLOOKUP(C1885,Teilnehmer!$B$3:$C$1002,2,0),\"\")","v":""},null,{"$f":"IFERROR(VLOOKUP(E1885,Teilnehmer!$B$3:$C$1002,2,0),\"\")","v":""}]
[null,null,null,{"$f":"IFERROR(VLOOKUP(C1886,Teilnehmer!$B$3:$C$1002,2,0),\"\")","v":""},null,{"$f":"IFERROR(VLOOKUP(E1886,Teilnehmer!$B$3:$C$1002,2,0),\"\")","v":""}]
[null,null,null,{"$f":"IFERROR(VLOOKUP(C1887,Teilnehmer!$B$3:$C$1002,2,0),\"\")","v":""},null,{"$f":"IFERROR(VLOOKUP(E1887,Teilnehmer!$B$3:$C$1002,2,0),\"\")","v":""}]
[null,null,null,{"$f":"IFERROR(VLOOKUP(C1888,Teilnehmer!$B$3:$C$1002,2,0),\"\")","v":""},null,{"$f":"IFERROR(VLOOKUP(E1888,Teilnehmer!$B$3:$C$1002,2,0),\"\")","v":""}]
[null,null,null,{"$f":"IFERROR(VLOOKUP(C1889,Teilnehmer!$B$3:$C$1002,2,0),\"\")","v":""},null,{"$f":"IFERROR(VLOOKUP(E1889,Teilnehmer!$B$3:$C$1002,2,0),\"\")","v":""}]
[null,null,null,{"$f":"IFERROR(VLOOKUP(C1890,Teilnehmer!$B$3:$C$1002,2,0),\"\")","v":""},null,{"$f":"IFERROR(VLOOKUP(E1890,Teilnehmer!$B$3:$C$1002,2,0),\"\")","v":""}]
[null,null,null,{"$f":"IFERROR(VLOOKUP(C1891,Teilnehmer!$B$3:$C$1002,2,0),\"\")","v":""},null,{"$f":"IFERROR(VLOOKUP(E1891,Teilnehmer!$B$3:$C$1002,2,0),\"\")","v":""}]
[null,null,null,{"$f":"IFERROR(VLOOKUP(C1892,Teilnehmer!$B$3:$C$1002,2,0),\"\")","v":""},null,{"$f":"IFERROR(VLOOKUP(E1892,Teilnehmer!$B$3:$C$1002,2,0),\"\")","v":""}]
[null,null,null,{"$f":"IFERROR(VLOOKUP(C1893,Teilnehmer!$B$3:$C$1002,2,0),\"\")","v":""},null,{"$f":"IFERROR(VLOOKUP(E1893,Teilnehmer!$B$3:$C$1002,2,0),\"\")","v":""}]
[null,null,null,{"$f":"IFERROR(VLOOKUP(C1894,Teilnehmer!$B$3:$C$1002,2,0),\"\")","v":""},null,{"$f":"IFERROR(VLOOKUP(E1894,Teilnehmer!$B$3:$C$1002,2,0),\"\")","v":""}]
[null,null,null,{"$f":"IFERROR(VLOOKUP(C1895,Teilnehmer!$B$3:$C$1002,2,0),\"\")","v":""},null,{"$f":"IFERROR(VLOOKUP(E1895,Teilnehmer!$B$3:$C$1002,2,0),\"\")","v":""}]
[null,null,null,{"$f":"IFERROR(VLOOKUP(C1896,Teilnehmer!$B$3:$C$1002,2,0),\"\")","v":""},null,{"$f":"IFERROR(VLOOKUP(E1896,Teilnehmer!$B$3:$C$1002,2,0),\"\")","v":""}]
[null,null,null,{"$f":"IFERROR(VLOOKUP(C1897,Teilnehmer!$B$3:$C$1002,2,0),\"\")","v":""},null,{"$f":"IFERROR(VLOOKUP(E1897,Teilnehmer!$B$3:$C$1002,2,0),\"\")","v":""}]
[null,null,null,{"$f":"IFERROR(VLOOKUP(C1898,Teilnehmer!$B$3:$C$1002,2,0),\"\")","v":""},null,{"$f":"IFERROR(VLOOKUP(E1898,Teilnehmer!$B$3:$C$1002,2,0),\"\")","v":""}]
[null,null,null,{"$f":"IFERROR(VLOOKUP(C1899,Teilnehmer!$B$3:$C$1002,2,0),\"\")","v":""},null,{"$f":"IFERROR(VLOOKUP(E1899,Teilnehmer!$B$3:$C$1002,2,0),\"\")","v":""}]
[null,null,null,{"$f":"IFERROR(VLOOKUP(C1900,Teilnehmer!$B$3:$C$1002,2,0),\"\")","v":""},null,{"$f":"IFERROR(VLOOKUP(E1900,Teilnehmer!$B$3:$C$1002,2,0),\"\")","v":""}]
[null,null,null,{"$f":"IFERROR(VLOOKUP(C1901,Teilnehmer!$B$3:$C$1002,2,0),\"\")","v":""},null,{"$f":"IFERROR(VLOOKUP(E1901,Teilnehmer!$B$3:$C$1002,2,0),\"\")","v":""}]
[null,null,null,{"$f":"IFERROR(VLOOKUP(C1902,Teilnehmer!$B$3:$C$1002,2,0),\"\")","v":""},null,{"$f":"IFERROR(VLOOKUP(E1902,Teilnehmer!$B$3:$C$1002,2,0),\"\")","v":""}]
[null,null,null,{"$f":"IFERROR(VLOOKUP(C1903,Teilnehmer!$B$3:$C$1002,2,0),\"\")","v":""},null,{"$f":"IFERROR(VLOOKUP(E1903,Teilnehmer!$B$3:$C$1002,2,0),\"\")","v":""}]
[null,null,null,{"$f":"IFERROR(VLOOKUP(C1904,Teilnehmer!$B$3:$C$1002,2,0),\"\")","v":""},null,{"$f":"IFERROR(VLOOKUP(E1904,Teilnehmer!$B$3:$C$1002,2,0),\"\")","v":""}]
[null,null,null,{"$f":"IFERROR(VLOOKUP(C1905,Teilnehmer!$B$3:$C$1002,2,0),\"\")","v":""},null,{"$f":"IFERROR(VLOOKUP(E1905,Teilnehmer!$B$3:$C$1002,2,0),\"\")","v":""}]
[null,null,null,{"$f":"IFERROR(VLOOKUP(C1906,Teilnehmer!$B$3:$C$1002,2,0),\"\")","v":""},null,{"$f":"IFERROR(VLOOKUP(E1906,Teilnehmer!$B$3:$C$1002,2,0),\"\")","v":""}]
[null,null,null,{"$f":"IFERROR(VLOOKUP(C1907,Teilnehmer!$B$3:$C$1002,2,0),\"\")","v":""},null,{"$f":"IFERROR(VLOOKUP(E1907,Teilnehmer!$B$3:$C$1002,2,0),\"\")","v":""}]
[null,null,null,{"$f":"IFERROR(VLOOKUP(C1908,Teilnehmer!$B$3:$C$1002,2,0),\"\")","v":""},null,{"$f":"IFERROR(VLOOKUP(E1908,Teilnehmer!$B$3:$C$1002,2,0),\"\")","v":""}]
[null,null,null,{"$f":"IFERROR(VLOOKUP(C1909,Teilnehmer!$B$3:$C$1002,2,0),\"\")","v":""},null,{"$f":"IFERROR(VLOOKUP(E1909,Teilnehmer!$B$3:$C$1002,2,0),\"\")","v":""}]
[null,null,null,{"$f":"IFERROR(VLOOKUP(C1910,Teilnehmer!$B$3:$C$1002,2,0),\"\")","v":""},null,{"$f":"IFERROR(VLOOKUP(E1910,Teilnehmer!$B$3:$C$1002,2,0),\"\")","v":""}]
[null,null,null,{"$f":"IFERROR(VLOOKUP(C1911,Teilnehmer!$B$3:$C$1002,2,0),\"\")","v":""},null,{"$f":"IFERROR(VLOOKUP(E1911,Teilnehmer!$B$3:$C$1002,2,0),\"\")","v":""}]
[null,null,null,{"$f":"IFERROR(VLOOKUP(C1912,Teilnehmer!$B$3:$C$1002,2,0),\"\")","v":""},null,{"$f":"IFERROR(VLOOKUP(E1912,Teilnehmer!$B$3:$C$1002,2,0),\"\")","v":""}]
[null,null,null,{"$f":"IFERROR(VLOOKUP(C1913,Teilnehmer!$B$3:$C$1002,2,0),\"\")","v":""},null,{"$f":"IFERROR(VLOOKUP(E1913,Teilnehmer!$B$3:$C$1002,2,0),\"\")","v":""}]
[null,null,null,{"$f":"IFERROR(VLOOKUP(C1914,Teilnehmer!$B$3:$C$1002,2,0),\"\")","v":""},null,{"$f":"IFERROR(VLOOKUP(E1914,Teilnehmer!$B$3:$C$1002,2,0),\"\")","v":""}]
[null,null,null,{"$f":"IFERROR(VLOOKUP(C1915,Teilnehmer!$B$3:$C$1002,2,0),\"\")","v":""},null,{"$f":"IFERROR(VLOOKUP(E1915,Teilnehmer!$B$3:$C$1002,2,0),\"\")","v":""}]
[null,null,null,{"$f":"IFERROR(VLOOKUP(C1916,Teilnehmer!$B$3:$C$1002,2,0),\"\")","v":""},null,{"$f":"IFERROR(VLOOKUP(E1916,Teilnehmer!$B$3:$C$1002,2,0),\"\")","v":""}]
[null,null,null,{"$f":"IFERROR(VLOOKUP(C1917,Teilnehmer!$B$3:$C$1002,2,0),\"\")","v":""},null,{"$f":"IFERROR(VLOOKUP(E1917,Teilnehmer!$B$3:$C$1002,2,0),\"\")","v":""}]
[null,null,null,{"$f":"IFERROR(VLOOKUP(C1918,Teilnehmer!$B$3:$C$1002,2,0),\"\")","v":""},null,{"$f":"IFERROR(VLOOKUP(E1918,Teilnehmer!$B$3:$C$1002,2,0),\"\")","v":""}]
[null,null,null,{"$f":"IFERROR(VLOOKUP(C1919,Teilnehmer!$B$3:$C$1002,2,0),\"\")","v":""},null,{"$f":"IFERROR(VLOOKUP(E1919,Teilnehmer!$B$3:$C$1002,2,0),\"\")","v":""}]
[null,null,null,{"$f":"IFERROR(VLOOKUP(C1920,Teilnehmer!$B$3:$C$1002,2,0),\"\")","v":""},null,{"$f":"IFERROR(VLOOKUP(E1920,Teilnehmer!$B$3:$C$1002,2,0),\"\")","v":""}]
[null,null,null,{"$f":"IFERROR(VLOOKUP(C1921,Teilnehmer!$B$3:$C$1002,2,0),\"\")","v":""},null,{"$f":"IFERROR(VLOOKUP(E1921,Teilnehmer!$B$3:$C$1002,2,0),\"\")","v":""}]
[null,null,null,{"$f":"IFERROR(VLOOKUP(C1922,Teilnehmer!$B$3:$C$1002,2,0),\"\")","v":""},null,{"$f":"IFERROR(VLOOKUP(E1922,Teilnehmer!$B$3:$C$1002,2,0),\"\")","v":""}]
[null,null,null,{"$f":"IFERROR(VLOOKUP(C1923,Teilnehmer!$B$3:$C$1002,2,0),\"\")","v":""},null,{"$f":"IFERROR(VLOOKUP(E1923,Teilnehmer!$B$3:$C$1002,2,0),\"\")","v":""}]
[null,null,null,{"$f":"IFERROR(VLOOKUP(C1924,Teilnehmer!$B$3:$C$1002,2,0),\"\")","v":""},null,{"$f":"IFERROR(VLOOKUP(E1924,Teilnehmer!$B$3:$C$1002,2,0),\"\")","v":""}]
[null,null,null,{"$f":"IFERROR(VLOOKUP(C1925,Teilnehmer!$B$3:$C$1002,2,0),\"\")","v":""},null,{"$f":"IFERROR(VLOOKUP(E1925,Teilnehmer!$B$3:$C$1002,2,0),\"\")","v":""}]
[null,null,null,{"$f":"IFERROR(VLOOKUP(C1926,Teilnehmer!$B$3:$C$1002,2,0),\"\")","v":""},null,{"$f":"IFERROR(VLOOKUP(E1926,Teilnehmer!$B$3:$C$1002,2,0),\"\")","v":""}]
[null,null,null,{"$f":"IFERROR(VLOOKUP(C1927,Teilnehmer!$B$3:$C$1002,2,0),\"\")","v":""},null,{"$f":"IFERROR(VLOOKUP(E1927,Teilnehmer!$B$3:$C$1002,2,0),\"\")","v":""}]
[null,null,null,{"$f":"IFERROR(VLOOKUP(C1928,Teilnehmer!$B$3:$C$1002,2,0),\"\")","v":""},null,{"$f":"IFERROR(VLOOKUP(E1928,Teilnehmer!$B$3:$C$1002,2,0),\"\")","v":""}]
[null,null,null,{"$f":"IFERROR(VLOOKUP(C1929,Teilnehmer!$B$3:$C$1002,2,0),\"\")","v":""},null,{"$f":"IFERROR(VLOOKUP(E1929,Teilnehmer!$B$3:$C$1002,2,0),\"\")","v":""}]
[null,null,null,{"$f":"IFERROR(VLOOKUP(C1930,Teilnehmer!$B$3:$C$1002,2,0),\"\")","v":""},null,{"$f":"IFERROR(VLOOKUP(E1930,Teilnehmer!$B$3:$C$1002,2,0),\"\")","v":""}]
[null,null,null,{"$f":"IFERROR(VLOOKUP(C1931,Teilnehmer!$B$3:$C$1002,2,0),\"\")","v":""},null,{"$f":"IFERROR(VLOOKUP(E1931,Teilnehmer!$B$3:$C$1002,2,0),\"\")","v":""}]
[null,null,null,{"$f":"IFERROR(VLOOKUP(C1932,Teilnehmer!$B$3:$C$1002,2,0),\"\")","v":""},null,{"$f":"IFERROR(VLOOKUP(E1932,Teilnehmer!$B$3:$C$1002,2,0),\"\")","v":""}]
[null,null,null,{"$f":"IFERROR(VLOOKUP(C1933,Teilnehmer!$B$3:$C$1002,2,0),\"\")","v":""},null,{"$f":"IFERROR(VLOOKUP(E1933,Teilnehmer!$B$3:$C$1002,2,0),\"\")","v":""}]
[null,null,null,{"$f":"IFERROR(VLOOKUP(C1934,Teilnehmer!$B$3:$C$1002,2,0),\"\")","v":""},null,{"$f":"IFERROR(VLOOKUP(E1934,Teilnehmer!$B$3:$C$1002,2,0),\"\")","v":""}]
[null,null,null,{"$f":"IFERROR(VLOOKUP(C1935,Teilnehmer!$B$3:$C$1002,2,0),\"\")","v":""},null,{"$f":"IFERROR(VLOOKUP(E1935,Teilnehmer!$B$3:$C$1002,2,0),\"\")","v":""}]
[null,null,null,{"$f":"IFERROR(VLOOKUP(C1936,Teilnehmer!$B$3:$C$1002,2,0),\"\")","v":""},null,{"$f":"IFERROR(VLOOKUP(E1936,Teilnehmer!$B$3:$C$1002,2,0),\"\")","v":""}]
[null,null,null,{"$f":"IFERROR(VLOOKUP(C1937,Teilnehmer!$B$3:$C$1002,2,0),\"\")","v":""},null,{"$f":"IFERROR(VLOOKUP(E1937,Teilnehmer!$B$3:$C$1002,2,0),\"\")","v":""}]
[null,null,null,{"$f":"IFERROR(VLOOKUP(C1938,Teilnehmer!$B$3:$C$1002,2,0),\"\")","v":""},null,{"$f":"IFERROR(VLOOKUP(E1938,Teilnehmer!$B$3:$C$1002,2,0),\"\")","v":""}]
[null,null,null,{"$f":"IFERROR(VLOOKUP(C1939,Teilnehmer!$B$3:$C$1002,2,0),\"\")","v":""},null,{"$f":"IFERROR(VLOOKUP(E1939,Teilnehmer!$B$3:$C$1002,2,0),\"\")","v":""}]
[null,null,null,{"$f":"IFERROR(VLOOKUP(C1940,Teilnehmer!$B$3:$C$1002,2,0),\"\")","v":""},null,{"$f":"IFERROR(VLOOKUP(E1940,Teilnehmer!$B$3:$C$1002,2,0),\"\")","v":""}]
[null,null,null,{"$f":"IFERROR(VLOOKUP(C1941,Teilnehmer!$B$3:$C$1002,2,0),\"\")","v":""},null,{"$f":"IFERROR(VLOOKUP(E1941,Teilnehmer!$B$3:$C$1002,2,0),\"\")","v":""}]
[null,null,null,{"$f":"IFERROR(VLOOKUP(C1942,Teilnehmer!$B$3:$C$1002,2,0),\"\")","v":""},null,{"$f":"IFERROR(VLOOKUP(E1942,Teilnehmer!$B$3:$C$1002,2,0),\"\")","v":""}]
[null,null,null,{"$f":"IFERROR(VLOOKUP(C1943,Teilnehmer!$B$3:$C$1002,2,0),\"\")","v":""},null,{"$f":"IFERROR(VLOOKUP(E1943,Teilnehmer!$B$3:$C$1002,2,0),\"\")","v":""}]
[null,null,null,{"$f":"IFERROR(VLOOKUP(C1944,Teilnehmer!$B$3:$C$1002,2,0),\"\")","v":""},null,{"$f":"IFERROR(VLOOKUP(E1944,Teilnehmer!$B$3:$C$1002,2,0),\"\")","v":""}]
[null,null,null,{"$f":"IFERROR(VLOOKUP(C1945,Teilnehmer!$B$3:$C$1002,2,0),\"\")","v":""},null,{"$f":"IFERROR(VLOOKUP(E1945,Teilnehmer!$B$3:$C$1002,2,0),\"\")","v":""}]
[null,null,null,{"$f":"IFERROR(VLOOKUP(C1946,Teilnehmer!$B$3:$C$1002,2,0),\"\")","v":""},null,{"$f":"IFERROR(VLOOKUP(E1946,Teilnehmer!$B$3:$C$1002,2,0),\"\")","v":""}]
[null,null,null,{"$f":"IFERROR(VLOOKUP(C1947,Teilnehmer!$B$3:$C$1002,2,0),\"\")","v":""},null,{"$f":"IFERROR(VLOOKUP(E1947,Teilnehmer!$B$3:$C$1002,2,0),\"\")","v":""}]
[null,null,null,{"$f":"IFERROR(VLOOKUP(C1948,Teilnehmer!$B$3:$C$1002,2,0),\"\")","v":""},null,{"$f":"IFERROR(VLOOKUP(E1948,Teilnehmer!$B$3:$C$1002,2,0),\"\")","v":""}]
[null,null,null,{"$f":"IFERROR(VLOOKUP(C1949,Teilnehmer!$B$3:$C$1002,2,0),\"\")","v":""},null,{"$f":"IFERROR(VLOOKUP(E1949,Teilnehmer!$B$3:$C$1002,2,0),\"\")","v":""}]
[null,null,null,{"$f":"IFERROR(VLOOKUP(C1950,Teilnehmer!$B$3:$C$1002,2,0),\"\")","v":""},null,{"$f":"IFERROR(VLOOKUP(E1950,Teilnehmer!$B$3:$C$1002,2,0),\"\")","v":""}]
[null,null,null,{"$f":"IFERROR(VLOOKUP(C1951,Teilnehmer!$B$3:$C$1002,2,0),\"\")","v":""},null,{"$f":"IFERROR(VLOOKUP(E1951,Teilnehmer!$B$3:$C$1002,2,0),\"\")","v":""}]
[null,null,null,{"$f":"IFERROR(VLOOKUP(C1952,Teilnehmer!$B$3:$C$1002,2,0),\"\")","v":""},null,{"$f":"IFERROR(VLOOKUP(E1952,Teilnehmer!$B$3:$C$1002,2,0),\"\")","v":""}]
[null,null,null,{"$f":"IFERROR(VLOOKUP(C1953,Teilnehmer!$B$3:$C$1002,2,0),\"\")","v":""},null,{"$f":"IFERROR(VLOOKUP(E1953,Teilnehmer!$B$3:$C$1002,2,0),\"\")","v":""}]
[null,null,null,{"$f":"IFERROR(VLOOKUP(C1954,Teilnehmer!$B$3:$C$1002,2,0),\"\")","v":""},null,{"$f":"IFERROR(VLOOKUP(E1954,Teilnehmer!$B$3:$C$1002,2,0),\"\")","v":""}]
[null,null,null,{"$f":"IFERROR(VLOOKUP(C1955,Teilnehmer!$B$3:$C$1002,2,0),\"\")","v":""},null,{"$f":"IFERROR(VLOOKUP(E1955,Teilnehmer!$B$3:$C$1002,2,0),\"\")","v":""}]
[null,null,null,{"$f":"IFERROR(VLOOKUP(C1956,Teilnehmer!$B$3:$C$1002,2,0),\"\")","v":""},null,{"$f":"IFERROR(VLOOKUP(E1956,Teilnehmer!$B$3:$C$1002,2,0),\"\")","v":""}]
[null,null,null,{"$f":"IFERROR(VLOOKUP(C1957,Teilnehmer!$B$3:$C$1002,2,0),\"\")","v":""},null,{"$f":"IFERROR(VLOOKUP(E1957,Teilnehmer!$B$3:$C$1002,2,0),\"\")","v":""}]
[null,null,null,{"$f":"IFERROR(VLOOKUP(C1958,Teilnehmer!$B$3:$C$1002,2,0),\"\")","v":""},null,{"$f":"IFERROR(VLOOKUP(E1958,Teilnehmer!$B$3:$C$1002,2,0),\"\")","v":""}]
[null,null,null,{"$f":"IFERROR(VLOOKUP(C1959,Teilnehmer!$B$3:$C$1002,2,0),\"\")","v":""},null,{"$f":"IFERROR(VLOOKUP(E1959,Teilnehmer!$B$3:$C$1002,2,0),\"\")","v":""}]
[null,null,null,{"$f":"IFERROR(VLOOKUP(C1960,Teilnehmer!$B$3:$C$1002,2,0),\"\")","v":""},null,{"$f":"IFERROR(VLOOKUP(E1960,Teilnehmer!$B$3:$C$1002,2,0),\"\")","v":""}]
[null,null,null,{"$f":"IFERROR(VLOOKUP(C1961,Teilnehmer!$B$3:$C$1002,2,0),\"\")","v":""},null,{"$f":"IFERROR(VLOOKUP(E1961,Teilnehmer!$B$3:$C$1002,2,0),\"\")","v":""}]
[null,null,null,{"$f":"IFERROR(VLOOKUP(C1962,Teilnehmer!$B$3:$C$1002,2,0),\"\")","v":""},null,{"$f":"IFERROR(VLOOKUP(E1962,Teilnehmer!$B$3:$C$1002,2,0),\"\")","v":""}]
[null,null,null,{"$f":"IFERROR(VLOOKUP(C1963,Teilnehmer!$B$3:$C$1002,2,0),\"\")","v":""},null,{"$f":"IFERROR(VLOOKUP(E1963,Teilnehmer!$B$3:$C$1002,2,0),\"\")","v":""}]
[null,null,null,{"$f":"IFERROR(VLOOKUP(C1964,Teilnehmer!$B$3:$C$1002,2,0),\"\")","v":""},null,{"$f":"IFERROR(VLOOKUP(E1964,Teilnehmer!$B$3:$C$1002,2,0),\"\")","v":""}]
[null,null,null,{"$f":"IFERROR(VLOOKUP(C1965,Teilnehmer!$B$3:$C$1002,2,0),\"\")","v":""},null,{"$f":"IFERROR(VLOOKUP(E1965,Teilnehmer!$B$3:$C$1002,2,0),\"\")","v":""}]
[null,null,null,{"$f":"IFERROR(VLOOKUP(C1966,Teilnehmer!$B$3:$C$1002,2,0),\"\")","v":""},null,{"$f":"IFERROR(VLOOKUP(E1966,Teilnehmer!$B$3:$C$1002,2,0),\"\")","v":""}]
[null,null,null,{"$f":"IFERROR(VLOOKUP(C1967,Teilnehmer!$B$3:$C$1002,2,0),\"\")","v":""},null,{"$f":"IFERROR(VLOOKUP(E1967,Teilnehmer!$B$3:$C$1002,2,0),\"\")","v":""}]
[null,null,null,{"$f":"IFERROR(VLOOKUP(C1968,Teilnehmer!$B$3:$C$1002,2,0),\"\")","v":""},null,{"$f":"IFERROR(VLOOKUP(E1968,Teilnehmer!$B$3:$C$1002,2,0),\"\")","v":""}]
[null,null,null,{"$f":"IFERROR(VLOOKUP(C1969,Teilnehmer!$B$3:$C$1002,2,0),\"\")","v":""},null,{"$f":"IFERROR(VLOOKUP(E1969,Teilnehmer!$B$3:$C$1002,2,0),\"\")","v":""}]
[null,null,null,{"$f":"IFERROR(VLOOKUP(C1970,Teilnehmer!$B$3:$C$1002,2,0),\"\")","v":""},null,{"$f":"IFERROR(VLOOKUP(E1970,Teilnehmer!$B$3:$C$1002,2,0),\"\")","v":""}]
[null,null,null,{"$f":"IFERROR(VLOOKUP(C1971,Teilnehmer!$B$3:$C$1002,2,0),\"\")","v":""},null,{"$f":"IFERROR(VLOOKUP(E1971,Teilnehmer!$B$3:$C$1002,2,0),\"\")","v":""}]
[null,null,null,{"$f":"IFERROR(VLOOKUP(C1972,Teilnehmer!$B$3:$C$1002,2,0),\"\")","v":""},null,{"$f":"IFERROR(VLOOKUP(E1972,Teilnehmer!$B$3:$C$1002,2,0),\"\")","v":""}]
[null,null,null,{"$f":"IFERROR(VLOOKUP(C1973,Teilnehmer!$B$3:$C$1002,2,0),\"\")","v":""},null,{"$f":"IFERROR(VLOOKUP(E1973,Teilnehmer!$B$3:$C$1002,2,0),\"\")","v":""}]
[null,null,null,{"$f":"IFERROR(VLOOKUP(C1974,Teilnehmer!$B$3:$C$1002,2,0),\"\")","v":""},null,{"$f":"IFERROR(VLOOKUP(E1974,Teilnehmer!$B$3:$C$1002,2,0),\"\")","v":""}]
[null,null,null,{"$f":"IFERROR(VLOOKUP(C1975,Teilnehmer!$B$3:$C$1002,2,0),\"\")","v":""},null,{"$f":"IFERROR(VLOOKUP(E1975,Teilnehmer!$B$3:$C$1002,2,0),\"\")","v":""}]
[null,null,null,{"$f":"IFERROR(VLOOKUP(C1976,Teilnehmer!$B$3:$C$1002,2,0),\"\")","v":""},null,{"$f":"IFERROR(VLOOKUP(E1976,Teilnehmer!$B$3:$C$1002,2,0),\"\")","v":""}]
[null,null,null,{"$f":"IFERROR(VLOOKUP(C1977,Teilnehmer!$B$3:$C$1002,2,0),\"\")","v":""},null,{"$f":"IFERROR(VLOOKUP(E1977,Teilnehmer!$B$3:$C$1002,2,0),\"\")","v":""}]
[null,null,null,{"$f":"IFERROR(VLOOKUP(C1978,Teilnehmer!$B$3:$C$1002,2,0),\"\")","v":""},null,{"$f":"IFERROR(VLOOKUP(E1978,Teilnehmer!$B$3:$C$1002,2,0),\"\")","v":""}]
[null,null,null,{"$f":"IFERROR(VLOOKUP(C1979,Teilnehmer!$B$3:$C$1002,2,0),\"\")","v":""},null,{"$f":"IFERROR(VLOOKUP(E1979,Teilnehmer!$B$3:$C$1002,2,0),\"\")","v":""}]
[null,null,null,{"$f":"IFERROR(VLOOKUP(C1980,Teilnehmer!$B$3:$C$1002,2,0),\"\")","v":""},null,{"$f":"IFERROR(VLOOKUP(E1980,Teilnehmer!$B$3:$C$1002,2,0),\"\")","v":""}]
[null,null,null,{"$f":"IFERROR(VLOOKUP(C1981,Teilnehmer!$B$3:$C$1002,2,0),\"\")","v":""},null,{"$f":"IFERROR(VLOOKUP(E1981,Teilnehmer!$B$3:$C$1002,2,0),\"\")","v":""}]
[null,null,null,{"$f":"IFERROR(VLOOKUP(C1982,Teilnehmer!$B$3:$C$1002,2,0),\"\")","v":""},null,{"$f":"IFERROR(VLOOKUP(E1982,Teilnehmer!$B$3:$C$1002,2,0),\"\")","v":""}]
[null,null,null,{"$f":"IFERROR(VLOOKUP(C1983,Teilnehmer!$B$3:$C$1002,2,0),\"\")","v":""},null,{"$f":"IFERROR(VLOOKUP(E1983,Teilnehmer!$B$3:$C$1002,2,0),\"\")","v":""}]
[null,null,null,{"$f":"IFERROR(VLOOKUP(C1984,Teilnehmer!$B$3:$C$1002,2,0),\"\")","v":""},null,{"$f":"IFERROR(VLOOKUP(E1984,Teilnehmer!$B$3:$C$1002,2,0),\"\")","v":""}]
[null,null,null,{"$f":"IFERROR(VLOOKUP(C1985,Teilnehmer!$B$3:$C$1002,2,0),\"\")","v":""},null,{"$f":"IFERROR(VLOOKUP(E1985,Teilnehmer!$B$3:$C$1002,2,0),\"\")","v":""}]
[null,null,null,{"$f":"IFERROR(VLOOKUP(C1986,Teilnehmer!$B$3:$C$1002,2,0),\"\")","v":""},null,{"$f":"IFERROR(VLOOKUP(E1986,Teilnehmer!$B$3:$C$1002,2,0),\"\")","v":""}]
[null,null,null,{"$f":"IFERROR(VLOOKUP(C1987,Teilnehmer!$B$3:$C$1002,2,0),\"\")","v":""},null,{"$f":"IFERROR(VLOOKUP(E1987,Teilnehmer!$B$3:$C$1002,2,0),\"\")","v":""}]
[null,null,null,{"$f":"IFERROR(VLOOKUP(C1988,Teilnehmer!$B$3:$C$1002,2,0),\"\")","v":""},null,{"$f":"IFERROR(VLOOKUP(E1988,Teilnehmer!$B$3:$C$1002,2,0),\"\")","v":""}]
[null,null,null,{"$f":"IFERROR(VLOOKUP(C1989,Teilnehmer!$B$3:$C$1002,2,0),\"\")","v":""},null,{"$f":"IFERROR(VLOOKUP(E1989,Teilnehmer!$B$3:$C$1002,2,0),\"\")","v":""}]
[null,null,null,{"$f":"IFERROR(VLOOKUP(C1990,Teilnehmer!$B$3:$C$1002,2,0),\"\")","v":""},null,{"$f":"IFERROR(VLOOKUP(E1990,Teilnehmer!$B$3:$C$1002,2,0),\"\")","v":""}]
[null,null,null,{"$f":"IFERROR(VLOOKUP(C1991,Teilnehmer!$B$3:$C$1002,2,0),\"\")","v":""},null,{"$f":"IFERROR(VLOOKUP(E1991,Teilnehmer!$B$3:$C$1002,2,0),\"\")","v":""}]
[null,null,null,{"$f":"IFERROR(VLOOKUP(C1992,Teilnehmer!$B$3:$C$1002,2,0),\"\")","v":""},null,{"$f":"IFERROR(VLOOKUP(E1992,Teilnehmer!$B$3:$C$1002,2,0),\"\")","v":""}]
[null,null,null,{"$f":"IFERROR(VLOOKUP(C1993,Teilnehmer!$B$3:$C$1002,2,0),\"\")","v":""},null,{"$f":"IFERROR(VLOOKUP(E1993,Teilnehmer!$B$3:$C$1002,2,0),\"\")","v":""}]
[null,null,null,{"$f":"IFERROR(VLOOKUP(C1994,Teilnehmer!$B$3:$C$1002,2,0),\"\")","v":""},null,{"$f":"IFERROR(VLOOKUP(E1994,Teilnehmer!$B$3:$C$1002,2,0),\"\")","v":""}]
[null,null,null,{"$f":"IFERROR(VLOOKUP(C1995,Teilnehmer!$B$3:$C$1002,2,0),\"\")","v":""},null,{"$f":"IFERROR(VLOOKUP(E1995,Teilnehmer!$B$3:$C$1002,2,0),\"\")","v":""}]
[null,null,null,{"$f":"IFERROR(VLOOKUP(C1996,Teilnehmer!$B$3:$C$1002,2,0),\"\")","v":""},null,{"$f":"IFERROR(VLOOKUP(E1996,Teilnehmer!$B$3:$C$1002,2,0),\"\")","v":""}]
[null,null,null,{"$f":"IFERROR(VLOOKUP(C1997,Teilnehmer!$B$3:$C$1002,2,0),\"\")","v":""},null,{"$f":"IFERROR(VLOOKUP(E1997,Teilnehmer!$B$3:$C$1002,2,0),\"\")","v":""}]
[null,null,null,{"$f":"IFERROR(VLOOKUP(C1998,Teilnehmer!$B$3:$C$1002,2,0),\"\")","v":""},null,{"$f":"IFERROR(VLOOKUP(E1998,Teilnehmer!$B$3:$C$1002,2,0),\"\")","v":""}]
[null,null,null,{"$f":"IFERROR(VLOOKUP(C1999,Teilnehmer!$B$3:$C$1002,2,0),\"\")","v":""},null,{"$f":"IFERROR(VLOOKUP(E1999,Teilnehmer!$B$3:$C$1002,2,0),\"\")","v":""}]
[null,null,null,{"$f":"IFERROR(VLOOKUP(C2000,Teilnehmer!$B$3:$C$1002,2,0),\"\")","v":""},null,{"$f":"IFERROR(VLOOKUP(E2000,Teilnehmer!$B$3:$C$1002,2,0),\"\")","v":""}]
[null,null,null,{"$f":"IFERROR(VLOOKUP(C2001,Teilnehmer!$B$3:$C$1002,2,0),\"\")","v":""},null,{"$f":"IFERROR(VLOOKUP(E2001,Teilnehmer!$B$3:$C$1002,2,0),\"\")","v":""}]
[null,null,null,{"$f":"IFERROR(VLOOKUP(C2002,Teilnehmer!$B$3:$C$1002,2,0),\"\")","v":""},null,{"$f":"IFERROR(VLOOKUP(E2002,Teilnehmer!$B$3:$C$1002,2,0),\"\")","v":""}]
[null,null,null,{"$f":"IFERROR(VLOOKUP(C2003,Teilnehmer!$B$3:$C$1002,2,0),\"\")","v":""},null,{"$f":"IFERROR(VLOOKUP(E2003,Teilnehmer!$B$3:$C$1002,2,0),\"\")","v":""}]
[null,null,null,{"$f":"IFERROR(VLOOKUP(C2004,Teilnehmer!$B$3:$C$1002,2,0),\"\")","v":""},null,{"$f":"IFERROR(VLOOKUP(E2004,Teilnehmer!$B$3:$C$1002,2,0),\"\")","v":""}]
[null,null,null,{"$f":"IFERROR(VLOOKUP(C2005,Teilnehmer!$B$3:$C$1002,2,0),\"\")","v":""},null,{"$f":"IFERROR(VLOOKUP(E2005,Teilnehmer!$B$3:$C$1002,2,0),\"\")","v":""}]
[null,null,null,{"$f":"IFERROR(VLOOKUP(C2006,Teilnehmer!$B$3:$C$1002,2,0),\"\")","v":""},null,{"$f":"IFERROR(VLOOKUP(E2006,Teilnehmer!$B$3:$C$1002,2,0),\"\")","v":""}]

{"sheet":"28.03.2023","index":3,"n_rows":2006,"n_cols":26,"rows_kept":2006,"cut":false,"hidden":false,"merged":[[1,3,1,14],[2,3,2,14],[3,8,5,8],[3,9,5,9],[3,10,5,10],[5,6,5,7]]}
[]
[null,null,null,"FIFA Freundschaftsspiele März 2023"]
[]
[null,null,null,{"$f":"Sprache!$E$12","v":"Altes Datum:"},null,{"$f":"Sprache!$E$13","v":"Neues Datum:"},null,null,{"$f":"Sprache!$E$20","v":"Wichtung"},{"$f":"Sprache!$E$21","v":"Elfmetersch."},{"$f":"Sprache!$E$22","v":"KO-Runde"}]
[null,{"$f":"Sprache!$E$14","v":"Spiele"},null,"2022-12-22","\u009e","2023-03-28",null,null,null,null,null,null,{"$f":"Sprache!$E$15","v":"Neue Rangliste"},null,null,null,null,null,null,null,{"$f":"Sprache!$E$37","v":"Neue Gesamtrangliste"}]
[null,{"$f":"Sprache!$E$16","v":"Datum"},{"$f":"Sprache!$E$17","v":"ID 1"},null,{"$f":"Sprache!$E$18","v":"ID 2"},null,{"$f":"Sprache!$E$19","v":"Ergebnis"},null,null,null,null,null,{"$f":"Sprache!$E$23","v":"Rang"},{"$f":"Sprache!$E$10","v":"Name"},{"$f":"Sprache!$E$32","v":"Verein"},{"$f":"Sprache!$E$33","v":"Punkte"},"+/-",{"$f":"Sprache!$E$35","v":"Spiele"},null,null,{"$f":"Sprache!$E$23","v":"Rang"},{"$f":"Sprache!$E$10","v":"Name"},{"$f":"Sprache!$E$32","v":"Verein"},{"$f":"Sprache!$E$33","v":"Punkte"},"+/-",{"$f":"Sprache!$E$35","v":"Spiele"}]
[null,"2023-03-23","GER",{"$f":"IFERROR(VLOOKUP(C7,Teilnehmer!$B$3:$C$1002,2,0),\"\")","v":"Deutschland"},"MEX",{"$f":"IFERROR(VLOOKUP(E7,Teilnehmer!$B$3:$C$1002,2,0),\"\")","v":"Mexiko"},2,2,10,null,null,null,3,"Frankreich",null,1826.7135737147623,3.466836446899606,1,null,null,1,"Brasilien",null,1840.8182497794046,0,5]
[null,"2023-03-25","FRA",{"$f":"IFERROR(VLOOKUP(C8,Teilnehmer!$B$3:$C$1002,2,0),\"\")","v":"Frankreich"},"SUI",{"$f":"IFERROR(VLOOKUP(E8,Teilnehmer!$B$3:$C$1002,2,0),\"\")","v":"Schweiz"},3,1,10,null,null,null,5,"England",null,1778.4451396723948,4.3038309998707973,1,null,null,2,"Argentinien",null,1837.7343303226655,0,7]
[null,"2023-03-26","ENG",{"$f":"IFERROR(VLOOKUP(C9,Teilnehmer!$B$3:$C$1002,2,0),\"\")","v":"England"},"POR",{"$f":"IFERROR(VLOOKUP(E9,Teilnehmer!$B$3:$C$1002,2,0),\"\")","v":"Portugal"},2,0,10,null,null,null,8,"Portugal",null,1696.800883742741,-4.3038309998707973,1,null,null,3,"Frankreich",null,1826.7135737147623,3.466836446899606,8]
[null,null,null,{"$f":"IFERROR(VLOOKUP(C10,Teilnehmer!$B$3:$C$1002,2,0),\"\")","v":""},null,{"$f":"IFERROR(VLOOKUP(E10,Teilnehmer!$B$3:$C$1002,2,0),\"\")","v":""},null,null,null,null,null,null,11,"Schweiz",null,1654.665794669274,-3.466836446899606,1,null,null,4,"Belgien",null,1784.5833793496768,0,3]
[null,null,null,{"$f":"IFERROR(VLOOKUP(C11,Teilnehmer!$B$3:$C$1002,2,0),\"\")","v":""},null,{"$f":"IFERROR(VLOOKUP(E11,Teilnehmer!$B$3:$C$1002,2,0),\"\")","v":""},null,null,null,null,null,null,13,"Deutschland",null,1645.8922305255576,-8.4444183693449304E-2,1,null,null,5,"England",null,1778.4451396723948,4.3038309998707973,6]
[null,null,null,{"$f":"IFERROR(VLOOKUP(C12,Teilnehmer!$B$3:$C$1002,2,0),\"\")","v":""},null,{"$f":"IFERROR(VLOOKUP(E12,Teilnehmer!$B$3:$C$1002,2,0),\"\")","v":""},null,null,null,null,null,null,14,"Mexiko",null,1637.258607585957,8.4444183693449304E-2,1,null,null,6,"Niederlande",null,1740.6487785894392,0,5]
[null,null,null,{"$f":"IFERROR(VLOOKUP(C13,Teilnehmer!$B$3:$C$1002,2,0),\"\")","v":""},null,{"$f":"IFERROR(VLOOKUP(E13,Teilnehmer!$B$3:$C$1002,2,0),\"\")","v":""},null,null,null,null,null,null,null,null,null,null,null,null,null,null,7,"Kroatien",null,1726.5261155167407,0,7]
[null,null,null,{"$f":"IFERROR(VLOOKUP(C14,Teilnehmer!$B$3:$C$1002,2,0),\"\")","v":""},null,{"$f":"IFERROR(VLOOKUP(E14,Teilnehmer!$B$3:$C$1002,2,0),\"\")","v":""},null,null,null,null,null,null,null,null,null,null,null,null,null,null,8,"Portugal",null,1696.800883742741,-4.3038309998707973,6]
[null,null,null,{"$f":"IFERROR(VLOOKUP(C15,Teilnehmer!$B$3:$C$1002,2,0),\"\")","v":""},null,{"$f":"IFERROR(VLOOKUP(E15,Teilnehmer!$B$3:$C$1002,2,0),\"\")","v":""},null,null,null,null,null,null,null,null,null,null,null,null,null,null,9,"Spanien",null,1692.6875513100958,0,4]
[null,null,null,{"$f":"IFERROR(VLOOKUP(C16,Teilnehmer!$B$3:$C$1002,2,0),\"\")","v":""},null,{"$f":"IFERROR(VLOOKUP(E16,Teilnehmer!$B$3:$C$1002,2,0),\"\")","v":""},null,null,null,null,null,null,null,null,null,null,null,null,null,null,10,"Marokko",null,1671.1804237792071,0,7]
[null,null,null,{"$f":"IFERROR(VLOOKUP(C17,Teilnehmer!$B$3:$C$1002,2,0),\"\")","v":""},null,{"$f":"IFERROR(VLOOKUP(E17,Teilnehmer!$B$3:$C$1002,2,0),\"\")","v":""},null,null,null,null,null,null,null,null,null,null,null,null,null,null,11,"Schweiz",null,1654.665794669274,-3.466836446899606,5]
[null,null,null,{"$f":"IFERROR(VLOOKUP(C18,Teilnehmer!$B$3:$C$1002,2,0),\"\")","v":""},null,{"$f":"IFERROR(VLOOKUP(E18,Teilnehmer!$B$3:$C$1002,2,0),\"\")","v":""},null,null,null,null,null,null,null,null,null,null,null,null,null,null,12,"USA",null,1652.7103236326968,0,4]
[null,null,null,{"$f":"IFERROR(VLOOKUP(C19,Teilnehmer!$B$3:$C$1002,2,0),\"\")","v":""},null,{"$f":"IFERROR(VLOOKUP(E19,Teilnehmer!$B$3:$C$1002,2,0),\"\")","v":""},null,null,null,null,null,null,null,null,null,null,null,null,null,null,13,"Deutschland",null,1645.8922305255576,-8.4444183693449304E-2,4]
[null,null,null,{"$f":"IFERROR(VLOOKUP(C20,Teilnehmer!$B$3:$C$1002,2,0),\"\")","v":""},null,{"$f":"IFERROR(VLOOKUP(E20,Teilnehmer!$B$3:$C$1002,2,0),\"\")","v":""},null,null,null,null,null,null,null,null,null,null,null,null,null,null,14,"Mexiko",null,1637.258607585957,8.4444183693449304E-2,4]
[null,null,null,{"$f":"IFERROR(VLOOKUP(C21,Teilnehmer!$B$3:$C$1002,2,0),\"\")","v":""},null,{"$f":"IFERROR(VLOOKUP(E21,Teilnehmer!$B$3:$C$1002,2,0),\"\")","v":""},null,null,null,null,null,null,null,null,null,null,null,null,null,null,15,"Uruguay",null,1627.1475472750744,0,3]
[null,null,null,{"$f":"IFERROR(VLOOKUP(C22,Teilnehmer!$B$3:$C$1002,2,0),\"\")","v":""},null,{"$f":"IFERROR(VLOOKUP(E22,Teilnehmer!$B$3:$C$1002,2,0),\"\")","v":""},null,null,null,null,null,null,null,null,null,null,null,null,null,null,16,"Dänemark",null,1608.113005179637,0,3]
[null,null,null,{"$f":"IFERROR(VLOOKUP(C23,Teilnehmer!$B$3:$C$1002,2,0),\"\")","v":""},null,{"$f":"IFERROR(VLOOKUP(E23,Teilnehmer!$B$3:$C$1002,2,0),\"\")","v":""},null,null,null,null,null,null,null,null,null,null,null,null,null,null,17,"Senegal",null,1603.6426538698399,0,4]
[null,null,null,{"$f":"IFERROR(VLOOKUP(C24,Teilnehmer!$B$3:$C$1002,2,0),\"\")","v":""},null,{"$f":"IFERROR(VLOOKUP(E24,Teilnehmer!$B$3:$C$1002,2,0),\"\")","v":""},null,null,null,null,null,null,null,null,null,null,null,null,null,null,18,"Japan",null,1595.2735498829391,0,4]
[null,null,null,{"$f":"IFERROR(VLOOKUP(C25,Teilnehmer!$B$3:$C$1002,2,0),\"\")","v":""},null,{"$f":"IFERROR(VLOOKUP(E25,Teilnehmer!$B$3:$C$1002,2,0),\"\")","v":""},null,null,null,null,null,null,null,null,null,null,null,null,null,null,19,"Polen",null,1557.8649270928411,0,4]
[null,null,null,{"$f":"IFERROR(VLOOKUP(C26,Teilnehmer!$B$3:$C$1002,2,0),\"\")","v":""},null,{"$f":"IFERROR(VLOOKUP(E26,Teilnehmer!$B$3:$C$1002,2,0),\"\")","v":""},null,null,null,null,null,null,null,null,null,null,null,null,null,null,20,"IR Iran",null,1551.1598670925353,0,3]
[null,null,null,{"$f":"IFERROR(VLOOKUP(C27,Teilnehmer!$B$3:$C$1002,2,0),\"\")","v":""},null,{"$f":"IFERROR(VLOOKUP(E27,Teilnehmer!$B$3:$C$1002,2,0),\"\")","v":""},null,null,null,null,null,null,null,null,null,null,null,null,null,null,21,"Korea Republik",null,1537.6940853063384,0,4]
[null,null,null,{"$f":"IFERROR(VLOOKUP(C28,Teilnehmer!$B$3:$C$1002,2,0),\"\")","v":""},null,{"$f":"IFERROR(VLOOKUP(E28,Teilnehmer!$B$3:$C$1002,2,0),\"\")","v":""},null,null,null,null,null,null,null,null,null,null,null,null,null,null,22,"Australien",null,1533.9695399163395,0,4]
[null,null,null,{"$f":"IFERROR(VLOOKUP(C29,Teilnehmer!$B$3:$C$1002,2,0),\"\")","v":""},null,{"$f":"IFERROR(VLOOKUP(E29,Teilnehmer!$B$3:$C$1002,2,0),\"\")","v":""},null,null,null,null,null,null,null,null,null,null,null,null,null,null,23,"Wales",null,1530.249706846158,0,3]
[null,null,null,{"$f":"IFERROR(VLOOKUP(C30,Teilnehmer!$B$3:$C$1002,2,0),\"\")","v":""},null,{"$f":"IFERROR(VLOOKUP(E30,Teilnehmer!$B$3:$C$1002,2,0),\"\")","v":""},null,null,null,null,null,null,null,null,null,null,null,null,null,null,24,"Tunesien",null,1526.2009853978452,0,3]
[null,null,null,{"$f":"IFERROR(VLOOKUP(C31,Teilnehmer!$B$3:$C$1002,2,0),\"\")","v":""},null,{"$f":"IFERROR(VLOOKUP(E31,Teilnehmer!$B$3:$C$1002,2,0),\"\")","v":""},null,null,null,null,null,null,null,null,null,null,null,null,null,null,25,"Serbien",null,1525.5535582737702,0,3]
[null,null,null,{"$f":"IFERROR(VLOOKUP(C32,Teilnehmer!$B$3:$C$1002,2,0),\"\")","v":""},null,{"$f":"IFERROR(VLOOKUP(E32,Teilnehmer!$B$3:$C$1002,2,0),\"\")","v":""},null,null,null,null,null,null,null,null,null,null,null,null,null,null,26,"Kamerun",null,1500.1138938162321,0,3]
[null,null,null,{"$f":"IFERROR(VLOOKUP(C33,Teilnehmer!$B$3:$C$1002,2,0),\"\")","v":""},null,{"$f":"IFERROR(VLOOKUP(E33,Teilnehmer!$B$3:$C$1002,2,0),\"\")","v":""},null,null,null,null,null,null,null,null,null,null,null,null,null,null,27,"Costa Rica",null,1498.0991626264918,0,3]
[null,null,null,{"$f":"IFERROR(VLOOKUP(C34,Teilnehmer!$B$3:$C$1002,2,0),\"\")","v":""},null,{"$f":"IFERROR(VLOOKUP(E34,Teilnehmer!$B$3:$C$1002,2,0),\"\")","v":""},null,null,null,null,null,null,null,null,null,null,null,null,null,null,28,"Ecuador",null,1477.4336325277422,0,3]
[null,null,null,{"$f":"IFERROR(VLOOKUP(C35,Teilnehmer!$B$3:$C$1002,2,0),\"\")","v":""},null,{"$f":"IFERROR(VLOOKUP(E35,Teilnehmer!$B$3:$C$1002,2,0),\"\")","v":""},null,null,null,null,null,null,null,null,null,null,null,null,null,null,29,"Saudi-Arabien",null,1438.2395693909043,0,3]
[null,null,null,{"$f":"IFERROR(VLOOKUP(C36,Teilnehmer!$B$3:$C$1002,2,0),\"\")","v":""},null,{"$f":"IFERROR(VLOOKUP(E36,Teilnehmer!$B$3:$C$1002,2,0),\"\")","v":""},null,null,null,null,null,null,null,null,null,null,null,null,null,null,30,"Kanada",null,1429.863744647593,0,3]
[null,null,null,{"$f":"IFERROR(VLOOKUP(C37,Teilnehmer!$B$3:$C$1002,2,0),\"\")","v":""},null,{"$f":"IFERROR(VLOOKUP(E37,Teilnehmer!$B$3:$C$1002,2,0),\"\")","v":""},null,null,null,null,null,null,null,null,null,null,null,null,null,null,31,"Ghana",null,1396.718497492644,0,3]
[null,null,null,{"$f":"IFERROR(VLOOKUP(C38,Teilnehmer!$B$3:$C$1002,2,0),\"\")","v":""},null,{"$f":"IFERROR(VLOOKUP(E38,Teilnehmer!$B$3:$C$1002,2,0),\"\")","v":""},null,null,null,null,null,null,null,null,null,null,null,null,null,null,32,"Katar",null,1386.2015665539955,0,3]
[null,null,null,{"$f":"IFERROR(VLOOKUP(C39,Teilnehmer!$B$3:$C$1002,2,0),\"\")","v":""},null,{"$f":"IFERROR(VLOOKUP(E39,Teilnehmer!$B$3:$C$1002,2,0),\"\")","v":""}]
[null,null,null,{"$f":"IFERROR(VLOOKUP(C40,Teilnehmer!$B$3:$C$1002,2,0),\"\")","v":""},null,{"$f":"IFERROR(VLOOKUP(E40,Teilnehmer!$B$3:$C$1002,2,0),\"\")","v":""}]
[null,null,null,{"$f":"IFERROR(VLOOKUP(C41,Teilnehmer!$B$3:$C$1002,2,0),\"\")","v":""},null,{"$f":"IFERROR(VLOOKUP(E41,Teilnehmer!$B$3:$C$1002,2,0),\"\")","v":""}]
[null,null,null,{"$f":"IFERROR(VLOOKUP(C42,Teilnehmer!$B$3:$C$1002,2,0),\"\")","v":""},null,{"$f":"IFERROR(VLOOKUP(E42,Teilnehmer!$B$3:$C$1002,2,0),\"\")","v":""}]
[null,null,null,{"$f":"IFERROR(VLOOKUP(C43,Teilnehmer!$B$3:$C$1002,2,0),\"\")","v":""},null,{"$f":"IFERROR(VLOOKUP(E43,Teilnehmer!$B$3:$C$1002,2,0),\"\")","v":""}]
[null,null,null,{"$f":"IFERROR(VLOOKUP(C44,Teilnehmer!$B$3:$C$1002,2,0),\"\")","v":""},null,{"$f":"IFERROR(VLOOKUP(E44,Teilnehmer!$B$3:$C$1002,2,0),\"\")","v":""}]
[null,null,null,{"$f":"IFERROR(VLOOKUP(C45,Teilnehmer!$B$3:$C$1002,2,0),\"\")","v":""},null,{"$f":"IFERROR(VLOOKUP(E45,Teilnehmer!$B$3:$C$1002,2,0),\"\")","v":""}]
[null,null,null,{"$f":"IFERROR(VLOOKUP(C46,Teilnehmer!$B$3:$C$1002,2,0),\"\")","v":""},null,{"$f":"IFERROR(VLOOKUP(E46,Teilnehmer!$B$3:$C$1002,2,0),\"\")","v":""}]
[null,null,null,{"$f":"IFERROR(VLOOKUP(C47,Teilnehmer!$B$3:$C$1002,2,0),\"\")","v":""},null,{"$f":"IFERROR(VLOOKUP(E47,Teilnehmer!$B$3:$C$1002,2,0),\"\")","v":""}]
[null,null,null,{"$f":"IFERROR(VLOOKUP(C48,Teilnehmer!$B$3:$C$1002,2,0),\"\")","v":""},null,{"$f":"IFERROR(VLOOKUP(E48,Teilnehmer!$B$3:$C$1002,2,0),\"\")","v":""}]
[null,null,null,{"$f":"IFERROR(VLOOKUP(C49,Teilnehmer!$B$3:$C$1002,2,0),\"\")","v":""},null,{"$f":"IFERROR(VLOOKUP(E49,Teilnehmer!$B$3:$C$1002,2,0),\"\")","v":""}]
[null,null,null,{"$f":"IFERROR(VLOOKUP(C50,Teilnehmer!$B$3:$C$1002,2,0),\"\")","v":""},null,{"$f":"IFERROR(VLOOKUP(E50,Teilnehmer!$B$3:$C$1002,2,0),\"\")","v":""}]
[null,null,null,{"$f":"IFERROR(VLOOKUP(C51,Teilnehmer!$B$3:$C$1002,2,0),\"\")","v":""},null,{"$f":"IFERROR(VLOOKUP(E51,Teilnehmer!$B$3:$C$1002,2,0),\"\")","v":""}]
[null,null,null,{"$f":"IFERROR(VLOOKUP(C52,Teilnehmer!$B$3:$C$1002,2,0),\"\")","v":""},null,{"$f":"IFERROR(VLOOKUP(E52,Teilnehmer!$B$3:$C$1002,2,0),\"\")","v":""}]
[null,null,null,{"$f":"IFERROR(VLOOKUP(C53,Teilnehmer!$B$3:$C$1002,2,0),\"\")","v":""},null,{"$f":"IFERROR(VLOOKUP(E53,Teilnehmer!$B$3:$C$1002,2,0),\"\")","v":""}]
[null,null,null,{"$f":"IFERROR(VLOOKUP(C54,Teilnehmer!$B$3:$C$1002,2,0),\"\")","v":""},null,{"$f":"IFERROR(VLOOKUP(E54,Teilnehmer!$B$3:$C$1002,2,0),\"\")","v":""}]
[null,null,null,{"$f":"IFERROR(VLOOKUP(C55,Teilnehmer!$B$3:$C$1002,2,0),\"\")","v":""},null,{"$f":"IFERROR(VLOOKUP(E55,Teilnehmer!$B$3:$C$1002,2,0),\"\")","v":""}]
[null,null,null,{"$f":"IFERROR(VLOOKUP(C56,Teilnehmer!$B$3:$C$1002,2,0),\"\")","v":""},null,{"$f":"IFERROR(VLOOKUP(E56,Teilnehmer!$B$3:$C$1002,2,0),\"\")","v":""}]
[null,null,null,{"$f":"IFERROR(VLOOKUP(C57,Teilnehmer!$B$3:$C$1002,2,0),\"\")","v":""},null,{"$f":"IFERROR(VLOOKUP(E57,Teilnehmer!$B$3:$C$1002,2,0),\"\")","v":""}]
[null,null,null,{"$f":"IFERROR(VLOOKUP(C58,Teilnehmer!$B$3:$C$1002,2,0),\"\")","v":""},null,{"$f":"IFERROR(VLOOKUP(E58,Teilnehmer!$B$3:$C$1002,2,0),\"\")","v":""}]
[null,null,null,{"$f":"IFERROR(VLOOKUP(C59,Teilnehmer!$B$3:$C$1002,2,0),\"\")","v":""},null,{"$f":"IFERROR(VLOOKUP(E59,Teilnehmer!$B$3:$C$1002,2,0),\"\")","v":""}]
[null,null,null,{"$f":"IFERROR(VLOOKUP(C60,Teilnehmer!$B$3:$C$1002,2,0),\"\")","v":""},null,{"$f":"IFERROR(VLOOKUP(E60,Teilnehmer!$B$3:$C$1002,2,0),\"\")","v":""}]
[null,null,null,{"$f":"IFERROR(VLOOKUP(C61,Teilnehmer!$B$3:$C$1002,2,0),\"\")","v":""},null,{"$f":"IFERROR(VLOOKUP(E61,Teilnehmer!$B$3:$C$1002,2,0),\"\")","v":""}]
[null,null,null,{"$f":"IFERROR(VLOOKUP(C62,Teilnehmer!$B$3:$C$1002,2,0),\"\")","v":""},null,{"$f":"IFERROR(VLOOKUP(E62,Teilnehmer!$B$3:$C$1002,2,0),\"\")","v":""}]
[null,null,null,{"$f":"IFERROR(VLOOKUP(C63,Teilnehmer!$B$3:$C$1002,2,0),\"\")","v":""},null,{"$f":"IFERROR(VLOOKUP(E63,Teilnehmer!$B$3:$C$1002,2,0),\"\")","v":""}]
[null,null,null,{"$f":"IFERROR(VLOOKUP(C64,Teilnehmer!$B$3:$C$1002,2,0),\"\")","v":""},null,{"$f":"IFERROR(VLOOKUP(E64,Teilnehmer!$B$3:$C$1002,2,0),\"\")","v":""}]
[null,null,null,{"$f":"IFERROR(VLOOKUP(C65,Teilnehmer!$B$3:$C$1002,2,0),\"\")","v":""},null,{"$f":"IFERROR(VLOOKUP(E65,Teilnehmer!$B$3:$C$1002,2,0),\"\")","v":""}]
[null,null,null,{"$f":"IFERROR(VLOOKUP(C66,Teilnehmer!$B$3:$C$1002,2,0),\"\")","v":""},null,{"$f":"IFERROR(VLOOKUP(E66,Teilnehmer!$B$3:$C$1002,2,0),\"\")","v":""}]
[null,null,null,{"$f":"IFERROR(VLOOKUP(C67,Teilnehmer!$B$3:$C$1002,2,0),\"\")","v":""},null,{"$f":"IFERROR(VLOOKUP(E67,Teilnehmer!$B$3:$C$1002,2,0),\"\")","v":""}]
[null,null,null,{"$f":"IFERROR(VLOOKUP(C68,Teilnehmer!$B$3:$C$1002,2,0),\"\")","v":""},null,{"$f":"IFERROR(VLOOKUP(E68,Teilnehmer!$B$3:$C$1002,2,0),\"\")","v":""}]
[null,null,null,{"$f":"IFERROR(VLOOKUP(C69,Teilnehmer!$B$3:$C$1002,2,0),\"\")","v":""},null,{"$f":"IFERROR(VLOOKUP(E69,Teilnehmer!$B$3:$C$1002,2,0),\"\")","v":""}]
[null,null,null,{"$f":"IFERROR(VLOOKUP(C70,Teilnehmer!$B$3:$C$1002,2,0),\"\")","v":""},null,{"$f":"IFERROR(VLOOKUP(E70,Teilnehmer!$B$3:$C$1002,2,0),\"\")","v":""}]
[null,null,null,{"$f":"IFERROR(VLOOKUP(C71,Teilnehmer!$B$3:$C$1002,2,0),\"\")","v":""},null,{"$f":"IFERROR(VLOOKUP(E71,Teilnehmer!$B$3:$C$1002,2,0),\"\")","v":""}]
[null,null,null,{"$f":"IFERROR(VLOOKUP(C72,Teilnehmer!$B$3:$C$1002,2,0),\"\")","v":""},null,{"$f":"IFERROR(VLOOKUP(E72,Teilnehmer!$B$3:$C$1002,2,0),\"\")","v":""}]
[null,null,null,{"$f":"IFERROR(VLOOKUP(C73,Teilnehmer!$B$3:$C$1002,2,0),\"\")","v":""},null,{"$f":"IFERROR(VLOOKUP(E73,Teilnehmer!$B$3:$C$1002,2,0),\"\")","v":""}]
[null,null,null,{"$f":"IFERROR(VLOOKUP(C74,Teilnehmer!$B$3:$C$1002,2,0),\"\")","v":""},null,{"$f":"IFERROR(VLOOKUP(E74,Teilnehmer!$B$3:$C$1002,2,0),\"\")","v":""}]
[null,null,null,{"$f":"IFERROR(VLOOKUP(C75,Teilnehmer!$B$3:$C$1002,2,0),\"\")","v":""},null,{"$f":"IFERROR(VLOOKUP(E75,Teilnehmer!$B$3:$C$1002,2,0),\"\")","v":""}]
[null,null,null,{"$f":"IFERROR(VLOOKUP(C76,Teilnehmer!$B$3:$C$1002,2,0),\"\")","v":""},null,{"$f":"IFERROR(VLOOKUP(E76,Teilnehmer!$B$3:$C$1002,2,0),\"\")","v":""}]
[null,null,null,{"$f":"IFERROR(VLOOKUP(C77,Teilnehmer!$B$3:$C$1002,2,0),\"\")","v":""},null,{"$f":"IFERROR(VLOOKUP(E77,Teilnehmer!$B$3:$C$1002,2,0),\"\")","v":""}]
[null,null,null,{"$f":"IFERROR(VLOOKUP(C78,Teilnehmer!$B$3:$C$1002,2,0),\"\")","v":""},null,{"$f":"IFERROR(VLOOKUP(E78,Teilnehmer!$B$3:$C$1002,2,0),\"\")","v":""}]
[null,null,null,{"$f":"IFERROR(VLOOKUP(C79,Teilnehmer!$B$3:$C$1002,2,0),\"\")","v":""},null,{"$f":"IFERROR(VLOOKUP(E79,Teilnehmer!$B$3:$C$1002,2,0),\"\")","v":""}]
[null,null,null,{"$f":"IFERROR(VLOOKUP(C80,Teilnehmer!$B$3:$C$1002,2,0),\"\")","v":""},null,{"$f":"IFERROR(VLOOKUP(E80,Teilnehmer!$B$3:$C$1002,2,0),\"\")","v":""}]
[null,null,null,{"$f":"IFERROR(VLOOKUP(C81,Teilnehmer!$B$3:$C$1002,2,0),\"\")","v":""},null,{"$f":"IFERROR(VLOOKUP(E81,Teilnehmer!$B$3:$C$1002,2,0),\"\")","v":""}]
[null,null,null,{"$f":"IFERROR(VLOOKUP(C82,Teilnehmer!$B$3:$C$1002,2,0),\"\")","v":""},null,{"$f":"IFERROR(VLOOKUP(E82,Teilnehmer!$B$3:$C$1002,2,0),\"\")","v":""}]
[null,null,null,{"$f":"IFERROR(VLOOKUP(C83,Teilnehmer!$B$3:$C$1002,2,0),\"\")","v":""},null,{"$f":"IFERROR(VLOOKUP(E83,Teilnehmer!$B$3:$C$1002,2,0),\"\")","v":""}]
[null,null,null,{"$f":"IFERROR(VLOOKUP(C84,Teilnehmer!$B$3:$C$1002,2,0),\"\")","v":""},null,{"$f":"IFERROR(VLOOKUP(E84,Teilnehmer!$B$3:$C$1002,2,0),\"\")","v":""}]
[null,null,null,{"$f":"IFERROR(VLOOKUP(C85,Teilnehmer!$B$3:$C$1002,2,0),\"\")","v":""},null,{"$f":"IFERROR(VLOOKUP(E85,Teilnehmer!$B$3:$C$1002,2,0),\"\")","v":""}]
[null,null,null,{"$f":"IFERROR(VLOOKUP(C86,Teilnehmer!$B$3:$C$1002,2,0),\"\")","v":""},null,{"$f":"IFERROR(VLOOKUP(E86,Teilnehmer!$B$3:$C$1002,2,0),\"\")","v":""}]
[null,null,null,{"$f":"IFERROR(VLOOKUP(C87,Teilnehmer!$B$3:$C$1002,2,0),\"\")","v":""},null,{"$f":"IFERROR(VLOOKUP(E87,Teilnehmer!$B$3:$C$1002,2,0),\"\")","v":""}]
[null,null,null,{"$f":"IFERROR(VLOOKUP(C88,Teilnehmer!$B$3:$C$1002,2,0),\"\")","v":""},null,{"$f":"IFERROR(VLOOKUP(E88,Teilnehmer!$B$3:$C$1002,2,0),\"\")","v":""}]
[null,null,null,{"$f":"IFERROR(VLOOKUP(C89,Teilnehmer!$B$3:$C$1002,2,0),\"\")","v":""},null,{"$f":"IFERROR(VLOOKUP(E89,Teilnehmer!$B$3:$C$1002,2,0),\"\")","v":""}]
[null,null,null,{"$f":"IFERROR(VLOOKUP(C90,Teilnehmer!$B$3:$C$1002,2,0),\"\")","v":""},null,{"$f":"IFERROR(VLOOKUP(E90,Teilnehmer!$B$3:$C$1002,2,0),\"\")","v":""}]
[null,null,null,{"$f":"IFERROR(VLOOKUP(C91,Teilnehmer!$B$3:$C$1002,2,0),\"\")","v":""},null,{"$f":"IFERROR(VLOOKUP(E91,Teilnehmer!$B$3:$C$1002,2,0),\"\")","v":""}]
[null,null,null,{"$f":"IFERROR(VLOOKUP(C92,Teilnehmer!$B$3:$C$1002,2,0),\"\")","v":""},null,{"$f":"IFERROR(VLOOKUP(E92,Teilnehmer!$B$3:$C$1002,2,0),\"\")","v":""}]
[null,null,null,{"$f":"IFERROR(VLOOKUP(C93,Teilnehmer!$B$3:$C$1002,2,0),\"\")","v":""},null,{"$f":"IFERROR(VLOOKUP(E93,Teilnehmer!$B$3:$C$1002,2,0),\"\")","v":""}]
[null,null,null,{"$f":"IFERROR(VLOOKUP(C94,Teilnehmer!$B$3:$C$1002,2,0),\"\")","v":""},null,{"$f":"IFERROR(VLOOKUP(E94,Teilnehmer!$B$3:$C$1002,2,0),\"\")","v":""}]
[null,null,null,{"$f":"IFERROR(VLOOKUP(C95,Teilnehmer!$B$3:$C$1002,2,0),\"\")","v":""},null,{"$f":"IFERROR(VLOOKUP(E95,Teilnehmer!$B$3:$C$1002,2,0),\"\")","v":""}]
[null,null,null,{"$f":"IFERROR(VLOOKUP(C96,Teilnehmer!$B$3:$C$1002,2,0),\"\")","v":""},null,{"$f":"IFERROR(VLOOKUP(E96,Teilnehmer!$B$3:$C$1002,2,0),\"\")","v":""}]
[null,null,null,{"$f":"IFERROR(VLOOKUP(C97,Teilnehmer!$B$3:$C$1002,2,0),\"\")","v":""},null,{"$f":"IFERROR(VLOOKUP(E97,Teilnehmer!$B$3:$C$1002,2,0),\"\")","v":""}]
[null,null,null,{"$f":"IFERROR(VLOOKUP(C98,Teilnehmer!$B$3:$C$1002,2,0),\"\")","v":""},null,{"$f":"IFERROR(VLOOKUP(E98,Teilnehmer!$B$3:$C$1002,2,0),\"\")","v":""}]
[null,null,null,{"$f":"IFERROR(VLOOKUP(C99,Teilnehmer!$B$3:$C$1002,2,0),\"\")","v":""},null,{"$f":"IFERROR(VLOOKUP(E99,Teilnehmer!$B$3:$C$1002,2,0),\"\")","v":""}]
[null,null,null,{"$f":"IFERROR(VLOOKUP(C100,Teilnehmer!$B$3:$C$1002,2,0),\"\")","v":""},null,{"$f":"IFERROR(VLOOKUP(E100,Teilnehmer!$B$3:$C$1002,2,0),\"\")","v":""}]
[null,null,null,{"$f":"IFERROR(VLOOKUP(C101,Teilnehmer!$B$3:$C$1002,2,0),\"\")","v":""},null,{"$f":"IFERROR(VLOOKUP(E101,Teilnehmer!$B$3:$C$1002,2,0),\"\")","v":""}]
[null,null,null,{"$f":"IFERROR(VLOOKUP(C102,Teilnehmer!$B$3:$C$1002,2,0),\"\")","v":""},null,{"$f":"IFERROR(VLOOKUP(E102,Teilnehmer!$B$3:$C$1002,2,0),\"\")","v":""}]
[null,null,null,{"$f":"IFERROR(VLOOKUP(C103,Teilnehmer!$B$3:$C$1002,2,0),\"\")","v":""},null,{"$f":"IFERROR(VLOOKUP(E103,Teilnehmer!$B$3:$C$1002,2,0),\"\")","v":""}]
[null,null,null,{"$f":"IFERROR(VLOOKUP(C104,Teilnehmer!$B$3:$C$1002,2,0),\"\")","v":""},null,{"$f":"IFERROR(VLOOKUP(E104,Teilnehmer!$B$3:$C$1002,2,0),\"\")","v":""}]
[null,null,null,{"$f":"IFERROR(VLOOKUP(C105,Teilnehmer!$B$3:$C$1002,2,0),\"\")","v":""},null,{"$f":"IFERROR(VLOOKUP(E105,Teilnehmer!$B$3:$C$1002,2,0),\"\")","v":""}]
[null,null,null,{"$f":"IFERROR(VLOOKUP(C106,Teilnehmer!$B$3:$C$1002,2,0),\"\")","v":""},null,{"$f":"IFERROR(VLOOKUP(E106,Teilnehmer!$B$3:$C$1002,2,0),\"\")","v":""}]
[null,null,null,{"$f":"IFERROR(VLOOKUP(C107,Teilnehmer!$B$3:$C$1002,2,0),\"\")","v":""},null,{"$f":"IFERROR(VLOOKUP(E107,Teilnehmer!$B$3:$C$1002,2,0),\"\")","v":""}]
[null,null,null,{"$f":"IFERROR(VLOOKUP(C108,Teilnehmer!$B$3:$C$1002,2,0),\"\")","v":""},null,{"$f":"IFERROR(VLOOKUP(E108,Teilnehmer!$B$3:$C$1002,2,0),\"\")","v":""}]
[null,null,null,{"$f":"IFERROR(VLOOKUP(C109,Teilnehmer!$B$3:$C$1002,2,0),\"\")","v":""},null,{"$f":"IFERROR(VLOOKUP(E109,Teilnehmer!$B$3:$C$1002,2,0),\"\")","v":""}]
[null,null,null,{"$f":"IFERROR(VLOOKUP(C110,Teilnehmer!$B$3:$C$1002,2,0),\"\")","v":""},null,{"$f":"IFERROR(VLOOKUP(E110,Teilnehmer!$B$3:$C$1002,2,0),\"\")","v":""}]
[null,null,null,{"$f":"IFERROR(VLOOKUP(C111,Teilnehmer!$B$3:$C$1002,2,0),\"\")","v":""},null,{"$f":"IFERROR(VLOOKUP(E111,Teilnehmer!$B$3:$C$1002,2,0),\"\")","v":""}]
[null,null,null,{"$f":"IFERROR(VLOOKUP(C112,Teilnehmer!$B$3:$C$1002,2,0),\"\")","v":""},null,{"$f":"IFERROR(VLOOKUP(E112,Teilnehmer!$B$3:$C$1002,2,0),\"\")","v":""}]
[null,null,null,{"$f":"IFERROR(VLOOKUP(C113,Teilnehmer!$B$3:$C$1002,2,0),\"\")","v":""},null,{"$f":"IFERROR(VLOOKUP(E113,Teilnehmer!$B$3:$C$1002,2,0),\"\")","v":""}]
[null,null,null,{"$f":"IFERROR(VLOOKUP(C114,Teilnehmer!$B$3:$C$1002,2,0),\"\")","v":""},null,{"$f":"IFERROR(VLOOKUP(E114,Teilnehmer!$B$3:$C$1002,2,0),\"\")","v":""}]
[null,null,null,{"$f":"IFERROR(VLOOKUP(C115,Teilnehmer!$B$3:$C$1002,2,0),\"\")","v":""},null,{"$f":"IFERROR(VLOOKUP(E115,Teilnehmer!$B$3:$C$1002,2,0),\"\")","v":""}]
[null,null,null,{"$f":"IFERROR(VLOOKUP(C116,Teilnehmer!$B$3:$C$1002,2,0),\"\")","v":""},null,{"$f":"IFERROR(VLOOKUP(E116,Teilnehmer!$B$3:$C$1002,2,0),\"\")","v":""}]
[null,null,null,{"$f":"IFERROR(VLOOKUP(C117,Teilnehmer!$B$3:$C$1002,2,0),\"\")","v":""},null,{"$f":"IFERROR(VLOOKUP(E117,Teilnehmer!$B$3:$C$1002,2,0),\"\")","v":""}]
[null,null,null,{"$f":"IFERROR(VLOOKUP(C118,Teilnehmer!$B$3:$C$1002,2,0),\"\")","v":""},null,{"$f":"IFERROR(VLOOKUP(E118,Teilnehmer!$B$3:$C$1002,2,0),\"\")","v":""}]
[null,null,null,{"$f":"IFERROR(VLOOKUP(C119,Teilnehmer!$B$3:$C$1002,2,0),\"\")","v":""},null,{"$f":"IFERROR(VLOOKUP(E119,Teilnehmer!$B$3:$C$1002,2,0),\"\")","v":""}]
[null,null,null,{"$f":"IFERROR(VLOOKUP(C120,Teilnehmer!$B$3:$C$1002,2,0),\"\")","v":""},null,{"$f":"IFERROR(VLOOKUP(E120,Teilnehmer!$B$3:$C$1002,2,0),\"\")","v":""}]
[null,null,null,{"$f":"IFERROR(VLOOKUP(C121,Teilnehmer!$B$3:$C$1002,2,0),\"\")","v":""},null,{"$f":"IFERROR(VLOOKUP(E121,Teilnehmer!$B$3:$C$1002,2,0),\"\")","v":""}]
[null,null,null,{"$f":"IFERROR(VLOOKUP(C122,Teilnehmer!$B$3:$C$1002,2,0),\"\")","v":""},null,{"$f":"IFERROR(VLOOKUP(E122,Teilnehmer!$B$3:$C$1002,2,0),\"\")","v":""}]
[null,null,null,{"$f":"IFERROR(VLOOKUP(C123,Teilnehmer!$B$3:$C$1002,2,0),\"\")","v":""},null,{"$f":"IFERROR(VLOOKUP(E123,Teilnehmer!$B$3:$C$1002,2,0),\"\")","v":""}]
[null,null,null,{"$f":"IFERROR(VLOOKUP(C124,Teilnehmer!$B$3:$C$1002,2,0),\"\")","v":""},null,{"$f":"IFERROR(VLOOKUP(E124,Teilnehmer!$B$3:$C$1002,2,0),\"\")","v":""}]
[null,null,null,{"$f":"IFERROR(VLOOKUP(C125,Teilnehmer!$B$3:$C$1002,2,0),\"\")","v":""},null,{"$f":"IFERROR(VLOOKUP(E125,Teilnehmer!$B$3:$C$1002,2,0),\"\")","v":""}]
[null,null,null,{"$f":"IFERROR(VLOOKUP(C126,Teilnehmer!$B$3:$C$1002,2,0),\"\")","v":""},null,{"$f":"IFERROR(VLOOKUP(E126,Teilnehmer!$B$3:$C$1002,2,0),\"\")","v":""}]
[null,null,null,{"$f":"IFERROR(VLOOKUP(C127,Teilnehmer!$B$3:$C$1002,2,0),\"\")","v":""},null,{"$f":"IFERROR(VLOOKUP(E127,Teilnehmer!$B$3:$C$1002,2,0),\"\")","v":""}]
[null,null,null,{"$f":"IFERROR(VLOOKUP(C128,Teilnehmer!$B$3:$C$1002,2,0),\"\")","v":""},null,{"$f":"IFERROR(VLOOKUP(E128,Teilnehmer!$B$3:$C$1002,2,0),\"\")","v":""}]
[null,null,null,{"$f":"IFERROR(VLOOKUP(C129,Teilnehmer!$B$3:$C$1002,2,0),\"\")","v":""},null,{"$f":"IFERROR(VLOOKUP(E129,Teilnehmer!$B$3:$C$1002,2,0),\"\")","v":""}]
[null,null,null,{"$f":"IFERROR(VLOOKUP(C130,Teilnehmer!$B$3:$C$1002,2,0),\"\")","v":""},null,{"$f":"IFERROR(VLOOKUP(E130,Teilnehmer!$B$3:$C$1002,2,0),\"\")","v":""}]
[null,null,null,{"$f":"IFERROR(VLOOKUP(C131,Teilnehmer!$B$3:$C$1002,2,0),\"\")","v":""},null,{"$f":"IFERROR(VLOOKUP(E131,Teilnehmer!$B$3:$C$1002,2,0),\"\")","v":""}]
[null,null,null,{"$f":"IFERROR(VLOOKUP(C132,Teilnehmer!$B$3:$C$1002,2,0),\"\")","v":""},null,{"$f":"IFERROR(VLOOKUP(E132,Teilnehmer!$B$3:$C$1002,2,0),\"\")","v":""}]
[null,null,null,{"$f":"IFERROR(VLOOKUP(C133,Teilnehmer!$B$3:$C$1002,2,0),\"\")","v":""},null,{"$f":"IFERROR(VLOOKUP(E133,Teilnehmer!$B$3:$C$1002,2,0),\"\")","v":""}]
[null,null,null,{"$f":"IFERROR(VLOOKUP(C134,Teilnehmer!$B$3:$C$1002,2,0),\"\")","v":""},null,{"$f":"IFERROR(VLOOKUP(E134,Teilnehmer!$B$3:$C$1002,2,0),\"\")","v":""}]
[null,null,null,{"$f":"IFERROR(VLOOKUP(C135,Teilnehmer!$B$3:$C$1002,2,0),\"\")","v":""},null,{"$f":"IFERROR(VLOOKUP(E135,Teilnehmer!$B$3:$C$1002,2,0),\"\")","v":""}]
[null,null,null,{"$f":"IFERROR(VLOOKUP(C136,Teilnehmer!$B$3:$C$1002,2,0),\"\")","v":""},null,{"$f":"IFERROR(VLOOKUP(E136,Teilnehmer!$B$3:$C$1002,2,0),\"\")","v":""}]
[null,null,null,{"$f":"IFERROR(VLOOKUP(C137,Teilnehmer!$B$3:$C$1002,2,0),\"\")","v":""},null,{"$f":"IFERROR(VLOOKUP(E137,Teilnehmer!$B$3:$C$1002,2,0),\"\")","v":""}]
[null,null,null,{"$f":"IFERROR(VLOOKUP(C138,Teilnehmer!$B$3:$C$1002,2,0),\"\")","v":""},null,{"$f":"IFERROR(VLOOKUP(E138,Teilnehmer!$B$3:$C$1002,2,0),\"\")","v":""}]
[null,null,null,{"$f":"IFERROR(VLOOKUP(C139,Teilnehmer!$B$3:$C$1002,2,0),\"\")","v":""},null,{"$f":"IFERROR(VLOOKUP(E139,Teilnehmer!$B$3:$C$1002,2,0),\"\")","v":""}]
[null,null,null,{"$f":"IFERROR(VLOOKUP(C140,Teilnehmer!$B$3:$C$1002,2,0),\"\")","v":""},null,{"$f":"IFERROR(VLOOKUP(E140,Teilnehmer!$B$3:$C$1002,2,0),\"\")","v":""}]
[null,null,null,{"$f":"IFERROR(VLOOKUP(C141,Teilnehmer!$B$3:$C$1002,2,0),\"\")","v":""},null,{"$f":"IFERROR(VLOOKUP(E141,Teilnehmer!$B$3:$C$1002,2,0),\"\")","v":""}]
[null,null,null,{"$f":"IFERROR(VLOOKUP(C142,Teilnehmer!$B$3:$C$1002,2,0),\"\")","v":""},null,{"$f":"IFERROR(VLOOKUP(E142,Teilnehmer!$B$3:$C$1002,2,0),\"\")","v":""}]
[null,null,null,{"$f":"IFERROR(VLOOKUP(C143,Teilnehmer!$B$3:$C$1002,2,0),\"\")","v":""},null,{"$f":"IFERROR(VLOOKUP(E143,Teilnehmer!$B$3:$C$1002,2,0),\"\")","v":""}]
[null,null,null,{"$f":"IFERROR(VLOOKUP(C144,Teilnehmer!$B$3:$C$1002,2,0),\"\")","v":""},null,{"$f":"IFERROR(VLOOKUP(E144,Teilnehmer!$B$3:$C$1002,2,0),\"\")","v":""}]
[null,null,null,{"$f":"IFERROR(VLOOKUP(C145,Teilnehmer!$B$3:$C$1002,2,0),\"\")","v":""},null,{"$f":"IFERROR(VLOOKUP(E145,Teilnehmer!$B$3:$C$1002,2,0),\"\")","v":""}]
[null,null,null,{"$f":"IFERROR(VLOOKUP(C146,Teilnehmer!$B$3:$C$1002,2,0),\"\")","v":""},null,{"$f":"IFERROR(VLOOKUP(E146,Teilnehmer!$B$3:$C$1002,2,0),\"\")","v":""}]
[null,null,null,{"$f":"IFERROR(VLOOKUP(C147,Teilnehmer!$B$3:$C$1002,2,0),\"\")","v":""},null,{"$f":"IFERROR(VLOOKUP(E147,Teilnehmer!$B$3:$C$1002,2,0),\"\")","v":""}]
[null,null,null,{"$f":"IFERROR(VLOOKUP(C148,Teilnehmer!$B$3:$C$1002,2,0),\"\")","v":""},null,{"$f":"IFERROR(VLOOKUP(E148,Teilnehmer!$B$3:$C$1002,2,0),\"\")","v":""}]
[null,null,null,{"$f":"IFERROR(VLOOKUP(C149,Teilnehmer!$B$3:$C$1002,2,0),\"\")","v":""},null,{"$f":"IFERROR(VLOOKUP(E149,Teilnehmer!$B$3:$C$1002,2,0),\"\")","v":""}]
[null,null,null,{"$f":"IFERROR(VLOOKUP(C150,Teilnehmer!$B$3:$C$1002,2,0),\"\")","v":""},null,{"$f":"IFERROR(VLOOKUP(E150,Teilnehmer!$B$3:$C$1002,2,0),\"\")","v":""}]
[null,null,null,{"$f":"IFERROR(VLOOKUP(C151,Teilnehmer!$B$3:$C$1002,2,0),\"\")","v":""},null,{"$f":"IFERROR(VLOOKUP(E151,Teilnehmer!$B$3:$C$1002,2,0),\"\")","v":""}]
[null,null,null,{"$f":"IFERROR(VLOOKUP(C152,Teilnehmer!$B$3:$C$1002,2,0),\"\")","v":""},null,{"$f":"IFERROR(VLOOKUP(E152,Teilnehmer!$B$3:$C$1002,2,0),\"\")","v":""}]
[null,null,null,{"$f":"IFERROR(VLOOKUP(C153,Teilnehmer!$B$3:$C$1002,2,0),\"\")","v":""},null,{"$f":"IFERROR(VLOOKUP(E153,Teilnehmer!$B$3:$C$1002,2,0),\"\")","v":""}]
[null,null,null,{"$f":"IFERROR(VLOOKUP(C154,Teilnehmer!$B$3:$C$1002,2,0),\"\")","v":""},null,{"$f":"IFERROR(VLOOKUP(E154,Teilnehmer!$B$3:$C$1002,2,0),\"\")","v":""}]
[null,null,null,{"$f":"IFERROR(VLOOKUP(C155,Teilnehmer!$B$3:$C$1002,2,0),\"\")","v":""},null,{"$f":"IFERROR(VLOOKUP(E155,Teilnehmer!$B$3:$C$1002,2,0),\"\")","v":""}]
[null,null,null,{"$f":"IFERROR(VLOOKUP(C156,Teilnehmer!$B$3:$C$1002,2,0),\"\")","v":""},null,{"$f":"IFERROR(VLOOKUP(E156,Teilnehmer!$B$3:$C$1002,2,0),\"\")","v":""}]
[null,null,null,{"$f":"IFERROR(VLOOKUP(C157,Teilnehmer!$B$3:$C$1002,2,0),\"\")","v":""},null,{"$f":"IFERROR(VLOOKUP(E157,Teilnehmer!$B$3:$C$1002,2,0),\"\")","v":""}]
[null,null,null,{"$f":"IFERROR(VLOOKUP(C158,Teilnehmer!$B$3:$C$1002,2,0),\"\")","v":""},null,{"$f":"IFERROR(VLOOKUP(E158,Teilnehmer!$B$3:$C$1002,2,0),\"\")","v":""}]
[null,null,null,{"$f":"IFERROR(VLOOKUP(C159,Teilnehmer!$B$3:$C$1002,2,0),\"\")","v":""},null,{"$f":"IFERROR(VLOOKUP(E159,Teilnehmer!$B$3:$C$1002,2,0),\"\")","v":""}]
[null,null,null,{"$f":"IFERROR(VLOOKUP(C160,Teilnehmer!$B$3:$C$1002,2,0),\"\")","v":""},null,{"$f":"IFERROR(VLOOKUP(E160,Teilnehmer!$B$3:$C$1002,2,0),\"\")","v":""}]
[null,null,null,{"$f":"IFERROR(VLOOKUP(C161,Teilnehmer!$B$3:$C$1002,2,0),\"\")","v":""},null,{"$f":"IFERROR(VLOOKUP(E161,Teilnehmer!$B$3:$C$1002,2,0),\"\")","v":""}]
[null,null,null,{"$f":"IFERROR(VLOOKUP(C162,Teilnehmer!$B$3:$C$1002,2,0),\"\")","v":""},null,{"$f":"IFERROR(VLOOKUP(E162,Teilnehmer!$B$3:$C$1002,2,0),\"\")","v":""}]
[null,null,null,{"$f":"IFERROR(VLOOKUP(C163,Teilnehmer!$B$3:$C$1002,2,0),\"\")","v":""},null,{"$f":"IFERROR(VLOOKUP(E163,Teilnehmer!$B$3:$C$1002,2,0),\"\")","v":""}]
[null,null,null,{"$f":"IFERROR(VLOOKUP(C164,Teilnehmer!$B$3:$C$1002,2,0),\"\")","v":""},null,{"$f":"IFERROR(VLOOKUP(E164,Teilnehmer!$B$3:$C$1002,2,0),\"\")","v":""}]
[null,null,null,{"$f":"IFERROR(VLOOKUP(C165,Teilnehmer!$B$3:$C$1002,2,0),\"\")","v":""},null,{"$f":"IFERROR(VLOOKUP(E165,Teilnehmer!$B$3:$C$1002,2,0),\"\")","v":""}]
[null,null,null,{"$f":"IFERROR(VLOOKUP(C166,Teilnehmer!$B$3:$C$1002,2,0),\"\")","v":""},null,{"$f":"IFERROR(VLOOKUP(E166,Teilnehmer!$B$3:$C$1002,2,0),\"\")","v":""}]
[null,null,null,{"$f":"IFERROR(VLOOKUP(C167,Teilnehmer!$B$3:$C$1002,2,0),\"\")","v":""},null,{"$f":"IFERROR(VLOOKUP(E167,Teilnehmer!$B$3:$C$1002,2,0),\"\")","v":""}]
[null,null,null,{"$f":"IFERROR(VLOOKUP(C168,Teilnehmer!$B$3:$C$1002,2,0),\"\")","v":""},null,{"$f":"IFERROR(VLOOKUP(E168,Teilnehmer!$B$3:$C$1002,2,0),\"\")","v":""}]
[null,null,null,{"$f":"IFERROR(VLOOKUP(C169,Teilnehmer!$B$3:$C$1002,2,0),\"\")","v":""},null,{"$f":"IFERROR(VLOOKUP(E169,Teilnehmer!$B$3:$C$1002,2,0),\"\")","v":""}]
[null,null,null,{"$f":"IFERROR(VLOOKUP(C170,Teilnehmer!$B$3:$C$1002,2,0),\"\")","v":""},null,{"$f":"IFERROR(VLOOKUP(E170,Teilnehmer!$B$3:$C$1002,2,0),\"\")","v":""}]
[null,null,null,{"$f":"IFERROR(VLOOKUP(C171,Teilnehmer!$B$3:$C$1002,2,0),\"\")","v":""},null,{"$f":"IFERROR(VLOOKUP(E171,Teilnehmer!$B$3:$C$1002,2,0),\"\")","v":""}]
[null,null,null,{"$f":"IFERROR(VLOOKUP(C172,Teilnehmer!$B$3:$C$1002,2,0),\"\")","v":""},null,{"$f":"IFERROR(VLOOKUP(E172,Teilnehmer!$B$3:$C$1002,2,0),\"\")","v":""}]
[null,null,null,{"$f":"IFERROR(VLOOKUP(C173,Teilnehmer!$B$3:$C$1002,2,0),\"\")","v":""},null,{"$f":"IFERROR(VLOOKUP(E173,Teilnehmer!$B$3:$C$1002,2,0),\"\")","v":""}]
[null,null,null,{"$f":"IFERROR(VLOOKUP(C174,Teilnehmer!$B$3:$C$1002,2,0),\"\")","v":""},null,{"$f":"IFERROR(VLOOKUP(E174,Teilnehmer!$B$3:$C$1002,2,0),\"\")","v":""}]
[null,null,null,{"$f":"IFERROR(VLOOKUP(C175,Teilnehmer!$B$3:$C$1002,2,0),\"\")","v":""},null,{"$f":"IFERROR(VLOOKUP(E175,Teilnehmer!$B$3:$C$1002,2,0),\"\")","v":""}]
[null,null,null,{"$f":"IFERROR(VLOOKUP(C176,Teilnehmer!$B$3:$C$1002,2,0),\"\")","v":""},null,{"$f":"IFERROR(VLOOKUP(E176,Teilnehmer!$B$3:$C$1002,2,0),\"\")","v":""}]
[null,null,null,{"$f":"IFERROR(VLOOKUP(C177,Teilnehmer!$B$3:$C$1002,2,0),\"\")","v":""},null,{"$f":"IFERROR(VLOOKUP(E177,Teilnehmer!$B$3:$C$1002,2,0),\"\")","v":""}]
[null,null,null,{"$f":"IFERROR(VLOOKUP(C178,Teilnehmer!$B$3:$C$1002,2,0),\"\")","v":""},null,{"$f":"IFERROR(VLOOKUP(E178,Teilnehmer!$B$3:$C$1002,2,0),\"\")","v":""}]
[null,null,null,{"$f":"IFERROR(VLOOKUP(C179,Teilnehmer!$B$3:$C$1002,2,0),\"\")","v":""},null,{"$f":"IFERROR(VLOOKUP(E179,Teilnehmer!$B$3:$C$1002,2,0),\"\")","v":""}]
[null,null,null,{"$f":"IFERROR(VLOOKUP(C180,Teilnehmer!$B$3:$C$1002,2,0),\"\")","v":""},null,{"$f":"IFERROR(VLOOKUP(E180,Teilnehmer!$B$3:$C$1002,2,0),\"\")","v":""}]
[null,null,null,{"$f":"IFERROR(VLOOKUP(C181,Teilnehmer!$B$3:$C$1002,2,0),\"\")","v":""},null,{"$f":"IFERROR(VLOOKUP(E181,Teilnehmer!$B$3:$C$1002,2,0),\"\")","v":""}]
[null,null,null,{"$f":"IFERROR(VLOOKUP(C182,Teilnehmer!$B$3:$C$1002,2,0),\"\")","v":""},null,{"$f":"IFERROR(VLOOKUP(E182,Teilnehmer!$B$3:$C$1002,2,0),\"\")","v":""}]
[null,null,null,{"$f":"IFERROR(VLOOKUP(C183,Teilnehmer!$B$3:$C$1002,2,0),\"\")","v":""},null,{"$f":"IFERROR(VLOOKUP(E183,Teilnehmer!$B$3:$C$1002,2,0),\"\")","v":""}]
[null,null,null,{"$f":"IFERROR(VLOOKUP(C184,Teilnehmer!$B$3:$C$1002,2,0),\"\")","v":""},null,{"$f":"IFERROR(VLOOKUP(E184,Teilnehmer!$B$3:$C$1002,2,0),\"\")","v":""}]
[null,null,null,{"$f":"IFERROR(VLOOKUP(C185,Teilnehmer!$B$3:$C$1002,2,0),\"\")","v":""},null,{"$f":"IFERROR(VLOOKUP(E185,Teilnehmer!$B$3:$C$1002,2,0),\"\")","v":""}]
[null,null,null,{"$f":"IFERROR(VLOOKUP(C186,Teilnehmer!$B$3:$C$1002,2,0),\"\")","v":""},null,{"$f":"IFERROR(VLOOKUP(E186,Teilnehmer!$B$3:$C$1002,2,0),\"\")","v":""}]
[null,null,null,{"$f":"IFERROR(VLOOKUP(C187,Teilnehmer!$B$3:$C$1002,2,0),\"\")","v":""},null,{"$f":"IFERROR(VLOOKUP(E187,Teilnehmer!$B$3:$C$1002,2,0),\"\")","v":""}]
[null,null,null,{"$f":"IFERROR(VLOOKUP(C188,Teilnehmer!$B$3:$C$1002,2,0),\"\")","v":""},null,{"$f":"IFERROR(VLOOKUP(E188,Teilnehmer!$B$3:$C$1002,2,0),\"\")","v":""}]
[null,null,null,{"$f":"IFERROR(VLOOKUP(C189,Teilnehmer!$B$3:$C$1002,2,0),\"\")","v":""},null,{"$f":"IFERROR(VLOOKUP(E189,Teilnehmer!$B$3:$C$1002,2,0),\"\")","v":""}]
[null,null,null,{"$f":"IFERROR(VLOOKUP(C190,Teilnehmer!$B$3:$C$1002,2,0),\"\")","v":""},null,{"$f":"IFERROR(VLOOKUP(E190,Teilnehmer!$B$3:$C$1002,2,0),\"\")","v":""}]
[null,null,null,{"$f":"IFERROR(VLOOKUP(C191,Teilnehmer!$B$3:$C$1002,2,0),\"\")","v":""},null,{"$f":"IFERROR(VLOOKUP(E191,Teilnehmer!$B$3:$C$1002,2,0),\"\")","v":""}]
[null,null,null,{"$f":"IFERROR(VLOOKUP(C192,Teilnehmer!$B$3:$C$1002,2,0),\"\")","v":""},null,{"$f":"IFERROR(VLOOKUP(E192,Teilnehmer!$B$3:$C$1002,2,0),\"\")","v":""}]
[null,null,null,{"$f":"IFERROR(VLOOKUP(C193,Teilnehmer!$B$3:$C$1002,2,0),\"\")","v":""},null,{"$f":"IFERROR(VLOOKUP(E193,Teilnehmer!$B$3:$C$1002,2,0),\"\")","v":""}]
[null,null,null,{"$f":"IFERROR(VLOOKUP(C194,Teilnehmer!$B$3:$C$1002,2,0),\"\")","v":""},null,{"$f":"IFERROR(VLOOKUP(E194,Teilnehmer!$B$3:$C$1002,2,0),\"\")","v":""}]
[null,null,null,{"$f":"IFERROR(VLOOKUP(C195,Teilnehmer!$B$3:$C$1002,2,0),\"\")","v":""},null,{"$f":"IFERROR(VLOOKUP(E195,Teilnehmer!$B$3:$C$1002,2,0),\"\")","v":""}]
[null,null,null,{"$f":"IFERROR(VLOOKUP(C196,Teilnehmer!$B$3:$C$1002,2,0),\"\")","v":""},null,{"$f":"IFERROR(VLOOKUP(E196,Teilnehmer!$B$3:$C$1002,2,0),\"\")","v":""}]
[null,null,null,{"$f":"IFERROR(VLOOKUP(C197,Teilnehmer!$B$3:$C$1002,2,0),\"\")","v":""},null,{"$f":"IFERROR(VLOOKUP(E197,Teilnehmer!$B$3:$C$1002,2,0),\"\")","v":""}]
[null,null,null,{"$f":"IFERROR(VLOOKUP(C198,Teilnehmer!$B$3:$C$1002,2,0),\"\")","v":""},null,{"$f":"IFERROR(VLOOKUP(E198,Teilnehmer!$B$3:$C$1002,2,0),\"\")","v":""}]
[null,null,null,{"$f":"IFERROR(VLOOKUP(C199,Teilnehmer!$B$3:$C$1002,2,0),\"\")","v":""},null,{"$f":"IFERROR(VLOOKUP(E199,Teilnehmer!$B$3:$C$1002,2,0),\"\")","v":""}]
[null,null,null,{"$f":"IFERROR(VLOOKUP(C200,Teilnehmer!$B$3:$C$1002,2,0),\"\")","v":""},null,{"$f":"IFERROR(VLOOKUP(E200,Teilnehmer!$B$3:$C$1002,2,0),\"\")","v":""}]
[null,null,null,{"$f":"IFERROR(VLOOKUP(C201,Teilnehmer!$B$3:$C$1002,2,0),\"\")","v":""},null,{"$f":"IFERROR(VLOOKUP(E201,Teilnehmer!$B$3:$C$1002,2,0),\"\")","v":""}]
[null,null,null,{"$f":"IFERROR(VLOOKUP(C202,Teilnehmer!$B$3:$C$1002,2,0),\"\")","v":""},null,{"$f":"IFERROR(VLOOKUP(E202,Teilnehmer!$B$3:$C$1002,2,0),\"\")","v":""}]
[null,null,null,{"$f":"IFERROR(VLOOKUP(C203,Teilnehmer!$B$3:$C$1002,2,0),\"\")","v":""},null,{"$f":"IFERROR(VLOOKUP(E203,Teilnehmer!$B$3:$C$1002,2,0),\"\")","v":""}]
[null,null,null,{"$f":"IFERROR(VLOOKUP(C204,Teilnehmer!$B$3:$C$1002,2,0),\"\")","v":""},null,{"$f":"IFERROR(VLOOKUP(E204,Teilnehmer!$B$3:$C$1002,2,0),\"\")","v":""}]
[null,null,null,{"$f":"IFERROR(VLOOKUP(C205,Teilnehmer!$B$3:$C$1002,2,0),\"\")","v":""},null,{"$f":"IFERROR(VLOOKUP(E205,Teilnehmer!$B$3:$C$1002,2,0),\"\")","v":""}]
[null,null,null,{"$f":"IFERROR(VLOOKUP(C206,Teilnehmer!$B$3:$C$1002,2,0),\"\")","v":""},null,{"$f":"IFERROR(VLOOKUP(E206,Teilnehmer!$B$3:$C$1002,2,0),\"\")","v":""}]
[null,null,null,{"$f":"IFERROR(VLOOKUP(C207,Teilnehmer!$B$3:$C$1002,2,0),\"\")","v":""},null,{"$f":"IFERROR(VLOOKUP(E207,Teilnehmer!$B$3:$C$1002,2,0),\"\")","v":""}]
[null,null,null,{"$f":"IFERROR(VLOOKUP(C208,Teilnehmer!$B$3:$C$1002,2,0),\"\")","v":""},null,{"$f":"IFERROR(VLOOKUP(E208,Teilnehmer!$B$3:$C$1002,2,0),\"\")","v":""}]
[null,null,null,{"$f":"IFERROR(VLOOKUP(C209,Teilnehmer!$B$3:$C$1002,2,0),\"\")","v":""},null,{"$f":"IFERROR(VLOOKUP(E209,Teilnehmer!$B$3:$C$1002,2,0),\"\")","v":""}]
[null,null,null,{"$f":"IFERROR(VLOOKUP(C210,Teilnehmer!$B$3:$C$1002,2,0),\"\")","v":""},null,{"$f":"IFERROR(VLOOKUP(E210,Teilnehmer!$B$3:$C$1002,2,0),\"\")","v":""}]
[null,null,null,{"$f":"IFERROR(VLOOKUP(C211,Teilnehmer!$B$3:$C$1002,2,0),\"\")","v":""},null,{"$f":"IFERROR(VLOOKUP(E211,Teilnehmer!$B$3:$C$1002,2,0),\"\")","v":""}]
[null,null,null,{"$f":"IFERROR(VLOOKUP(C212,Teilnehmer!$B$3:$C$1002,2,0),\"\")","v":""},null,{"$f":"IFERROR(VLOOKUP(E212,Teilnehmer!$B$3:$C$1002,2,0),\"\")","v":""}]
[null,null,null,{"$f":"IFERROR(VLOOKUP(C213,Teilnehmer!$B$3:$C$1002,2,0),\"\")","v":""},null,{"$f":"IFERROR(VLOOKUP(E213,Teilnehmer!$B$3:$C$1002,2,0),\"\")","v":""}]
[null,null,null,{"$f":"IFERROR(VLOOKUP(C214,Teilnehmer!$B$3:$C$1002,2,0),\"\")","v":""},null,{"$f":"IFERROR(VLOOKUP(E214,Teilnehmer!$B$3:$C$1002,2,0),\"\")","v":""}]
[null,null,null,{"$f":"IFERROR(VLOOKUP(C215,Teilnehmer!$B$3:$C$1002,2,0),\"\")","v":""},null,{"$f":"IFERROR(VLOOKUP(E215,Teilnehmer!$B$3:$C$1002,2,0),\"\")","v":""}]
[null,null,null,{"$f":"IFERROR(VLOOKUP(C216,Teilnehmer!$B$3:$C$1002,2,0),\"\")","v":""},null,{"$f":"IFERROR(VLOOKUP(E216,Teilnehmer!$B$3:$C$1002,2,0),\"\")","v":""}]
[null,null,null,{"$f":"IFERROR(VLOOKUP(C217,Teilnehmer!$B$3:$C$1002,2,0),\"\")","v":""},null,{"$f":"IFERROR(VLOOKUP(E217,Teilnehmer!$B$3:$C$1002,2,0),\"\")","v":""}]
[null,null,null,{"$f":"IFERROR(VLOOKUP(C218,Teilnehmer!$B$3:$C$1002,2,0),\"\")","v":""},null,{"$f":"IFERROR(VLOOKUP(E218,Teilnehmer!$B$3:$C$1002,2,0),\"\")","v":""}]
[null,null,null,{"$f":"IFERROR(VLOOKUP(C219,Teilnehmer!$B$3:$C$1002,2,0),\"\")","v":""},null,{"$f":"IFERROR(VLOOKUP(E219,Teilnehmer!$B$3:$C$1002,2,0),\"\")","v":""}]
[null,null,null,{"$f":"IFERROR(VLOOKUP(C220,Teilnehmer!$B$3:$C$1002,2,0),\"\")","v":""},null,{"$f":"IFERROR(VLOOKUP(E220,Teilnehmer!$B$3:$C$1002,2,0),\"\")","v":""}]
[null,null,null,{"$f":"IFERROR(VLOOKUP(C221,Teilnehmer!$B$3:$C$1002,2,0),\"\")","v":""},null,{"$f":"IFERROR(VLOOKUP(E221,Teilnehmer!$B$3:$C$1002,2,0),\"\")","v":""}]
[null,null,null,{"$f":"IFERROR(VLOOKUP(C222,Teilnehmer!$B$3:$C$1002,2,0),\"\")","v":""},null,{"$f":"IFERROR(VLOOKUP(E222,Teilnehmer!$B$3:$C$1002,2,0),\"\")","v":""}]
[null,null,null,{"$f":"IFERROR(VLOOKUP(C223,Teilnehmer!$B$3:$C$1002,2,0),\"\")","v":""},null,{"$f":"IFERROR(VLOOKUP(E223,Teilnehmer!$B$3:$C$1002,2,0),\"\")","v":""}]
[null,null,null,{"$f":"IFERROR(VLOOKUP(C224,Teilnehmer!$B$3:$C$1002,2,0),\"\")","v":""},null,{"$f":"IFERROR(VLOOKUP(E224,Teilnehmer!$B$3:$C$1002,2,0),\"\")","v":""}]
[null,null,null,{"$f":"IFERROR(VLOOKUP(C225,Teilnehmer!$B$3:$C$1002,2,0),\"\")","v":""},null,{"$f":"IFERROR(VLOOKUP(E225,Teilnehmer!$B$3:$C$1002,2,0),\"\")","v":""}]
[null,null,null,{"$f":"IFERROR(VLOOKUP(C226,Teilnehmer!$B$3:$C$1002,2,0),\"\")","v":""},null,{"$f":"IFERROR(VLOOKUP(E226,Teilnehmer!$B$3:$C$1002,2,0),\"\")","v":""}]
[null,null,null,{"$f":"IFERROR(VLOOKUP(C227,Teilnehmer!$B$3:$C$1002,2,0),\"\")","v":""},null,{"$f":"IFERROR(VLOOKUP(E227,Teilnehmer!$B$3:$C$1002,2,0),\"\")","v":""}]
[null,null,null,{"$f":"IFERROR(VLOOKUP(C228,Teilnehmer!$B$3:$C$1002,2,0),\"\")","v":""},null,{"$f":"IFERROR(VLOOKUP(E228,Teilnehmer!$B$3:$C$1002,2,0),\"\")","v":""}]
[null,null,null,{"$f":"IFERROR(VLOOKUP(C229,Teilnehmer!$B$3:$C$1002,2,0),\"\")","v":""},null,{"$f":"IFERROR(VLOOKUP(E229,Teilnehmer!$B$3:$C$1002,2,0),\"\")","v":""}]
[null,null,null,{"$f":"IFERROR(VLOOKUP(C230,Teilnehmer!$B$3:$C$1002,2,0),\"\")","v":""},null,{"$f":"IFERROR(VLOOKUP(E230,Teilnehmer!$B$3:$C$1002,2,0),\"\")","v":""}]
[null,null,null,{"$f":"IFERROR(VLOOKUP(C231,Teilnehmer!$B$3:$C$1002,2,0),\"\")","v":""},null,{"$f":"IFERROR(VLOOKUP(E231,Teilnehmer!$B$3:$C$1002,2,0),\"\")","v":""}]
[null,null,null,{"$f":"IFERROR(VLOOKUP(C232,Teilnehmer!$B$3:$C$1002,2,0),\"\")","v":""},null,{"$f":"IFERROR(VLOOKUP(E232,Teilnehmer!$B$3:$C$1002,2,0),\"\")","v":""}]
[null,null,null,{"$f":"IFERROR(VLOOKUP(C233,Teilnehmer!$B$3:$C$1002,2,0),\"\")","v":""},null,{"$f":"IFERROR(VLOOKUP(E233,Teilnehmer!$B$3:$C$1002,2,0),\"\")","v":""}]
[null,null,null,{"$f":"IFERROR(VLOOKUP(C234,Teilnehmer!$B$3:$C$1002,2,0),\"\")","v":""},null,{"$f":"IFERROR(VLOOKUP(E234,Teilnehmer!$B$3:$C$1002,2,0),\"\")","v":""}]
[null,null,null,{"$f":"IFERROR(VLOOKUP(C235,Teilnehmer!$B$3:$C$1002,2,0),\"\")","v":""},null,{"$f":"IFERROR(VLOOKUP(E235,Teilnehmer!$B$3:$C$1002,2,0),\"\")","v":""}]
[null,null,null,{"$f":"IFERROR(VLOOKUP(C236,Teilnehmer!$B$3:$C$1002,2,0),\"\")","v":""},null,{"$f":"IFERROR(VLOOKUP(E236,Teilnehmer!$B$3:$C$1002,2,0),\"\")","v":""}]
[null,null,null,{"$f":"IFERROR(VLOOKUP(C237,Teilnehmer!$B$3:$C$1002,2,0),\"\")","v":""},null,{"$f":"IFERROR(VLOOKUP(E237,Teilnehmer!$B$3:$C$1002,2,0),\"\")","v":""}]
[null,null,null,{"$f":"IFERROR(VLOOKUP(C238,Teilnehmer!$B$3:$C$1002,2,0),\"\")","v":""},null,{"$f":"IFERROR(VLOOKUP(E238,Teilnehmer!$B$3:$C$1002,2,0),\"\")","v":""}]
[null,null,null,{"$f":"IFERROR(VLOOKUP(C239,Teilnehmer!$B$3:$C$1002,2,0),\"\")","v":""},null,{"$f":"IFERROR(VLOOKUP(E239,Teilnehmer!$B$3:$C$1002,2,0),\"\")","v":""}]
[null,null,null,{"$f":"IFERROR(VLOOKUP(C240,Teilnehmer!$B$3:$C$1002,2,0),\"\")","v":""},null,{"$f":"IFERROR(VLOOKUP(E240,Teilnehmer!$B$3:$C$1002,2,0),\"\")","v":""}]
[null,null,null,{"$f":"IFERROR(VLOOKUP(C241,Teilnehmer!$B$3:$C$1002,2,0),\"\")","v":""},null,{"$f":"IFERROR(VLOOKUP(E241,Teilnehmer!$B$3:$C$1002,2,0),\"\")","v":""}]
[null,null,null,{"$f":"IFERROR(VLOOKUP(C242,Teilnehmer!$B$3:$C$1002,2,0),\"\")","v":""},null,{"$f":"IFERROR(VLOOKUP(E242,Teilnehmer!$B$3:$C$1002,2,0),\"\")","v":""}]
[null,null,null,{"$f":"IFERROR(VLOOKUP(C243,Teilnehmer!$B$3:$C$1002,2,0),\"\")","v":""},null,{"$f":"IFERROR(VLOOKUP(E243,Teilnehmer!$B$3:$C$1002,2,0),\"\")","v":""}]
[null,null,null,{"$f":"IFERROR(VLOOKUP(C244,Teilnehmer!$B$3:$C$1002,2,0),\"\")","v":""},null,{"$f":"IFERROR(VLOOKUP(E244,Teilnehmer!$B$3:$C$1002,2,0),\"\")","v":""}]
[null,null,null,{"$f":"IFERROR(VLOOKUP(C245,Teilnehmer!$B$3:$C$1002,2,0),\"\")","v":""},null,{"$f":"IFERROR(VLOOKUP(E245,Teilnehmer!$B$3:$C$1002,2,0),\"\")","v":""}]
[null,null,null,{"$f":"IFERROR(VLOOKUP(C246,Teilnehmer!$B$3:$C$1002,2,0),\"\")","v":""},null,{"$f":"IFERROR(VLOOKUP(E246,Teilnehmer!$B$3:$C$1002,2,0),\"\")","v":""}]
[null,null,null,{"$f":"IFERROR(VLOOKUP(C247,Teilnehmer!$B$3:$C$1002,2,0),\"\")","v":""},null,{"$f":"IFERROR(VLOOKUP(E247,Teilnehmer!$B$3:$C$1002,2,0),\"\")","v":""}]
[null,null,null,{"$f":"IFERROR(VLOOKUP(C248,Teilnehmer!$B$3:$C$1002,2,0),\"\")","v":""},null,{"$f":"IFERROR(VLOOKUP(E248,Teilnehmer!$B$3:$C$1002,2,0),\"\")","v":""}]
[null,null,null,{"$f":"IFERROR(VLOOKUP(C249,Teilnehmer!$B$3:$C$1002,2,0),\"\")","v":""},null,{"$f":"IFERROR(VLOOKUP(E249,Teilnehmer!$B$3:$C$1002,2,0),\"\")","v":""}]
[null,null,null,{"$f":"IFERROR(VLOOKUP(C250,Teilnehmer!$B$3:$C$1002,2,0),\"\")","v":""},null,{"$f":"IFERROR(VLOOKUP(E250,Teilnehmer!$B$3:$C$1002,2,0),\"\")","v":""}]
[null,null,null,{"$f":"IFERROR(VLOOKUP(C251,Teilnehmer!$B$3:$C$1002,2,0),\"\")","v":""},null,{"$f":"IFERROR(VLOOKUP(E251,Teilnehmer!$B$3:$C$1002,2,0),\"\")","v":""}]
[null,null,null,{"$f":"IFERROR(VLOOKUP(C252,Teilnehmer!$B$3:$C$1002,2,0),\"\")","v":""},null,{"$f":"IFERROR(VLOOKUP(E252,Teilnehmer!$B$3:$C$1002,2,0),\"\")","v":""}]
[null,null,null,{"$f":"IFERROR(VLOOKUP(C253,Teilnehmer!$B$3:$C$1002,2,0),\"\")","v":""},null,{"$f":"IFERROR(VLOOKUP(E253,Teilnehmer!$B$3:$C$1002,2,0),\"\")","v":""}]
[null,null,null,{"$f":"IFERROR(VLOOKUP(C254,Teilnehmer!$B$3:$C$1002,2,0),\"\")","v":""},null,{"$f":"IFERROR(VLOOKUP(E254,Teilnehmer!$B$3:$C$1002,2,0),\"\")","v":""}]
[null,null,null,{"$f":"IFERROR(VLOOKUP(C255,Teilnehmer!$B$3:$C$1002,2,0),\"\")","v":""},null,{"$f":"IFERROR(VLOOKUP(E255,Teilnehmer!$B$3:$C$1002,2,0),\"\")","v":""}]
[null,null,null,{"$f":"IFERROR(VLOOKUP(C256,Teilnehmer!$B$3:$C$1002,2,0),\"\")","v":""},null,{"$f":"IFERROR(VLOOKUP(E256,Teilnehmer!$B$3:$C$1002,2,0),\"\")","v":""}]
[null,null,null,{"$f":"IFERROR(VLOOKUP(C257,Teilnehmer!$B$3:$C$1002,2,0),\"\")","v":""},null,{"$f":"IFERROR(VLOOKUP(E257,Teilnehmer!$B$3:$C$1002,2,0),\"\")","v":""}]
[null,null,null,{"$f":"IFERROR(VLOOKUP(C258,Teilnehmer!$B$3:$C$1002,2,0),\"\")","v":""},null,{"$f":"IFERROR(VLOOKUP(E258,Teilnehmer!$B$3:$C$1002,2,0),\"\")","v":""}]
[null,null,null,{"$f":"IFERROR(VLOOKUP(C259,Teilnehmer!$B$3:$C$1002,2,0),\"\")","v":""},null,{"$f":"IFERROR(VLOOKUP(E259,Teilnehmer!$B$3:$C$1002,2,0),\"\")","v":""}]
[null,null,null,{"$f":"IFERROR(VLOOKUP(C260,Teilnehmer!$B$3:$C$1002,2,0),\"\")","v":""},null,{"$f":"IFERROR(VLOOKUP(E260,Teilnehmer!$B$3:$C$1002,2,0),\"\")","v":""}]
[null,null,null,{"$f":"IFERROR(VLOOKUP(C261,Teilnehmer!$B$3:$C$1002,2,0),\"\")","v":""},null,{"$f":"IFERROR(VLOOKUP(E261,Teilnehmer!$B$3:$C$1002,2,0),\"\")","v":""}]
[null,null,null,{"$f":"IFERROR(VLOOKUP(C262,Teilnehmer!$B$3:$C$1002,2,0),\"\")","v":""},null,{"$f":"IFERROR(VLOOKUP(E262,Teilnehmer!$B$3:$C$1002,2,0),\"\")","v":""}]
[null,null,null,{"$f":"IFERROR(VLOOKUP(C263,Teilnehmer!$B$3:$C$1002,2,0),\"\")","v":""},null,{"$f":"IFERROR(VLOOKUP(E263,Teilnehmer!$B$3:$C$1002,2,0),\"\")","v":""}]
[null,null,null,{"$f":"IFERROR(VLOOKUP(C264,Teilnehmer!$B$3:$C$1002,2,0),\"\")","v":""},null,{"$f":"IFERROR(VLOOKUP(E264,Teilnehmer!$B$3:$C$1002,2,0),\"\")","v":""}]
[null,null,null,{"$f":"IFERROR(VLOOKUP(C265,Teilnehmer!$B$3:$C$1002,2,0),\"\")","v":""},null,{"$f":"IFERROR(VLOOKUP(E265,Teilnehmer!$B$3:$C$1002,2,0),\"\")","v":""}]
[null,null,null,{"$f":"IFERROR(VLOOKUP(C266,Teilnehmer!$B$3:$C$1002,2,0),\"\")","v":""},null,{"$f":"IFERROR(VLOOKUP(E266,Teilnehmer!$B$3:$C$1002,2,0),\"\")","v":""}]
[null,null,null,{"$f":"IFERROR(VLOOKUP(C267,Teilnehmer!$B$3:$C$1002,2,0),\"\")","v":""},null,{"$f":"IFERROR(VLOOKUP(E267,Teilnehmer!$B$3:$C$1002,2,0),\"\")","v":""}]
[null,null,null,{"$f":"IFERROR(VLOOKUP(C268,Teilnehmer!$B$3:$C$1002,2,0),\"\")","v":""},null,{"$f":"IFERROR(VLOOKUP(E268,Teilnehmer!$B$3:$C$1002,2,0),\"\")","v":""}]
[null,null,null,{"$f":"IFERROR(VLOOKUP(C269,Teilnehmer!$B$3:$C$1002,2,0),\"\")","v":""},null,{"$f":"IFERROR(VLOOKUP(E269,Teilnehmer!$B$3:$C$1002,2,0),\"\")","v":""}]
[null,null,null,{"$f":"IFERROR(VLOOKUP(C270,Teilnehmer!$B$3:$C$1002,2,0),\"\")","v":""},null,{"$f":"IFERROR(VLOOKUP(E270,Teilnehmer!$B$3:$C$1002,2,0),\"\")","v":""}]
[null,null,null,{"$f":"IFERROR(VLOOKUP(C271,Teilnehmer!$B$3:$C$1002,2,0),\"\")","v":""},null,{"$f":"IFERROR(VLOOKUP(E271,Teilnehmer!$B$3:$C$1002,2,0),\"\")","v":""}]
[null,null,null,{"$f":"IFERROR(VLOOKUP(C272,Teilnehmer!$B$3:$C$1002,2,0),\"\")","v":""},null,{"$f":"IFERROR(VLOOKUP(E272,Teilnehmer!$B$3:$C$1002,2,0),\"\")","v":""}]
[null,null,null,{"$f":"IFERROR(VLOOKUP(C273,Teilnehmer!$B$3:$C$1002,2,0),\"\")","v":""},null,{"$f":"IFERROR(VLOOKUP(E273,Teilnehmer!$B$3:$C$1002,2,0),\"\")","v":""}]
[null,null,null,{"$f":"IFERROR(VLOOKUP(C274,Teilnehmer!$B$3:$C$1002,2,0),\"\")","v":""},null,{"$f":"IFERROR(VLOOKUP(E274,Teilnehmer!$B$3:$C$1002,2,0),\"\")","v":""}]
[null,null,null,{"$f":"IFERROR(VLOOKUP(C275,Teilnehmer!$B$3:$C$1002,2,0),\"\")","v":""},null,{"$f":"IFERROR(VLOOKUP(E275,Teilnehmer!$B$3:$C$1002,2,0),\"\")","v":""}]
[null,null,null,{"$f":"IFERROR(VLOOKUP(C276,Teilnehmer!$B$3:$C$1002,2,0),\"\")","v":""},null,{"$f":"IFERROR(VLOOKUP(E276,Teilnehmer!$B$3:$C$1002,2,0),\"\")","v":""}]
[null,null,null,{"$f":"IFERROR(VLOOKUP(C277,Teilnehmer!$B$3:$C$1002,2,0),\"\")","v":""},null,{"$f":"IFERROR(VLOOKUP(E277,Teilnehmer!$B$3:$C$1002,2,0),\"\")","v":""}]
[null,null,null,{"$f":"IFERROR(VLOOKUP(C278,Teilnehmer!$B$3:$C$1002,2,0),\"\")","v":""},null,{"$f":"IFERROR(VLOOKUP(E278,Teilnehmer!$B$3:$C$1002,2,0),\"\")","v":""}]
[null,null,null,{"$f":"IFERROR(VLOOKUP(C279,Teilnehmer!$B$3:$C$1002,2,0),\"\")","v":""},null,{"$f":"IFERROR(VLOOKUP(E279,Teilnehmer!$B$3:$C$1002,2,0),\"\")","v":""}]
[null,null,null,{"$f":"IFERROR(VLOOKUP(C280,Teilnehmer!$B$3:$C$1002,2,0),\"\")","v":""},null,{"$f":"IFERROR(VLOOKUP(E280,Teilnehmer!$B$3:$C$1002,2,0),\"\")","v":""}]
[null,null,null,{"$f":"IFERROR(VLOOKUP(C281,Teilnehmer!$B$3:$C$1002,2,0),\"\")","v":""},null,{"$f":"IFERROR(VLOOKUP(E281,Teilnehmer!$B$3:$C$1002,2,0),\"\")","v":""}]
[null,null,null,{"$f":"IFERROR(VLOOKUP(C282,Teilnehmer!$B$3:$C$1002,2,0),\"\")","v":""},null,{"$f":"IFERROR(VLOOKUP(E282,Teilnehmer!$B$3:$C$1002,2,0),\"\")","v":""}]
[null,null,null,{"$f":"IFERROR(VLOOKUP(C283,Teilnehmer!$B$3:$C$1002,2,0),\"\")","v":""},null,{"$f":"IFERROR(VLOOKUP(E283,Teilnehmer!$B$3:$C$1002,2,0),\"\")","v":""}]
[null,null,null,{"$f":"IFERROR(VLOOKUP(C284,Teilnehmer!$B$3:$C$1002,2,0),\"\")","v":""},null,{"$f":"IFERROR(VLOOKUP(E284,Teilnehmer!$B$3:$C$1002,2,0),\"\")","v":""}]
[null,null,null,{"$f":"IFERROR(VLOOKUP(C285,Teilnehmer!$B$3:$C$1002,2,0),\"\")","v":""},null,{"$f":"IFERROR(VLOOKUP(E285,Teilnehmer!$B$3:$C$1002,2,0),\"\")","v":""}]
[null,null,null,{"$f":"IFERROR(VLOOKUP(C286,Teilnehmer!$B$3:$C$1002,2,0),\"\")","v":""},null,{"$f":"IFERROR(VLOOKUP(E286,Teilnehmer!$B$3:$C$1002,2,0),\"\")","v":""}]
[null,null,null,{"$f":"IFERROR(VLOOKUP(C287,Teilnehmer!$B$3:$C$1002,2,0),\"\")","v":""},null,{"$f":"IFERROR(VLOOKUP(E287,Teilnehmer!$B$3:$C$1002,2,0),\"\")","v":""}]
[null,null,null,{"$f":"IFERROR(VLOOKUP(C288,Teilnehmer!$B$3:$C$1002,2,0),\"\")","v":""},null,{"$f":"IFERROR(VLOOKUP(E288,Teilnehmer!$B$3:$C$1002,2,0),\"\")","v":""}]
[null,null,null,{"$f":"IFERROR(VLOOKUP(C289,Teilnehmer!$B$3:$C$1002,2,0),\"\")","v":""},null,{"$f":"IFERROR(VLOOKUP(E289,Teilnehmer!$B$3:$C$1002,2,0),\"\")","v":""}]
[null,null,null,{"$f":"IFERROR(VLOOKUP(C290,Teilnehmer!$B$3:$C$1002,2,0),\"\")","v":""},null,{"$f":"IFERROR(VLOOKUP(E290,Teilnehmer!$B$3:$C$1002,2,0),\"\")","v":""}]
[null,null,null,{"$f":"IFERROR(VLOOKUP(C291,Teilnehmer!$B$3:$C$1002,2,0),\"\")","v":""},null,{"$f":"IFERROR(VLOOKUP(E291,Teilnehmer!$B$3:$C$1002,2,0),\"\")","v":""}]
[null,null,null,{"$f":"IFERROR(VLOOKUP(C292,Teilnehmer!$B$3:$C$1002,2,0),\"\")","v":""},null,{"$f":"IFERROR(VLOOKUP(E292,Teilnehmer!$B$3:$C$1002,2,0),\"\")","v":""}]
[null,null,null,{"$f":"IFERROR(VLOOKUP(C293,Teilnehmer!$B$3:$C$1002,2,0),\"\")","v":""},null,{"$f":"IFERROR(VLOOKUP(E293,Teilnehmer!$B$3:$C$1002,2,0),\"\")","v":""}]
[null,null,null,{"$f":"IFERROR(VLOOKUP(C294,Teilnehmer!$B$3:$C$1002,2,0),\"\")","v":""},null,{"$f":"IFERROR(VLOOKUP(E294,Teilnehmer!$B$3:$C$1002,2,0),\"\")","v":""}]
[null,null,null,{"$f":"IFERROR(VLOOKUP(C295,Teilnehmer!$B$3:$C$1002,2,0),\"\")","v":""},null,{"$f":"IFERROR(VLOOKUP(E295,Teilnehmer!$B$3:$C$1002,2,0),\"\")","v":""}]
[null,null,null,{"$f":"IFERROR(VLOOKUP(C296,Teilnehmer!$B$3:$C$1002,2,0),\"\")","v":""},null,{"$f":"IFERROR(VLOOKUP(E296,Teilnehmer!$B$3:$C$1002,2,0),\"\")","v":""}]
[null,null,null,{"$f":"IFERROR(VLOOKUP(C297,Teilnehmer!$B$3:$C$1002,2,0),\"\")","v":""},null,{"$f":"IFERROR(VLOOKUP(E297,Teilnehmer!$B$3:$C$1002,2,0),\"\")","v":""}]
[null,null,null,{"$f":"IFERROR(VLOOKUP(C298,Teilnehmer!$B$3:$C$1002,2,0),\"\")","v":""},null,{"$f":"IFERROR(VLOOKUP(E298,Teilnehmer!$B$3:$C$1002,2,0),\"\")","v":""}]
[null,null,null,{"$f":"IFERROR(VLOOKUP(C299,Teilnehmer!$B$3:$C$1002,2,0),\"\")","v":""},null,{"$f":"IFERROR(VLOOKUP(E299,Teilnehmer!$B$3:$C$1002,2,0),\"\")","v":""}]
[null,null,null,{"$f":"IFERROR(VLOOKUP(C300,Teilnehmer!$B$3:$C$1002,2,0),\"\")","v":""},null,{"$f":"IFERROR(VLOOKUP(E300,Teilnehmer!$B$3:$C$1002,2,0),\"\")","v":""}]
[null,null,null,{"$f":"IFERROR(VLOOKUP(C301,Teilnehmer!$B$3:$C$1002,2,0),\"\")","v":""},null,{"$f":"IFERROR(VLOOKUP(E301,Teilnehmer!$B$3:$C$1002,2,0),\"\")","v":""}]
[null,null,null,{"$f":"IFERROR(VLOOKUP(C302,Teilnehmer!$B$3:$C$1002,2,0),\"\")","v":""},null,{"$f":"IFERROR(VLOOKUP(E302,Teilnehmer!$B$3:$C$1002,2,0),\"\")","v":""}]
[null,null,null,{"$f":"IFERROR(VLOOKUP(C303,Teilnehmer!$B$3:$C$1002,2,0),\"\")","v":""},null,{"$f":"IFERROR(VLOOKUP(E303,Teilnehmer!$B$3:$C$1002,2,0),\"\")","v":""}]
[null,null,null,{"$f":"IFERROR(VLOOKUP(C304,Teilnehmer!$B$3:$C$1002,2,0),\"\")","v":""},null,{"$f":"IFERROR(VLOOKUP(E304,Teilnehmer!$B$3:$C$1002,2,0),\"\")","v":""}]
[null,null,null,{"$f":"IFERROR(VLOOKUP(C305,Teilnehmer!$B$3:$C$1002,2,0),\"\")","v":""},null,{"$f":"IFERROR(VLOOKUP(E305,Teilnehmer!$B$3:$C$1002,2,0),\"\")","v":""}]
[null,null,null,{"$f":"IFERROR(VLOOKUP(C306,Teilnehmer!$B$3:$C$1002,2,0),\"\")","v":""},null,{"$f":"IFERROR(VLOOKUP(E306,Teilnehmer!$B$3:$C$1002,2,0),\"\")","v":""}]
[null,null,null,{"$f":"IFERROR(VLOOKUP(C307,Teilnehmer!$B$3:$C$1002,2,0),\"\")","v":""},null,{"$f":"IFERROR(VLOOKUP(E307,Teilnehmer!$B$3:$C$1002,2,0),\"\")","v":""}]
[null,null,null,{"$f":"IFERROR(VLOOKUP(C308,Teilnehmer!$B$3:$C$1002,2,0),\"\")","v":""},null,{"$f":"IFERROR(VLOOKUP(E308,Teilnehmer!$B$3:$C$1002,2,0),\"\")","v":""}]
[null,null,null,{"$f":"IFERROR(VLOOKUP(C309,Teilnehmer!$B$3:$C$1002,2,0),\"\")","v":""},null,{"$f":"IFERROR(VLOOKUP(E309,Teilnehmer!$B$3:$C$1002,2,0),\"\")","v":""}]
[null,null,null,{"$f":"IFERROR(VLOOKUP(C310,Teilnehmer!$B$3:$C$1002,2,0),\"\")","v":""},null,{"$f":"IFERROR(VLOOKUP(E310,Teilnehmer!$B$3:$C$1002,2,0),\"\")","v":""}]
[null,null,null,{"$f":"IFERROR(VLOOKUP(C311,Teilnehmer!$B$3:$C$1002,2,0),\"\")","v":""},null,{"$f":"IFERROR(VLOOKUP(E311,Teilnehmer!$B$3:$C$1002,2,0),\"\")","v":""}]
[null,null,null,{"$f":"IFERROR(VLOOKUP(C312,Teilnehmer!$B$3:$C$1002,2,0),\"\")","v":""},null,{"$f":"IFERROR(VLOOKUP(E312,Teilnehmer!$B$3:$C$1002,2,0),\"\")","v":""}]
[null,null,null,{"$f":"IFERROR(VLOOKUP(C313,Teilnehmer!$B$3:$C$1002,2,0),\"\")","v":""},null,{"$f":"IFERROR(VLOOKUP(E313,Teilnehmer!$B$3:$C$1002,2,0),\"\")","v":""}]
[null,null,null,{"$f":"IFERROR(VLOOKUP(C314,Teilnehmer!$B$3:$C$1002,2,0),\"\")","v":""},null,{"$f":"IFERROR(VLOOKUP(E314,Teilnehmer!$B$3:$C$1002,2,0),\"\")","v":""}]
[null,null,null,{"$f":"IFERROR(VLOOKUP(C315,Teilnehmer!$B$3:$C$1002,2,0),\"\")","v":""},null,{"$f":"IFERROR(VLOOKUP(E315,Teilnehmer!$B$3:$C$1002,2,0),\"\")","v":""}]
[null,null,null,{"$f":"IFERROR(VLOOKUP(C316,Teilnehmer!$B$3:$C$1002,2,0),\"\")","v":""},null,{"$f":"IFERROR(VLOOKUP(E316,Teilnehmer!$B$3:$C$1002,2,0),\"\")","v":""}]
[null,null,null,{"$f":"IFERROR(VLOOKUP(C317,Teilnehmer!$B$3:$C$1002,2,0),\"\")","v":""},null,{"$f":"IFERROR(VLOOKUP(E317,Teilnehmer!$B$3:$C$1002,2,0),\"\")","v":""}]
[null,null,null,{"$f":"IFERROR(VLOOKUP(C318,Teilnehmer!$B$3:$C$1002,2,0),\"\")","v":""},null,{"$f":"IFERROR(VLOOKUP(E318,Teilnehmer!$B$3:$C$1002,2,0),\"\")","v":""}]
[null,null,null,{"$f":"IFERROR(VLOOKUP(C319,Teilnehmer!$B$3:$C$1002,2,0),\"\")","v":""},null,{"$f":"IFERROR(VLOOKUP(E319,Teilnehmer!$B$3:$C$1002,2,0),\"\")","v":""}]
[null,null,null,{"$f":"IFERROR(VLOOKUP(C320,Teilnehmer!$B$3:$C$1002,2,0),\"\")","v":""},null,{"$f":"IFERROR(VLOOKUP(E320,Teilnehmer!$B$3:$C$1002,2,0),\"\")","v":""}]
[null,null,null,{"$f":"IFERROR(VLOOKUP(C321,Teilnehmer!$B$3:$C$1002,2,0),\"\")","v":""},null,{"$f":"IFERROR(VLOOKUP(E321,Teilnehmer!$B$3:$C$1002,2,0),\"\")","v":""}]
[null,null,null,{"$f":"IFERROR(VLOOKUP(C322,Teilnehmer!$B$3:$C$1002,2,0),\"\")","v":""},null,{"$f":"IFERROR(VLOOKUP(E322,Teilnehmer!$B$3:$C$1002,2,0),\"\")","v":""}]
[null,null,null,{"$f":"IFERROR(VLOOKUP(C323,Teilnehmer!$B$3:$C$1002,2,0),\"\")","v":""},null,{"$f":"IFERROR(VLOOKUP(E323,Teilnehmer!$B$3:$C$1002,2,0),\"\")","v":""}]
[null,null,null,{"$f":"IFERROR(VLOOKUP(C324,Teilnehmer!$B$3:$C$1002,2,0),\"\")","v":""},null,{"$f":"IFERROR(VLOOKUP(E324,Teilnehmer!$B$3:$C$1002,2,0),\"\")","v":""}]
[null,null,null,{"$f":"IFERROR(VLOOKUP(C325,Teilnehmer!$B$3:$C$1002,2,0),\"\")","v":""},null,{"$f":"IFERROR(VLOOKUP(E325,Teilnehmer!$B$3:$C$1002,2,0),\"\")","v":""}]
[null,null,null,{"$f":"IFERROR(VLOOKUP(C326,Teilnehmer!$B$3:$C$1002,2,0),\"\")","v":""},null,{"$f":"IFERROR(VLOOKUP(E326,Teilnehmer!$B$3:$C$1002,2,0),\"\")","v":""}]
[null,null,null,{"$f":"IFERROR(VLOOKUP(C327,Teilnehmer!$B$3:$C$1002,2,0),\"\")","v":""},null,{"$f":"IFERROR(VLOOKUP(E327,Teilnehmer!$B$3:$C$1002,2,0),\"\")","v":""}]
[null,null,null,{"$f":"IFERROR(VLOOKUP(C328,Teilnehmer!$B$3:$C$1002,2,0),\"\")","v":""},null,{"$f":"IFERROR(VLOOKUP(E328,Teilnehmer!$B$3:$C$1002,2,0),\"\")","v":""}]
[null,null,null,{"$f":"IFERROR(VLOOKUP(C329,Teilnehmer!$B$3:$C$1002,2,0),\"\")","v":""},null,{"$f":"IFERROR(VLOOKUP(E329,Teilnehmer!$B$3:$C$1002,2,0),\"\")","v":""}]
[null,null,null,{"$f":"IFERROR(VLOOKUP(C330,Teilnehmer!$B$3:$C$1002,2,0),\"\")","v":""},null,{"$f":"IFERROR(VLOOKUP(E330,Teilnehmer!$B$3:$C$1002,2,0),\"\")","v":""}]
[null,null,null,{"$f":"IFERROR(VLOOKUP(C331,Teilnehmer!$B$3:$C$1002,2,0),\"\")","v":""},null,{"$f":"IFERROR(VLOOKUP(E331,Teilnehmer!$B$3:$C$1002,2,0),\"\")","v":""}]
[null,null,null,{"$f":"IFERROR(VLOOKUP(C332,Teilnehmer!$B$3:$C$1002,2,0),\"\")","v":""},null,{"$f":"IFERROR(VLOOKUP(E332,Teilnehmer!$B$3:$C$1002,2,0),\"\")","v":""}]
[null,null,null,{"$f":"IFERROR(VLOOKUP(C333,Teilnehmer!$B$3:$C$1002,2,0),\"\")","v":""},null,{"$f":"IFERROR(VLOOKUP(E333,Teilnehmer!$B$3:$C$1002,2,0),\"\")","v":""}]
[null,null,null,{"$f":"IFERROR(VLOOKUP(C334,Teilnehmer!$B$3:$C$1002,2,0),\"\")","v":""},null,{"$f":"IFERROR(VLOOKUP(E334,Teilnehmer!$B$3:$C$1002,2,0),\"\")","v":""}]
[null,null,null,{"$f":"IFERROR(VLOOKUP(C335,Teilnehmer!$B$3:$C$1002,2,0),\"\")","v":""},null,{"$f":"IFERROR(VLOOKUP(E335,Teilnehmer!$B$3:$C$1002,2,0),\"\")","v":""}]
[null,null,null,{"$f":"IFERROR(VLOOKUP(C336,Teilnehmer!$B$3:$C$1002,2,0),\"\")","v":""},null,{"$f":"IFERROR(VLOOKUP(E336,Teilnehmer!$B$3:$C$1002,2,0),\"\")","v":""}]
[null,null,null,{"$f":"IFERROR(VLOOKUP(C337,Teilnehmer!$B$3:$C$1002,2,0),\"\")","v":""},null,{"$f":"IFERROR(VLOOKUP(E337,Teilnehmer!$B$3:$C$1002,2,0),\"\")","v":""}]
[null,null,null,{"$f":"IFERROR(VLOOKUP(C338,Teilnehmer!$B$3:$C$1002,2,0),\"\")","v":""},null,{"$f":"IFERROR(VLOOKUP(E338,Teilnehmer!$B$3:$C$1002,2,0),\"\")","v":""}]
[null,null,null,{"$f":"IFERROR(VLOOKUP(C339,Teilnehmer!$B$3:$C$1002,2,0),\"\")","v":""},null,{"$f":"IFERROR(VLOOKUP(E339,Teilnehmer!$B$3:$C$1002,2,0),\"\")","v":""}]
[null,null,null,{"$f":"IFERROR(VLOOKUP(C340,Teilnehmer!$B$3:$C$1002,2,0),\"\")","v":""},null,{"$f":"IFERROR(VLOOKUP(E340,Teilnehmer!$B$3:$C$1002,2,0),\"\")","v":""}]
[null,null,null,{"$f":"IFERROR(VLOOKUP(C341,Teilnehmer!$B$3:$C$1002,2,0),\"\")","v":""},null,{"$f":"IFERROR(VLOOKUP(E341,Teilnehmer!$B$3:$C$1002,2,0),\"\")","v":""}]
[null,null,null,{"$f":"IFERROR(VLOOKUP(C342,Teilnehmer!$B$3:$C$1002,2,0),\"\")","v":""},null,{"$f":"IFERROR(VLOOKUP(E342,Teilnehmer!$B$3:$C$1002,2,0),\"\")","v":""}]
[null,null,null,{"$f":"IFERROR(VLOOKUP(C343,Teilnehmer!$B$3:$C$1002,2,0),\"\")","v":""},null,{"$f":"IFERROR(VLOOKUP(E343,Teilnehmer!$B$3:$C$1002,2,0),\"\")","v":""}]
[null,null,null,{"$f":"IFERROR(VLOOKUP(C344,Teilnehmer!$B$3:$C$1002,2,0),\"\")","v":""},null,{"$f":"IFERROR(VLOOKUP(E344,Teilnehmer!$B$3:$C$1002,2,0),\"\")","v":""}]
[null,null,null,{"$f":"IFERROR(VLOOKUP(C345,Teilnehmer!$B$3:$C$1002,2,0),\"\")","v":""},null,{"$f":"IFERROR(VLOOKUP(E345,Teilnehmer!$B$3:$C$1002,2,0),\"\")","v":""}]
[null,null,null,{"$f":"IFERROR(VLOOKUP(C346,Teilnehmer!$B$3:$C$1002,2,0),\"\")","v":""},null,{"$f":"IFERROR(VLOOKUP(E346,Teilnehmer!$B$3:$C$1002,2,0),\"\")","v":""}]
[null,null,null,{"$f":"IFERROR(VLOOKUP(C347,Teilnehmer!$B$3:$C$1002,2,0),\"\")","v":""},null,{"$f":"IFERROR(VLOOKUP(E347,Teilnehmer!$B$3:$C$1002,2,0),\"\")","v":""}]
[null,null,null,{"$f":"IFERROR(VLOOKUP(C348,Teilnehmer!$B$3:$C$1002,2,0),\"\")","v":""},null,{"$f":"IFERROR(VLOOKUP(E348,Teilnehmer!$B$3:$C$1002,2,0),\"\")","v":""}]
[null,null,null,{"$f":"IFERROR(VLOOKUP(C349,Teilnehmer!$B$3:$C$1002,2,0),\"\")","v":""},null,{"$f":"IFERROR(VLOOKUP(E349,Teilnehmer!$B$3:$C$1002,2,0),\"\")","v":""}]
[null,null,null,{"$f":"IFERROR(VLOOKUP(C350,Teilnehmer!$B$3:$C$1002,2,0),\"\")","v":""},null,{"$f":"IFERROR(VLOOKUP(E350,Teilnehmer!$B$3:$C$1002,2,0),\"\")","v":""}]
[null,null,null,{"$f":"IFERROR(VLOOKUP(C351,Teilnehmer!$B$3:$C$1002,2,0),\"\")","v":""},null,{"$f":"IFERROR(VLOOKUP(E351,Teilnehmer!$B$3:$C$1002,2,0),\"\")","v":""}]
[null,null,null,{"$f":"IFERROR(VLOOKUP(C352,Teilnehmer!$B$3:$C$1002,2,0),\"\")","v":""},null,{"$f":"IFERROR(VLOOKUP(E352,Teilnehmer!$B$3:$C$1002,2,0),\"\")","v":""}]
[null,null,null,{"$f":"IFERROR(VLOOKUP(C353,Teilnehmer!$B$3:$C$1002,2,0),\"\")","v":""},null,{"$f":"IFERROR(VLOOKUP(E353,Teilnehmer!$B$3:$C$1002,2,0),\"\")","v":""}]
[null,null,null,{"$f":"IFERROR(VLOOKUP(C354,Teilnehmer!$B$3:$C$1002,2,0),\"\")","v":""},null,{"$f":"IFERROR(VLOOKUP(E354,Teilnehmer!$B$3:$C$1002,2,0),\"\")","v":""}]
[null,null,null,{"$f":"IFERROR(VLOOKUP(C355,Teilnehmer!$B$3:$C$1002,2,0),\"\")","v":""},null,{"$f":"IFERROR(VLOOKUP(E355,Teilnehmer!$B$3:$C$1002,2,0),\"\")","v":""}]
[null,null,null,{"$f":"IFERROR(VLOOKUP(C356,Teilnehmer!$B$3:$C$1002,2,0),\"\")","v":""},null,{"$f":"IFERROR(VLOOKUP(E356,Teilnehmer!$B$3:$C$1002,2,0),\"\")","v":""}]
[null,null,null,{"$f":"IFERROR(VLOOKUP(C357,Teilnehmer!$B$3:$C$1002,2,0),\"\")","v":""},null,{"$f":"IFERROR(VLOOKUP(E357,Teilnehmer!$B$3:$C$1002,2,0),\"\")","v":""}]
[null,null,null,{"$f":"IFERROR(VLOOKUP(C358,Teilnehmer!$B$3:$C$1002,2,0),\"\")","v":""},null,{"$f":"IFERROR(VLOOKUP(E358,Teilnehmer!$B$3:$C$1002,2,0),\"\")","v":""}]
[null,null,null,{"$f":"IFERROR(VLOOKUP(C359,Teilnehmer!$B$3:$C$1002,2,0),\"\")","v":""},null,{"$f":"IFERROR(VLOOKUP(E359,Teilnehmer!$B$3:$C$1002,2,0),\"\")","v":""}]
[null,null,null,{"$f":"IFERROR(VLOOKUP(C360,Teilnehmer!$B$3:$C$1002,2,0),\"\")","v":""},null,{"$f":"IFERROR(VLOOKUP(E360,Teilnehmer!$B$3:$C$1002,2,0),\"\")","v":""}]
[null,null,null,{"$f":"IFERROR(VLOOKUP(C361,Teilnehmer!$B$3:$C$1002,2,0),\"\")","v":""},null,{"$f":"IFERROR(VLOOKUP(E361,Teilnehmer!$B$3:$C$1002,2,0),\"\")","v":""}]
[null,null,null,{"$f":"IFERROR(VLOOKUP(C362,Teilnehmer!$B$3:$C$1002,2,0),\"\")","v":""},null,{"$f":"IFERROR(VLOOKUP(E362,Teilnehmer!$B$3:$C$1002,2,0),\"\")","v":""}]
[null,null,null,{"$f":"IFERROR(VLOOKUP(C363,Teilnehmer!$B$3:$C$1002,2,0),\"\")","v":""},null,{"$f":"IFERROR(VLOOKUP(E363,Teilnehmer!$B$3:$C$1002,2,0),\"\")","v":""}]
[null,null,null,{"$f":"IFERROR(VLOOKUP(C364,Teilnehmer!$B$3:$C$1002,2,0),\"\")","v":""},null,{"$f":"IFERROR(VLOOKUP(E364,Teilnehmer!$B$3:$C$1002,2,0),\"\")","v":""}]
[null,null,null,{"$f":"IFERROR(VLOOKUP(C365,Teilnehmer!$B$3:$C$1002,2,0),\"\")","v":""},null,{"$f":"IFERROR(VLOOKUP(E365,Teilnehmer!$B$3:$C$1002,2,0),\"\")","v":""}]
[null,null,null,{"$f":"IFERROR(VLOOKUP(C366,Teilnehmer!$B$3:$C$1002,2,0),\"\")","v":""},null,{"$f":"IFERROR(VLOOKUP(E366,Teilnehmer!$B$3:$C$1002,2,0),\"\")","v":""}]
[null,null,null,{"$f":"IFERROR(VLOOKUP(C367,Teilnehmer!$B$3:$C$1002,2,0),\"\")","v":""},null,{"$f":"IFERROR(VLOOKUP(E367,Teilnehmer!$B$3:$C$1002,2,0),\"\")","v":""}]
[null,null,null,{"$f":"IFERROR(VLOOKUP(C368,Teilnehmer!$B$3:$C$1002,2,0),\"\")","v":""},null,{"$f":"IFERROR(VLOOKUP(E368,Teilnehmer!$B$3:$C$1002,2,0),\"\")","v":""}]
[null,null,null,{"$f":"IFERROR(VLOOKUP(C369,Teilnehmer!$B$3:$C$1002,2,0),\"\")","v":""},null,{"$f":"IFERROR(VLOOKUP(E369,Teilnehmer!$B$3:$C$1002,2,0),\"\")","v":""}]
[null,null,null,{"$f":"IFERROR(VLOOKUP(C370,Teilnehmer!$B$3:$C$1002,2,0),\"\")","v":""},null,{"$f":"IFERROR(VLOOKUP(E370,Teilnehmer!$B$3:$C$1002,2,0),\"\")","v":""}]
[null,null,null,{"$f":"IFERROR(VLOOKUP(C371,Teilnehmer!$B$3:$C$1002,2,0),\"\")","v":""},null,{"$f":"IFERROR(VLOOKUP(E371,Teilnehmer!$B$3:$C$1002,2,0),\"\")","v":""}]
[null,null,null,{"$f":"IFERROR(VLOOKUP(C372,Teilnehmer!$B$3:$C$1002,2,0),\"\")","v":""},null,{"$f":"IFERROR(VLOOKUP(E372,Teilnehmer!$B$3:$C$1002,2,0),\"\")","v":""}]
[null,null,null,{"$f":"IFERROR(VLOOKUP(C373,Teilnehmer!$B$3:$C$1002,2,0),\"\")","v":""},null,{"$f":"IFERROR(VLOOKUP(E373,Teilnehmer!$B$3:$C$1002,2,0),\"\")","v":""}]
[null,null,null,{"$f":"IFERROR(VLOOKUP(C374,Teilnehmer!$B$3:$C$1002,2,0),\"\")","v":""},null,{"$f":"IFERROR(VLOOKUP(E374,Teilnehmer!$B$3:$C$1002,2,0),\"\")","v":""}]
[null,null,null,{"$f":"IFERROR(VLOOKUP(C375,Teilnehmer!$B$3:$C$1002,2,0),\"\")","v":""},null,{"$f":"IFERROR(VLOOKUP(E375,Teilnehmer!$B$3:$C$1002,2,0),\"\")","v":""}]
[null,null,null,{"$f":"IFERROR(VLOOKUP(C376,Teilnehmer!$B$3:$C$1002,2,0),\"\")","v":""},null,{"$f":"IFERROR(VLOOKUP(E376,Teilnehmer!$B$3:$C$1002,2,0),\"\")","v":""}]
[null,null,null,{"$f":"IFERROR(VLOOKUP(C377,Teilnehmer!$B$3:$C$1002,2,0),\"\")","v":""},null,{"$f":"IFERROR(VLOOKUP(E377,Teilnehmer!$B$3:$C$1002,2,0),\"\")","v":""}]
[null,null,null,{"$f":"IFERROR(VLOOKUP(C378,Teilnehmer!$B$3:$C$1002,2,0),\"\")","v":""},null,{"$f":"IFERROR(VLOOKUP(E378,Teilnehmer!$B$3:$C$1002,2,0),\"\")","v":""}]
[null,null,null,{"$f":"IFERROR(VLOOKUP(C379,Teilnehmer!$B$3:$C$1002,2,0),\"\")","v":""},null,{"$f":"IFERROR(VLOOKUP(E379,Teilnehmer!$B$3:$C$1002,2,0),\"\")","v":""}]
[null,null,null,{"$f":"IFERROR(VLOOKUP(C380,Teilnehmer!$B$3:$C$1002,2,0),\"\")","v":""},null,{"$f":"IFERROR(VLOOKUP(E380,Teilnehmer!$B$3:$C$1002,2,0),\"\")","v":""}]
[null,null,null,{"$f":"IFERROR(VLOOKUP(C381,Teilnehmer!$B$3:$C$1002,2,0),\"\")","v":""},null,{"$f":"IFERROR(VLOOKUP(E381,Teilnehmer!$B$3:$C$1002,2,0),\"\")","v":""}]
[null,null,null,{"$f":"IFERROR(VLOOKUP(C382,Teilnehmer!$B$3:$C$1002,2,0),\"\")","v":""},null,{"$f":"IFERROR(VLOOKUP(E382,Teilnehmer!$B$3:$C$1002,2,0),\"\")","v":""}]
[null,null,null,{"$f":"IFERROR(VLOOKUP(C383,Teilnehmer!$B$3:$C$1002,2,0),\"\")","v":""},null,{"$f":"IFERROR(VLOOKUP(E383,Teilnehmer!$B$3:$C$1002,2,0),\"\")","v":""}]
[null,null,null,{"$f":"IFERROR(VLOOKUP(C384,Teilnehmer!$B$3:$C$1002,2,0),\"\")","v":""},null,{"$f":"IFERROR(VLOOKUP(E384,Teilnehmer!$B$3:$C$1002,2,0),\"\")","v":""}]
[null,null,null,{"$f":"IFERROR(VLOOKUP(C385,Teilnehmer!$B$3:$C$1002,2,0),\"\")","v":""},null,{"$f":"IFERROR(VLOOKUP(E385,Teilnehmer!$B$3:$C$1002,2,0),\"\")","v":""}]
[null,null,null,{"$f":"IFERROR(VLOOKUP(C386,Teilnehmer!$B$3:$C$1002,2,0),\"\")","v":""},null,{"$f":"IFERROR(VLOOKUP(E386,Teilnehmer!$B$3:$C$1002,2,0),\"\")","v":""}]
[null,null,null,{"$f":"IFERROR(VLOOKUP(C387,Teilnehmer!$B$3:$C$1002,2,0),\"\")","v":""},null,{"$f":"IFERROR(VLOOKUP(E387,Teilnehmer!$B$3:$C$1002,2,0),\"\")","v":""}]
[null,null,null,{"$f":"IFERROR(VLOOKUP(C388,Teilnehmer!$B$3:$C$1002,2,0),\"\")","v":""},null,{"$f":"IFERROR(VLOOKUP(E388,Teilnehmer!$B$3:$C$1002,2,0),\"\")","v":""}]
[null,null,null,{"$f":"IFERROR(VLOOKUP(C389,Teilnehmer!$B$3:$C$1002,2,0),\"\")","v":""},null,{"$f":"IFERROR(VLOOKUP(E389,Teilnehmer!$B$3:$C$1002,2,0),\"\")","v":""}]
[null,null,null,{"$f":"IFERROR(VLOOKUP(C390,Teilnehmer!$B$3:$C$1002,2,0),\"\")","v":""},null,{"$f":"IFERROR(VLOOKUP(E390,Teilnehmer!$B$3:$C$1002,2,0),\"\")","v":""}]
[null,null,null,{"$f":"IFERROR(VLOOKUP(C391,Teilnehmer!$B$3:$C$1002,2,0),\"\")","v":""},null,{"$f":"IFERROR(VLOOKUP(E391,Teilnehmer!$B$3:$C$1002,2,0),\"\")","v":""}]
[null,null,null,{"$f":"IFERROR(VLOOKUP(C392,Teilnehmer!$B$3:$C$1002,2,0),\"\")","v":""},null,{"$f":"IFERROR(VLOOKUP(E392,Teilnehmer!$B$3:$C$1002,2,0),\"\")","v":""}]
[null,null,null,{"$f":"IFERROR(VLOOKUP(C393,Teilnehmer!$B$3:$C$1002,2,0),\"\")","v":""},null,{"$f":"IFERROR(VLOOKUP(E393,Teilnehmer!$B$3:$C$1002,2,0),\"\")","v":""}]
[null,null,null,{"$f":"IFERROR(VLOOKUP(C394,Teilnehmer!$B$3:$C$1002,2,0),\"\")","v":""},null,{"$f":"IFERROR(VLOOKUP(E394,Teilnehmer!$B$3:$C$1002,2,0),\"\")","v":""}]
[null,null,null,{"$f":"IFERROR(VLOOKUP(C395,Teilnehmer!$B$3:$C$1002,2,0),\"\")","v":""},null,{"$f":"IFERROR(VLOOKUP(E395,Teilnehmer!$B$3:$C$1002,2,0),\"\")","v":""}]
[null,null,null,{"$f":"IFERROR(VLOOKUP(C396,Teilnehmer!$B$3:$C$1002,2,0),\"\")","v":""},null,{"$f":"IFERROR(VLOOKUP(E396,Teilnehmer!$B$3:$C$1002,2,0),\"\")","v":""}]
[null,null,null,{"$f":"IFERROR(VLOOKUP(C397,Teilnehmer!$B$3:$C$1002,2,0),\"\")","v":""},null,{"$f":"IFERROR(VLOOKUP(E397,Teilnehmer!$B$3:$C$1002,2,0),\"\")","v":""}]
[null,null,null,{"$f":"IFERROR(VLOOKUP(C398,Teilnehmer!$B$3:$C$1002,2,0),\"\")","v":""},null,{"$f":"IFERROR(VLOOKUP(E398,Teilnehmer!$B$3:$C$1002,2,0),\"\")","v":""}]
[null,null,null,{"$f":"IFERROR(VLOOKUP(C399,Teilnehmer!$B$3:$C$1002,2,0),\"\")","v":""},null,{"$f":"IFERROR(VLOOKUP(E399,Teilnehmer!$B$3:$C$1002,2,0),\"\")","v":""}]
[null,null,null,{"$f":"IFERROR(VLOOKUP(C400,Teilnehmer!$B$3:$C$1002,2,0),\"\")","v":""},null,{"$f":"IFERROR(VLOOKUP(E400,Teilnehmer!$B$3:$C$1002,2,0),\"\")","v":""}]
[null,null,null,{"$f":"IFERROR(VLOOKUP(C401,Teilnehmer!$B$3:$C$1002,2,0),\"\")","v":""},null,{"$f":"IFERROR(VLOOKUP(E401,Teilnehmer!$B$3:$C$1002,2,0),\"\")","v":""}]
[null,null,null,{"$f":"IFERROR(VLOOKUP(C402,Teilnehmer!$B$3:$C$1002,2,0),\"\")","v":""},null,{"$f":"IFERROR(VLOOKUP(E402,Teilnehmer!$B$3:$C$1002,2,0),\"\")","v":""}]
[null,null,null,{"$f":"IFERROR(VLOOKUP(C403,Teilnehmer!$B$3:$C$1002,2,0),\"\")","v":""},null,{"$f":"IFERROR(VLOOKUP(E403,Teilnehmer!$B$3:$C$1002,2,0),\"\")","v":""}]
[null,null,null,{"$f":"IFERROR(VLOOKUP(C404,Teilnehmer!$B$3:$C$1002,2,0),\"\")","v":""},null,{"$f":"IFERROR(VLOOKUP(E404,Teilnehmer!$B$3:$C$1002,2,0),\"\")","v":""}]
[null,null,null,{"$f":"IFERROR(VLOOKUP(C405,Teilnehmer!$B$3:$C$1002,2,0),\"\")","v":""},null,{"$f":"IFERROR(VLOOKUP(E405,Teilnehmer!$B$3:$C$1002,2,0),\"\")","v":""}]
[null,null,null,{"$f":"IFERROR(VLOOKUP(C406,Teilnehmer!$B$3:$C$1002,2,0),\"\")","v":""},null,{"$f":"IFERROR(VLOOKUP(E406,Teilnehmer!$B$3:$C$1002,2,0),\"\")","v":""}]
[null,null,null,{"$f":"IFERROR(VLOOKUP(C407,Teilnehmer!$B$3:$C$1002,2,0),\"\")","v":""},null,{"$f":"IFERROR(VLOOKUP(E407,Teilnehmer!$B$3:$C$1002,2,0),\"\")","v":""}]
[null,null,null,{"$f":"IFERROR(VLOOKUP(C408,Teilnehmer!$B$3:$C$1002,2,0),\"\")","v":""},null,{"$f":"IFERROR(VLOOKUP(E408,Teilnehmer!$B$3:$C$1002,2,0),\"\")","v":""}]
[null,null,null,{"$f":"IFERROR(VLOOKUP(C409,Teilnehmer!$B$3:$C$1002,2,0),\"\")","v":""},null,{"$f":"IFERROR(VLOOKUP(E409,Teilnehmer!$B$3:$C$1002,2,0),\"\")","v":""}]
[null,null,null,{"$f":"IFERROR(VLOOKUP(C410,Teilnehmer!$B$3:$C$1002,2,0),\"\")","v":""},null,{"$f":"IFERROR(VLOOKUP(E410,Teilnehmer!$B$3:$C$1002,2,0),\"\")","v":""}]
[null,null,null,{"$f":"IFERROR(VLOOKUP(C411,Teilnehmer!$B$3:$C$1002,2,0),\"\")","v":""},null,{"$f":"IFERROR(VLOOKUP(E411,Teilnehmer!$B$3:$C$1002,2,0),\"\")","v":""}]
[null,null,null,{"$f":"IFERROR(VLOOKUP(C412,Teilnehmer!$B$3:$C$1002,2,0),\"\")","v":""},null,{"$f":"IFERROR(VLOOKUP(E412,Teilnehmer!$B$3:$C$1002,2,0),\"\")","v":""}]
[null,null,null,{"$f":"IFERROR(VLOOKUP(C413,Teilnehmer!$B$3:$C$1002,2,0),\"\")","v":""},null,{"$f":"IFERROR(VLOOKUP(E413,Teilnehmer!$B$3:$C$1002,2,0),\"\")","v":""}]
[null,null,null,{"$f":"IFERROR(VLOOKUP(C414,Teilnehmer!$B$3:$C$1002,2,0),\"\")","v":""},null,{"$f":"IFERROR(VLOOKUP(E414,Teilnehmer!$B$3:$C$1002,2,0),\"\")","v":""}]
[null,null,null,{"$f":"IFERROR(VLOOKUP(C415,Teilnehmer!$B$3:$C$1002,2,0),\"\")","v":""},null,{"$f":"IFERROR(VLOOKUP(E415,Teilnehmer!$B$3:$C$1002,2,0),\"\")","v":""}]
[null,null,null,{"$f":"IFERROR(VLOOKUP(C416,Teilnehmer!$B$3:$C$1002,2,0),\"\")","v":""},null,{"$f":"IFERROR(VLOOKUP(E416,Teilnehmer!$B$3:$C$1002,2,0),\"\")","v":""}]
[null,null,null,{"$f":"IFERROR(VLOOKUP(C417,Teilnehmer!$B$3:$C$1002,2,0),\"\")","v":""},null,{"$f":"IFERROR(VLOOKUP(E417,Teilnehmer!$B$3:$C$1002,2,0),\"\")","v":""}]
[null,null,null,{"$f":"IFERROR(VLOOKUP(C418,Teilnehmer!$B$3:$C$1002,2,0),\"\")","v":""},null,{"$f":"IFERROR(VLOOKUP(E418,Teilnehmer!$B$3:$C$1002,2,0),\"\")","v":""}]
[null,null,null,{"$f":"IFERROR(VLOOKUP(C419,Teilnehmer!$B$3:$C$1002,2,0),\"\")","v":""},null,{"$f":"IFERROR(VLOOKUP(E419,Teilnehmer!$B$3:$C$1002,2,0),\"\")","v":""}]
[null,null,null,{"$f":"IFERROR(VLOOKUP(C420,Teilnehmer!$B$3:$C$1002,2,0),\"\")","v":""},null,{"$f":"IFERROR(VLOOKUP(E420,Teilnehmer!$B$3:$C$1002,2,0),\"\")","v":""}]
[null,null,null,{"$f":"IFERROR(VLOOKUP(C421,Teilnehmer!$B$3:$C$1002,2,0),\"\")","v":""},null,{"$f":"IFERROR(VLOOKUP(E421,Teilnehmer!$B$3:$C$1002,2,0),\"\")","v":""}]
[null,null,null,{"$f":"IFERROR(VLOOKUP(C422,Teilnehmer!$B$3:$C$1002,2,0),\"\")","v":""},null,{"$f":"IFERROR(VLOOKUP(E422,Teilnehmer!$B$3:$C$1002,2,0),\"\")","v":""}]
[null,null,null,{"$f":"IFERROR(VLOOKUP(C423,Teilnehmer!$B$3:$C$1002,2,0),\"\")","v":""},null,{"$f":"IFERROR(VLOOKUP(E423,Teilnehmer!$B$3:$C$1002,2,0),\"\")","v":""}]
[null,null,null,{"$f":"IFERROR(VLOOKUP(C424,Teilnehmer!$B$3:$C$1002,2,0),\"\")","v":""},null,{"$f":"IFERROR(VLOOKUP(E424,Teilnehmer!$B$3:$C$1002,2,0),\"\")","v":""}]
[null,null,null,{"$f":"IFERROR(VLOOKUP(C425,Teilnehmer!$B$3:$C$1002,2,0),\"\")","v":""},null,{"$f":"IFERROR(VLOOKUP(E425,Teilnehmer!$B$3:$C$1002,2,0),\"\")","v":""}]
[null,null,null,{"$f":"IFERROR(VLOOKUP(C426,Teilnehmer!$B$3:$C$1002,2,0),\"\")","v":""},null,{"$f":"IFERROR(VLOOKUP(E426,Teilnehmer!$B$3:$C$1002,2,0),\"\")","v":""}]
[null,null,null,{"$f":"IFERROR(VLOOKUP(C427,Teilnehmer!$B$3:$C$1002,2,0),\"\")","v":""},null,{"$f":"IFERROR(VLOOKUP(E427,Teilnehmer!$B$3:$C$1002,2,0),\"\")","v":""}]
[null,null,null,{"$f":"IFERROR(VLOOKUP(C428,Teilnehmer!$B$3:$C$1002,2,0),\"\")","v":""},null,{"$f":"IFERROR(VLOOKUP(E428,Teilnehmer!$B$3:$C$1002,2,0),\"\")","v":""}]
[null,null,null,{"$f":"IFERROR(VLOOKUP(C429,Teilnehmer!$B$3:$C$1002,2,0),\"\")","v":""},null,{"$f":"IFERROR(VLOOKUP(E429,Teilnehmer!$B$3:$C$1002,2,0),\"\")","v":""}]
[null,null,null,{"$f":"IFERROR(VLOOKUP(C430,Teilnehmer!$B$3:$C$1002,2,0),\"\")","v":""},null,{"$f":"IFERROR(VLOOKUP(E430,Teilnehmer!$B$3:$C$1002,2,0),\"\")","v":""}]
[null,null,null,{"$f":"IFERROR(VLOOKUP(C431,Teilnehmer!$B$3:$C$1002,2,0),\"\")","v":""},null,{"$f":"IFERROR(VLOOKUP(E431,Teilnehmer!$B$3:$C$1002,2,0),\"\")","v":""}]
[null,null,null,{"$f":"IFERROR(VLOOKUP(C432,Teilnehmer!$B$3:$C$1002,2,0),\"\")","v":""},null,{"$f":"IFERROR(VLOOKUP(E432,Teilnehmer!$B$3:$C$1002,2,0),\"\")","v":""}]
[null,null,null,{"$f":"IFERROR(VLOOKUP(C433,Teilnehmer!$B$3:$C$1002,2,0),\"\")","v":""},null,{"$f":"IFERROR(VLOOKUP(E433,Teilnehmer!$B$3:$C$1002,2,0),\"\")","v":""}]
[null,null,null,{"$f":"IFERROR(VLOOKUP(C434,Teilnehmer!$B$3:$C$1002,2,0),\"\")","v":""},null,{"$f":"IFERROR(VLOOKUP(E434,Teilnehmer!$B$3:$C$1002,2,0),\"\")","v":""}]
[null,null,null,{"$f":"IFERROR(VLOOKUP(C435,Teilnehmer!$B$3:$C$1002,2,0),\"\")","v":""},null,{"$f":"IFERROR(VLOOKUP(E435,Teilnehmer!$B$3:$C$1002,2,0),\"\")","v":""}]
[null,null,null,{"$f":"IFERROR(VLOOKUP(C436,Teilnehmer!$B$3:$C$1002,2,0),\"\")","v":""},null,{"$f":"IFERROR(VLOOKUP(E436,Teilnehmer!$B$3:$C$1002,2,0),\"\")","v":""}]
[null,null,null,{"$f":"IFERROR(VLOOKUP(C437,Teilnehmer!$B$3:$C$1002,2,0),\"\")","v":""},null,{"$f":"IFERROR(VLOOKUP(E437,Teilnehmer!$B$3:$C$1002,2,0),\"\")","v":""}]
[null,null,null,{"$f":"IFERROR(VLOOKUP(C438,Teilnehmer!$B$3:$C$1002,2,0),\"\")","v":""},null,{"$f":"IFERROR(VLOOKUP(E438,Teilnehmer!$B$3:$C$1002,2,0),\"\")","v":""}]
[null,null,null,{"$f":"IFERROR(VLOOKUP(C439,Teilnehmer!$B$3:$C$1002,2,0),\"\")","v":""},null,{"$f":"IFERROR(VLOOKUP(E439,Teilnehmer!$B$3:$C$1002,2,0),\"\")","v":""}]
[null,null,null,{"$f":"IFERROR(VLOOKUP(C440,Teilnehmer!$B$3:$C$1002,2,0),\"\")","v":""},null,{"$f":"IFERROR(VLOOKUP(E440,Teilnehmer!$B$3:$C$1002,2,0),\"\")","v":""}]
[null,null,null,{"$f":"IFERROR(VLOOKUP(C441,Teilnehmer!$B$3:$C$1002,2,0),\"\")","v":""},null,{"$f":"IFERROR(VLOOKUP(E441,Teilnehmer!$B$3:$C$1002,2,0),\"\")","v":""}]
[null,null,null,{"$f":"IFERROR(VLOOKUP(C442,Teilnehmer!$B$3:$C$1002,2,0),\"\")","v":""},null,{"$f":"IFERROR(VLOOKUP(E442,Teilnehmer!$B$3:$C$1002,2,0),\"\")","v":""}]
[null,null,null,{"$f":"IFERROR(VLOOKUP(C443,Teilnehmer!$B$3:$C$1002,2,0),\"\")","v":""},null,{"$f":"IFERROR(VLOOKUP(E443,Teilnehmer!$B$3:$C$1002,2,0),\"\")","v":""}]
[null,null,null,{"$f":"IFERROR(VLOOKUP(C444,Teilnehmer!$B$3:$C$1002,2,0),\"\")","v":""},null,{"$f":"IFERROR(VLOOKUP(E444,Teilnehmer!$B$3:$C$1002,2,0),\"\")","v":""}]
[null,null,null,{"$f":"IFERROR(VLOOKUP(C445,Teilnehmer!$B$3:$C$1002,2,0),\"\")","v":""},null,{"$f":"IFERROR(VLOOKUP(E445,Teilnehmer!$B$3:$C$1002,2,0),\"\")","v":""}]
[null,null,null,{"$f":"IFERROR(VLOOKUP(C446,Teilnehmer!$B$3:$C$1002,2,0),\"\")","v":""},null,{"$f":"IFERROR(VLOOKUP(E446,Teilnehmer!$B$3:$C$1002,2,0),\"\")","v":""}]
[null,null,null,{"$f":"IFERROR(VLOOKUP(C447,Teilnehmer!$B$3:$C$1002,2,0),\"\")","v":""},null,{"$f":"IFERROR(VLOOKUP(E447,Teilnehmer!$B$3:$C$1002,2,0),\"\")","v":""}]
[null,null,null,{"$f":"IFERROR(VLOOKUP(C448,Teilnehmer!$B$3:$C$1002,2,0),\"\")","v":""},null,{"$f":"IFERROR(VLOOKUP(E448,Teilnehmer!$B$3:$C$1002,2,0),\"\")","v":""}]
[null,null,null,{"$f":"IFERROR(VLOOKUP(C449,Teilnehmer!$B$3:$C$1002,2,0),\"\")","v":""},null,{"$f":"IFERROR(VLOOKUP(E449,Teilnehmer!$B$3:$C$1002,2,0),\"\")","v":""}]
[null,null,null,{"$f":"IFERROR(VLOOKUP(C450,Teilnehmer!$B$3:$C$1002,2,0),\"\")","v":""},null,{"$f":"IFERROR(VLOOKUP(E450,Teilnehmer!$B$3:$C$1002,2,0),\"\")","v":""}]
[null,null,null,{"$f":"IFERROR(VLOOKUP(C451,Teilnehmer!$B$3:$C$1002,2,0),\"\")","v":""},null,{"$f":"IFERROR(VLOOKUP(E451,Teilnehmer!$B$3:$C$1002,2,0),\"\")","v":""}]
[null,null,null,{"$f":"IFERROR(VLOOKUP(C452,Teilnehmer!$B$3:$C$1002,2,0),\"\")","v":""},null,{"$f":"IFERROR(VLOOKUP(E452,Teilnehmer!$B$3:$C$1002,2,0),\"\")","v":""}]
[null,null,null,{"$f":"IFERROR(VLOOKUP(C453,Teilnehmer!$B$3:$C$1002,2,0),\"\")","v":""},null,{"$f":"IFERROR(VLOOKUP(E453,Teilnehmer!$B$3:$C$1002,2,0),\"\")","v":""}]
[null,null,null,{"$f":"IFERROR(VLOOKUP(C454,Teilnehmer!$B$3:$C$1002,2,0),\"\")","v":""},null,{"$f":"IFERROR(VLOOKUP(E454,Teilnehmer!$B$3:$C$1002,2,0),\"\")","v":""}]
[null,null,null,{"$f":"IFERROR(VLOOKUP(C455,Teilnehmer!$B$3:$C$1002,2,0),\"\")","v":""},null,{"$f":"IFERROR(VLOOKUP(E455,Teilnehmer!$B$3:$C$1002,2,0),\"\")","v":""}]
[null,null,null,{"$f":"IFERROR(VLOOKUP(C456,Teilnehmer!$B$3:$C$1002,2,0),\"\")","v":""},null,{"$f":"IFERROR(VLOOKUP(E456,Teilnehmer!$B$3:$C$1002,2,0),\"\")","v":""}]
[null,null,null,{"$f":"IFERROR(VLOOKUP(C457,Teilnehmer!$B$3:$C$1002,2,0),\"\")","v":""},null,{"$f":"IFERROR(VLOOKUP(E457,Teilnehmer!$B$3:$C$1002,2,0),\"\")","v":""}]
[null,null,null,{"$f":"IFERROR(VLOOKUP(C458,Teilnehmer!$B$3:$C$1002,2,0),\"\")","v":""},null,{"$f":"IFERROR(VLOOKUP(E458,Teilnehmer!$B$3:$C$1002,2,0),\"\")","v":""}]
[null,null,null,{"$f":"IFERROR(VLOOKUP(C459,Teilnehmer!$B$3:$C$1002,2,0),\"\")","v":""},null,{"$f":"IFERROR(VLOOKUP(E459,Teilnehmer!$B$3:$C$1002,2,0),\"\")","v":""}]
[null,null,null,{"$f":"IFERROR(VLOOKUP(C460,Teilnehmer!$B$3:$C$1002,2,0),\"\")","v":""},null,{"$f":"IFERROR(VLOOKUP(E460,Teilnehmer!$B$3:$C$1002,2,0),\"\")","v":""}]
[null,null,null,{"$f":"IFERROR(VLOOKUP(C461,Teilnehmer!$B$3:$C$1002,2,0),\"\")","v":""},null,{"$f":"IFERROR(VLOOKUP(E461,Teilnehmer!$B$3:$C$1002,2,0),\"\")","v":""}]
[null,null,null,{"$f":"IFERROR(VLOOKUP(C462,Teilnehmer!$B$3:$C$1002,2,0),\"\")","v":""},null,{"$f":"IFERROR(VLOOKUP(E462,Teilnehmer!$B$3:$C$1002,2,0),\"\")","v":""}]
[null,null,null,{"$f":"IFERROR(VLOOKUP(C463,Teilnehmer!$B$3:$C$1002,2,0),\"\")","v":""},null,{"$f":"IFERROR(VLOOKUP(E463,Teilnehmer!$B$3:$C$1002,2,0),\"\")","v":""}]
[null,null,null,{"$f":"IFERROR(VLOOKUP(C464,Teilnehmer!$B$3:$C$1002,2,0),\"\")","v":""},null,{"$f":"IFERROR(VLOOKUP(E464,Teilnehmer!$B$3:$C$1002,2,0),\"\")","v":""}]
[null,null,null,{"$f":"IFERROR(VLOOKUP(C465,Teilnehmer!$B$3:$C$1002,2,0),\"\")","v":""},null,{"$f":"IFERROR(VLOOKUP(E465,Teilnehmer!$B$3:$C$1002,2,0),\"\")","v":""}]
[null,null,null,{"$f":"IFERROR(VLOOKUP(C466,Teilnehmer!$B$3:$C$1002,2,0),\"\")","v":""},null,{"$f":"IFERROR(VLOOKUP(E466,Teilnehmer!$B$3:$C$1002,2,0),\"\")","v":""}]
[null,null,null,{"$f":"IFERROR(VLOOKUP(C467,Teilnehmer!$B$3:$C$1002,2,0),\"\")","v":""},null,{"$f":"IFERROR(VLOOKUP(E467,Teilnehmer!$B$3:$C$1002,2,0),\"\")","v":""}]
[null,null,null,{"$f":"IFERROR(VLOOKUP(C468,Teilnehmer!$B$3:$C$1002,2,0),\"\")","v":""},null,{"$f":"IFERROR(VLOOKUP(E468,Teilnehmer!$B$3:$C$1002,2,0),\"\")","v":""}]
[null,null,null,{"$f":"IFERROR(VLOOKUP(C469,Teilnehmer!$B$3:$C$1002,2,0),\"\")","v":""},null,{"$f":"IFERROR(VLOOKUP(E469,Teilnehmer!$B$3:$C$1002,2,0),\"\")","v":""}]
[null,null,null,{"$f":"IFERROR(VLOOKUP(C470,Teilnehmer!$B$3:$C$1002,2,0),\"\")","v":""},null,{"$f":"IFERROR(VLOOKUP(E470,Teilnehmer!$B$3:$C$1002,2,0),\"\")","v":""}]
[null,null,null,{"$f":"IFERROR(VLOOKUP(C471,Teilnehmer!$B$3:$C$1002,2,0),\"\")","v":""},null,{"$f":"IFERROR(VLOOKUP(E471,Teilnehmer!$B$3:$C$1002,2,0),\"\")","v":""}]
[null,null,null,{"$f":"IFERROR(VLOOKUP(C472,Teilnehmer!$B$3:$C$1002,2,0),\"\")","v":""},null,{"$f":"IFERROR(VLOOKUP(E472,Teilnehmer!$B$3:$C$1002,2,0),\"\")","v":""}]
[null,null,null,{"$f":"IFERROR(VLOOKUP(C473,Teilnehmer!$B$3:$C$1002,2,0),\"\")","v":""},null,{"$f":"IFERROR(VLOOKUP(E473,Teilnehmer!$B$3:$C$1002,2,0),\"\")","v":""}]
[null,null,null,{"$f":"IFERROR(VLOOKUP(C474,Teilnehmer!$B$3:$C$1002,2,0),\"\")","v":""},null,{"$f":"IFERROR(VLOOKUP(E474,Teilnehmer!$B$3:$C$1002,2,0),\"\")","v":""}]
[null,null,null,{"$f":"IFERROR(VLOOKUP(C475,Teilnehmer!$B$3:$C$1002,2,0),\"\")","v":""},null,{"$f":"IFERROR(VLOOKUP(E475,Teilnehmer!$B$3:$C$1002,2,0),\"\")","v":""}]
[null,null,null,{"$f":"IFERROR(VLOOKUP(C476,Teilnehmer!$B$3:$C$1002,2,0),\"\")","v":""},null,{"$f":"IFERROR(VLOOKUP(E476,Teilnehmer!$B$3:$C$1002,2,0),\"\")","v":""}]
[null,null,null,{"$f":"IFERROR(VLOOKUP(C477,Teilnehmer!$B$3:$C$1002,2,0),\"\")","v":""},null,{"$f":"IFERROR(VLOOKUP(E477,Teilnehmer!$B$3:$C$1002,2,0),\"\")","v":""}]
[null,null,null,{"$f":"IFERROR(VLOOKUP(C478,Teilnehmer!$B$3:$C$1002,2,0),\"\")","v":""},null,{"$f":"IFERROR(VLOOKUP(E478,Teilnehmer!$B$3:$C$1002,2,0),\"\")","v":""}]
[null,null,null,{"$f":"IFERROR(VLOOKUP(C479,Teilnehmer!$B$3:$C$1002,2,0),\"\")","v":""},null,{"$f":"IFERROR(VLOOKUP(E479,Teilnehmer!$B$3:$C$1002,2,0),\"\")","v":""}]
[null,null,null,{"$f":"IFERROR(VLOOKUP(C480,Teilnehmer!$B$3:$C$1002,2,0),\"\")","v":""},null,{"$f":"IFERROR(VLOOKUP(E480,Teilnehmer!$B$3:$C$1002,2,0),\"\")","v":""}]
[null,null,null,{"$f":"IFERROR(VLOOKUP(C481,Teilnehmer!$B$3:$C$1002,2,0),\"\")","v":""},null,{"$f":"IFERROR(VLOOKUP(E481,Teilnehmer!$B$3:$C$1002,2,0),\"\")","v":""}]
[null,null,null,{"$f":"IFERROR(VLOOKUP(C482,Teilnehmer!$B$3:$C$1002,2,0),\"\")","v":""},null,{"$f":"IFERROR(VLOOKUP(E482,Teilnehmer!$B$3:$C$1002,2,0),\"\")","v":""}]
[null,null,null,{"$f":"IFERROR(VLOOKUP(C483,Teilnehmer!$B$3:$C$1002,2,0),\"\")","v":""},null,{"$f":"IFERROR(VLOOKUP(E483,Teilnehmer!$B$3:$C$1002,2,0),\"\")","v":""}]
[null,null,null,{"$f":"IFERROR(VLOOKUP(C484,Teilnehmer!$B$3:$C$1002,2,0),\"\")","v":""},null,{"$f":"IFERROR(VLOOKUP(E484,Teilnehmer!$B$3:$C$1002,2,0),\"\")","v":""}]
[null,null,null,{"$f":"IFERROR(VLOOKUP(C485,Teilnehmer!$B$3:$C$1002,2,0),\"\")","v":""},null,{"$f":"IFERROR(VLOOKUP(E485,Teilnehmer!$B$3:$C$1002,2,0),\"\")","v":""}]
[null,null,null,{"$f":"IFERROR(VLOOKUP(C486,Teilnehmer!$B$3:$C$1002,2,0),\"\")","v":""},null,{"$f":"IFERROR(VLOOKUP(E486,Teilnehmer!$B$3:$C$1002,2,0),\"\")","v":""}]
[null,null,null,{"$f":"IFERROR(VLOOKUP(C487,Teilnehmer!$B$3:$C$1002,2,0),\"\")","v":""},null,{"$f":"IFERROR(VLOOKUP(E487,Teilnehmer!$B$3:$C$1002,2,0),\"\")","v":""}]
[null,null,null,{"$f":"IFERROR(VLOOKUP(C488,Teilnehmer!$B$3:$C$1002,2,0),\"\")","v":""},null,{"$f":"IFERROR(VLOOKUP(E488,Teilnehmer!$B$3:$C$1002,2,0),\"\")","v":""}]
[null,null,null,{"$f":"IFERROR(VLOOKUP(C489,Teilnehmer!$B$3:$C$1002,2,0),\"\")","v":""},null,{"$f":"IFERROR(VLOOKUP(E489,Teilnehmer!$B$3:$C$1002,2,0),\"\")","v":""}]
[null,null,null,{"$f":"IFERROR(VLOOKUP(C490,Teilnehmer!$B$3:$C$1002,2,0),\"\")","v":""},null,{"$f":"IFERROR(VLOOKUP(E490,Teilnehmer!$B$3:$C$1002,2,0),\"\")","v":""}]
[null,null,null,{"$f":"IFERROR(VLOOKUP(C491,Teilnehmer!$B$3:$C$1002,2,0),\"\")","v":""},null,{"$f":"IFERROR(VLOOKUP(E491,Teilnehmer!$B$3:$C$1002,2,0),\"\")","v":""}]
[null,null,null,{"$f":"IFERROR(VLOOKUP(C492,Teilnehmer!$B$3:$C$1002,2,0),\"\")","v":""},null,{"$f":"IFERROR(VLOOKUP(E492,Teilnehmer!$B$3:$C$1002,2,0),\"\")","v":""}]
[null,null,null,{"$f":"IFERROR(VLOOKUP(C493,Teilnehmer!$B$3:$C$1002,2,0),\"\")","v":""},null,{"$f":"IFERROR(VLOOKUP(E493,Teilnehmer!$B$3:$C$1002,2,0),\"\")","v":""}]
[null,null,null,{"$f":"IFERROR(VLOOKUP(C494,Teilnehmer!$B$3:$C$1002,2,0),\"\")","v":""},null,{"$f":"IFERROR(VLOOKUP(E494,Teilnehmer!$B$3:$C$1002,2,0),\"\")","v":""}]
[null,null,null,{"$f":"IFERROR(VLOOKUP(C495,Teilnehmer!$B$3:$C$1002,2,0),\"\")","v":""},null,{"$f":"IFERROR(VLOOKUP(E495,Teilnehmer!$B$3:$C$1002,2,0),\"\")","v":""}]
[null,null,null,{"$f":"IFERROR(VLOOKUP(C496,Teilnehmer!$B$3:$C$1002,2,0),\"\")","v":""},null,{"$f":"IFERROR(VLOOKUP(E496,Teilnehmer!$B$3:$C$1002,2,0),\"\")","v":""}]
[null,null,null,{"$f":"IFERROR(VLOOKUP(C497,Teilnehmer!$B$3:$C$1002,2,0),\"\")","v":""},null,{"$f":"IFERROR(VLOOKUP(E497,Teilnehmer!$B$3:$C$1002,2,0),\"\")","v":""}]
[null,null,null,{"$f":"IFERROR(VLOOKUP(C498,Teilnehmer!$B$3:$C$1002,2,0),\"\")","v":""},null,{"$f":"IFERROR(VLOOKUP(E498,Teilnehmer!$B$3:$C$1002,2,0),\"\")","v":""}]
[null,null,null,{"$f":"IFERROR(VLOOKUP(C499,Teilnehmer!$B$3:$C$1002,2,0),\"\")","v":""},null,{"$f":"IFERROR(VLOOKUP(E499,Teilnehmer!$B$3:$C$1002,2,0),\"\")","v":""}]
[null,null,null,{"$f":"IFERROR(VLOOKUP(C500,Teilnehmer!$B$3:$C$1002,2,0),\"\")","v":""},null,{"$f":"IFERROR(VLOOKUP(E500,Teilnehmer!$B$3:$C$1002,2,0),\"\")","v":""}]
[null,null,null,{"$f":"IFERROR(VLOOKUP(C501,Teilnehmer!$B$3:$C$1002,2,0),\"\")","v":""},null,{"$f":"IFERROR(VLOOKUP(E501,Teilnehmer!$B$3:$C$1002,2,0),\"\")","v":""}]
[null,null,null,{"$f":"IFERROR(VLOOKUP(C502,Teilnehmer!$B$3:$C$1002,2,0),\"\")","v":""},null,{"$f":"IFERROR(VLOOKUP(E502,Teilnehmer!$B$3:$C$1002,2,0),\"\")","v":""}]
[null,null,null,{"$f":"IFERROR(VLOOKUP(C503,Teilnehmer!$B$3:$C$1002,2,0),\"\")","v":""},null,{"$f":"IFERROR(VLOOKUP(E503,Teilnehmer!$B$3:$C$1002,2,0),\"\")","v":""}]
[null,null,null,{"$f":"IFERROR(VLOOKUP(C504,Teilnehmer!$B$3:$C$1002,2,0),\"\")","v":""},null,{"$f":"IFERROR(VLOOKUP(E504,Teilnehmer!$B$3:$C$1002,2,0),\"\")","v":""}]
[null,null,null,{"$f":"IFERROR(VLOOKUP(C505,Teilnehmer!$B$3:$C$1002,2,0),\"\")","v":""},null,{"$f":"IFERROR(VLOOKUP(E505,Teilnehmer!$B$3:$C$1002,2,0),\"\")","v":""}]
[null,null,null,{"$f":"IFERROR(VLOOKUP(C506,Teilnehmer!$B$3:$C$1002,2,0),\"\")","v":""},null,{"$f":"IFERROR(VLOOKUP(E506,Teilnehmer!$B$3:$C$1002,2,0),\"\")","v":""}]
[null,null,null,{"$f":"IFERROR(VLOOKUP(C507,Teilnehmer!$B$3:$C$1002,2,0),\"\")","v":""},null,{"$f":"IFERROR(VLOOKUP(E507,Teilnehmer!$B$3:$C$1002,2,0),\"\")","v":""}]
[null,null,null,{"$f":"IFERROR(VLOOKUP(C508,Teilnehmer!$B$3:$C$1002,2,0),\"\")","v":""},null,{"$f":"IFERROR(VLOOKUP(E508,Teilnehmer!$B$3:$C$1002,2,0),\"\")","v":""}]
[null,null,null,{"$f":"IFERROR(VLOOKUP(C509,Teilnehmer!$B$3:$C$1002,2,0),\"\")","v":""},null,{"$f":"IFERROR(VLOOKUP(E509,Teilnehmer!$B$3:$C$1002,2,0),\"\")","v":""}]
[null,null,null,{"$f":"IFERROR(VLOOKUP(C510,Teilnehmer!$B$3:$C$1002,2,0),\"\")","v":""},null,{"$f":"IFERROR(VLOOKUP(E510,Teilnehmer!$B$3:$C$1002,2,0),\"\")","v":""}]
[null,null,null,{"$f":"IFERROR(VLOOKUP(C511,Teilnehmer!$B$3:$C$1002,2,0),\"\")","v":""},null,{"$f":"IFERROR(VLOOKUP(E511,Teilnehmer!$B$3:$C$1002,2,0),\"\")","v":""}]
[null,null,null,{"$f":"IFERROR(VLOOKUP(C512,Teilnehmer!$B$3:$C$1002,2,0),\"\")","v":""},null,{"$f":"IFERROR(VLOOKUP(E512,Teilnehmer!$B$3:$C$1002,2,0),\"\")","v":""}]
[null,null,null,{"$f":"IFERROR(VLOOKUP(C513,Teilnehmer!$B$3:$C$1002,2,0),\"\")","v":""},null,{"$f":"IFERROR(VLOOKUP(E513,Teilnehmer!$B$3:$C$1002,2,0),\"\")","v":""}]
[null,null,null,{"$f":"IFERROR(VLOOKUP(C514,Teilnehmer!$B$3:$C$1002,2,0),\"\")","v":""},null,{"$f":"IFERROR(VLOOKUP(E514,Teilnehmer!$B$3:$C$1002,2,0),\"\")","v":""}]
[null,null,null,{"$f":"IFERROR(VLOOKUP(C515,Teilnehmer!$B$3:$C$1002,2,0),\"\")","v":""},null,{"$f":"IFERROR(VLOOKUP(E515,Teilnehmer!$B$3:$C$1002,2,0),\"\")","v":""}]
[null,null,null,{"$f":"IFERROR(VLOOKUP(C516,Teilnehmer!$B$3:$C$1002,2,0),\"\")","v":""},null,{"$f":"IFERROR(VLOOKUP(E516,Teilnehmer!$B$3:$C$1002,2,0),\"\")","v":""}]
[null,null,null,{"$f":"IFERROR(VLOOKUP(C517,Teilnehmer!$B$3:$C$1002,2,0),\"\")","v":""},null,{"$f":"IFERROR(VLOOKUP(E517,Teilnehmer!$B$3:$C$1002,2,0),\"\")","v":""}]
[null,null,null,{"$f":"IFERROR(VLOOKUP(C518,Teilnehmer!$B$3:$C$1002,2,0),\"\")","v":""},null,{"$f":"IFERROR(VLOOKUP(E518,Teilnehmer!$B$3:$C$1002,2,0),\"\")","v":""}]
[null,null,null,{"$f":"IFERROR(VLOOKUP(C519,Teilnehmer!$B$3:$C$1002,2,0),\"\")","v":""},null,{"$f":"IFERROR(VLOOKUP(E519,Teilnehmer!$B$3:$C$1002,2,0),\"\")","v":""}]
[null,null,null,{"$f":"IFERROR(VLOOKUP(C520,Teilnehmer!$B$3:$C$1002,2,0),\"\")","v":""},null,{"$f":"IFERROR(VLOOKUP(E520,Teilnehmer!$B$3:$C$1002,2,0),\"\")","v":""}]
[null,null,null,{"$f":"IFERROR(VLOOKUP(C521,Teilnehmer!$B$3:$C$1002,2,0),\"\")","v":""},null,{"$f":"IFERROR(VLOOKUP(E521,Teilnehmer!$B$3:$C$1002,2,0),\"\")","v":""}]
[null,null,null,{"$f":"IFERROR(VLOOKUP(C522,Teilnehmer!$B$3:$C$1002,2,0),\"\")","v":""},null,{"$f":"IFERROR(VLOOKUP(E522,Teilnehmer!$B$3:$C$1002,2,0),\"\")","v":""}]
[null,null,null,{"$f":"IFERROR(VLOOKUP(C523,Teilnehmer!$B$3:$C$1002,2,0),\"\")","v":""},null,{"$f":"IFERROR(VLOOKUP(E523,Teilnehmer!$B$3:$C$1002,2,0),\"\")","v":""}]
[null,null,null,{"$f":"IFERROR(VLOOKUP(C524,Teilnehmer!$B$3:$C$1002,2,0),\"\")","v":""},null,{"$f":"IFERROR(VLOOKUP(E524,Teilnehmer!$B$3:$C$1002,2,0),\"\")","v":""}]
[null,null,null,{"$f":"IFERROR(VLOOKUP(C525,Teilnehmer!$B$3:$C$1002,2,0),\"\")","v":""},null,{"$f":"IFERROR(VLOOKUP(E525,Teilnehmer!$B$3:$C$1002,2,0),\"\")","v":""}]
[null,null,null,{"$f":"IFERROR(VLOOKUP(C526,Teilnehmer!$B$3:$C$1002,2,0),\"\")","v":""},null,{"$f":"IFERROR(VLOOKUP(E526,Teilnehmer!$B$3:$C$1002,2,0),\"\")","v":""}]
[null,null,null,{"$f":"IFERROR(VLOOKUP(C527,Teilnehmer!$B$3:$C$1002,2,0),\"\")","v":""},null,{"$f":"IFERROR(VLOOKUP(E527,Teilnehmer!$B$3:$C$1002,2,0),\"\")","v":""}]
[null,null,null,{"$f":"IFERROR(VLOOKUP(C528,Teilnehmer!$B$3:$C$1002,2,0),\"\")","v":""},null,{"$f":"IFERROR(VLOOKUP(E528,Teilnehmer!$B$3:$C$1002,2,0),\"\")","v":""}]
[null,null,null,{"$f":"IFERROR(VLOOKUP(C529,Teilnehmer!$B$3:$C$1002,2,0),\"\")","v":""},null,{"$f":"IFERROR(VLOOKUP(E529,Teilnehmer!$B$3:$C$1002,2,0),\"\")","v":""}]
[null,null,null,{"$f":"IFERROR(VLOOKUP(C530,Teilnehmer!$B$3:$C$1002,2,0),\"\")","v":""},null,{"$f":"IFERROR(VLOOKUP(E530,Teilnehmer!$B$3:$C$1002,2,0),\"\")","v":""}]
[null,null,null,{"$f":"IFERROR(VLOOKUP(C531,Teilnehmer!$B$3:$C$1002,2,0),\"\")","v":""},null,{"$f":"IFERROR(VLOOKUP(E531,Teilnehmer!$B$3:$C$1002,2,0),\"\")","v":""}]
[null,null,null,{"$f":"IFERROR(VLOOKUP(C532,Teilnehmer!$B$3:$C$1002,2,0),\"\")","v":""},null,{"$f":"IFERROR(VLOOKUP(E532,Teilnehmer!$B$3:$C$1002,2,0),\"\")","v":""}]
[null,null,null,{"$f":"IFERROR(VLOOKUP(C533,Teilnehmer!$B$3:$C$1002,2,0),\"\")","v":""},null,{"$f":"IFERROR(VLOOKUP(E533,Teilnehmer!$B$3:$C$1002,2,0),\"\")","v":""}]
[null,null,null,{"$f":"IFERROR(VLOOKUP(C534,Teilnehmer!$B$3:$C$1002,2,0),\"\")","v":""},null,{"$f":"IFERROR(VLOOKUP(E534,Teilnehmer!$B$3:$C$1002,2,0),\"\")","v":""}]
[null,null,null,{"$f":"IFERROR(VLOOKUP(C535,Teilnehmer!$B$3:$C$1002,2,0),\"\")","v":""},null,{"$f":"IFERROR(VLOOKUP(E535,Teilnehmer!$B$3:$C$1002,2,0),\"\")","v":""}]
[null,null,null,{"$f":"IFERROR(VLOOKUP(C536,Teilnehmer!$B$3:$C$1002,2,0),\"\")","v":""},null,{"$f":"IFERROR(VLOOKUP(E536,Teilnehmer!$B$3:$C$1002,2,0),\"\")","v":""}]
[null,null,null,{"$f":"IFERROR(VLOOKUP(C537,Teilnehmer!$B$3:$C$1002,2,0),\"\")","v":""},null,{"$f":"IFERROR(VLOOKUP(E537,Teilnehmer!$B$3:$C$1002,2,0),\"\")","v":""}]
[null,null,null,{"$f":"IFERROR(VLOOKUP(C538,Teilnehmer!$B$3:$C$1002,2,0),\"\")","v":""},null,{"$f":"IFERROR(VLOOKUP(E538,Teilnehmer!$B$3:$C$1002,2,0),\"\")","v":""}]
[null,null,null,{"$f":"IFERROR(VLOOKUP(C539,Teilnehmer!$B$3:$C$1002,2,0),\"\")","v":""},null,{"$f":"IFERROR(VLOOKUP(E539,Teilnehmer!$B$3:$C$1002,2,0),\"\")","v":""}]
[null,null,null,{"$f":"IFERROR(VLOOKUP(C540,Teilnehmer!$B$3:$C$1002,2,0),\"\")","v":""},null,{"$f":"IFERROR(VLOOKUP(E540,Teilnehmer!$B$3:$C$1002,2,0),\"\")","v":""}]
[null,null,null,{"$f":"IFERROR(VLOOKUP(C541,Teilnehmer!$B$3:$C$1002,2,0),\"\")","v":""},null,{"$f":"IFERROR(VLOOKUP(E541,Teilnehmer!$B$3:$C$1002,2,0),\"\")","v":""}]
[null,null,null,{"$f":"IFERROR(VLOOKUP(C542,Teilnehmer!$B$3:$C$1002,2,0),\"\")","v":""},null,{"$f":"IFERROR(VLOOKUP(E542,Teilnehmer!$B$3:$C$1002,2,0),\"\")","v":""}]
[null,null,null,{"$f":"IFERROR(VLOOKUP(C543,Teilnehmer!$B$3:$C$1002,2,0),\"\")","v":""},null,{"$f":"IFERROR(VLOOKUP(E543,Teilnehmer!$B$3:$C$1002,2,0),\"\")","v":""}]
[null,null,null,{"$f":"IFERROR(VLOOKUP(C544,Teilnehmer!$B$3:$C$1002,2,0),\"\")","v":""},null,{"$f":"IFERROR(VLOOKUP(E544,Teilnehmer!$B$3:$C$1002,2,0),\"\")","v":""}]
[null,null,null,{"$f":"IFERROR(VLOOKUP(C545,Teilnehmer!$B$3:$C$1002,2,0),\"\")","v":""},null,{"$f":"IFERROR(VLOOKUP(E545,Teilnehmer!$B$3:$C$1002,2,0),\"\")","v":""}]
[null,null,null,{"$f":"IFERROR(VLOOKUP(C546,Teilnehmer!$B$3:$C$1002,2,0),\"\")","v":""},null,{"$f":"IFERROR(VLOOKUP(E546,Teilnehmer!$B$3:$C$1002,2,0),\"\")","v":""}]
[null,null,null,{"$f":"IFERROR(VLOOKUP(C547,Teilnehmer!$B$3:$C$1002,2,0),\"\")","v":""},null,{"$f":"IFERROR(VLOOKUP(E547,Teilnehmer!$B$3:$C$1002,2,0),\"\")","v":""}]
[null,null,null,{"$f":"IFERROR(VLOOKUP(C548,Teilnehmer!$B$3:$C$1002,2,0),\"\")","v":""},null,{"$f":"IFERROR(VLOOKUP(E548,Teilnehmer!$B$3:$C$1002,2,0),\"\")","v":""}]
[null,null,null,{"$f":"IFERROR(VLOOKUP(C549,Teilnehmer!$B$3:$C$1002,2,0),\"\")","v":""},null,{"$f":"IFERROR(VLOOKUP(E549,Teilnehmer!$B$3:$C$1002,2,0),\"\")","v":""}]
[null,null,null,{"$f":"IFERROR(VLOOKUP(C550,Teilnehmer!$B$3:$C$1002,2,0),\"\")","v":""},null,{"$f":"IFERROR(VLOOKUP(E550,Teilnehmer!$B$3:$C$1002,2,0),\"\")","v":""}]
[null,null,null,{"$f":"IFERROR(VLOOKUP(C551,Teilnehmer!$B$3:$C$1002,2,0),\"\")","v":""},null,{"$f":"IFERROR(VLOOKUP(E551,Teilnehmer!$B$3:$C$1002,2,0),\"\")","v":""}]
[null,null,null,{"$f":"IFERROR(VLOOKUP(C552,Teilnehmer!$B$3:$C$1002,2,0),\"\")","v":""},null,{"$f":"IFERROR(VLOOKUP(E552,Teilnehmer!$B$3:$C$1002,2,0),\"\")","v":""}]
[null,null,null,{"$f":"IFERROR(VLOOKUP(C553,Teilnehmer!$B$3:$C$1002,2,0),\"\")","v":""},null,{"$f":"IFERROR(VLOOKUP(E553,Teilnehmer!$B$3:$C$1002,2,0),\"\")","v":""}]
[null,null,null,{"$f":"IFERROR(VLOOKUP(C554,Teilnehmer!$B$3:$C$1002,2,0),\"\")","v":""},null,{"$f":"IFERROR(VLOOKUP(E554,Teilnehmer!$B$3:$C$1002,2,0),\"\")","v":""}]
[null,null,null,{"$f":"IFERROR(VLOOKUP(C555,Teilnehmer!$B$3:$C$1002,2,0),\"\")","v":""},null,{"$f":"IFERROR(VLOOKUP(E555,Teilnehmer!$B$3:$C$1002,2,0),\"\")","v":""}]
[null,null,null,{"$f":"IFERROR(VLOOKUP(C556,Teilnehmer!$B$3:$C$1002,2,0),\"\")","v":""},null,{"$f":"IFERROR(VLOOKUP(E556,Teilnehmer!$B$3:$C$1002,2,0),\"\")","v":""}]
[null,null,null,{"$f":"IFERROR(VLOOKUP(C557,Teilnehmer!$B$3:$C$1002,2,0),\"\")","v":""},null,{"$f":"IFERROR(VLOOKUP(E557,Teilnehmer!$B$3:$C$1002,2,0),\"\")","v":""}]
[null,null,null,{"$f":"IFERROR(VLOOKUP(C558,Teilnehmer!$B$3:$C$1002,2,0),\"\")","v":""},null,{"$f":"IFERROR(VLOOKUP(E558,Teilnehmer!$B$3:$C$1002,2,0),\"\")","v":""}]
[null,null,null,{"$f":"IFERROR(VLOOKUP(C559,Teilnehmer!$B$3:$C$1002,2,0),\"\")","v":""},null,{"$f":"IFERROR(VLOOKUP(E559,Teilnehmer!$B$3:$C$1002,2,0),\"\")","v":""}]
[null,null,null,{"$f":"IFERROR(VLOOKUP(C560,Teilnehmer!$B$3:$C$1002,2,0),\"\")","v":""},null,{"$f":"IFERROR(VLOOKUP(E560,Teilnehmer!$B$3:$C$1002,2,0),\"\")","v":""}]
[null,null,null,{"$f":"IFERROR(VLOOKUP(C561,Teilnehmer!$B$3:$C$1002,2,0),\"\")","v":""},null,{"$f":"IFERROR(VLOOKUP(E561,Teilnehmer!$B$3:$C$1002,2,0),\"\")","v":""}]
[null,null,null,{"$f":"IFERROR(VLOOKUP(C562,Teilnehmer!$B$3:$C$1002,2,0),\"\")","v":""},null,{"$f":"IFERROR(VLOOKUP(E562,Teilnehmer!$B$3:$C$1002,2,0),\"\")","v":""}]
[null,null,null,{"$f":"IFERROR(VLOOKUP(C563,Teilnehmer!$B$3:$C$1002,2,0),\"\")","v":""},null,{"$f":"IFERROR(VLOOKUP(E563,Teilnehmer!$B$3:$C$1002,2,0),\"\")","v":""}]
[null,null,null,{"$f":"IFERROR(VLOOKUP(C564,Teilnehmer!$B$3:$C$1002,2,0),\"\")","v":""},null,{"$f":"IFERROR(VLOOKUP(E564,Teilnehmer!$B$3:$C$1002,2,0),\"\")","v":""}]
[null,null,null,{"$f":"IFERROR(VLOOKUP(C565,Teilnehmer!$B$3:$C$1002,2,0),\"\")","v":""},null,{"$f":"IFERROR(VLOOKUP(E565,Teilnehmer!$B$3:$C$1002,2,0),\"\")","v":""}]
[null,null,null,{"$f":"IFERROR(VLOOKUP(C566,Teilnehmer!$B$3:$C$1002,2,0),\"\")","v":""},null,{"$f":"IFERROR(VLOOKUP(E566,Teilnehmer!$B$3:$C$1002,2,0),\"\")","v":""}]
[null,null,null,{"$f":"IFERROR(VLOOKUP(C567,Teilnehmer!$B$3:$C$1002,2,0),\"\")","v":""},null,{"$f":"IFERROR(VLOOKUP(E567,Teilnehmer!$B$3:$C$1002,2,0),\"\")","v":""}]
[null,null,null,{"$f":"IFERROR(VLOOKUP(C568,Teilnehmer!$B$3:$C$1002,2,0),\"\")","v":""},null,{"$f":"IFERROR(VLOOKUP(E568,Teilnehmer!$B$3:$C$1002,2,0),\"\")","v":""}]
[null,null,null,{"$f":"IFERROR(VLOOKUP(C569,Teilnehmer!$B$3:$C$1002,2,0),\"\")","v":""},null,{"$f":"IFERROR(VLOOKUP(E569,Teilnehmer!$B$3:$C$1002,2,0),\"\")","v":""}]
[null,null,null,{"$f":"IFERROR(VLOOKUP(C570,Teilnehmer!$B$3:$C$1002,2,0),\"\")","v":""},null,{"$f":"IFERROR(VLOOKUP(E570,Teilnehmer!$B$3:$C$1002,2,0),\"\")","v":""}]
[null,null,null,{"$f":"IFERROR(VLOOKUP(C571,Teilnehmer!$B$3:$C$1002,2,0),\"\")","v":""},null,{"$f":"IFERROR(VLOOKUP(E571,Teilnehmer!$B$3:$C$1002,2,0),\"\")","v":""}]
[null,null,null,{"$f":"IFERROR(VLOOKUP(C572,Teilnehmer!$B$3:$C$1002,2,0),\"\")","v":""},null,{"$f":"IFERROR(VLOOKUP(E572,Teilnehmer!$B$3:$C$1002,2,0),\"\")","v":""}]
[null,null,null,{"$f":"IFERROR(VLOOKUP(C573,Teilnehmer!$B$3:$C$1002,2,0),\"\")","v":""},null,{"$f":"IFERROR(VLOOKUP(E573,Teilnehmer!$B$3:$C$1002,2,0),\"\")","v":""}]
[null,null,null,{"$f":"IFERROR(VLOOKUP(C574,Teilnehmer!$B$3:$C$1002,2,0),\"\")","v":""},null,{"$f":"IFERROR(VLOOKUP(E574,Teilnehmer!$B$3:$C$1002,2,0),\"\")","v":""}]
[null,null,null,{"$f":"IFERROR(VLOOKUP(C575,Teilnehmer!$B$3:$C$1002,2,0),\"\")","v":""},null,{"$f":"IFERROR(VLOOKUP(E575,Teilnehmer!$B$3:$C$1002,2,0),\"\")","v":""}]
[null,null,null,{"$f":"IFERROR(VLOOKUP(C576,Teilnehmer!$B$3:$C$1002,2,0),\"\")","v":""},null,{"$f":"IFERROR(VLOOKUP(E576,Teilnehmer!$B$3:$C$1002,2,0),\"\")","v":""}]
[null,null,null,{"$f":"IFERROR(VLOOKUP(C577,Teilnehmer!$B$3:$C$1002,2,0),\"\")","v":""},null,{"$f":"IFERROR(VLOOKUP(E577,Teilnehmer!$B$3:$C$1002,2,0),\"\")","v":""}]
[null,null,null,{"$f":"IFERROR(VLOOKUP(C578,Teilnehmer!$B$3:$C$1002,2,0),\"\")","v":""},null,{"$f":"IFERROR(VLOOKUP(E578,Teilnehmer!$B$3:$C$1002,2,0),\"\")","v":""}]
[null,null,null,{"$f":"IFERROR(VLOOKUP(C579,Teilnehmer!$B$3:$C$1002,2,0),\"\")","v":""},null,{"$f":"IFERROR(VLOOKUP(E579,Teilnehmer!$B$3:$C$1002,2,0),\"\")","v":""}]
[null,null,null,{"$f":"IFERROR(VLOOKUP(C580,Teilnehmer!$B$3:$C$1002,2,0),\"\")","v":""},null,{"$f":"IFERROR(VLOOKUP(E580,Teilnehmer!$B$3:$C$1002,2,0),\"\")","v":""}]
[null,null,null,{"$f":"IFERROR(VLOOKUP(C581,Teilnehmer!$B$3:$C$1002,2,0),\"\")","v":""},null,{"$f":"IFERROR(VLOOKUP(E581,Teilnehmer!$B$3:$C$1002,2,0),\"\")","v":""}]
[null,null,null,{"$f":"IFERROR(VLOOKUP(C582,Teilnehmer!$B$3:$C$1002,2,0),\"\")","v":""},null,{"$f":"IFERROR(VLOOKUP(E582,Teilnehmer!$B$3:$C$1002,2,0),\"\")","v":""}]
[null,null,null,{"$f":"IFERROR(VLOOKUP(C583,Teilnehmer!$B$3:$C$1002,2,0),\"\")","v":""},null,{"$f":"IFERROR(VLOOKUP(E583,Teilnehmer!$B$3:$C$1002,2,0),\"\")","v":""}]
[null,null,null,{"$f":"IFERROR(VLOOKUP(C584,Teilnehmer!$B$3:$C$1002,2,0),\"\")","v":""},null,{"$f":"IFERROR(VLOOKUP(E584,Teilnehmer!$B$3:$C$1002,2,0),\"\")","v":""}]
[null,null,null,{"$f":"IFERROR(VLOOKUP(C585,Teilnehmer!$B$3:$C$1002,2,0),\"\")","v":""},null,{"$f":"IFERROR(VLOOKUP(E585,Teilnehmer!$B$3:$C$1002,2,0),\"\")","v":""}]
[null,null,null,{"$f":"IFERROR(VLOOKUP(C586,Teilnehmer!$B$3:$C$1002,2,0),\"\")","v":""},null,{"$f":"IFERROR(VLOOKUP(E586,Teilnehmer!$B$3:$C$1002,2,0),\"\")","v":""}]
[null,null,null,{"$f":"IFERROR(VLOOKUP(C587,Teilnehmer!$B$3:$C$1002,2,0),\"\")","v":""},null,{"$f":"IFERROR(VLOOKUP(E587,Teilnehmer!$B$3:$C$1002,2,0),\"\")","v":""}]
[null,null,null,{"$f":"IFERROR(VLOOKUP(C588,Teilnehmer!$B$3:$C$1002,2,0),\"\")","v":""},null,{"$f":"IFERROR(VLOOKUP(E588,Teilnehmer!$B$3:$C$1002,2,0),\"\")","v":""}]
[null,null,null,{"$f":"IFERROR(VLOOKUP(C589,Teilnehmer!$B$3:$C$1002,2,0),\"\")","v":""},null,{"$f":"IFERROR(VLOOKUP(E589,Teilnehmer!$B$3:$C$1002,2,0),\"\")","v":""}]
[null,null,null,{"$f":"IFERROR(VLOOKUP(C590,Teilnehmer!$B$3:$C$1002,2,0),\"\")","v":""},null,{"$f":"IFERROR(VLOOKUP(E590,Teilnehmer!$B$3:$C$1002,2,0),\"\")","v":""}]
[null,null,null,{"$f":"IFERROR(VLOOKUP(C591,Teilnehmer!$B$3:$C$1002,2,0),\"\")","v":""},null,{"$f":"IFERROR(VLOOKUP(E591,Teilnehmer!$B$3:$C$1002,2,0),\"\")","v":""}]
[null,null,null,{"$f":"IFERROR(VLOOKUP(C592,Teilnehmer!$B$3:$C$1002,2,0),\"\")","v":""},null,{"$f":"IFERROR(VLOOKUP(E592,Teilnehmer!$B$3:$C$1002,2,0),\"\")","v":""}]
[null,null,null,{"$f":"IFERROR(VLOOKUP(C593,Teilnehmer!$B$3:$C$1002,2,0),\"\")","v":""},null,{"$f":"IFERROR(VLOOKUP(E593,Teilnehmer!$B$3:$C$1002,2,0),\"\")","v":""}]
[null,null,null,{"$f":"IFERROR(VLOOKUP(C594,Teilnehmer!$B$3:$C$1002,2,0),\"\")","v":""},null,{"$f":"IFERROR(VLOOKUP(E594,Teilnehmer!$B$3:$C$1002,2,0),\"\")","v":""}]
[null,null,null,{"$f":"IFERROR(VLOOKUP(C595,Teilnehmer!$B$3:$C$1002,2,0),\"\")","v":""},null,{"$f":"IFERROR(VLOOKUP(E595,Teilnehmer!$B$3:$C$1002,2,0),\"\")","v":""}]
[null,null,null,{"$f":"IFERROR(VLOOKUP(C596,Teilnehmer!$B$3:$C$1002,2,0),\"\")","v":""},null,{"$f":"IFERROR(VLOOKUP(E596,Teilnehmer!$B$3:$C$1002,2,0),\"\")","v":""}]
[null,null,null,{"$f":"IFERROR(VLOOKUP(C597,Teilnehmer!$B$3:$C$1002,2,0),\"\")","v":""},null,{"$f":"IFERROR(VLOOKUP(E597,Teilnehmer!$B$3:$C$1002,2,0),\"\")","v":""}]
[null,null,null,{"$f":"IFERROR(VLOOKUP(C598,Teilnehmer!$B$3:$C$1002,2,0),\"\")","v":""},null,{"$f":"IFERROR(VLOOKUP(E598,Teilnehmer!$B$3:$C$1002,2,0),\"\")","v":""}]
[null,null,null,{"$f":"IFERROR(VLOOKUP(C599,Teilnehmer!$B$3:$C$1002,2,0),\"\")","v":""},null,{"$f":"IFERROR(VLOOKUP(E599,Teilnehmer!$B$3:$C$1002,2,0),\"\")","v":""}]
[null,null,null,{"$f":"IFERROR(VLOOKUP(C600,Teilnehmer!$B$3:$C$1002,2,0),\"\")","v":""},null,{"$f":"IFERROR(VLOOKUP(E600,Teilnehmer!$B$3:$C$1002,2,0),\"\")","v":""}]
[null,null,null,{"$f":"IFERROR(VLOOKUP(C601,Teilnehmer!$B$3:$C$1002,2,0),\"\")","v":""},null,{"$f":"IFERROR(VLOOKUP(E601,Teilnehmer!$B$3:$C$1002,2,0),\"\")","v":""}]
[null,null,null,{"$f":"IFERROR(VLOOKUP(C602,Teilnehmer!$B$3:$C$1002,2,0),\"\")","v":""},null,{"$f":"IFERROR(VLOOKUP(E602,Teilnehmer!$B$3:$C$1002,2,0),\"\")","v":""}]
[null,null,null,{"$f":"IFERROR(VLOOKUP(C603,Teilnehmer!$B$3:$C$1002,2,0),\"\")","v":""},null,{"$f":"IFERROR(VLOOKUP(E603,Teilnehmer!$B$3:$C$1002,2,0),\"\")","v":""}]
[null,null,null,{"$f":"IFERROR(VLOOKUP(C604,Teilnehmer!$B$3:$C$1002,2,0),\"\")","v":""},null,{"$f":"IFERROR(VLOOKUP(E604,Teilnehmer!$B$3:$C$1002,2,0),\"\")","v":""}]
[null,null,null,{"$f":"IFERROR(VLOOKUP(C605,Teilnehmer!$B$3:$C$1002,2,0),\"\")","v":""},null,{"$f":"IFERROR(VLOOKUP(E605,Teilnehmer!$B$3:$C$1002,2,0),\"\")","v":""}]
[null,null,null,{"$f":"IFERROR(VLOOKUP(C606,Teilnehmer!$B$3:$C$1002,2,0),\"\")","v":""},null,{"$f":"IFERROR(VLOOKUP(E606,Teilnehmer!$B$3:$C$1002,2,0),\"\")","v":""}]
[null,null,null,{"$f":"IFERROR(VLOOKUP(C607,Teilnehmer!$B$3:$C$1002,2,0),\"\")","v":""},null,{"$f":"IFERROR(VLOOKUP(E607,Teilnehmer!$B$3:$C$1002,2,0),\"\")","v":""}]
[null,null,null,{"$f":"IFERROR(VLOOKUP(C608,Teilnehmer!$B$3:$C$1002,2,0),\"\")","v":""},null,{"$f":"IFERROR(VLOOKUP(E608,Teilnehmer!$B$3:$C$1002,2,0),\"\")","v":""}]
[null,null,null,{"$f":"IFERROR(VLOOKUP(C609,Teilnehmer!$B$3:$C$1002,2,0),\"\")","v":""},null,{"$f":"IFERROR(VLOOKUP(E609,Teilnehmer!$B$3:$C$1002,2,0),\"\")","v":""}]
[null,null,null,{"$f":"IFERROR(VLOOKUP(C610,Teilnehmer!$B$3:$C$1002,2,0),\"\")","v":""},null,{"$f":"IFERROR(VLOOKUP(E610,Teilnehmer!$B$3:$C$1002,2,0),\"\")","v":""}]
[null,null,null,{"$f":"IFERROR(VLOOKUP(C611,Teilnehmer!$B$3:$C$1002,2,0),\"\")","v":""},null,{"$f":"IFERROR(VLOOKUP(E611,Teilnehmer!$B$3:$C$1002,2,0),\"\")","v":""}]
[null,null,null,{"$f":"IFERROR(VLOOKUP(C612,Teilnehmer!$B$3:$C$1002,2,0),\"\")","v":""},null,{"$f":"IFERROR(VLOOKUP(E612,Teilnehmer!$B$3:$C$1002,2,0),\"\")","v":""}]
[null,null,null,{"$f":"IFERROR(VLOOKUP(C613,Teilnehmer!$B$3:$C$1002,2,0),\"\")","v":""},null,{"$f":"IFERROR(VLOOKUP(E613,Teilnehmer!$B$3:$C$1002,2,0),\"\")","v":""}]
[null,null,null,{"$f":"IFERROR(VLOOKUP(C614,Teilnehmer!$B$3:$C$1002,2,0),\"\")","v":""},null,{"$f":"IFERROR(VLOOKUP(E614,Teilnehmer!$B$3:$C$1002,2,0),\"\")","v":""}]
[null,null,null,{"$f":"IFERROR(VLOOKUP(C615,Teilnehmer!$B$3:$C$1002,2,0),\"\")","v":""},null,{"$f":"IFERROR(VLOOKUP(E615,Teilnehmer!$B$3:$C$1002,2,0),\"\")","v":""}]
[null,null,null,{"$f":"IFERROR(VLOOKUP(C616,Teilnehmer!$B$3:$C$1002,2,0),\"\")","v":""},null,{"$f":"IFERROR(VLOOKUP(E616,Teilnehmer!$B$3:$C$1002,2,0),\"\")","v":""}]
[null,null,null,{"$f":"IFERROR(VLOOKUP(C617,Teilnehmer!$B$3:$C$1002,2,0),\"\")","v":""},null,{"$f":"IFERROR(VLOOKUP(E617,Teilnehmer!$B$3:$C$1002,2,0),\"\")","v":""}]
[null,null,null,{"$f":"IFERROR(VLOOKUP(C618,Teilnehmer!$B$3:$C$1002,2,0),\"\")","v":""},null,{"$f":"IFERROR(VLOOKUP(E618,Teilnehmer!$B$3:$C$1002,2,0),\"\")","v":""}]
[null,null,null,{"$f":"IFERROR(VLOOKUP(C619,Teilnehmer!$B$3:$C$1002,2,0),\"\")","v":""},null,{"$f":"IFERROR(VLOOKUP(E619,Teilnehmer!$B$3:$C$1002,2,0),\"\")","v":""}]
[null,null,null,{"$f":"IFERROR(VLOOKUP(C620,Teilnehmer!$B$3:$C$1002,2,0),\"\")","v":""},null,{"$f":"IFERROR(VLOOKUP(E620,Teilnehmer!$B$3:$C$1002,2,0),\"\")","v":""}]
[null,null,null,{"$f":"IFERROR(VLOOKUP(C621,Teilnehmer!$B$3:$C$1002,2,0),\"\")","v":""},null,{"$f":"IFERROR(VLOOKUP(E621,Teilnehmer!$B$3:$C$1002,2,0),\"\")","v":""}]
[null,null,null,{"$f":"IFERROR(VLOOKUP(C622,Teilnehmer!$B$3:$C$1002,2,0),\"\")","v":""},null,{"$f":"IFERROR(VLOOKUP(E622,Teilnehmer!$B$3:$C$1002,2,0),\"\")","v":""}]
[null,null,null,{"$f":"IFERROR(VLOOKUP(C623,Teilnehmer!$B$3:$C$1002,2,0),\"\")","v":""},null,{"$f":"IFERROR(VLOOKUP(E623,Teilnehmer!$B$3:$C$1002,2,0),\"\")","v":""}]
[null,null,null,{"$f":"IFERROR(VLOOKUP(C624,Teilnehmer!$B$3:$C$1002,2,0),\"\")","v":""},null,{"$f":"IFERROR(VLOOKUP(E624,Teilnehmer!$B$3:$C$1002,2,0),\"\")","v":""}]
[null,null,null,{"$f":"IFERROR(VLOOKUP(C625,Teilnehmer!$B$3:$C$1002,2,0),\"\")","v":""},null,{"$f":"IFERROR(VLOOKUP(E625,Teilnehmer!$B$3:$C$1002,2,0),\"\")","v":""}]
[null,null,null,{"$f":"IFERROR(VLOOKUP(C626,Teilnehmer!$B$3:$C$1002,2,0),\"\")","v":""},null,{"$f":"IFERROR(VLOOKUP(E626,Teilnehmer!$B$3:$C$1002,2,0),\"\")","v":""}]
[null,null,null,{"$f":"IFERROR(VLOOKUP(C627,Teilnehmer!$B$3:$C$1002,2,0),\"\")","v":""},null,{"$f":"IFERROR(VLOOKUP(E627,Teilnehmer!$B$3:$C$1002,2,0),\"\")","v":""}]
[null,null,null,{"$f":"IFERROR(VLOOKUP(C628,Teilnehmer!$B$3:$C$1002,2,0),\"\")","v":""},null,{"$f":"IFERROR(VLOOKUP(E628,Teilnehmer!$B$3:$C$1002,2,0),\"\")","v":""}]
[null,null,null,{"$f":"IFERROR(VLOOKUP(C629,Teilnehmer!$B$3:$C$1002,2,0),\"\")","v":""},null,{"$f":"IFERROR(VLOOKUP(E629,Teilnehmer!$B$3:$C$1002,2,0),\"\")","v":""}]
[null,null,null,{"$f":"IFERROR(VLOOKUP(C630,Teilnehmer!$B$3:$C$1002,2,0),\"\")","v":""},null,{"$f":"IFERROR(VLOOKUP(E630,Teilnehmer!$B$3:$C$1002,2,0),\"\")","v":""}]
[null,null,null,{"$f":"IFERROR(VLOOKUP(C631,Teilnehmer!$B$3:$C$1002,2,0),\"\")","v":""},null,{"$f":"IFERROR(VLOOKUP(E631,Teilnehmer!$B$3:$C$1002,2,0),\"\")","v":""}]
[null,null,null,{"$f":"IFERROR(VLOOKUP(C632,Teilnehmer!$B$3:$C$1002,2,0),\"\")","v":""},null,{"$f":"IFERROR(VLOOKUP(E632,Teilnehmer!$B$3:$C$1002,2,0),\"\")","v":""}]
[null,null,null,{"$f":"IFERROR(VLOOKUP(C633,Teilnehmer!$B$3:$C$1002,2,0),\"\")","v":""},null,{"$f":"IFERROR(VLOOKUP(E633,Teilnehmer!$B$3:$C$1002,2,0),\"\")","v":""}]
[null,null,null,{"$f":"IFERROR(VLOOKUP(C634,Teilnehmer!$B$3:$C$1002,2,0),\"\")","v":""},null,{"$f":"IFERROR(VLOOKUP(E634,Teilnehmer!$B$3:$C$1002,2,0),\"\")","v":""}]
[null,null,null,{"$f":"IFERROR(VLOOKUP(C635,Teilnehmer!$B$3:$C$1002,2,0),\"\")","v":""},null,{"$f":"IFERROR(VLOOKUP(E635,Teilnehmer!$B$3:$C$1002,2,0),\"\")","v":""}]
[null,null,null,{"$f":"IFERROR(VLOOKUP(C636,Teilnehmer!$B$3:$C$1002,2,0),\"\")","v":""},null,{"$f":"IFERROR(VLOOKUP(E636,Teilnehmer!$B$3:$C$1002,2,0),\"\")","v":""}]
[null,null,null,{"$f":"IFERROR(VLOOKUP(C637,Teilnehmer!$B$3:$C$1002,2,0),\"\")","v":""},null,{"$f":"IFERROR(VLOOKUP(E637,Teilnehmer!$B$3:$C$1002,2,0),\"\")","v":""}]
[null,null,null,{"$f":"IFERROR(VLOOKUP(C638,Teilnehmer!$B$3:$C$1002,2,0),\"\")","v":""},null,{"$f":"IFERROR(VLOOKUP(E638,Teilnehmer!$B$3:$C$1002,2,0),\"\")","v":""}]
[null,null,null,{"$f":"IFERROR(VLOOKUP(C639,Teilnehmer!$B$3:$C$1002,2,0),\"\")","v":""},null,{"$f":"IFERROR(VLOOKUP(E639,Teilnehmer!$B$3:$C$1002,2,0),\"\")","v":""}]
[null,null,null,{"$f":"IFERROR(VLOOKUP(C640,Teilnehmer!$B$3:$C$1002,2,0),\"\")","v":""},null,{"$f":"IFERROR(VLOOKUP(E640,Teilnehmer!$B$3:$C$1002,2,0),\"\")","v":""}]
[null,null,null,{"$f":"IFERROR(VLOOKUP(C641,Teilnehmer!$B$3:$C$1002,2,0),\"\")","v":""},null,{"$f":"IFERROR(VLOOKUP(E641,Teilnehmer!$B$3:$C$1002,2,0),\"\")","v":""}]
[null,null,null,{"$f":"IFERROR(VLOOKUP(C642,Teilnehmer!$B$3:$C$1002,2,0),\"\")","v":""},null,{"$f":"IFERROR(VLOOKUP(E642,Teilnehmer!$B$3:$C$1002,2,0),\"\")","v":""}]
[null,null,null,{"$f":"IFERROR(VLOOKUP(C643,Teilnehmer!$B$3:$C$1002,2,0),\"\")","v":""},null,{"$f":"IFERROR(VLOOKUP(E643,Teilnehmer!$B$3:$C$1002,2,0),\"\")","v":""}]
[null,null,null,{"$f":"IFERROR(VLOOKUP(C644,Teilnehmer!$B$3:$C$1002,2,0),\"\")","v":""},null,{"$f":"IFERROR(VLOOKUP(E644,Teilnehmer!$B$3:$C$1002,2,0),\"\")","v":""}]
[null,null,null,{"$f":"IFERROR(VLOOKUP(C645,Teilnehmer!$B$3:$C$1002,2,0),\"\")","v":""},null,{"$f":"IFERROR(VLOOKUP(E645,Teilnehmer!$B$3:$C$1002,2,0),\"\")","v":""}]
[null,null,null,{"$f":"IFERROR(VLOOKUP(C646,Teilnehmer!$B$3:$C$1002,2,0),\"\")","v":""},null,{"$f":"IFERROR(VLOOKUP(E646,Teilnehmer!$B$3:$C$1002,2,0),\"\")","v":""}]
[null,null,null,{"$f":"IFERROR(VLOOKUP(C647,Teilnehmer!$B$3:$C$1002,2,0),\"\")","v":""},null,{"$f":"IFERROR(VLOOKUP(E647,Teilnehmer!$B$3:$C$1002,2,0),\"\")","v":""}]
[null,null,null,{"$f":"IFERROR(VLOOKUP(C648,Teilnehmer!$B$3:$C$1002,2,0),\"\")","v":""},null,{"$f":"IFERROR(VLOOKUP(E648,Teilnehmer!$B$3:$C$1002,2,0),\"\")","v":""}]
[null,null,null,{"$f":"IFERROR(VLOOKUP(C649,Teilnehmer!$B$3:$C$1002,2,0),\"\")","v":""},null,{"$f":"IFERROR(VLOOKUP(E649,Teilnehmer!$B$3:$C$1002,2,0),\"\")","v":""}]
[null,null,null,{"$f":"IFERROR(VLOOKUP(C650,Teilnehmer!$B$3:$C$1002,2,0),\"\")","v":""},null,{"$f":"IFERROR(VLOOKUP(E650,Teilnehmer!$B$3:$C$1002,2,0),\"\")","v":""}]
[null,null,null,{"$f":"IFERROR(VLOOKUP(C651,Teilnehmer!$B$3:$C$1002,2,0),\"\")","v":""},null,{"$f":"IFERROR(VLOOKUP(E651,Teilnehmer!$B$3:$C$1002,2,0),\"\")","v":""}]
[null,null,null,{"$f":"IFERROR(VLOOKUP(C652,Teilnehmer!$B$3:$C$1002,2,0),\"\")","v":""},null,{"$f":"IFERROR(VLOOKUP(E652,Teilnehmer!$B$3:$C$1002,2,0),\"\")","v":""}]
[null,null,null,{"$f":"IFERROR(VLOOKUP(C653,Teilnehmer!$B$3:$C$1002,2,0),\"\")","v":""},null,{"$f":"IFERROR(VLOOKUP(E653,Teilnehmer!$B$3:$C$1002,2,0),\"\")","v":""}]
[null,null,null,{"$f":"IFERROR(VLOOKUP(C654,Teilnehmer!$B$3:$C$1002,2,0),\"\")","v":""},null,{"$f":"IFERROR(VLOOKUP(E654,Teilnehmer!$B$3:$C$1002,2,0),\"\")","v":""}]
[null,null,null,{"$f":"IFERROR(VLOOKUP(C655,Teilnehmer!$B$3:$C$1002,2,0),\"\")","v":""},null,{"$f":"IFERROR(VLOOKUP(E655,Teilnehmer!$B$3:$C$1002,2,0),\"\")","v":""}]
[null,null,null,{"$f":"IFERROR(VLOOKUP(C656,Teilnehmer!$B$3:$C$1002,2,0),\"\")","v":""},null,{"$f":"IFERROR(VLOOKUP(E656,Teilnehmer!$B$3:$C$1002,2,0),\"\")","v":""}]
[null,null,null,{"$f":"IFERROR(VLOOKUP(C657,Teilnehmer!$B$3:$C$1002,2,0),\"\")","v":""},null,{"$f":"IFERROR(VLOOKUP(E657,Teilnehmer!$B$3:$C$1002,2,0),\"\")","v":""}]
[null,null,null,{"$f":"IFERROR(VLOOKUP(C658,Teilnehmer!$B$3:$C$1002,2,0),\"\")","v":""},null,{"$f":"IFERROR(VLOOKUP(E658,Teilnehmer!$B$3:$C$1002,2,0),\"\")","v":""}]
[null,null,null,{"$f":"IFERROR(VLOOKUP(C659,Teilnehmer!$B$3:$C$1002,2,0),\"\")","v":""},null,{"$f":"IFERROR(VLOOKUP(E659,Teilnehmer!$B$3:$C$1002,2,0),\"\")","v":""}]
[null,null,null,{"$f":"IFERROR(VLOOKUP(C660,Teilnehmer!$B$3:$C$1002,2,0),\"\")","v":""},null,{"$f":"IFERROR(VLOOKUP(E660,Teilnehmer!$B$3:$C$1002,2,0),\"\")","v":""}]
[null,null,null,{"$f":"IFERROR(VLOOKUP(C661,Teilnehmer!$B$3:$C$1002,2,0),\"\")","v":""},null,{"$f":"IFERROR(VLOOKUP(E661,Teilnehmer!$B$3:$C$1002,2,0),\"\")","v":""}]
[null,null,null,{"$f":"IFERROR(VLOOKUP(C662,Teilnehmer!$B$3:$C$1002,2,0),\"\")","v":""},null,{"$f":"IFERROR(VLOOKUP(E662,Teilnehmer!$B$3:$C$1002,2,0),\"\")","v":""}]
[null,null,null,{"$f":"IFERROR(VLOOKUP(C663,Teilnehmer!$B$3:$C$1002,2,0),\"\")","v":""},null,{"$f":"IFERROR(VLOOKUP(E663,Teilnehmer!$B$3:$C$1002,2,0),\"\")","v":""}]
[null,null,null,{"$f":"IFERROR(VLOOKUP(C664,Teilnehmer!$B$3:$C$1002,2,0),\"\")","v":""},null,{"$f":"IFERROR(VLOOKUP(E664,Teilnehmer!$B$3:$C$1002,2,0),\"\")","v":""}]
[null,null,null,{"$f":"IFERROR(VLOOKUP(C665,Teilnehmer!$B$3:$C$1002,2,0),\"\")","v":""},null,{"$f":"IFERROR(VLOOKUP(E665,Teilnehmer!$B$3:$C$1002,2,0),\"\")","v":""}]
[null,null,null,{"$f":"IFERROR(VLOOKUP(C666,Teilnehmer!$B$3:$C$1002,2,0),\"\")","v":""},null,{"$f":"IFERROR(VLOOKUP(E666,Teilnehmer!$B$3:$C$1002,2,0),\"\")","v":""}]
[null,null,null,{"$f":"IFERROR(VLOOKUP(C667,Teilnehmer!$B$3:$C$1002,2,0),\"\")","v":""},null,{"$f":"IFERROR(VLOOKUP(E667,Teilnehmer!$B$3:$C$1002,2,0),\"\")","v":""}]
[null,null,null,{"$f":"IFERROR(VLOOKUP(C668,Teilnehmer!$B$3:$C$1002,2,0),\"\")","v":""},null,{"$f":"IFERROR(VLOOKUP(E668,Teilnehmer!$B$3:$C$1002,2,0),\"\")","v":""}]
[null,null,null,{"$f":"IFERROR(VLOOKUP(C669,Teilnehmer!$B$3:$C$1002,2,0),\"\")","v":""},null,{"$f":"IFERROR(VLOOKUP(E669,Teilnehmer!$B$3:$C$1002,2,0),\"\")","v":""}]
[null,null,null,{"$f":"IFERROR(VLOOKUP(C670,Teilnehmer!$B$3:$C$1002,2,0),\"\")","v":""},null,{"$f":"IFERROR(VLOOKUP(E670,Teilnehmer!$B$3:$C$1002,2,0),\"\")","v":""}]
[null,null,null,{"$f":"IFERROR(VLOOKUP(C671,Teilnehmer!$B$3:$C$1002,2,0),\"\")","v":""},null,{"$f":"IFERROR(VLOOKUP(E671,Teilnehmer!$B$3:$C$1002,2,0),\"\")","v":""}]
[null,null,null,{"$f":"IFERROR(VLOOKUP(C672,Teilnehmer!$B$3:$C$1002,2,0),\"\")","v":""},null,{"$f":"IFERROR(VLOOKUP(E672,Teilnehmer!$B$3:$C$1002,2,0),\"\")","v":""}]
[null,null,null,{"$f":"IFERROR(VLOOKUP(C673,Teilnehmer!$B$3:$C$1002,2,0),\"\")","v":""},null,{"$f":"IFERROR(VLOOKUP(E673,Teilnehmer!$B$3:$C$1002,2,0),\"\")","v":""}]
[null,null,null,{"$f":"IFERROR(VLOOKUP(C674,Teilnehmer!$B$3:$C$1002,2,0),\"\")","v":""},null,{"$f":"IFERROR(VLOOKUP(E674,Teilnehmer!$B$3:$C$1002,2,0),\"\")","v":""}]
[null,null,null,{"$f":"IFERROR(VLOOKUP(C675,Teilnehmer!$B$3:$C$1002,2,0),\"\")","v":""},null,{"$f":"IFERROR(VLOOKUP(E675,Teilnehmer!$B$3:$C$1002,2,0),\"\")","v":""}]
[null,null,null,{"$f":"IFERROR(VLOOKUP(C676,Teilnehmer!$B$3:$C$1002,2,0),\"\")","v":""},null,{"$f":"IFERROR(VLOOKUP(E676,Teilnehmer!$B$3:$C$1002,2,0),\"\")","v":""}]
[null,null,null,{"$f":"IFERROR(VLOOKUP(C677,Teilnehmer!$B$3:$C$1002,2,0),\"\")","v":""},null,{"$f":"IFERROR(VLOOKUP(E677,Teilnehmer!$B$3:$C$1002,2,0),\"\")","v":""}]
[null,null,null,{"$f":"IFERROR(VLOOKUP(C678,Teilnehmer!$B$3:$C$1002,2,0),\"\")","v":""},null,{"$f":"IFERROR(VLOOKUP(E678,Teilnehmer!$B$3:$C$1002,2,0),\"\")","v":""}]
[null,null,null,{"$f":"IFERROR(VLOOKUP(C679,Teilnehmer!$B$3:$C$1002,2,0),\"\")","v":""},null,{"$f":"IFERROR(VLOOKUP(E679,Teilnehmer!$B$3:$C$1002,2,0),\"\")","v":""}]
[null,null,null,{"$f":"IFERROR(VLOOKUP(C680,Teilnehmer!$B$3:$C$1002,2,0),\"\")","v":""},null,{"$f":"IFERROR(VLOOKUP(E680,Teilnehmer!$B$3:$C$1002,2,0),\"\")","v":""}]
[null,null,null,{"$f":"IFERROR(VLOOKUP(C681,Teilnehmer!$B$3:$C$1002,2,0),\"\")","v":""},null,{"$f":"IFERROR(VLOOKUP(E681,Teilnehmer!$B$3:$C$1002,2,0),\"\")","v":""}]
[null,null,null,{"$f":"IFERROR(VLOOKUP(C682,Teilnehmer!$B$3:$C$1002,2,0),\"\")","v":""},null,{"$f":"IFERROR(VLOOKUP(E682,Teilnehmer!$B$3:$C$1002,2,0),\"\")","v":""}]
[null,null,null,{"$f":"IFERROR(VLOOKUP(C683,Teilnehmer!$B$3:$C$1002,2,0),\"\")","v":""},null,{"$f":"IFERROR(VLOOKUP(E683,Teilnehmer!$B$3:$C$1002,2,0),\"\")","v":""}]
[null,null,null,{"$f":"IFERROR(VLOOKUP(C684,Teilnehmer!$B$3:$C$1002,2,0),\"\")","v":""},null,{"$f":"IFERROR(VLOOKUP(E684,Teilnehmer!$B$3:$C$1002,2,0),\"\")","v":""}]
[null,null,null,{"$f":"IFERROR(VLOOKUP(C685,Teilnehmer!$B$3:$C$1002,2,0),\"\")","v":""},null,{"$f":"IFERROR(VLOOKUP(E685,Teilnehmer!$B$3:$C$1002,2,0),\"\")","v":""}]
[null,null,null,{"$f":"IFERROR(VLOOKUP(C686,Teilnehmer!$B$3:$C$1002,2,0),\"\")","v":""},null,{"$f":"IFERROR(VLOOKUP(E686,Teilnehmer!$B$3:$C$1002,2,0),\"\")","v":""}]
[null,null,null,{"$f":"IFERROR(VLOOKUP(C687,Teilnehmer!$B$3:$C$1002,2,0),\"\")","v":""},null,{"$f":"IFERROR(VLOOKUP(E687,Teilnehmer!$B$3:$C$1002,2,0),\"\")","v":""}]
[null,null,null,{"$f":"IFERROR(VLOOKUP(C688,Teilnehmer!$B$3:$C$1002,2,0),\"\")","v":""},null,{"$f":"IFERROR(VLOOKUP(E688,Teilnehmer!$B$3:$C$1002,2,0),\"\")","v":""}]
[null,null,null,{"$f":"IFERROR(VLOOKUP(C689,Teilnehmer!$B$3:$C$1002,2,0),\"\")","v":""},null,{"$f":"IFERROR(VLOOKUP(E689,Teilnehmer!$B$3:$C$1002,2,0),\"\")","v":""}]
[null,null,null,{"$f":"IFERROR(VLOOKUP(C690,Teilnehmer!$B$3:$C$1002,2,0),\"\")","v":""},null,{"$f":"IFERROR(VLOOKUP(E690,Teilnehmer!$B$3:$C$1002,2,0),\"\")","v":""}]
[null,null,null,{"$f":"IFERROR(VLOOKUP(C691,Teilnehmer!$B$3:$C$1002,2,0),\"\")","v":""},null,{"$f":"IFERROR(VLOOKUP(E691,Teilnehmer!$B$3:$C$1002,2,0),\"\")","v":""}]
[null,null,null,{"$f":"IFERROR(VLOOKUP(C692,Teilnehmer!$B$3:$C$1002,2,0),\"\")","v":""},null,{"$f":"IFERROR(VLOOKUP(E692,Teilnehmer!$B$3:$C$1002,2,0),\"\")","v":""}]
[null,null,null,{"$f":"IFERROR(VLOOKUP(C693,Teilnehmer!$B$3:$C$1002,2,0),\"\")","v":""},null,{"$f":"IFERROR(VLOOKUP(E693,Teilnehmer!$B$3:$C$1002,2,0),\"\")","v":""}]
[null,null,null,{"$f":"IFERROR(VLOOKUP(C694,Teilnehmer!$B$3:$C$1002,2,0),\"\")","v":""},null,{"$f":"IFERROR(VLOOKUP(E694,Teilnehmer!$B$3:$C$1002,2,0),\"\")","v":""}]
[null,null,null,{"$f":"IFERROR(VLOOKUP(C695,Teilnehmer!$B$3:$C$1002,2,0),\"\")","v":""},null,{"$f":"IFERROR(VLOOKUP(E695,Teilnehmer!$B$3:$C$1002,2,0),\"\")","v":""}]
[null,null,null,{"$f":"IFERROR(VLOOKUP(C696,Teilnehmer!$B$3:$C$1002,2,0),\"\")","v":""},null,{"$f":"IFERROR(VLOOKUP(E696,Teilnehmer!$B$3:$C$1002,2,0),\"\")","v":""}]
[null,null,null,{"$f":"IFERROR(VLOOKUP(C697,Teilnehmer!$B$3:$C$1002,2,0),\"\")","v":""},null,{"$f":"IFERROR(VLOOKUP(E697,Teilnehmer!$B$3:$C$1002,2,0),\"\")","v":""}]
[null,null,null,{"$f":"IFERROR(VLOOKUP(C698,Teilnehmer!$B$3:$C$1002,2,0),\"\")","v":""},null,{"$f":"IFERROR(VLOOKUP(E698,Teilnehmer!$B$3:$C$1002,2,0),\"\")","v":""}]
[null,null,null,{"$f":"IFERROR(VLOOKUP(C699,Teilnehmer!$B$3:$C$1002,2,0),\"\")","v":""},null,{"$f":"IFERROR(VLOOKUP(E699,Teilnehmer!$B$3:$C$1002,2,0),\"\")","v":""}]
[null,null,null,{"$f":"IFERROR(VLOOKUP(C700,Teilnehmer!$B$3:$C$1002,2,0),\"\")","v":""},null,{"$f":"IFERROR(VLOOKUP(E700,Teilnehmer!$B$3:$C$1002,2,0),\"\")","v":""}]
[null,null,null,{"$f":"IFERROR(VLOOKUP(C701,Teilnehmer!$B$3:$C$1002,2,0),\"\")","v":""},null,{"$f":"IFERROR(VLOOKUP(E701,Teilnehmer!$B$3:$C$1002,2,0),\"\")","v":""}]
[null,null,null,{"$f":"IFERROR(VLOOKUP(C702,Teilnehmer!$B$3:$C$1002,2,0),\"\")","v":""},null,{"$f":"IFERROR(VLOOKUP(E702,Teilnehmer!$B$3:$C$1002,2,0),\"\")","v":""}]
[null,null,null,{"$f":"IFERROR(VLOOKUP(C703,Teilnehmer!$B$3:$C$1002,2,0),\"\")","v":""},null,{"$f":"IFERROR(VLOOKUP(E703,Teilnehmer!$B$3:$C$1002,2,0),\"\")","v":""}]
[null,null,null,{"$f":"IFERROR(VLOOKUP(C704,Teilnehmer!$B$3:$C$1002,2,0),\"\")","v":""},null,{"$f":"IFERROR(VLOOKUP(E704,Teilnehmer!$B$3:$C$1002,2,0),\"\")","v":""}]
[null,null,null,{"$f":"IFERROR(VLOOKUP(C705,Teilnehmer!$B$3:$C$1002,2,0),\"\")","v":""},null,{"$f":"IFERROR(VLOOKUP(E705,Teilnehmer!$B$3:$C$1002,2,0),\"\")","v":""}]
[null,null,null,{"$f":"IFERROR(VLOOKUP(C706,Teilnehmer!$B$3:$C$1002,2,0),\"\")","v":""},null,{"$f":"IFERROR(VLOOKUP(E706,Teilnehmer!$B$3:$C$1002,2,0),\"\")","v":""}]
[null,null,null,{"$f":"IFERROR(VLOOKUP(C707,Teilnehmer!$B$3:$C$1002,2,0),\"\")","v":""},null,{"$f":"IFERROR(VLOOKUP(E707,Teilnehmer!$B$3:$C$1002,2,0),\"\")","v":""}]
[null,null,null,{"$f":"IFERROR(VLOOKUP(C708,Teilnehmer!$B$3:$C$1002,2,0),\"\")","v":""},null,{"$f":"IFERROR(VLOOKUP(E708,Teilnehmer!$B$3:$C$1002,2,0),\"\")","v":""}]
[null,null,null,{"$f":"IFERROR(VLOOKUP(C709,Teilnehmer!$B$3:$C$1002,2,0),\"\")","v":""},null,{"$f":"IFERROR(VLOOKUP(E709,Teilnehmer!$B$3:$C$1002,2,0),\"\")","v":""}]
[null,null,null,{"$f":"IFERROR(VLOOKUP(C710,Teilnehmer!$B$3:$C$1002,2,0),\"\")","v":""},null,{"$f":"IFERROR(VLOOKUP(E710,Teilnehmer!$B$3:$C$1002,2,0),\"\")","v":""}]
[null,null,null,{"$f":"IFERROR(VLOOKUP(C711,Teilnehmer!$B$3:$C$1002,2,0),\"\")","v":""},null,{"$f":"IFERROR(VLOOKUP(E711,Teilnehmer!$B$3:$C$1002,2,0),\"\")","v":""}]
[null,null,null,{"$f":"IFERROR(VLOOKUP(C712,Teilnehmer!$B$3:$C$1002,2,0),\"\")","v":""},null,{"$f":"IFERROR(VLOOKUP(E712,Teilnehmer!$B$3:$C$1002,2,0),\"\")","v":""}]
[null,null,null,{"$f":"IFERROR(VLOOKUP(C713,Teilnehmer!$B$3:$C$1002,2,0),\"\")","v":""},null,{"$f":"IFERROR(VLOOKUP(E713,Teilnehmer!$B$3:$C$1002,2,0),\"\")","v":""}]
[null,null,null,{"$f":"IFERROR(VLOOKUP(C714,Teilnehmer!$B$3:$C$1002,2,0),\"\")","v":""},null,{"$f":"IFERROR(VLOOKUP(E714,Teilnehmer!$B$3:$C$1002,2,0),\"\")","v":""}]
[null,null,null,{"$f":"IFERROR(VLOOKUP(C715,Teilnehmer!$B$3:$C$1002,2,0),\"\")","v":""},null,{"$f":"IFERROR(VLOOKUP(E715,Teilnehmer!$B$3:$C$1002,2,0),\"\")","v":""}]
[null,null,null,{"$f":"IFERROR(VLOOKUP(C716,Teilnehmer!$B$3:$C$1002,2,0),\"\")","v":""},null,{"$f":"IFERROR(VLOOKUP(E716,Teilnehmer!$B$3:$C$1002,2,0),\"\")","v":""}]
[null,null,null,{"$f":"IFERROR(VLOOKUP(C717,Teilnehmer!$B$3:$C$1002,2,0),\"\")","v":""},null,{"$f":"IFERROR(VLOOKUP(E717,Teilnehmer!$B$3:$C$1002,2,0),\"\")","v":""}]
[null,null,null,{"$f":"IFERROR(VLOOKUP(C718,Teilnehmer!$B$3:$C$1002,2,0),\"\")","v":""},null,{"$f":"IFERROR(VLOOKUP(E718,Teilnehmer!$B$3:$C$1002,2,0),\"\")","v":""}]
[null,null,null,{"$f":"IFERROR(VLOOKUP(C719,Teilnehmer!$B$3:$C$1002,2,0),\"\")","v":""},null,{"$f":"IFERROR(VLOOKUP(E719,Teilnehmer!$B$3:$C$1002,2,0),\"\")","v":""}]
[null,null,null,{"$f":"IFERROR(VLOOKUP(C720,Teilnehmer!$B$3:$C$1002,2,0),\"\")","v":""},null,{"$f":"IFERROR(VLOOKUP(E720,Teilnehmer!$B$3:$C$1002,2,0),\"\")","v":""}]
[null,null,null,{"$f":"IFERROR(VLOOKUP(C721,Teilnehmer!$B$3:$C$1002,2,0),\"\")","v":""},null,{"$f":"IFERROR(VLOOKUP(E721,Teilnehmer!$B$3:$C$1002,2,0),\"\")","v":""}]
[null,null,null,{"$f":"IFERROR(VLOOKUP(C722,Teilnehmer!$B$3:$C$1002,2,0),\"\")","v":""},null,{"$f":"IFERROR(VLOOKUP(E722,Teilnehmer!$B$3:$C$1002,2,0),\"\")","v":""}]
[null,null,null,{"$f":"IFERROR(VLOOKUP(C723,Teilnehmer!$B$3:$C$1002,2,0),\"\")","v":""},null,{"$f":"IFERROR(VLOOKUP(E723,Teilnehmer!$B$3:$C$1002,2,0),\"\")","v":""}]
[null,null,null,{"$f":"IFERROR(VLOOKUP(C724,Teilnehmer!$B$3:$C$1002,2,0),\"\")","v":""},null,{"$f":"IFERROR(VLOOKUP(E724,Teilnehmer!$B$3:$C$1002,2,0),\"\")","v":""}]
[null,null,null,{"$f":"IFERROR(VLOOKUP(C725,Teilnehmer!$B$3:$C$1002,2,0),\"\")","v":""},null,{"$f":"IFERROR(VLOOKUP(E725,Teilnehmer!$B$3:$C$1002,2,0),\"\")","v":""}]
[null,null,null,{"$f":"IFERROR(VLOOKUP(C726,Teilnehmer!$B$3:$C$1002,2,0),\"\")","v":""},null,{"$f":"IFERROR(VLOOKUP(E726,Teilnehmer!$B$3:$C$1002,2,0),\"\")","v":""}]
[null,null,null,{"$f":"IFERROR(VLOOKUP(C727,Teilnehmer!$B$3:$C$1002,2,0),\"\")","v":""},null,{"$f":"IFERROR(VLOOKUP(E727,Teilnehmer!$B$3:$C$1002,2,0),\"\")","v":""}]
[null,null,null,{"$f":"IFERROR(VLOOKUP(C728,Teilnehmer!$B$3:$C$1002,2,0),\"\")","v":""},null,{"$f":"IFERROR(VLOOKUP(E728,Teilnehmer!$B$3:$C$1002,2,0),\"\")","v":""}]
[null,null,null,{"$f":"IFERROR(VLOOKUP(C729,Teilnehmer!$B$3:$C$1002,2,0),\"\")","v":""},null,{"$f":"IFERROR(VLOOKUP(E729,Teilnehmer!$B$3:$C$1002,2,0),\"\")","v":""}]
[null,null,null,{"$f":"IFERROR(VLOOKUP(C730,Teilnehmer!$B$3:$C$1002,2,0),\"\")","v":""},null,{"$f":"IFERROR(VLOOKUP(E730,Teilnehmer!$B$3:$C$1002,2,0),\"\")","v":""}]
[null,null,null,{"$f":"IFERROR(VLOOKUP(C731,Teilnehmer!$B$3:$C$1002,2,0),\"\")","v":""},null,{"$f":"IFERROR(VLOOKUP(E731,Teilnehmer!$B$3:$C$1002,2,0),\"\")","v":""}]
[null,null,null,{"$f":"IFERROR(VLOOKUP(C732,Teilnehmer!$B$3:$C$1002,2,0),\"\")","v":""},null,{"$f":"IFERROR(VLOOKUP(E732,Teilnehmer!$B$3:$C$1002,2,0),\"\")","v":""}]
[null,null,null,{"$f":"IFERROR(VLOOKUP(C733,Teilnehmer!$B$3:$C$1002,2,0),\"\")","v":""},null,{"$f":"IFERROR(VLOOKUP(E733,Teilnehmer!$B$3:$C$1002,2,0),\"\")","v":""}]
[null,null,null,{"$f":"IFERROR(VLOOKUP(C734,Teilnehmer!$B$3:$C$1002,2,0),\"\")","v":""},null,{"$f":"IFERROR(VLOOKUP(E734,Teilnehmer!$B$3:$C$1002,2,0),\"\")","v":""}]
[null,null,null,{"$f":"IFERROR(VLOOKUP(C735,Teilnehmer!$B$3:$C$1002,2,0),\"\")","v":""},null,{"$f":"IFERROR(VLOOKUP(E735,Teilnehmer!$B$3:$C$1002,2,0),\"\")","v":""}]
[null,null,null,{"$f":"IFERROR(VLOOKUP(C736,Teilnehmer!$B$3:$C$1002,2,0),\"\")","v":""},null,{"$f":"IFERROR(VLOOKUP(E736,Teilnehmer!$B$3:$C$1002,2,0),\"\")","v":""}]
[null,null,null,{"$f":"IFERROR(VLOOKUP(C737,Teilnehmer!$B$3:$C$1002,2,0),\"\")","v":""},null,{"$f":"IFERROR(VLOOKUP(E737,Teilnehmer!$B$3:$C$1002,2,0),\"\")","v":""}]
[null,null,null,{"$f":"IFERROR(VLOOKUP(C738,Teilnehmer!$B$3:$C$1002,2,0),\"\")","v":""},null,{"$f":"IFERROR(VLOOKUP(E738,Teilnehmer!$B$3:$C$1002,2,0),\"\")","v":""}]
[null,null,null,{"$f":"IFERROR(VLOOKUP(C739,Teilnehmer!$B$3:$C$1002,2,0),\"\")","v":""},null,{"$f":"IFERROR(VLOOKUP(E739,Teilnehmer!$B$3:$C$1002,2,0),\"\")","v":""}]
[null,null,null,{"$f":"IFERROR(VLOOKUP(C740,Teilnehmer!$B$3:$C$1002,2,0),\"\")","v":""},null,{"$f":"IFERROR(VLOOKUP(E740,Teilnehmer!$B$3:$C$1002,2,0),\"\")","v":""}]
[null,null,null,{"$f":"IFERROR(VLOOKUP(C741,Teilnehmer!$B$3:$C$1002,2,0),\"\")","v":""},null,{"$f":"IFERROR(VLOOKUP(E741,Teilnehmer!$B$3:$C$1002,2,0),\"\")","v":""}]
[null,null,null,{"$f":"IFERROR(VLOOKUP(C742,Teilnehmer!$B$3:$C$1002,2,0),\"\")","v":""},null,{"$f":"IFERROR(VLOOKUP(E742,Teilnehmer!$B$3:$C$1002,2,0),\"\")","v":""}]
[null,null,null,{"$f":"IFERROR(VLOOKUP(C743,Teilnehmer!$B$3:$C$1002,2,0),\"\")","v":""},null,{"$f":"IFERROR(VLOOKUP(E743,Teilnehmer!$B$3:$C$1002,2,0),\"\")","v":""}]
[null,null,null,{"$f":"IFERROR(VLOOKUP(C744,Teilnehmer!$B$3:$C$1002,2,0),\"\")","v":""},null,{"$f":"IFERROR(VLOOKUP(E744,Teilnehmer!$B$3:$C$1002,2,0),\"\")","v":""}]
[null,null,null,{"$f":"IFERROR(VLOOKUP(C745,Teilnehmer!$B$3:$C$1002,2,0),\"\")","v":""},null,{"$f":"IFERROR(VLOOKUP(E745,Teilnehmer!$B$3:$C$1002,2,0),\"\")","v":""}]
[null,null,null,{"$f":"IFERROR(VLOOKUP(C746,Teilnehmer!$B$3:$C$1002,2,0),\"\")","v":""},null,{"$f":"IFERROR(VLOOKUP(E746,Teilnehmer!$B$3:$C$1002,2,0),\"\")","v":""}]
[null,null,null,{"$f":"IFERROR(VLOOKUP(C747,Teilnehmer!$B$3:$C$1002,2,0),\"\")","v":""},null,{"$f":"IFERROR(VLOOKUP(E747,Teilnehmer!$B$3:$C$1002,2,0),\"\")","v":""}]
[null,null,null,{"$f":"IFERROR(VLOOKUP(C748,Teilnehmer!$B$3:$C$1002,2,0),\"\")","v":""},null,{"$f":"IFERROR(VLOOKUP(E748,Teilnehmer!$B$3:$C$1002,2,0),\"\")","v":""}]
[null,null,null,{"$f":"IFERROR(VLOOKUP(C749,Teilnehmer!$B$3:$C$1002,2,0),\"\")","v":""},null,{"$f":"IFERROR(VLOOKUP(E749,Teilnehmer!$B$3:$C$1002,2,0),\"\")","v":""}]
[null,null,null,{"$f":"IFERROR(VLOOKUP(C750,Teilnehmer!$B$3:$C$1002,2,0),\"\")","v":""},null,{"$f":"IFERROR(VLOOKUP(E750,Teilnehmer!$B$3:$C$1002,2,0),\"\")","v":""}]
[null,null,null,{"$f":"IFERROR(VLOOKUP(C751,Teilnehmer!$B$3:$C$1002,2,0),\"\")","v":""},null,{"$f":"IFERROR(VLOOKUP(E751,Teilnehmer!$B$3:$C$1002,2,0),\"\")","v":""}]
[null,null,null,{"$f":"IFERROR(VLOOKUP(C752,Teilnehmer!$B$3:$C$1002,2,0),\"\")","v":""},null,{"$f":"IFERROR(VLOOKUP(E752,Teilnehmer!$B$3:$C$1002,2,0),\"\")","v":""}]
[null,null,null,{"$f":"IFERROR(VLOOKUP(C753,Teilnehmer!$B$3:$C$1002,2,0),\"\")","v":""},null,{"$f":"IFERROR(VLOOKUP(E753,Teilnehmer!$B$3:$C$1002,2,0),\"\")","v":""}]
[null,null,null,{"$f":"IFERROR(VLOOKUP(C754,Teilnehmer!$B$3:$C$1002,2,0),\"\")","v":""},null,{"$f":"IFERROR(VLOOKUP(E754,Teilnehmer!$B$3:$C$1002,2,0),\"\")","v":""}]
[null,null,null,{"$f":"IFERROR(VLOOKUP(C755,Teilnehmer!$B$3:$C$1002,2,0),\"\")","v":""},null,{"$f":"IFERROR(VLOOKUP(E755,Teilnehmer!$B$3:$C$1002,2,0),\"\")","v":""}]
[null,null,null,{"$f":"IFERROR(VLOOKUP(C756,Teilnehmer!$B$3:$C$1002,2,0),\"\")","v":""},null,{"$f":"IFERROR(VLOOKUP(E756,Teilnehmer!$B$3:$C$1002,2,0),\"\")","v":""}]
[null,null,null,{"$f":"IFERROR(VLOOKUP(C757,Teilnehmer!$B$3:$C$1002,2,0),\"\")","v":""},null,{"$f":"IFERROR(VLOOKUP(E757,Teilnehmer!$B$3:$C$1002,2,0),\"\")","v":""}]
[null,null,null,{"$f":"IFERROR(VLOOKUP(C758,Teilnehmer!$B$3:$C$1002,2,0),\"\")","v":""},null,{"$f":"IFERROR(VLOOKUP(E758,Teilnehmer!$B$3:$C$1002,2,0),\"\")","v":""}]
[null,null,null,{"$f":"IFERROR(VLOOKUP(C759,Teilnehmer!$B$3:$C$1002,2,0),\"\")","v":""},null,{"$f":"IFERROR(VLOOKUP(E759,Teilnehmer!$B$3:$C$1002,2,0),\"\")","v":""}]
[null,null,null,{"$f":"IFERROR(VLOOKUP(C760,Teilnehmer!$B$3:$C$1002,2,0),\"\")","v":""},null,{"$f":"IFERROR(VLOOKUP(E760,Teilnehmer!$B$3:$C$1002,2,0),\"\")","v":""}]
[null,null,null,{"$f":"IFERROR(VLOOKUP(C761,Teilnehmer!$B$3:$C$1002,2,0),\"\")","v":""},null,{"$f":"IFERROR(VLOOKUP(E761,Teilnehmer!$B$3:$C$1002,2,0),\"\")","v":""}]
[null,null,null,{"$f":"IFERROR(VLOOKUP(C762,Teilnehmer!$B$3:$C$1002,2,0),\"\")","v":""},null,{"$f":"IFERROR(VLOOKUP(E762,Teilnehmer!$B$3:$C$1002,2,0),\"\")","v":""}]
[null,null,null,{"$f":"IFERROR(VLOOKUP(C763,Teilnehmer!$B$3:$C$1002,2,0),\"\")","v":""},null,{"$f":"IFERROR(VLOOKUP(E763,Teilnehmer!$B$3:$C$1002,2,0),\"\")","v":""}]
[null,null,null,{"$f":"IFERROR(VLOOKUP(C764,Teilnehmer!$B$3:$C$1002,2,0),\"\")","v":""},null,{"$f":"IFERROR(VLOOKUP(E764,Teilnehmer!$B$3:$C$1002,2,0),\"\")","v":""}]
[null,null,null,{"$f":"IFERROR(VLOOKUP(C765,Teilnehmer!$B$3:$C$1002,2,0),\"\")","v":""},null,{"$f":"IFERROR(VLOOKUP(E765,Teilnehmer!$B$3:$C$1002,2,0),\"\")","v":""}]
[null,null,null,{"$f":"IFERROR(VLOOKUP(C766,Teilnehmer!$B$3:$C$1002,2,0),\"\")","v":""},null,{"$f":"IFERROR(VLOOKUP(E766,Teilnehmer!$B$3:$C$1002,2,0),\"\")","v":""}]
[null,null,null,{"$f":"IFERROR(VLOOKUP(C767,Teilnehmer!$B$3:$C$1002,2,0),\"\")","v":""},null,{"$f":"IFERROR(VLOOKUP(E767,Teilnehmer!$B$3:$C$1002,2,0),\"\")","v":""}]
[null,null,null,{"$f":"IFERROR(VLOOKUP(C768,Teilnehmer!$B$3:$C$1002,2,0),\"\")","v":""},null,{"$f":"IFERROR(VLOOKUP(E768,Teilnehmer!$B$3:$C$1002,2,0),\"\")","v":""}]
[null,null,null,{"$f":"IFERROR(VLOOKUP(C769,Teilnehmer!$B$3:$C$1002,2,0),\"\")","v":""},null,{"$f":"IFERROR(VLOOKUP(E769,Teilnehmer!$B$3:$C$1002,2,0),\"\")","v":""}]
[null,null,null,{"$f":"IFERROR(VLOOKUP(C770,Teilnehmer!$B$3:$C$1002,2,0),\"\")","v":""},null,{"$f":"IFERROR(VLOOKUP(E770,Teilnehmer!$B$3:$C$1002,2,0),\"\")","v":""}]
[null,null,null,{"$f":"IFERROR(VLOOKUP(C771,Teilnehmer!$B$3:$C$1002,2,0),\"\")","v":""},null,{"$f":"IFERROR(VLOOKUP(E771,Teilnehmer!$B$3:$C$1002,2,0),\"\")","v":""}]
[null,null,null,{"$f":"IFERROR(VLOOKUP(C772,Teilnehmer!$B$3:$C$1002,2,0),\"\")","v":""},null,{"$f":"IFERROR(VLOOKUP(E772,Teilnehmer!$B$3:$C$1002,2,0),\"\")","v":""}]
[null,null,null,{"$f":"IFERROR(VLOOKUP(C773,Teilnehmer!$B$3:$C$1002,2,0),\"\")","v":""},null,{"$f":"IFERROR(VLOOKUP(E773,Teilnehmer!$B$3:$C$1002,2,0),\"\")","v":""}]
[null,null,null,{"$f":"IFERROR(VLOOKUP(C774,Teilnehmer!$B$3:$C$1002,2,0),\"\")","v":""},null,{"$f":"IFERROR(VLOOKUP(E774,Teilnehmer!$B$3:$C$1002,2,0),\"\")","v":""}]
[null,null,null,{"$f":"IFERROR(VLOOKUP(C775,Teilnehmer!$B$3:$C$1002,2,0),\"\")","v":""},null,{"$f":"IFERROR(VLOOKUP(E775,Teilnehmer!$B$3:$C$1002,2,0),\"\")","v":""}]
[null,null,null,{"$f":"IFERROR(VLOOKUP(C776,Teilnehmer!$B$3:$C$1002,2,0),\"\")","v":""},null,{"$f":"IFERROR(VLOOKUP(E776,Teilnehmer!$B$3:$C$1002,2,0),\"\")","v":""}]
[null,null,null,{"$f":"IFERROR(VLOOKUP(C777,Teilnehmer!$B$3:$C$1002,2,0),\"\")","v":""},null,{"$f":"IFERROR(VLOOKUP(E777,Teilnehmer!$B$3:$C$1002,2,0),\"\")","v":""}]
[null,null,null,{"$f":"IFERROR(VLOOKUP(C778,Teilnehmer!$B$3:$C$1002,2,0),\"\")","v":""},null,{"$f":"IFERROR(VLOOKUP(E778,Teilnehmer!$B$3:$C$1002,2,0),\"\")","v":""}]
[null,null,null,{"$f":"IFERROR(VLOOKUP(C779,Teilnehmer!$B$3:$C$1002,2,0),\"\")","v":""},null,{"$f":"IFERROR(VLOOKUP(E779,Teilnehmer!$B$3:$C$1002,2,0),\"\")","v":""}]
[null,null,null,{"$f":"IFERROR(VLOOKUP(C780,Teilnehmer!$B$3:$C$1002,2,0),\"\")","v":""},null,{"$f":"IFERROR(VLOOKUP(E780,Teilnehmer!$B$3:$C$1002,2,0),\"\")","v":""}]
[null,null,null,{"$f":"IFERROR(VLOOKUP(C781,Teilnehmer!$B$3:$C$1002,2,0),\"\")","v":""},null,{"$f":"IFERROR(VLOOKUP(E781,Teilnehmer!$B$3:$C$1002,2,0),\"\")","v":""}]
[null,null,null,{"$f":"IFERROR(VLOOKUP(C782,Teilnehmer!$B$3:$C$1002,2,0),\"\")","v":""},null,{"$f":"IFERROR(VLOOKUP(E782,Teilnehmer!$B$3:$C$1002,2,0),\"\")","v":""}]
[null,null,null,{"$f":"IFERROR(VLOOKUP(C783,Teilnehmer!$B$3:$C$1002,2,0),\"\")","v":""},null,{"$f":"IFERROR(VLOOKUP(E783,Teilnehmer!$B$3:$C$1002,2,0),\"\")","v":""}]
[null,null,null,{"$f":"IFERROR(VLOOKUP(C784,Teilnehmer!$B$3:$C$1002,2,0),\"\")","v":""},null,{"$f":"IFERROR(VLOOKUP(E784,Teilnehmer!$B$3:$C$1002,2,0),\"\")","v":""}]
[null,null,null,{"$f":"IFERROR(VLOOKUP(C785,Teilnehmer!$B$3:$C$1002,2,0),\"\")","v":""},null,{"$f":"IFERROR(VLOOKUP(E785,Teilnehmer!$B$3:$C$1002,2,0),\"\")","v":""}]
[null,null,null,{"$f":"IFERROR(VLOOKUP(C786,Teilnehmer!$B$3:$C$1002,2,0),\"\")","v":""},null,{"$f":"IFERROR(VLOOKUP(E786,Teilnehmer!$B$3:$C$1002,2,0),\"\")","v":""}]
[null,null,null,{"$f":"IFERROR(VLOOKUP(C787,Teilnehmer!$B$3:$C$1002,2,0),\"\")","v":""},null,{"$f":"IFERROR(VLOOKUP(E787,Teilnehmer!$B$3:$C$1002,2,0),\"\")","v":""}]
[null,null,null,{"$f":"IFERROR(VLOOKUP(C788,Teilnehmer!$B$3:$C$1002,2,0),\"\")","v":""},null,{"$f":"IFERROR(VLOOKUP(E788,Teilnehmer!$B$3:$C$1002,2,0),\"\")","v":""}]
[null,null,null,{"$f":"IFERROR(VLOOKUP(C789,Teilnehmer!$B$3:$C$1002,2,0),\"\")","v":""},null,{"$f":"IFERROR(VLOOKUP(E789,Teilnehmer!$B$3:$C$1002,2,0),\"\")","v":""}]
[null,null,null,{"$f":"IFERROR(VLOOKUP(C790,Teilnehmer!$B$3:$C$1002,2,0),\"\")","v":""},null,{"$f":"IFERROR(VLOOKUP(E790,Teilnehmer!$B$3:$C$1002,2,0),\"\")","v":""}]
[null,null,null,{"$f":"IFERROR(VLOOKUP(C791,Teilnehmer!$B$3:$C$1002,2,0),\"\")","v":""},null,{"$f":"IFERROR(VLOOKUP(E791,Teilnehmer!$B$3:$C$1002,2,0),\"\")","v":""}]
[null,null,null,{"$f":"IFERROR(VLOOKUP(C792,Teilnehmer!$B$3:$C$1002,2,0),\"\")","v":""},null,{"$f":"IFERROR(VLOOKUP(E792,Teilnehmer!$B$3:$C$1002,2,0),\"\")","v":""}]
[null,null,null,{"$f":"IFERROR(VLOOKUP(C793,Teilnehmer!$B$3:$C$1002,2,0),\"\")","v":""},null,{"$f":"IFERROR(VLOOKUP(E793,Teilnehmer!$B$3:$C$1002,2,0),\"\")","v":""}]
[null,null,null,{"$f":"IFERROR(VLOOKUP(C794,Teilnehmer!$B$3:$C$1002,2,0),\"\")","v":""},null,{"$f":"IFERROR(VLOOKUP(E794,Teilnehmer!$B$3:$C$1002,2,0),\"\")","v":""}]
[null,null,null,{"$f":"IFERROR(VLOOKUP(C795,Teilnehmer!$B$3:$C$1002,2,0),\"\")","v":""},null,{"$f":"IFERROR(VLOOKUP(E795,Teilnehmer!$B$3:$C$1002,2,0),\"\")","v":""}]
[null,null,null,{"$f":"IFERROR(VLOOKUP(C796,Teilnehmer!$B$3:$C$1002,2,0),\"\")","v":""},null,{"$f":"IFERROR(VLOOKUP(E796,Teilnehmer!$B$3:$C$1002,2,0),\"\")","v":""}]
[null,null,null,{"$f":"IFERROR(VLOOKUP(C797,Teilnehmer!$B$3:$C$1002,2,0),\"\")","v":""},null,{"$f":"IFERROR(VLOOKUP(E797,Teilnehmer!$B$3:$C$1002,2,0),\"\")","v":""}]
[null,null,null,{"$f":"IFERROR(VLOOKUP(C798,Teilnehmer!$B$3:$C$1002,2,0),\"\")","v":""},null,{"$f":"IFERROR(VLOOKUP(E798,Teilnehmer!$B$3:$C$1002,2,0),\"\")","v":""}]
[null,null,null,{"$f":"IFERROR(VLOOKUP(C799,Teilnehmer!$B$3:$C$1002,2,0),\"\")","v":""},null,{"$f":"IFERROR(VLOOKUP(E799,Teilnehmer!$B$3:$C$1002,2,0),\"\")","v":""}]
[null,null,null,{"$f":"IFERROR(VLOOKUP(C800,Teilnehmer!$B$3:$C$1002,2,0),\"\")","v":""},null,{"$f":"IFERROR(VLOOKUP(E800,Teilnehmer!$B$3:$C$1002,2,0),\"\")","v":""}]
[null,null,null,{"$f":"IFERROR(VLOOKUP(C801,Teilnehmer!$B$3:$C$1002,2,0),\"\")","v":""},null,{"$f":"IFERROR(VLOOKUP(E801,Teilnehmer!$B$3:$C$1002,2,0),\"\")","v":""}]
[null,null,null,{"$f":"IFERROR(VLOOKUP(C802,Teilnehmer!$B$3:$C$1002,2,0),\"\")","v":""},null,{"$f":"IFERROR(VLOOKUP(E802,Teilnehmer!$B$3:$C$1002,2,0),\"\")","v":""}]
[null,null,null,{"$f":"IFERROR(VLOOKUP(C803,Teilnehmer!$B$3:$C$1002,2,0),\"\")","v":""},null,{"$f":"IFERROR(VLOOKUP(E803,Teilnehmer!$B$3:$C$1002,2,0),\"\")","v":""}]
[null,null,null,{"$f":"IFERROR(VLOOKUP(C804,Teilnehmer!$B$3:$C$1002,2,0),\"\")","v":""},null,{"$f":"IFERROR(VLOOKUP(E804,Teilnehmer!$B$3:$C$1002,2,0),\"\")","v":""}]
[null,null,null,{"$f":"IFERROR(VLOOKUP(C805,Teilnehmer!$B$3:$C$1002,2,0),\"\")","v":""},null,{"$f":"IFERROR(VLOOKUP(E805,Teilnehmer!$B$3:$C$1002,2,0),\"\")","v":""}]
[null,null,null,{"$f":"IFERROR(VLOOKUP(C806,Teilnehmer!$B$3:$C$1002,2,0),\"\")","v":""},null,{"$f":"IFERROR(VLOOKUP(E806,Teilnehmer!$B$3:$C$1002,2,0),\"\")","v":""}]
[null,null,null,{"$f":"IFERROR(VLOOKUP(C807,Teilnehmer!$B$3:$C$1002,2,0),\"\")","v":""},null,{"$f":"IFERROR(VLOOKUP(E807,Teilnehmer!$B$3:$C$1002,2,0),\"\")","v":""}]
[null,null,null,{"$f":"IFERROR(VLOOKUP(C808,Teilnehmer!$B$3:$C$1002,2,0),\"\")","v":""},null,{"$f":"IFERROR(VLOOKUP(E808,Teilnehmer!$B$3:$C$1002,2,0),\"\")","v":""}]
[null,null,null,{"$f":"IFERROR(VLOOKUP(C809,Teilnehmer!$B$3:$C$1002,2,0),\"\")","v":""},null,{"$f":"IFERROR(VLOOKUP(E809,Teilnehmer!$B$3:$C$1002,2,0),\"\")","v":""}]
[null,null,null,{"$f":"IFERROR(VLOOKUP(C810,Teilnehmer!$B$3:$C$1002,2,0),\"\")","v":""},null,{"$f":"IFERROR(VLOOKUP(E810,Teilnehmer!$B$3:$C$1002,2,0),\"\")","v":""}]
[null,null,null,{"$f":"IFERROR(VLOOKUP(C811,Teilnehmer!$B$3:$C$1002,2,0),\"\")","v":""},null,{"$f":"IFERROR(VLOOKUP(E811,Teilnehmer!$B$3:$C$1002,2,0),\"\")","v":""}]
[null,null,null,{"$f":"IFERROR(VLOOKUP(C812,Teilnehmer!$B$3:$C$1002,2,0),\"\")","v":""},null,{"$f":"IFERROR(VLOOKUP(E812,Teilnehmer!$B$3:$C$1002,2,0),\"\")","v":""}]
[null,null,null,{"$f":"IFERROR(VLOOKUP(C813,Teilnehmer!$B$3:$C$1002,2,0),\"\")","v":""},null,{"$f":"IFERROR(VLOOKUP(E813,Teilnehmer!$B$3:$C$1002,2,0),\"\")","v":""}]
[null,null,null,{"$f":"IFERROR(VLOOKUP(C814,Teilnehmer!$B$3:$C$1002,2,0),\"\")","v":""},null,{"$f":"IFERROR(VLOOKUP(E814,Teilnehmer!$B$3:$C$1002,2,0),\"\")","v":""}]
[null,null,null,{"$f":"IFERROR(VLOOKUP(C815,Teilnehmer!$B$3:$C$1002,2,0),\"\")","v":""},null,{"$f":"IFERROR(VLOOKUP(E815,Teilnehmer!$B$3:$C$1002,2,0),\"\")","v":""}]
[null,null,null,{"$f":"IFERROR(VLOOKUP(C816,Teilnehmer!$B$3:$C$1002,2,0),\"\")","v":""},null,{"$f":"IFERROR(VLOOKUP(E816,Teilnehmer!$B$3:$C$1002,2,0),\"\")","v":""}]
[null,null,null,{"$f":"IFERROR(VLOOKUP(C817,Teilnehmer!$B$3:$C$1002,2,0),\"\")","v":""},null,{"$f":"IFERROR(VLOOKUP(E817,Teilnehmer!$B$3:$C$1002,2,0),\"\")","v":""}]
[null,null,null,{"$f":"IFERROR(VLOOKUP(C818,Teilnehmer!$B$3:$C$1002,2,0),\"\")","v":""},null,{"$f":"IFERROR(VLOOKUP(E818,Teilnehmer!$B$3:$C$1002,2,0),\"\")","v":""}]
[null,null,null,{"$f":"IFERROR(VLOOKUP(C819,Teilnehmer!$B$3:$C$1002,2,0),\"\")","v":""},null,{"$f":"IFERROR(VLOOKUP(E819,Teilnehmer!$B$3:$C$1002,2,0),\"\")","v":""}]
[null,null,null,{"$f":"IFERROR(VLOOKUP(C820,Teilnehmer!$B$3:$C$1002,2,0),\"\")","v":""},null,{"$f":"IFERROR(VLOOKUP(E820,Teilnehmer!$B$3:$C$1002,2,0),\"\")","v":""}]
[null,null,null,{"$f":"IFERROR(VLOOKUP(C821,Teilnehmer!$B$3:$C$1002,2,0),\"\")","v":""},null,{"$f":"IFERROR(VLOOKUP(E821,Teilnehmer!$B$3:$C$1002,2,0),\"\")","v":""}]
[null,null,null,{"$f":"IFERROR(VLOOKUP(C822,Teilnehmer!$B$3:$C$1002,2,0),\"\")","v":""},null,{"$f":"IFERROR(VLOOKUP(E822,Teilnehmer!$B$3:$C$1002,2,0),\"\")","v":""}]
[null,null,null,{"$f":"IFERROR(VLOOKUP(C823,Teilnehmer!$B$3:$C$1002,2,0),\"\")","v":""},null,{"$f":"IFERROR(VLOOKUP(E823,Teilnehmer!$B$3:$C$1002,2,0),\"\")","v":""}]
[null,null,null,{"$f":"IFERROR(VLOOKUP(C824,Teilnehmer!$B$3:$C$1002,2,0),\"\")","v":""},null,{"$f":"IFERROR(VLOOKUP(E824,Teilnehmer!$B$3:$C$1002,2,0),\"\")","v":""}]
[null,null,null,{"$f":"IFERROR(VLOOKUP(C825,Teilnehmer!$B$3:$C$1002,2,0),\"\")","v":""},null,{"$f":"IFERROR(VLOOKUP(E825,Teilnehmer!$B$3:$C$1002,2,0),\"\")","v":""}]
[null,null,null,{"$f":"IFERROR(VLOOKUP(C826,Teilnehmer!$B$3:$C$1002,2,0),\"\")","v":""},null,{"$f":"IFERROR(VLOOKUP(E826,Teilnehmer!$B$3:$C$1002,2,0),\"\")","v":""}]
[null,null,null,{"$f":"IFERROR(VLOOKUP(C827,Teilnehmer!$B$3:$C$1002,2,0),\"\")","v":""},null,{"$f":"IFERROR(VLOOKUP(E827,Teilnehmer!$B$3:$C$1002,2,0),\"\")","v":""}]
[null,null,null,{"$f":"IFERROR(VLOOKUP(C828,Teilnehmer!$B$3:$C$1002,2,0),\"\")","v":""},null,{"$f":"IFERROR(VLOOKUP(E828,Teilnehmer!$B$3:$C$1002,2,0),\"\")","v":""}]
[null,null,null,{"$f":"IFERROR(VLOOKUP(C829,Teilnehmer!$B$3:$C$1002,2,0),\"\")","v":""},null,{"$f":"IFERROR(VLOOKUP(E829,Teilnehmer!$B$3:$C$1002,2,0),\"\")","v":""}]
[null,null,null,{"$f":"IFERROR(VLOOKUP(C830,Teilnehmer!$B$3:$C$1002,2,0),\"\")","v":""},null,{"$f":"IFERROR(VLOOKUP(E830,Teilnehmer!$B$3:$C$1002,2,0),\"\")","v":""}]
[null,null,null,{"$f":"IFERROR(VLOOKUP(C831,Teilnehmer!$B$3:$C$1002,2,0),\"\")","v":""},null,{"$f":"IFERROR(VLOOKUP(E831,Teilnehmer!$B$3:$C$1002,2,0),\"\")","v":""}]
[null,null,null,{"$f":"IFERROR(VLOOKUP(C832,Teilnehmer!$B$3:$C$1002,2,0),\"\")","v":""},null,{"$f":"IFERROR(VLOOKUP(E832,Teilnehmer!$B$3:$C$1002,2,0),\"\")","v":""}]
[null,null,null,{"$f":"IFERROR(VLOOKUP(C833,Teilnehmer!$B$3:$C$1002,2,0),\"\")","v":""},null,{"$f":"IFERROR(VLOOKUP(E833,Teilnehmer!$B$3:$C$1002,2,0),\"\")","v":""}]
[null,null,null,{"$f":"IFERROR(VLOOKUP(C834,Teilnehmer!$B$3:$C$1002,2,0),\"\")","v":""},null,{"$f":"IFERROR(VLOOKUP(E834,Teilnehmer!$B$3:$C$1002,2,0),\"\")","v":""}]
[null,null,null,{"$f":"IFERROR(VLOOKUP(C835,Teilnehmer!$B$3:$C$1002,2,0),\"\")","v":""},null,{"$f":"IFERROR(VLOOKUP(E835,Teilnehmer!$B$3:$C$1002,2,0),\"\")","v":""}]
[null,null,null,{"$f":"IFERROR(VLOOKUP(C836,Teilnehmer!$B$3:$C$1002,2,0),\"\")","v":""},null,{"$f":"IFERROR(VLOOKUP(E836,Teilnehmer!$B$3:$C$1002,2,0),\"\")","v":""}]
[null,null,null,{"$f":"IFERROR(VLOOKUP(C837,Teilnehmer!$B$3:$C$1002,2,0),\"\")","v":""},null,{"$f":"IFERROR(VLOOKUP(E837,Teilnehmer!$B$3:$C$1002,2,0),\"\")","v":""}]
[null,null,null,{"$f":"IFERROR(VLOOKUP(C838,Teilnehmer!$B$3:$C$1002,2,0),\"\")","v":""},null,{"$f":"IFERROR(VLOOKUP(E838,Teilnehmer!$B$3:$C$1002,2,0),\"\")","v":""}]
[null,null,null,{"$f":"IFERROR(VLOOKUP(C839,Teilnehmer!$B$3:$C$1002,2,0),\"\")","v":""},null,{"$f":"IFERROR(VLOOKUP(E839,Teilnehmer!$B$3:$C$1002,2,0),\"\")","v":""}]
[null,null,null,{"$f":"IFERROR(VLOOKUP(C840,Teilnehmer!$B$3:$C$1002,2,0),\"\")","v":""},null,{"$f":"IFERROR(VLOOKUP(E840,Teilnehmer!$B$3:$C$1002,2,0),\"\")","v":""}]
[null,null,null,{"$f":"IFERROR(VLOOKUP(C841,Teilnehmer!$B$3:$C$1002,2,0),\"\")","v":""},null,{"$f":"IFERROR(VLOOKUP(E841,Teilnehmer!$B$3:$C$1002,2,0),\"\")","v":""}]
[null,null,null,{"$f":"IFERROR(VLOOKUP(C842,Teilnehmer!$B$3:$C$1002,2,0),\"\")","v":""},null,{"$f":"IFERROR(VLOOKUP(E842,Teilnehmer!$B$3:$C$1002,2,0),\"\")","v":""}]
[null,null,null,{"$f":"IFERROR(VLOOKUP(C843,Teilnehmer!$B$3:$C$1002,2,0),\"\")","v":""},null,{"$f":"IFERROR(VLOOKUP(E843,Teilnehmer!$B$3:$C$1002,2,0),\"\")","v":""}]
[null,null,null,{"$f":"IFERROR(VLOOKUP(C844,Teilnehmer!$B$3:$C$1002,2,0),\"\")","v":""},null,{"$f":"IFERROR(VLOOKUP(E844,Teilnehmer!$B$3:$C$1002,2,0),\"\")","v":""}]
[null,null,null,{"$f":"IFERROR(VLOOKUP(C845,Teilnehmer!$B$3:$C$1002,2,0),\"\")","v":""},null,{"$f":"IFERROR(VLOOKUP(E845,Teilnehmer!$B$3:$C$1002,2,0),\"\")","v":""}]
[null,null,null,{"$f":"IFERROR(VLOOKUP(C846,Teilnehmer!$B$3:$C$1002,2,0),\"\")","v":""},null,{"$f":"IFERROR(VLOOKUP(E846,Teilnehmer!$B$3:$C$1002,2,0),\"\")","v":""}]
[null,null,null,{"$f":"IFERROR(VLOOKUP(C847,Teilnehmer!$B$3:$C$1002,2,0),\"\")","v":""},null,{"$f":"IFERROR(VLOOKUP(E847,Teilnehmer!$B$3:$C$1002,2,0),\"\")","v":""}]
[null,null,null,{"$f":"IFERROR(VLOOKUP(C848,Teilnehmer!$B$3:$C$1002,2,0),\"\")","v":""},null,{"$f":"IFERROR(VLOOKUP(E848,Teilnehmer!$B$3:$C$1002,2,0),\"\")","v":""}]
[null,null,null,{"$f":"IFERROR(VLOOKUP(C849,Teilnehmer!$B$3:$C$1002,2,0),\"\")","v":""},null,{"$f":"IFERROR(VLOOKUP(E849,Teilnehmer!$B$3:$C$1002,2,0),\"\")","v":""}]
[null,null,null,{"$f":"IFERROR(VLOOKUP(C850,Teilnehmer!$B$3:$C$1002,2,0),\"\")","v":""},null,{"$f":"IFERROR(VLOOKUP(E850,Teilnehmer!$B$3:$C$1002,2,0),\"\")","v":""}]
[null,null,null,{"$f":"IFERROR(VLOOKUP(C851,Teilnehmer!$B$3:$C$1002,2,0),\"\")","v":""},null,{"$f":"IFERROR(VLOOKUP(E851,Teilnehmer!$B$3:$C$1002,2,0),\"\")","v":""}]
[null,null,null,{"$f":"IFERROR(VLOOKUP(C852,Teilnehmer!$B$3:$C$1002,2,0),\"\")","v":""},null,{"$f":"IFERROR(VLOOKUP(E852,Teilnehmer!$B$3:$C$1002,2,0),\"\")","v":""}]
[null,null,null,{"$f":"IFERROR(VLOOKUP(C853,Teilnehmer!$B$3:$C$1002,2,0),\"\")","v":""},null,{"$f":"IFERROR(VLOOKUP(E853,Teilnehmer!$B$3:$C$1002,2,0),\"\")","v":""}]
[null,null,null,{"$f":"IFERROR(VLOOKUP(C854,Teilnehmer!$B$3:$C$1002,2,0),\"\")","v":""},null,{"$f":"IFERROR(VLOOKUP(E854,Teilnehmer!$B$3:$C$1002,2,0),\"\")","v":""}]
[null,null,null,{"$f":"IFERROR(VLOOKUP(C855,Teilnehmer!$B$3:$C$1002,2,0),\"\")","v":""},null,{"$f":"IFERROR(VLOOKUP(E855,Teilnehmer!$B$3:$C$1002,2,0),\"\")","v":""}]
[null,null,null,{"$f":"IFERROR(VLOOKUP(C856,Teilnehmer!$B$3:$C$1002,2,0),\"\")","v":""},null,{"$f":"IFERROR(VLOOKUP(E856,Teilnehmer!$B$3:$C$1002,2,0),\"\")","v":""}]
[null,null,null,{"$f":"IFERROR(VLOOKUP(C857,Teilnehmer!$B$3:$C$1002,2,0),\"\")","v":""},null,{"$f":"IFERROR(VLOOKUP(E857,Teilnehmer!$B$3:$C$1002,2,0),\"\")","v":""}]
[null,null,null,{"$f":"IFERROR(VLOOKUP(C858,Teilnehmer!$B$3:$C$1002,2,0),\"\")","v":""},null,{"$f":"IFERROR(VLOOKUP(E858,Teilnehmer!$B$3:$C$1002,2,0),\"\")","v":""}]
[null,null,null,{"$f":"IFERROR(VLOOKUP(C859,Teilnehmer!$B$3:$C$1002,2,0),\"\")","v":""},null,{"$f":"IFERROR(VLOOKUP(E859,Teilnehmer!$B$3:$C$1002,2,0),\"\")","v":""}]
[null,null,null,{"$f":"IFERROR(VLOOKUP(C860,Teilnehmer!$B$3:$C$1002,2,0),\"\")","v":""},null,{"$f":"IFERROR(VLOOKUP(E860,Teilnehmer!$B$3:$C$1002,2,0),\"\")","v":""}]
[null,null,null,{"$f":"IFERROR(VLOOKUP(C861,Teilnehmer!$B$3:$C$1002,2,0),\"\")","v":""},null,{"$f":"IFERROR(VLOOKUP(E861,Teilnehmer!$B$3:$C$1002,2,0),\"\")","v":""}]
[null,null,null,{"$f":"IFERROR(VLOOKUP(C862,Teilnehmer!$B$3:$C$1002,2,0),\"\")","v":""},null,{"$f":"IFERROR(VLOOKUP(E862,Teilnehmer!$B$3:$C$1002,2,0),\"\")","v":""}]
[null,null,null,{"$f":"IFERROR(VLOOKUP(C863,Teilnehmer!$B$3:$C$1002,2,0),\"\")","v":""},null,{"$f":"IFERROR(VLOOKUP(E863,Teilnehmer!$B$3:$C$1002,2,0),\"\")","v":""}]
[null,null,null,{"$f":"IFERROR(VLOOKUP(C864,Teilnehmer!$B$3:$C$1002,2,0),\"\")","v":""},null,{"$f":"IFERROR(VLOOKUP(E864,Teilnehmer!$B$3:$C$1002,2,0),\"\")","v":""}]
[null,null,null,{"$f":"IFERROR(VLOOKUP(C865,Teilnehmer!$B$3:$C$1002,2,0),\"\")","v":""},null,{"$f":"IFERROR(VLOOKUP(E865,Teilnehmer!$B$3:$C$1002,2,0),\"\")","v":""}]
[null,null,null,{"$f":"IFERROR(VLOOKUP(C866,Teilnehmer!$B$3:$C$1002,2,0),\"\")","v":""},null,{"$f":"IFERROR(VLOOKUP(E866,Teilnehmer!$B$3:$C$1002,2,0),\"\")","v":""}]
[null,null,null,{"$f":"IFERROR(VLOOKUP(C867,Teilnehmer!$B$3:$C$1002,2,0),\"\")","v":""},null,{"$f":"IFERROR(VLOOKUP(E867,Teilnehmer!$B$3:$C$1002,2,0),\"\")","v":""}]
[null,null,null,{"$f":"IFERROR(VLOOKUP(C868,Teilnehmer!$B$3:$C$1002,2,0),\"\")","v":""},null,{"$f":"IFERROR(VLOOKUP(E868,Teilnehmer!$B$3:$C$1002,2,0),\"\")","v":""}]
[null,null,null,{"$f":"IFERROR(VLOOKUP(C869,Teilnehmer!$B$3:$C$1002,2,0),\"\")","v":""},null,{"$f":"IFERROR(VLOOKUP(E869,Teilnehmer!$B$3:$C$1002,2,0),\"\")","v":""}]
[null,null,null,{"$f":"IFERROR(VLOOKUP(C870,Teilnehmer!$B$3:$C$1002,2,0),\"\")","v":""},null,{"$f":"IFERROR(VLOOKUP(E870,Teilnehmer!$B$3:$C$1002,2,0),\"\")","v":""}]
[null,null,null,{"$f":"IFERROR(VLOOKUP(C871,Teilnehmer!$B$3:$C$1002,2,0),\"\")","v":""},null,{"$f":"IFERROR(VLOOKUP(E871,Teilnehmer!$B$3:$C$1002,2,0),\"\")","v":""}]
[null,null,null,{"$f":"IFERROR(VLOOKUP(C872,Teilnehmer!$B$3:$C$1002,2,0),\"\")","v":""},null,{"$f":"IFERROR(VLOOKUP(E872,Teilnehmer!$B$3:$C$1002,2,0),\"\")","v":""}]
[null,null,null,{"$f":"IFERROR(VLOOKUP(C873,Teilnehmer!$B$3:$C$1002,2,0),\"\")","v":""},null,{"$f":"IFERROR(VLOOKUP(E873,Teilnehmer!$B$3:$C$1002,2,0),\"\")","v":""}]
[null,null,null,{"$f":"IFERROR(VLOOKUP(C874,Teilnehmer!$B$3:$C$1002,2,0),\"\")","v":""},null,{"$f":"IFERROR(VLOOKUP(E874,Teilnehmer!$B$3:$C$1002,2,0),\"\")","v":""}]
[null,null,null,{"$f":"IFERROR(VLOOKUP(C875,Teilnehmer!$B$3:$C$1002,2,0),\"\")","v":""},null,{"$f":"IFERROR(VLOOKUP(E875,Teilnehmer!$B$3:$C$1002,2,0),\"\")","v":""}]
[null,null,null,{"$f":"IFERROR(VLOOKUP(C876,Teilnehmer!$B$3:$C$1002,2,0),\"\")","v":""},null,{"$f":"IFERROR(VLOOKUP(E876,Teilnehmer!$B$3:$C$1002,2,0),\"\")","v":""}]
[null,null,null,{"$f":"IFERROR(VLOOKUP(C877,Teilnehmer!$B$3:$C$1002,2,0),\"\")","v":""},null,{"$f":"IFERROR(VLOOKUP(E877,Teilnehmer!$B$3:$C$1002,2,0),\"\")","v":""}]
[null,null,null,{"$f":"IFERROR(VLOOKUP(C878,Teilnehmer!$B$3:$C$1002,2,0),\"\")","v":""},null,{"$f":"IFERROR(VLOOKUP(E878,Teilnehmer!$B$3:$C$1002,2,0),\"\")","v":""}]
[null,null,null,{"$f":"IFERROR(VLOOKUP(C879,Teilnehmer!$B$3:$C$1002,2,0),\"\")","v":""},null,{"$f":"IFERROR(VLOOKUP(E879,Teilnehmer!$B$3:$C$1002,2,0),\"\")","v":""}]
[null,null,null,{"$f":"IFERROR(VLOOKUP(C880,Teilnehmer!$B$3:$C$1002,2,0),\"\")","v":""},null,{"$f":"IFERROR(VLOOKUP(E880,Teilnehmer!$B$3:$C$1002,2,0),\"\")","v":""}]
[null,null,null,{"$f":"IFERROR(VLOOKUP(C881,Teilnehmer!$B$3:$C$1002,2,0),\"\")","v":""},null,{"$f":"IFERROR(VLOOKUP(E881,Teilnehmer!$B$3:$C$1002,2,0),\"\")","v":""}]
[null,null,null,{"$f":"IFERROR(VLOOKUP(C882,Teilnehmer!$B$3:$C$1002,2,0),\"\")","v":""},null,{"$f":"IFERROR(VLOOKUP(E882,Teilnehmer!$B$3:$C$1002,2,0),\"\")","v":""}]
[null,null,null,{"$f":"IFERROR(VLOOKUP(C883,Teilnehmer!$B$3:$C$1002,2,0),\"\")","v":""},null,{"$f":"IFERROR(VLOOKUP(E883,Teilnehmer!$B$3:$C$1002,2,0),\"\")","v":""}]
[null,null,null,{"$f":"IFERROR(VLOOKUP(C884,Teilnehmer!$B$3:$C$1002,2,0),\"\")","v":""},null,{"$f":"IFERROR(VLOOKUP(E884,Teilnehmer!$B$3:$C$1002,2,0),\"\")","v":""}]
[null,null,null,{"$f":"IFERROR(VLOOKUP(C885,Teilnehmer!$B$3:$C$1002,2,0),\"\")","v":""},null,{"$f":"IFERROR(VLOOKUP(E885,Teilnehmer!$B$3:$C$1002,2,0),\"\")","v":""}]
[null,null,null,{"$f":"IFERROR(VLOOKUP(C886,Teilnehmer!$B$3:$C$1002,2,0),\"\")","v":""},null,{"$f":"IFERROR(VLOOKUP(E886,Teilnehmer!$B$3:$C$1002,2,0),\"\")","v":""}]
[null,null,null,{"$f":"IFERROR(VLOOKUP(C887,Teilnehmer!$B$3:$C$1002,2,0),\"\")","v":""},null,{"$f":"IFERROR(VLOOKUP(E887,Teilnehmer!$B$3:$C$1002,2,0),\"\")","v":""}]
[null,null,null,{"$f":"IFERROR(VLOOKUP(C888,Teilnehmer!$B$3:$C$1002,2,0),\"\")","v":""},null,{"$f":"IFERROR(VLOOKUP(E888,Teilnehmer!$B$3:$C$1002,2,0),\"\")","v":""}]
[null,null,null,{"$f":"IFERROR(VLOOKUP(C889,Teilnehmer!$B$3:$C$1002,2,0),\"\")","v":""},null,{"$f":"IFERROR(VLOOKUP(E889,Teilnehmer!$B$3:$C$1002,2,0),\"\")","v":""}]
[null,null,null,{"$f":"IFERROR(VLOOKUP(C890,Teilnehmer!$B$3:$C$1002,2,0),\"\")","v":""},null,{"$f":"IFERROR(VLOOKUP(E890,Teilnehmer!$B$3:$C$1002,2,0),\"\")","v":""}]
[null,null,null,{"$f":"IFERROR(VLOOKUP(C891,Teilnehmer!$B$3:$C$1002,2,0),\"\")","v":""},null,{"$f":"IFERROR(VLOOKUP(E891,Teilnehmer!$B$3:$C$1002,2,0),\"\")","v":""}]
[null,null,null,{"$f":"IFERROR(VLOOKUP(C892,Teilnehmer!$B$3:$C$1002,2,0),\"\")","v":""},null,{"$f":"IFERROR(VLOOKUP(E892,Teilnehmer!$B$3:$C$1002,2,0),\"\")","v":""}]
[null,null,null,{"$f":"IFERROR(VLOOKUP(C893,Teilnehmer!$B$3:$C$1002,2,0),\"\")","v":""},null,{"$f":"IFERROR(VLOOKUP(E893,Teilnehmer!$B$3:$C$1002,2,0),\"\")","v":""}]
[null,null,null,{"$f":"IFERROR(VLOOKUP(C894,Teilnehmer!$B$3:$C$1002,2,0),\"\")","v":""},null,{"$f":"IFERROR(VLOOKUP(E894,Teilnehmer!$B$3:$C$1002,2,0),\"\")","v":""}]
[null,null,null,{"$f":"IFERROR(VLOOKUP(C895,Teilnehmer!$B$3:$C$1002,2,0),\"\")","v":""},null,{"$f":"IFERROR(VLOOKUP(E895,Teilnehmer!$B$3:$C$1002,2,0),\"\")","v":""}]
[null,null,null,{"$f":"IFERROR(VLOOKUP(C896,Teilnehmer!$B$3:$C$1002,2,0),\"\")","v":""},null,{"$f":"IFERROR(VLOOKUP(E896,Teilnehmer!$B$3:$C$1002,2,0),\"\")","v":""}]
[null,null,null,{"$f":"IFERROR(VLOOKUP(C897,Teilnehmer!$B$3:$C$1002,2,0),\"\")","v":""},null,{"$f":"IFERROR(VLOOKUP(E897,Teilnehmer!$B$3:$C$1002,2,0),\"\")","v":""}]
[null,null,null,{"$f":"IFERROR(VLOOKUP(C898,Teilnehmer!$B$3:$C$1002,2,0),\"\")","v":""},null,{"$f":"IFERROR(VLOOKUP(E898,Teilnehmer!$B$3:$C$1002,2,0),\"\")","v":""}]
[null,null,null,{"$f":"IFERROR(VLOOKUP(C899,Teilnehmer!$B$3:$C$1002,2,0),\"\")","v":""},null,{"$f":"IFERROR(VLOOKUP(E899,Teilnehmer!$B$3:$C$1002,2,0),\"\")","v":""}]
[null,null,null,{"$f":"IFERROR(VLOOKUP(C900,Teilnehmer!$B$3:$C$1002,2,0),\"\")","v":""},null,{"$f":"IFERROR(VLOOKUP(E900,Teilnehmer!$B$3:$C$1002,2,0),\"\")","v":""}]
[null,null,null,{"$f":"IFERROR(VLOOKUP(C901,Teilnehmer!$B$3:$C$1002,2,0),\"\")","v":""},null,{"$f":"IFERROR(VLOOKUP(E901,Teilnehmer!$B$3:$C$1002,2,0),\"\")","v":""}]
[null,null,null,{"$f":"IFERROR(VLOOKUP(C902,Teilnehmer!$B$3:$C$1002,2,0),\"\")","v":""},null,{"$f":"IFERROR(VLOOKUP(E902,Teilnehmer!$B$3:$C$1002,2,0),\"\")","v":""}]
[null,null,null,{"$f":"IFERROR(VLOOKUP(C903,Teilnehmer!$B$3:$C$1002,2,0),\"\")","v":""},null,{"$f":"IFERROR(VLOOKUP(E903,Teilnehmer!$B$3:$C$1002,2,0),\"\")","v":""}]
[null,null,null,{"$f":"IFERROR(VLOOKUP(C904,Teilnehmer!$B$3:$C$1002,2,0),\"\")","v":""},null,{"$f":"IFERROR(VLOOKUP(E904,Teilnehmer!$B$3:$C$1002,2,0),\"\")","v":""}]
[null,null,null,{"$f":"IFERROR(VLOOKUP(C905,Teilnehmer!$B$3:$C$1002,2,0),\"\")","v":""},null,{"$f":"IFERROR(VLOOKUP(E905,Teilnehmer!$B$3:$C$1002,2,0),\"\")","v":""}]
[null,null,null,{"$f":"IFERROR(VLOOKUP(C906,Teilnehmer!$B$3:$C$1002,2,0),\"\")","v":""},null,{"$f":"IFERROR(VLOOKUP(E906,Teilnehmer!$B$3:$C$1002,2,0),\"\")","v":""}]
[null,null,null,{"$f":"IFERROR(VLOOKUP(C907,Teilnehmer!$B$3:$C$1002,2,0),\"\")","v":""},null,{"$f":"IFERROR(VLOOKUP(E907,Teilnehmer!$B$3:$C$1002,2,0),\"\")","v":""}]
[null,null,null,{"$f":"IFERROR(VLOOKUP(C908,Teilnehmer!$B$3:$C$1002,2,0),\"\")","v":""},null,{"$f":"IFERROR(VLOOKUP(E908,Teilnehmer!$B$3:$C$1002,2,0),\"\")","v":""}]
[null,null,null,{"$f":"IFERROR(VLOOKUP(C909,Teilnehmer!$B$3:$C$1002,2,0),\"\")","v":""},null,{"$f":"IFERROR(VLOOKUP(E909,Teilnehmer!$B$3:$C$1002,2,0),\"\")","v":""}]
[null,null,null,{"$f":"IFERROR(VLOOKUP(C910,Teilnehmer!$B$3:$C$1002,2,0),\"\")","v":""},null,{"$f":"IFERROR(VLOOKUP(E910,Teilnehmer!$B$3:$C$1002,2,0),\"\")","v":""}]
[null,null,null,{"$f":"IFERROR(VLOOKUP(C911,Teilnehmer!$B$3:$C$1002,2,0),\"\")","v":""},null,{"$f":"IFERROR(VLOOKUP(E911,Teilnehmer!$B$3:$C$1002,2,0),\"\")","v":""}]
[null,null,null,{"$f":"IFERROR(VLOOKUP(C912,Teilnehmer!$B$3:$C$1002,2,0),\"\")","v":""},null,{"$f":"IFERROR(VLOOKUP(E912,Teilnehmer!$B$3:$C$1002,2,0),\"\")","v":""}]
[null,null,null,{"$f":"IFERROR(VLOOKUP(C913,Teilnehmer!$B$3:$C$1002,2,0),\"\")","v":""},null,{"$f":"IFERROR(VLOOKUP(E913,Teilnehmer!$B$3:$C$1002,2,0),\"\")","v":""}]
[null,null,null,{"$f":"IFERROR(VLOOKUP(C914,Teilnehmer!$B$3:$C$1002,2,0),\"\")","v":""},null,{"$f":"IFERROR(VLOOKUP(E914,Teilnehmer!$B$3:$C$1002,2,0),\"\")","v":""}]
[null,null,null,{"$f":"IFERROR(VLOOKUP(C915,Teilnehmer!$B$3:$C$1002,2,0),\"\")","v":""},null,{"$f":"IFERROR(VLOOKUP(E915,Teilnehmer!$B$3:$C$1002,2,0),\"\")","v":""}]
[null,null,null,{"$f":"IFERROR(VLOOKUP(C916,Teilnehmer!$B$3:$C$1002,2,0),\"\")","v":""},null,{"$f":"IFERROR(VLOOKUP(E916,Teilnehmer!$B$3:$C$1002,2,0),\"\")","v":""}]
[null,null,null,{"$f":"IFERROR(VLOOKUP(C917,Teilnehmer!$B$3:$C$1002,2,0),\"\")","v":""},null,{"$f":"IFERROR(VLOOKUP(E917,Teilnehmer!$B$3:$C$1002,2,0),\"\")","v":""}]
[null,null,null,{"$f":"IFERROR(VLOOKUP(C918,Teilnehmer!$B$3:$C$1002,2,0),\"\")","v":""},null,{"$f":"IFERROR(VLOOKUP(E918,Teilnehmer!$B$3:$C$1002,2,0),\"\")","v":""}]
[null,null,null,{"$f":"IFERROR(VLOOKUP(C919,Teilnehmer!$B$3:$C$1002,2,0),\"\")","v":""},null,{"$f":"IFERROR(VLOOKUP(E919,Teilnehmer!$B$3:$C$1002,2,0),\"\")","v":""}]
[null,null,null,{"$f":"IFERROR(VLOOKUP(C920,Teilnehmer!$B$3:$C$1002,2,0),\"\")","v":""},null,{"$f":"IFERROR(VLOOKUP(E920,Teilnehmer!$B$3:$C$1002,2,0),\"\")","v":""}]
[null,null,null,{"$f":"IFERROR(VLOOKUP(C921,Teilnehmer!$B$3:$C$1002,2,0),\"\")","v":""},null,{"$f":"IFERROR(VLOOKUP(E921,Teilnehmer!$B$3:$C$1002,2,0),\"\")","v":""}]
[null,null,null,{"$f":"IFERROR(VLOOKUP(C922,Teilnehmer!$B$3:$C$1002,2,0),\"\")","v":""},null,{"$f":"IFERROR(VLOOKUP(E922,Teilnehmer!$B$3:$C$1002,2,0),\"\")","v":""}]
[null,null,null,{"$f":"IFERROR(VLOOKUP(C923,Teilnehmer!$B$3:$C$1002,2,0),\"\")","v":""},null,{"$f":"IFERROR(VLOOKUP(E923,Teilnehmer!$B$3:$C$1002,2,0),\"\")","v":""}]
[null,null,null,{"$f":"IFERROR(VLOOKUP(C924,Teilnehmer!$B$3:$C$1002,2,0),\"\")","v":""},null,{"$f":"IFERROR(VLOOKUP(E924,Teilnehmer!$B$3:$C$1002,2,0),\"\")","v":""}]
[null,null,null,{"$f":"IFERROR(VLOOKUP(C925,Teilnehmer!$B$3:$C$1002,2,0),\"\")","v":""},null,{"$f":"IFERROR(VLOOKUP(E925,Teilnehmer!$B$3:$C$1002,2,0),\"\")","v":""}]
[null,null,null,{"$f":"IFERROR(VLOOKUP(C926,Teilnehmer!$B$3:$C$1002,2,0),\"\")","v":""},null,{"$f":"IFERROR(VLOOKUP(E926,Teilnehmer!$B$3:$C$1002,2,0),\"\")","v":""}]
[null,null,null,{"$f":"IFERROR(VLOOKUP(C927,Teilnehmer!$B$3:$C$1002,2,0),\"\")","v":""},null,{"$f":"IFERROR(VLOOKUP(E927,Teilnehmer!$B$3:$C$1002,2,0),\"\")","v":""}]
[null,null,null,{"$f":"IFERROR(VLOOKUP(C928,Teilnehmer!$B$3:$C$1002,2,0),\"\")","v":""},null,{"$f":"IFERROR(VLOOKUP(E928,Teilnehmer!$B$3:$C$1002,2,0),\"\")","v":""}]
[null,null,null,{"$f":"IFERROR(VLOOKUP(C929,Teilnehmer!$B$3:$C$1002,2,0),\"\")","v":""},null,{"$f":"IFERROR(VLOOKUP(E929,Teilnehmer!$B$3:$C$1002,2,0),\"\")","v":""}]
[null,null,null,{"$f":"IFERROR(VLOOKUP(C930,Teilnehmer!$B$3:$C$1002,2,0),\"\")","v":""},null,{"$f":"IFERROR(VLOOKUP(E930,Teilnehmer!$B$3:$C$1002,2,0),\"\")","v":""}]
[null,null,null,{"$f":"IFERROR(VLOOKUP(C931,Teilnehmer!$B$3:$C$1002,2,0),\"\")","v":""},null,{"$f":"IFERROR(VLOOKUP(E931,Teilnehmer!$B$3:$C$1002,2,0),\"\")","v":""}]
[null,null,null,{"$f":"IFERROR(VLOOKUP(C932,Teilnehmer!$B$3:$C$1002,2,0),\"\")","v":""},null,{"$f":"IFERROR(VLOOKUP(E932,Teilnehmer!$B$3:$C$1002,2,0),\"\")","v":""}]
[null,null,null,{"$f":"IFERROR(VLOOKUP(C933,Teilnehmer!$B$3:$C$1002,2,0),\"\")","v":""},null,{"$f":"IFERROR(VLOOKUP(E933,Teilnehmer!$B$3:$C$1002,2,0),\"\")","v":""}]
[null,null,null,{"$f":"IFERROR(VLOOKUP(C934,Teilnehmer!$B$3:$C$1002,2,0),\"\")","v":""},null,{"$f":"IFERROR(VLOOKUP(E934,Teilnehmer!$B$3:$C$1002,2,0),\"\")","v":""}]
[null,null,null,{"$f":"IFERROR(VLOOKUP(C935,Teilnehmer!$B$3:$C$1002,2,0),\"\")","v":""},null,{"$f":"IFERROR(VLOOKUP(E935,Teilnehmer!$B$3:$C$1002,2,0),\"\")","v":""}]
[null,null,null,{"$f":"IFERROR(VLOOKUP(C936,Teilnehmer!$B$3:$C$1002,2,0),\"\")","v":""},null,{"$f":"IFERROR(VLOOKUP(E936,Teilnehmer!$B$3:$C$1002,2,0),\"\")","v":""}]
[null,null,null,{"$f":"IFERROR(VLOOKUP(C937,Teilnehmer!$B$3:$C$1002,2,0),\"\")","v":""},null,{"$f":"IFERROR(VLOOKUP(E937,Teilnehmer!$B$3:$C$1002,2,0),\"\")","v":""}]
[null,null,null,{"$f":"IFERROR(VLOOKUP(C938,Teilnehmer!$B$3:$C$1002,2,0),\"\")","v":""},null,{"$f":"IFERROR(VLOOKUP(E938,Teilnehmer!$B$3:$C$1002,2,0),\"\")","v":""}]
[null,null,null,{"$f":"IFERROR(VLOOKUP(C939,Teilnehmer!$B$3:$C$1002,2,0),\"\")","v":""},null,{"$f":"IFERROR(VLOOKUP(E939,Teilnehmer!$B$3:$C$1002,2,0),\"\")","v":""}]
[null,null,null,{"$f":"IFERROR(VLOOKUP(C940,Teilnehmer!$B$3:$C$1002,2,0),\"\")","v":""},null,{"$f":"IFERROR(VLOOKUP(E940,Teilnehmer!$B$3:$C$1002,2,0),\"\")","v":""}]
[null,null,null,{"$f":"IFERROR(VLOOKUP(C941,Teilnehmer!$B$3:$C$1002,2,0),\"\")","v":""},null,{"$f":"IFERROR(VLOOKUP(E941,Teilnehmer!$B$3:$C$1002,2,0),\"\")","v":""}]
[null,null,null,{"$f":"IFERROR(VLOOKUP(C942,Teilnehmer!$B$3:$C$1002,2,0),\"\")","v":""},null,{"$f":"IFERROR(VLOOKUP(E942,Teilnehmer!$B$3:$C$1002,2,0),\"\")","v":""}]
[null,null,null,{"$f":"IFERROR(VLOOKUP(C943,Teilnehmer!$B$3:$C$1002,2,0),\"\")","v":""},null,{"$f":"IFERROR(VLOOKUP(E943,Teilnehmer!$B$3:$C$1002,2,0),\"\")","v":""}]
[null,null,null,{"$f":"IFERROR(VLOOKUP(C944,Teilnehmer!$B$3:$C$1002,2,0),\"\")","v":""},null,{"$f":"IFERROR(VLOOKUP(E944,Teilnehmer!$B$3:$C$1002,2,0),\"\")","v":""}]
[null,null,null,{"$f":"IFERROR(VLOOKUP(C945,Teilnehmer!$B$3:$C$1002,2,0),\"\")","v":""},null,{"$f":"IFERROR(VLOOKUP(E945,Teilnehmer!$B$3:$C$1002,2,0),\"\")","v":""}]
[null,null,null,{"$f":"IFERROR(VLOOKUP(C946,Teilnehmer!$B$3:$C$1002,2,0),\"\")","v":""},null,{"$f":"IFERROR(VLOOKUP(E946,Teilnehmer!$B$3:$C$1002,2,0),\"\")","v":""}]
[null,null,null,{"$f":"IFERROR(VLOOKUP(C947,Teilnehmer!$B$3:$C$1002,2,0),\"\")","v":""},null,{"$f":"IFERROR(VLOOKUP(E947,Teilnehmer!$B$3:$C$1002,2,0),\"\")","v":""}]
[null,null,null,{"$f":"IFERROR(VLOOKUP(C948,Teilnehmer!$B$3:$C$1002,2,0),\"\")","v":""},null,{"$f":"IFERROR(VLOOKUP(E948,Teilnehmer!$B$3:$C$1002,2,0),\"\")","v":""}]
[null,null,null,{"$f":"IFERROR(VLOOKUP(C949,Teilnehmer!$B$3:$C$1002,2,0),\"\")","v":""},null,{"$f":"IFERROR(VLOOKUP(E949,Teilnehmer!$B$3:$C$1002,2,0),\"\")","v":""}]
[null,null,null,{"$f":"IFERROR(VLOOKUP(C950,Teilnehmer!$B$3:$C$1002,2,0),\"\")","v":""},null,{"$f":"IFERROR(VLOOKUP(E950,Teilnehmer!$B$3:$C$1002,2,0),\"\")","v":""}]
[null,null,null,{"$f":"IFERROR(VLOOKUP(C951,Teilnehmer!$B$3:$C$1002,2,0),\"\")","v":""},null,{"$f":"IFERROR(VLOOKUP(E951,Teilnehmer!$B$3:$C$1002,2,0),\"\")","v":""}]
[null,null,null,{"$f":"IFERROR(VLOOKUP(C952,Teilnehmer!$B$3:$C$1002,2,0),\"\")","v":""},null,{"$f":"IFERROR(VLOOKUP(E952,Teilnehmer!$B$3:$C$1002,2,0),\"\")","v":""}]
[null,null,null,{"$f":"IFERROR(VLOOKUP(C953,Teilnehmer!$B$3:$C$1002,2,0),\"\")","v":""},null,{"$f":"IFERROR(VLOOKUP(E953,Teilnehmer!$B$3:$C$1002,2,0),\"\")","v":""}]
[null,null,null,{"$f":"IFERROR(VLOOKUP(C954,Teilnehmer!$B$3:$C$1002,2,0),\"\")","v":""},null,{"$f":"IFERROR(VLOOKUP(E954,Teilnehmer!$B$3:$C$1002,2,0),\"\")","v":""}]
[null,null,null,{"$f":"IFERROR(VLOOKUP(C955,Teilnehmer!$B$3:$C$1002,2,0),\"\")","v":""},null,{"$f":"IFERROR(VLOOKUP(E955,Teilnehmer!$B$3:$C$1002,2,0),\"\")","v":""}]
[null,null,null,{"$f":"IFERROR(VLOOKUP(C956,Teilnehmer!$B$3:$C$1002,2,0),\"\")","v":""},null,{"$f":"IFERROR(VLOOKUP(E956,Teilnehmer!$B$3:$C$1002,2,0),\"\")","v":""}]
[null,null,null,{"$f":"IFERROR(VLOOKUP(C957,Teilnehmer!$B$3:$C$1002,2,0),\"\")","v":""},null,{"$f":"IFERROR(VLOOKUP(E957,Teilnehmer!$B$3:$C$1002,2,0),\"\")","v":""}]
[null,null,null,{"$f":"IFERROR(VLOOKUP(C958,Teilnehmer!$B$3:$C$1002,2,0),\"\")","v":""},null,{"$f":"IFERROR(VLOOKUP(E958,Teilnehmer!$B$3:$C$1002,2,0),\"\")","v":""}]
[null,null,null,{"$f":"IFERROR(VLOOKUP(C959,Teilnehmer!$B$3:$C$1002,2,0),\"\")","v":""},null,{"$f":"IFERROR(VLOOKUP(E959,Teilnehmer!$B$3:$C$1002,2,0),\"\")","v":""}]
[null,null,null,{"$f":"IFERROR(VLOOKUP(C960,Teilnehmer!$B$3:$C$1002,2,0),\"\")","v":""},null,{"$f":"IFERROR(VLOOKUP(E960,Teilnehmer!$B$3:$C$1002,2,0),\"\")","v":""}]
[null,null,null,{"$f":"IFERROR(VLOOKUP(C961,Teilnehmer!$B$3:$C$1002,2,0),\"\")","v":""},null,{"$f":"IFERROR(VLOOKUP(E961,Teilnehmer!$B$3:$C$1002,2,0),\"\")","v":""}]
[null,null,null,{"$f":"IFERROR(VLOOKUP(C962,Teilnehmer!$B$3:$C$1002,2,0),\"\")","v":""},null,{"$f":"IFERROR(VLOOKUP(E962,Teilnehmer!$B$3:$C$1002,2,0),\"\")","v":""}]
[null,null,null,{"$f":"IFERROR(VLOOKUP(C963,Teilnehmer!$B$3:$C$1002,2,0),\"\")","v":""},null,{"$f":"IFERROR(VLOOKUP(E963,Teilnehmer!$B$3:$C$1002,2,0),\"\")","v":""}]
[null,null,null,{"$f":"IFERROR(VLOOKUP(C964,Teilnehmer!$B$3:$C$1002,2,0),\"\")","v":""},null,{"$f":"IFERROR(VLOOKUP(E964,Teilnehmer!$B$3:$C$1002,2,0),\"\")","v":""}]
[null,null,null,{"$f":"IFERROR(VLOOKUP(C965,Teilnehmer!$B$3:$C$1002,2,0),\"\")","v":""},null,{"$f":"IFERROR(VLOOKUP(E965,Teilnehmer!$B$3:$C$1002,2,0),\"\")","v":""}]
[null,null,null,{"$f":"IFERROR(VLOOKUP(C966,Teilnehmer!$B$3:$C$1002,2,0),\"\")","v":""},null,{"$f":"IFERROR(VLOOKUP(E966,Teilnehmer!$B$3:$C$1002,2,0),\"\")","v":""}]
[null,null,null,{"$f":"IFERROR(VLOOKUP(C967,Teilnehmer!$B$3:$C$1002,2,0),\"\")","v":""},null,{"$f":"IFERROR(VLOOKUP(E967,Teilnehmer!$B$3:$C$1002,2,0),\"\")","v":""}]
[null,null,null,{"$f":"IFERROR(VLOOKUP(C968,Teilnehmer!$B$3:$C$1002,2,0),\"\")","v":""},null,{"$f":"IFERROR(VLOOKUP(E968,Teilnehmer!$B$3:$C$1002,2,0),\"\")","v":""}]
[null,null,null,{"$f":"IFERROR(VLOOKUP(C969,Teilnehmer!$B$3:$C$1002,2,0),\"\")","v":""},null,{"$f":"IFERROR(VLOOKUP(E969,Teilnehmer!$B$3:$C$1002,2,0),\"\")","v":""}]
[null,null,null,{"$f":"IFERROR(VLOOKUP(C970,Teilnehmer!$B$3:$C$1002,2,0),\"\")","v":""},null,{"$f":"IFERROR(VLOOKUP(E970,Teilnehmer!$B$3:$C$1002,2,0),\"\")","v":""}]
[null,null,null,{"$f":"IFERROR(VLOOKUP(C971,Teilnehmer!$B$3:$C$1002,2,0),\"\")","v":""},null,{"$f":"IFERROR(VLOOKUP(E971,Teilnehmer!$B$3:$C$1002,2,0),\"\")","v":""}]
[null,null,null,{"$f":"IFERROR(VLOOKUP(C972,Teilnehmer!$B$3:$C$1002,2,0),\"\")","v":""},null,{"$f":"IFERROR(VLOOKUP(E972,Teilnehmer!$B$3:$C$1002,2,0),\"\")","v":""}]
[null,null,null,{"$f":"IFERROR(VLOOKUP(C973,Teilnehmer!$B$3:$C$1002,2,0),\"\")","v":""},null,{"$f":"IFERROR(VLOOKUP(E973,Teilnehmer!$B$3:$C$1002,2,0),\"\")","v":""}]
[null,null,null,{"$f":"IFERROR(VLOOKUP(C974,Teilnehmer!$B$3:$C$1002,2,0),\"\")","v":""},null,{"$f":"IFERROR(VLOOKUP(E974,Teilnehmer!$B$3:$C$1002,2,0),\"\")","v":""}]
[null,null,null,{"$f":"IFERROR(VLOOKUP(C975,Teilnehmer!$B$3:$C$1002,2,0),\"\")","v":""},null,{"$f":"IFERROR(VLOOKUP(E975,Teilnehmer!$B$3:$C$1002,2,0),\"\")","v":""}]
[null,null,null,{"$f":"IFERROR(VLOOKUP(C976,Teilnehmer!$B$3:$C$1002,2,0),\"\")","v":""},null,{"$f":"IFERROR(VLOOKUP(E976,Teilnehmer!$B$3:$C$1002,2,0),\"\")","v":""}]
[null,null,null,{"$f":"IFERROR(VLOOKUP(C977,Teilnehmer!$B$3:$C$1002,2,0),\"\")","v":""},null,{"$f":"IFERROR(VLOOKUP(E977,Teilnehmer!$B$3:$C$1002,2,0),\"\")","v":""}]
[null,null,null,{"$f":"IFERROR(VLOOKUP(C978,Teilnehmer!$B$3:$C$1002,2,0),\"\")","v":""},null,{"$f":"IFERROR(VLOOKUP(E978,Teilnehmer!$B$3:$C$1002,2,0),\"\")","v":""}]
[null,null,null,{"$f":"IFERROR(VLOOKUP(C979,Teilnehmer!$B$3:$C$1002,2,0),\"\")","v":""},null,{"$f":"IFERROR(VLOOKUP(E979,Teilnehmer!$B$3:$C$1002,2,0),\"\")","v":""}]
[null,null,null,{"$f":"IFERROR(VLOOKUP(C980,Teilnehmer!$B$3:$C$1002,2,0),\"\")","v":""},null,{"$f":"IFERROR(VLOOKUP(E980,Teilnehmer!$B$3:$C$1002,2,0),\"\")","v":""}]
[null,null,null,{"$f":"IFERROR(VLOOKUP(C981,Teilnehmer!$B$3:$C$1002,2,0),\"\")","v":""},null,{"$f":"IFERROR(VLOOKUP(E981,Teilnehmer!$B$3:$C$1002,2,0),\"\")","v":""}]
[null,null,null,{"$f":"IFERROR(VLOOKUP(C982,Teilnehmer!$B$3:$C$1002,2,0),\"\")","v":""},null,{"$f":"IFERROR(VLOOKUP(E982,Teilnehmer!$B$3:$C$1002,2,0),\"\")","v":""}]
[null,null,null,{"$f":"IFERROR(VLOOKUP(C983,Teilnehmer!$B$3:$C$1002,2,0),\"\")","v":""},null,{"$f":"IFERROR(VLOOKUP(E983,Teilnehmer!$B$3:$C$1002,2,0),\"\")","v":""}]
[null,null,null,{"$f":"IFERROR(VLOOKUP(C984,Teilnehmer!$B$3:$C$1002,2,0),\"\")","v":""},null,{"$f":"IFERROR(VLOOKUP(E984,Teilnehmer!$B$3:$C$1002,2,0),\"\")","v":""}]
[null,null,null,{"$f":"IFERROR(VLOOKUP(C985,Teilnehmer!$B$3:$C$1002,2,0),\"\")","v":""},null,{"$f":"IFERROR(VLOOKUP(E985,Teilnehmer!$B$3:$C$1002,2,0),\"\")","v":""}]
[null,null,null,{"$f":"IFERROR(VLOOKUP(C986,Teilnehmer!$B$3:$C$1002,2,0),\"\")","v":""},null,{"$f":"IFERROR(VLOOKUP(E986,Teilnehmer!$B$3:$C$1002,2,0),\"\")","v":""}]
[null,null,null,{"$f":"IFERROR(VLOOKUP(C987,Teilnehmer!$B$3:$C$1002,2,0),\"\")","v":""},null,{"$f":"IFERROR(VLOOKUP(E987,Teilnehmer!$B$3:$C$1002,2,0),\"\")","v":""}]
[null,null,null,{"$f":"IFERROR(VLOOKUP(C988,Teilnehmer!$B$3:$C$1002,2,0),\"\")","v":""},null,{"$f":"IFERROR(VLOOKUP(E988,Teilnehmer!$B$3:$C$1002,2,0),\"\")","v":""}]
[null,null,null,{"$f":"IFERROR(VLOOKUP(C989,Teilnehmer!$B$3:$C$1002,2,0),\"\")","v":""},null,{"$f":"IFERROR(VLOOKUP(E989,Teilnehmer!$B$3:$C$1002,2,0),\"\")","v":""}]
[null,null,null,{"$f":"IFERROR(VLOOKUP(C990,Teilnehmer!$B$3:$C$1002,2,0),\"\")","v":""},null,{"$f":"IFERROR(VLOOKUP(E990,Teilnehmer!$B$3:$C$1002,2,0),\"\")","v":""}]
[null,null,null,{"$f":"IFERROR(VLOOKUP(C991,Teilnehmer!$B$3:$C$1002,2,0),\"\")","v":""},null,{"$f":"IFERROR(VLOOKUP(E991,Teilnehmer!$B$3:$C$1002,2,0),\"\")","v":""}]
[null,null,null,{"$f":"IFERROR(VLOOKUP(C992,Teilnehmer!$B$3:$C$1002,2,0),\"\")","v":""},null,{"$f":"IFERROR(VLOOKUP(E992,Teilnehmer!$B$3:$C$1002,2,0),\"\")","v":""}]
[null,null,null,{"$f":"IFERROR(VLOOKUP(C993,Teilnehmer!$B$3:$C$1002,2,0),\"\")","v":""},null,{"$f":"IFERROR(VLOOKUP(E993,Teilnehmer!$B$3:$C$1002,2,0),\"\")","v":""}]
[null,null,null,{"$f":"IFERROR(VLOOKUP(C994,Teilnehmer!$B$3:$C$1002,2,0),\"\")","v":""},null,{"$f":"IFERROR(VLOOKUP(E994,Teilnehmer!$B$3:$C$1002,2,0),\"\")","v":""}]
[null,null,null,{"$f":"IFERROR(VLOOKUP(C995,Teilnehmer!$B$3:$C$1002,2,0),\"\")","v":""},null,{"$f":"IFERROR(VLOOKUP(E995,Teilnehmer!$B$3:$C$1002,2,0),\"\")","v":""}]
[null,null,null,{"$f":"IFERROR(VLOOKUP(C996,Teilnehmer!$B$3:$C$1002,2,0),\"\")","v":""},null,{"$f":"IFERROR(VLOOKUP(E996,Teilnehmer!$B$3:$C$1002,2,0),\"\")","v":""}]
[null,null,null,{"$f":"IFERROR(VLOOKUP(C997,Teilnehmer!$B$3:$C$1002,2,0),\"\")","v":""},null,{"$f":"IFERROR(VLOOKUP(E997,Teilnehmer!$B$3:$C$1002,2,0),\"\")","v":""}]
[null,null,null,{"$f":"IFERROR(VLOOKUP(C998,Teilnehmer!$B$3:$C$1002,2,0),\"\")","v":""},null,{"$f":"IFERROR(VLOOKUP(E998,Teilnehmer!$B$3:$C$1002,2,0),\"\")","v":""}]
[null,null,null,{"$f":"IFERROR(VLOOKUP(C999,Teilnehmer!$B$3:$C$1002,2,0),\"\")","v":""},null,{"$f":"IFERROR(VLOOKUP(E999,Teilnehmer!$B$3:$C$1002,2,0),\"\")","v":""}]
[null,null,null,{"$f":"IFERROR(VLOOKUP(C1000,Teilnehmer!$B$3:$C$1002,2,0),\"\")","v":""},null,{"$f":"IFERROR(VLOOKUP(E1000,Teilnehmer!$B$3:$C$1002,2,0),\"\")","v":""}]
[null,null,null,{"$f":"IFERROR(VLOOKUP(C1001,Teilnehmer!$B$3:$C$1002,2,0),\"\")","v":""},null,{"$f":"IFERROR(VLOOKUP(E1001,Teilnehmer!$B$3:$C$1002,2,0),\"\")","v":""}]
[null,null,null,{"$f":"IFERROR(VLOOKUP(C1002,Teilnehmer!$B$3:$C$1002,2,0),\"\")","v":""},null,{"$f":"IFERROR(VLOOKUP(E1002,Teilnehmer!$B$3:$C$1002,2,0),\"\")","v":""}]
[null,null,null,{"$f":"IFERROR(VLOOKUP(C1003,Teilnehmer!$B$3:$C$1002,2,0),\"\")","v":""},null,{"$f":"IFERROR(VLOOKUP(E1003,Teilnehmer!$B$3:$C$1002,2,0),\"\")","v":""}]
[null,null,null,{"$f":"IFERROR(VLOOKUP(C1004,Teilnehmer!$B$3:$C$1002,2,0),\"\")","v":""},null,{"$f":"IFERROR(VLOOKUP(E1004,Teilnehmer!$B$3:$C$1002,2,0),\"\")","v":""}]
[null,null,null,{"$f":"IFERROR(VLOOKUP(C1005,Teilnehmer!$B$3:$C$1002,2,0),\"\")","v":""},null,{"$f":"IFERROR(VLOOKUP(E1005,Teilnehmer!$B$3:$C$1002,2,0),\"\")","v":""}]
[null,null,null,{"$f":"IFERROR(VLOOKUP(C1006,Teilnehmer!$B$3:$C$1002,2,0),\"\")","v":""},null,{"$f":"IFERROR(VLOOKUP(E1006,Teilnehmer!$B$3:$C$1002,2,0),\"\")","v":""}]
[null,null,null,{"$f":"IFERROR(VLOOKUP(C1007,Teilnehmer!$B$3:$C$1002,2,0),\"\")","v":""},null,{"$f":"IFERROR(VLOOKUP(E1007,Teilnehmer!$B$3:$C$1002,2,0),\"\")","v":""}]
[null,null,null,{"$f":"IFERROR(VLOOKUP(C1008,Teilnehmer!$B$3:$C$1002,2,0),\"\")","v":""},null,{"$f":"IFERROR(VLOOKUP(E1008,Teilnehmer!$B$3:$C$1002,2,0),\"\")","v":""}]
[null,null,null,{"$f":"IFERROR(VLOOKUP(C1009,Teilnehmer!$B$3:$C$1002,2,0),\"\")","v":""},null,{"$f":"IFERROR(VLOOKUP(E1009,Teilnehmer!$B$3:$C$1002,2,0),\"\")","v":""}]
[null,null,null,{"$f":"IFERROR(VLOOKUP(C1010,Teilnehmer!$B$3:$C$1002,2,0),\"\")","v":""},null,{"$f":"IFERROR(VLOOKUP(E1010,Teilnehmer!$B$3:$C$1002,2,0),\"\")","v":""}]
[null,null,null,{"$f":"IFERROR(VLOOKUP(C1011,Teilnehmer!$B$3:$C$1002,2,0),\"\")","v":""},null,{"$f":"IFERROR(VLOOKUP(E1011,Teilnehmer!$B$3:$C$1002,2,0),\"\")","v":""}]
[null,null,null,{"$f":"IFERROR(VLOOKUP(C1012,Teilnehmer!$B$3:$C$1002,2,0),\"\")","v":""},null,{"$f":"IFERROR(VLOOKUP(E1012,Teilnehmer!$B$3:$C$1002,2,0),\"\")","v":""}]
[null,null,null,{"$f":"IFERROR(VLOOKUP(C1013,Teilnehmer!$B$3:$C$1002,2,0),\"\")","v":""},null,{"$f":"IFERROR(VLOOKUP(E1013,Teilnehmer!$B$3:$C$1002,2,0),\"\")","v":""}]
[null,null,null,{"$f":"IFERROR(VLOOKUP(C1014,Teilnehmer!$B$3:$C$1002,2,0),\"\")","v":""},null,{"$f":"IFERROR(VLOOKUP(E1014,Teilnehmer!$B$3:$C$1002,2,0),\"\")","v":""}]
[null,null,null,{"$f":"IFERROR(VLOOKUP(C1015,Teilnehmer!$B$3:$C$1002,2,0),\"\")","v":""},null,{"$f":"IFERROR(VLOOKUP(E1015,Teilnehmer!$B$3:$C$1002,2,0),\"\")","v":""}]
[null,null,null,{"$f":"IFERROR(VLOOKUP(C1016,Teilnehmer!$B$3:$C$1002,2,0),\"\")","v":""},null,{"$f":"IFERROR(VLOOKUP(E1016,Teilnehmer!$B$3:$C$1002,2,0),\"\")","v":""}]
[null,null,null,{"$f":"IFERROR(VLOOKUP(C1017,Teilnehmer!$B$3:$C$1002,2,0),\"\")","v":""},null,{"$f":"IFERROR(VLOOKUP(E1017,Teilnehmer!$B$3:$C$1002,2,0),\"\")","v":""}]
[null,null,null,{"$f":"IFERROR(VLOOKUP(C1018,Teilnehmer!$B$3:$C$1002,2,0),\"\")","v":""},null,{"$f":"IFERROR(VLOOKUP(E1018,Teilnehmer!$B$3:$C$1002,2,0),\"\")","v":""}]
[null,null,null,{"$f":"IFERROR(VLOOKUP(C1019,Teilnehmer!$B$3:$C$1002,2,0),\"\")","v":""},null,{"$f":"IFERROR(VLOOKUP(E1019,Teilnehmer!$B$3:$C$1002,2,0),\"\")","v":""}]
[null,null,null,{"$f":"IFERROR(VLOOKUP(C1020,Teilnehmer!$B$3:$C$1002,2,0),\"\")","v":""},null,{"$f":"IFERROR(VLOOKUP(E1020,Teilnehmer!$B$3:$C$1002,2,0),\"\")","v":""}]
[null,null,null,{"$f":"IFERROR(VLOOKUP(C1021,Teilnehmer!$B$3:$C$1002,2,0),\"\")","v":""},null,{"$f":"IFERROR(VLOOKUP(E1021,Teilnehmer!$B$3:$C$1002,2,0),\"\")","v":""}]
[null,null,null,{"$f":"IFERROR(VLOOKUP(C1022,Teilnehmer!$B$3:$C$1002,2,0),\"\")","v":""},null,{"$f":"IFERROR(VLOOKUP(E1022,Teilnehmer!$B$3:$C$1002,2,0),\"\")","v":""}]
[null,null,null,{"$f":"IFERROR(VLOOKUP(C1023,Teilnehmer!$B$3:$C$1002,2,0),\"\")","v":""},null,{"$f":"IFERROR(VLOOKUP(E1023,Teilnehmer!$B$3:$C$1002,2,0),\"\")","v":""}]
[null,null,null,{"$f":"IFERROR(VLOOKUP(C1024,Teilnehmer!$B$3:$C$1002,2,0),\"\")","v":""},null,{"$f":"IFERROR(VLOOKUP(E1024,Teilnehmer!$B$3:$C$1002,2,0),\"\")","v":""}]
[null,null,null,{"$f":"IFERROR(VLOOKUP(C1025,Teilnehmer!$B$3:$C$1002,2,0),\"\")","v":""},null,{"$f":"IFERROR(VLOOKUP(E1025,Teilnehmer!$B$3:$C$1002,2,0),\"\")","v":""}]
[null,null,null,{"$f":"IFERROR(VLOOKUP(C1026,Teilnehmer!$B$3:$C$1002,2,0),\"\")","v":""},null,{"$f":"IFERROR(VLOOKUP(E1026,Teilnehmer!$B$3:$C$1002,2,0),\"\")","v":""}]
[null,null,null,{"$f":"IFERROR(VLOOKUP(C1027,Teilnehmer!$B$3:$C$1002,2,0),\"\")","v":""},null,{"$f":"IFERROR(VLOOKUP(E1027,Teilnehmer!$B$3:$C$1002,2,0),\"\")","v":""}]
[null,null,null,{"$f":"IFERROR(VLOOKUP(C1028,Teilnehmer!$B$3:$C$1002,2,0),\"\")","v":""},null,{"$f":"IFERROR(VLOOKUP(E1028,Teilnehmer!$B$3:$C$1002,2,0),\"\")","v":""}]
[null,null,null,{"$f":"IFERROR(VLOOKUP(C1029,Teilnehmer!$B$3:$C$1002,2,0),\"\")","v":""},null,{"$f":"IFERROR(VLOOKUP(E1029,Teilnehmer!$B$3:$C$1002,2,0),\"\")","v":""}]
[null,null,null,{"$f":"IFERROR(VLOOKUP(C1030,Teilnehmer!$B$3:$C$1002,2,0),\"\")","v":""},null,{"$f":"IFERROR(VLOOKUP(E1030,Teilnehmer!$B$3:$C$1002,2,0),\"\")","v":""}]
[null,null,null,{"$f":"IFERROR(VLOOKUP(C1031,Teilnehmer!$B$3:$C$1002,2,0),\"\")","v":""},null,{"$f":"IFERROR(VLOOKUP(E1031,Teilnehmer!$B$3:$C$1002,2,0),\"\")","v":""}]
[null,null,null,{"$f":"IFERROR(VLOOKUP(C1032,Teilnehmer!$B$3:$C$1002,2,0),\"\")","v":""},null,{"$f":"IFERROR(VLOOKUP(E1032,Teilnehmer!$B$3:$C$1002,2,0),\"\")","v":""}]
[null,null,null,{"$f":"IFERROR(VLOOKUP(C1033,Teilnehmer!$B$3:$C$1002,2,0),\"\")","v":""},null,{"$f":"IFERROR(VLOOKUP(E1033,Teilnehmer!$B$3:$C$1002,2,0),\"\")","v":""}]
[null,null,null,{"$f":"IFERROR(VLOOKUP(C1034,Teilnehmer!$B$3:$C$1002,2,0),\"\")","v":""},null,{"$f":"IFERROR(VLOOKUP(E1034,Teilnehmer!$B$3:$C$1002,2,0),\"\")","v":""}]
[null,null,null,{"$f":"IFERROR(VLOOKUP(C1035,Teilnehmer!$B$3:$C$1002,2,0),\"\")","v":""},null,{"$f":"IFERROR(VLOOKUP(E1035,Teilnehmer!$B$3:$C$1002,2,0),\"\")","v":""}]
[null,null,null,{"$f":"IFERROR(VLOOKUP(C1036,Teilnehmer!$B$3:$C$1002,2,0),\"\")","v":""},null,{"$f":"IFERROR(VLOOKUP(E1036,Teilnehmer!$B$3:$C$1002,2,0),\"\")","v":""}]
[null,null,null,{"$f":"IFERROR(VLOOKUP(C1037,Teilnehmer!$B$3:$C$1002,2,0),\"\")","v":""},null,{"$f":"IFERROR(VLOOKUP(E1037,Teilnehmer!$B$3:$C$1002,2,0),\"\")","v":""}]
[null,null,null,{"$f":"IFERROR(VLOOKUP(C1038,Teilnehmer!$B$3:$C$1002,2,0),\"\")","v":""},null,{"$f":"IFERROR(VLOOKUP(E1038,Teilnehmer!$B$3:$C$1002,2,0),\"\")","v":""}]
[null,null,null,{"$f":"IFERROR(VLOOKUP(C1039,Teilnehmer!$B$3:$C$1002,2,0),\"\")","v":""},null,{"$f":"IFERROR(VLOOKUP(E1039,Teilnehmer!$B$3:$C$1002,2,0),\"\")","v":""}]
[null,null,null,{"$f":"IFERROR(VLOOKUP(C1040,Teilnehmer!$B$3:$C$1002,2,0),\"\")","v":""},null,{"$f":"IFERROR(VLOOKUP(E1040,Teilnehmer!$B$3:$C$1002,2,0),\"\")","v":""}]
[null,null,null,{"$f":"IFERROR(VLOOKUP(C1041,Teilnehmer!$B$3:$C$1002,2,0),\"\")","v":""},null,{"$f":"IFERROR(VLOOKUP(E1041,Teilnehmer!$B$3:$C$1002,2,0),\"\")","v":""}]
[null,null,null,{"$f":"IFERROR(VLOOKUP(C1042,Teilnehmer!$B$3:$C$1002,2,0),\"\")","v":""},null,{"$f":"IFERROR(VLOOKUP(E1042,Teilnehmer!$B$3:$C$1002,2,0),\"\")","v":""}]
[null,null,null,{"$f":"IFERROR(VLOOKUP(C1043,Teilnehmer!$B$3:$C$1002,2,0),\"\")","v":""},null,{"$f":"IFERROR(VLOOKUP(E1043,Teilnehmer!$B$3:$C$1002,2,0),\"\")","v":""}]
[null,null,null,{"$f":"IFERROR(VLOOKUP(C1044,Teilnehmer!$B$3:$C$1002,2,0),\"\")","v":""},null,{"$f":"IFERROR(VLOOKUP(E1044,Teilnehmer!$B$3:$C$1002,2,0),\"\")","v":""}]
[null,null,null,{"$f":"IFERROR(VLOOKUP(C1045,Teilnehmer!$B$3:$C$1002,2,0),\"\")","v":""},null,{"$f":"IFERROR(VLOOKUP(E1045,Teilnehmer!$B$3:$C$1002,2,0),\"\")","v":""}]
[null,null,null,{"$f":"IFERROR(VLOOKUP(C1046,Teilnehmer!$B$3:$C$1002,2,0),\"\")","v":""},null,{"$f":"IFERROR(VLOOKUP(E1046,Teilnehmer!$B$3:$C$1002,2,0),\"\")","v":""}]
[null,null,null,{"$f":"IFERROR(VLOOKUP(C1047,Teilnehmer!$B$3:$C$1002,2,0),\"\")","v":""},null,{"$f":"IFERROR(VLOOKUP(E1047,Teilnehmer!$B$3:$C$1002,2,0),\"\")","v":""}]
[null,null,null,{"$f":"IFERROR(VLOOKUP(C1048,Teilnehmer!$B$3:$C$1002,2,0),\"\")","v":""},null,{"$f":"IFERROR(VLOOKUP(E1048,Teilnehmer!$B$3:$C$1002,2,0),\"\")","v":""}]
[null,null,null,{"$f":"IFERROR(VLOOKUP(C1049,Teilnehmer!$B$3:$C$1002,2,0),\"\")","v":""},null,{"$f":"IFERROR(VLOOKUP(E1049,Teilnehmer!$B$3:$C$1002,2,0),\"\")","v":""}]
[null,null,null,{"$f":"IFERROR(VLOOKUP(C1050,Teilnehmer!$B$3:$C$1002,2,0),\"\")","v":""},null,{"$f":"IFERROR(VLOOKUP(E1050,Teilnehmer!$B$3:$C$1002,2,0),\"\")","v":""}]
[null,null,null,{"$f":"IFERROR(VLOOKUP(C1051,Teilnehmer!$B$3:$C$1002,2,0),\"\")","v":""},null,{"$f":"IFERROR(VLOOKUP(E1051,Teilnehmer!$B$3:$C$1002,2,0),\"\")","v":""}]
[null,null,null,{"$f":"IFERROR(VLOOKUP(C1052,Teilnehmer!$B$3:$C$1002,2,0),\"\")","v":""},null,{"$f":"IFERROR(VLOOKUP(E1052,Teilnehmer!$B$3:$C$1002,2,0),\"\")","v":""}]
[null,null,null,{"$f":"IFERROR(VLOOKUP(C1053,Teilnehmer!$B$3:$C$1002,2,0),\"\")","v":""},null,{"$f":"IFERROR(VLOOKUP(E1053,Teilnehmer!$B$3:$C$1002,2,0),\"\")","v":""}]
[null,null,null,{"$f":"IFERROR(VLOOKUP(C1054,Teilnehmer!$B$3:$C$1002,2,0),\"\")","v":""},null,{"$f":"IFERROR(VLOOKUP(E1054,Teilnehmer!$B$3:$C$1002,2,0),\"\")","v":""}]
[null,null,null,{"$f":"IFERROR(VLOOKUP(C1055,Teilnehmer!$B$3:$C$1002,2,0),\"\")","v":""},null,{"$f":"IFERROR(VLOOKUP(E1055,Teilnehmer!$B$3:$C$1002,2,0),\"\")","v":""}]
[null,null,null,{"$f":"IFERROR(VLOOKUP(C1056,Teilnehmer!$B$3:$C$1002,2,0),\"\")","v":""},null,{"$f":"IFERROR(VLOOKUP(E1056,Teilnehmer!$B$3:$C$1002,2,0),\"\")","v":""}]
[null,null,null,{"$f":"IFERROR(VLOOKUP(C1057,Teilnehmer!$B$3:$C$1002,2,0),\"\")","v":""},null,{"$f":"IFERROR(VLOOKUP(E1057,Teilnehmer!$B$3:$C$1002,2,0),\"\")","v":""}]
[null,null,null,{"$f":"IFERROR(VLOOKUP(C1058,Teilnehmer!$B$3:$C$1002,2,0),\"\")","v":""},null,{"$f":"IFERROR(VLOOKUP(E1058,Teilnehmer!$B$3:$C$1002,2,0),\"\")","v":""}]
[null,null,null,{"$f":"IFERROR(VLOOKUP(C1059,Teilnehmer!$B$3:$C$1002,2,0),\"\")","v":""},null,{"$f":"IFERROR(VLOOKUP(E1059,Teilnehmer!$B$3:$C$1002,2,0),\"\")","v":""}]
[null,null,null,{"$f":"IFERROR(VLOOKUP(C1060,Teilnehmer!$B$3:$C$1002,2,0),\"\")","v":""},null,{"$f":"IFERROR(VLOOKUP(E1060,Teilnehmer!$B$3:$C$1002,2,0),\"\")","v":""}]
[null,null,null,{"$f":"IFERROR(VLOOKUP(C1061,Teilnehmer!$B$3:$C$1002,2,0),\"\")","v":""},null,{"$f":"IFERROR(VLOOKUP(E1061,Teilnehmer!$B$3:$C$1002,2,0),\"\")","v":""}]
[null,null,null,{"$f":"IFERROR(VLOOKUP(C1062,Teilnehmer!$B$3:$C$1002,2,0),\"\")","v":""},null,{"$f":"IFERROR(VLOOKUP(E1062,Teilnehmer!$B$3:$C$1002,2,0),\"\")","v":""}]
[null,null,null,{"$f":"IFERROR(VLOOKUP(C1063,Teilnehmer!$B$3:$C$1002,2,0),\"\")","v":""},null,{"$f":"IFERROR(VLOOKUP(E1063,Teilnehmer!$B$3:$C$1002,2,0),\"\")","v":""}]
[null,null,null,{"$f":"IFERROR(VLOOKUP(C1064,Teilnehmer!$B$3:$C$1002,2,0),\"\")","v":""},null,{"$f":"IFERROR(VLOOKUP(E1064,Teilnehmer!$B$3:$C$1002,2,0),\"\")","v":""}]
[null,null,null,{"$f":"IFERROR(VLOOKUP(C1065,Teilnehmer!$B$3:$C$1002,2,0),\"\")","v":""},null,{"$f":"IFERROR(VLOOKUP(E1065,Teilnehmer!$B$3:$C$1002,2,0),\"\")","v":""}]
[null,null,null,{"$f":"IFERROR(VLOOKUP(C1066,Teilnehmer!$B$3:$C$1002,2,0),\"\")","v":""},null,{"$f":"IFERROR(VLOOKUP(E1066,Teilnehmer!$B$3:$C$1002,2,0),\"\")","v":""}]
[null,null,null,{"$f":"IFERROR(VLOOKUP(C1067,Teilnehmer!$B$3:$C$1002,2,0),\"\")","v":""},null,{"$f":"IFERROR(VLOOKUP(E1067,Teilnehmer!$B$3:$C$1002,2,0),\"\")","v":""}]
[null,null,null,{"$f":"IFERROR(VLOOKUP(C1068,Teilnehmer!$B$3:$C$1002,2,0),\"\")","v":""},null,{"$f":"IFERROR(VLOOKUP(E1068,Teilnehmer!$B$3:$C$1002,2,0),\"\")","v":""}]
[null,null,null,{"$f":"IFERROR(VLOOKUP(C1069,Teilnehmer!$B$3:$C$1002,2,0),\"\")","v":""},null,{"$f":"IFERROR(VLOOKUP(E1069,Teilnehmer!$B$3:$C$1002,2,0),\"\")","v":""}]
[null,null,null,{"$f":"IFERROR(VLOOKUP(C1070,Teilnehmer!$B$3:$C$1002,2,0),\"\")","v":""},null,{"$f":"IFERROR(VLOOKUP(E1070,Teilnehmer!$B$3:$C$1002,2,0),\"\")","v":""}]
[null,null,null,{"$f":"IFERROR(VLOOKUP(C1071,Teilnehmer!$B$3:$C$1002,2,0),\"\")","v":""},null,{"$f":"IFERROR(VLOOKUP(E1071,Teilnehmer!$B$3:$C$1002,2,0),\"\")","v":""}]
[null,null,null,{"$f":"IFERROR(VLOOKUP(C1072,Teilnehmer!$B$3:$C$1002,2,0),\"\")","v":""},null,{"$f":"IFERROR(VLOOKUP(E1072,Teilnehmer!$B$3:$C$1002,2,0),\"\")","v":""}]
[null,null,null,{"$f":"IFERROR(VLOOKUP(C1073,Teilnehmer!$B$3:$C$1002,2,0),\"\")","v":""},null,{"$f":"IFERROR(VLOOKUP(E1073,Teilnehmer!$B$3:$C$1002,2,0),\"\")","v":""}]
[null,null,null,{"$f":"IFERROR(VLOOKUP(C1074,Teilnehmer!$B$3:$C$1002,2,0),\"\")","v":""},null,{"$f":"IFERROR(VLOOKUP(E1074,Teilnehmer!$B$3:$C$1002,2,0),\"\")","v":""}]
[null,null,null,{"$f":"IFERROR(VLOOKUP(C1075,Teilnehmer!$B$3:$C$1002,2,0),\"\")","v":""},null,{"$f":"IFERROR(VLOOKUP(E1075,Teilnehmer!$B$3:$C$1002,2,0),\"\")","v":""}]
[null,null,null,{"$f":"IFERROR(VLOOKUP(C1076,Teilnehmer!$B$3:$C$1002,2,0),\"\")","v":""},null,{"$f":"IFERROR(VLOOKUP(E1076,Teilnehmer!$B$3:$C$1002,2,0),\"\")","v":""}]
[null,null,null,{"$f":"IFERROR(VLOOKUP(C1077,Teilnehmer!$B$3:$C$1002,2,0),\"\")","v":""},null,{"$f":"IFERROR(VLOOKUP(E1077,Teilnehmer!$B$3:$C$1002,2,0),\"\")","v":""}]
[null,null,null,{"$f":"IFERROR(VLOOKUP(C1078,Teilnehmer!$B$3:$C$1002,2,0),\"\")","v":""},null,{"$f":"IFERROR(VLOOKUP(E1078,Teilnehmer!$B$3:$C$1002,2,0),\"\")","v":""}]
[null,null,null,{"$f":"IFERROR(VLOOKUP(C1079,Teilnehmer!$B$3:$C$1002,2,0),\"\")","v":""},null,{"$f":"IFERROR(VLOOKUP(E1079,Teilnehmer!$B$3:$C$1002,2,0),\"\")","v":""}]
[null,null,null,{"$f":"IFERROR(VLOOKUP(C1080,Teilnehmer!$B$3:$C$1002,2,0),\"\")","v":""},null,{"$f":"IFERROR(VLOOKUP(E1080,Teilnehmer!$B$3:$C$1002,2,0),\"\")","v":""}]
[null,null,null,{"$f":"IFERROR(VLOOKUP(C1081,Teilnehmer!$B$3:$C$1002,2,0),\"\")","v":""},null,{"$f":"IFERROR(VLOOKUP(E1081,Teilnehmer!$B$3:$C$1002,2,0),\"\")","v":""}]
[null,null,null,{"$f":"IFERROR(VLOOKUP(C1082,Teilnehmer!$B$3:$C$1002,2,0),\"\")","v":""},null,{"$f":"IFERROR(VLOOKUP(E1082,Teilnehmer!$B$3:$C$1002,2,0),\"\")","v":""}]
[null,null,null,{"$f":"IFERROR(VLOOKUP(C1083,Teilnehmer!$B$3:$C$1002,2,0),\"\")","v":""},null,{"$f":"IFERROR(VLOOKUP(E1083,Teilnehmer!$B$3:$C$1002,2,0),\"\")","v":""}]
[null,null,null,{"$f":"IFERROR(VLOOKUP(C1084,Teilnehmer!$B$3:$C$1002,2,0),\"\")","v":""},null,{"$f":"IFERROR(VLOOKUP(E1084,Teilnehmer!$B$3:$C$1002,2,0),\"\")","v":""}]
[null,null,null,{"$f":"IFERROR(VLOOKUP(C1085,Teilnehmer!$B$3:$C$1002,2,0),\"\")","v":""},null,{"$f":"IFERROR(VLOOKUP(E1085,Teilnehmer!$B$3:$C$1002,2,0),\"\")","v":""}]
[null,null,null,{"$f":"IFERROR(VLOOKUP(C1086,Teilnehmer!$B$3:$C$1002,2,0),\"\")","v":""},null,{"$f":"IFERROR(VLOOKUP(E1086,Teilnehmer!$B$3:$C$1002,2,0),\"\")","v":""}]
[null,null,null,{"$f":"IFERROR(VLOOKUP(C1087,Teilnehmer!$B$3:$C$1002,2,0),\"\")","v":""},null,{"$f":"IFERROR(VLOOKUP(E1087,Teilnehmer!$B$3:$C$1002,2,0),\"\")","v":""}]
[null,null,null,{"$f":"IFERROR(VLOOKUP(C1088,Teilnehmer!$B$3:$C$1002,2,0),\"\")","v":""},null,{"$f":"IFERROR(VLOOKUP(E1088,Teilnehmer!$B$3:$C$1002,2,0),\"\")","v":""}]
[null,null,null,{"$f":"IFERROR(VLOOKUP(C1089,Teilnehmer!$B$3:$C$1002,2,0),\"\")","v":""},null,{"$f":"IFERROR(VLOOKUP(E1089,Teilnehmer!$B$3:$C$1002,2,0),\"\")","v":""}]
[null,null,null,{"$f":"IFERROR(VLOOKUP(C1090,Teilnehmer!$B$3:$C$1002,2,0),\"\")","v":""},null,{"$f":"IFERROR(VLOOKUP(E1090,Teilnehmer!$B$3:$C$1002,2,0),\"\")","v":""}]
[null,null,null,{"$f":"IFERROR(VLOOKUP(C1091,Teilnehmer!$B$3:$C$1002,2,0),\"\")","v":""},null,{"$f":"IFERROR(VLOOKUP(E1091,Teilnehmer!$B$3:$C$1002,2,0),\"\")","v":""}]
[null,null,null,{"$f":"IFERROR(VLOOKUP(C1092,Teilnehmer!$B$3:$C$1002,2,0),\"\")","v":""},null,{"$f":"IFERROR(VLOOKUP(E1092,Teilnehmer!$B$3:$C$1002,2,0),\"\")","v":""}]
[null,null,null,{"$f":"IFERROR(VLOOKUP(C1093,Teilnehmer!$B$3:$C$1002,2,0),\"\")","v":""},null,{"$f":"IFERROR(VLOOKUP(E1093,Teilnehmer!$B$3:$C$1002,2,0),\"\")","v":""}]
[null,null,null,{"$f":"IFERROR(VLOOKUP(C1094,Teilnehmer!$B$3:$C$1002,2,0),\"\")","v":""},null,{"$f":"IFERROR(VLOOKUP(E1094,Teilnehmer!$B$3:$C$1002,2,0),\"\")","v":""}]
[null,null,null,{"$f":"IFERROR(VLOOKUP(C1095,Teilnehmer!$B$3:$C$1002,2,0),\"\")","v":""},null,{"$f":"IFERROR(VLOOKUP(E1095,Teilnehmer!$B$3:$C$1002,2,0),\"\")","v":""}]
[null,null,null,{"$f":"IFERROR(VLOOKUP(C1096,Teilnehmer!$B$3:$C$1002,2,0),\"\")","v":""},null,{"$f":"IFERROR(VLOOKUP(E1096,Teilnehmer!$B$3:$C$1002,2,0),\"\")","v":""}]
[null,null,null,{"$f":"IFERROR(VLOOKUP(C1097,Teilnehmer!$B$3:$C$1002,2,0),\"\")","v":""},null,{"$f":"IFERROR(VLOOKUP(E1097,Teilnehmer!$B$3:$C$1002,2,0),\"\")","v":""}]
[null,null,null,{"$f":"IFERROR(VLOOKUP(C1098,Teilnehmer!$B$3:$C$1002,2,0),\"\")","v":""},null,{"$f":"IFERROR(VLOOKUP(E1098,Teilnehmer!$B$3:$C$1002,2,0),\"\")","v":""}]
[null,null,null,{"$f":"IFERROR(VLOOKUP(C1099,Teilnehmer!$B$3:$C$1002,2,0),\"\")","v":""},null,{"$f":"IFERROR(VLOOKUP(E1099,Teilnehmer!$B$3:$C$1002,2,0),\"\")","v":""}]
[null,null,null,{"$f":"IFERROR(VLOOKUP(C1100,Teilnehmer!$B$3:$C$1002,2,0),\"\")","v":""},null,{"$f":"IFERROR(VLOOKUP(E1100,Teilnehmer!$B$3:$C$1002,2,0),\"\")","v":""}]
[null,null,null,{"$f":"IFERROR(VLOOKUP(C1101,Teilnehmer!$B$3:$C$1002,2,0),\"\")","v":""},null,{"$f":"IFERROR(VLOOKUP(E1101,Teilnehmer!$B$3:$C$1002,2,0),\"\")","v":""}]
[null,null,null,{"$f":"IFERROR(VLOOKUP(C1102,Teilnehmer!$B$3:$C$1002,2,0),\"\")","v":""},null,{"$f":"IFERROR(VLOOKUP(E1102,Teilnehmer!$B$3:$C$1002,2,0),\"\")","v":""}]
[null,null,null,{"$f":"IFERROR(VLOOKUP(C1103,Teilnehmer!$B$3:$C$1002,2,0),\"\")","v":""},null,{"$f":"IFERROR(VLOOKUP(E1103,Teilnehmer!$B$3:$C$1002,2,0),\"\")","v":""}]
[null,null,null,{"$f":"IFERROR(VLOOKUP(C1104,Teilnehmer!$B$3:$C$1002,2,0),\"\")","v":""},null,{"$f":"IFERROR(VLOOKUP(E1104,Teilnehmer!$B$3:$C$1002,2,0),\"\")","v":""}]
[null,null,null,{"$f":"IFERROR(VLOOKUP(C1105,Teilnehmer!$B$3:$C$1002,2,0),\"\")","v":""},null,{"$f":"IFERROR(VLOOKUP(E1105,Teilnehmer!$B$3:$C$1002,2,0),\"\")","v":""}]
[null,null,null,{"$f":"IFERROR(VLOOKUP(C1106,Teilnehmer!$B$3:$C$1002,2,0),\"\")","v":""},null,{"$f":"IFERROR(VLOOKUP(E1106,Teilnehmer!$B$3:$C$1002,2,0),\"\")","v":""}]
[null,null,null,{"$f":"IFERROR(VLOOKUP(C1107,Teilnehmer!$B$3:$C$1002,2,0),\"\")","v":""},null,{"$f":"IFERROR(VLOOKUP(E1107,Teilnehmer!$B$3:$C$1002,2,0),\"\")","v":""}]
[null,null,null,{"$f":"IFERROR(VLOOKUP(C1108,Teilnehmer!$B$3:$C$1002,2,0),\"\")","v":""},null,{"$f":"IFERROR(VLOOKUP(E1108,Teilnehmer!$B$3:$C$1002,2,0),\"\")","v":""}]
[null,null,null,{"$f":"IFERROR(VLOOKUP(C1109,Teilnehmer!$B$3:$C$1002,2,0),\"\")","v":""},null,{"$f":"IFERROR(VLOOKUP(E1109,Teilnehmer!$B$3:$C$1002,2,0),\"\")","v":""}]
[null,null,null,{"$f":"IFERROR(VLOOKUP(C1110,Teilnehmer!$B$3:$C$1002,2,0),\"\")","v":""},null,{"$f":"IFERROR(VLOOKUP(E1110,Teilnehmer!$B$3:$C$1002,2,0),\"\")","v":""}]
[null,null,null,{"$f":"IFERROR(VLOOKUP(C1111,Teilnehmer!$B$3:$C$1002,2,0),\"\")","v":""},null,{"$f":"IFERROR(VLOOKUP(E1111,Teilnehmer!$B$3:$C$1002,2,0),\"\")","v":""}]
[null,null,null,{"$f":"IFERROR(VLOOKUP(C1112,Teilnehmer!$B$3:$C$1002,2,0),\"\")","v":""},null,{"$f":"IFERROR(VLOOKUP(E1112,Teilnehmer!$B$3:$C$1002,2,0),\"\")","v":""}]
[null,null,null,{"$f":"IFERROR(VLOOKUP(C1113,Teilnehmer!$B$3:$C$1002,2,0),\"\")","v":""},null,{"$f":"IFERROR(VLOOKUP(E1113,Teilnehmer!$B$3:$C$1002,2,0),\"\")","v":""}]
[null,null,null,{"$f":"IFERROR(VLOOKUP(C1114,Teilnehmer!$B$3:$C$1002,2,0),\"\")","v":""},null,{"$f":"IFERROR(VLOOKUP(E1114,Teilnehmer!$B$3:$C$1002,2,0),\"\")","v":""}]
[null,null,null,{"$f":"IFERROR(VLOOKUP(C1115,Teilnehmer!$B$3:$C$1002,2,0),\"\")","v":""},null,{"$f":"IFERROR(VLOOKUP(E1115,Teilnehmer!$B$3:$C$1002,2,0),\"\")","v":""}]
[null,null,null,{"$f":"IFERROR(VLOOKUP(C1116,Teilnehmer!$B$3:$C$1002,2,0),\"\")","v":""},null,{"$f":"IFERROR(VLOOKUP(E1116,Teilnehmer!$B$3:$C$1002,2,0),\"\")","v":""}]
[null,null,null,{"$f":"IFERROR(VLOOKUP(C1117,Teilnehmer!$B$3:$C$1002,2,0),\"\")","v":""},null,{"$f":"IFERROR(VLOOKUP(E1117,Teilnehmer!$B$3:$C$1002,2,0),\"\")","v":""}]
[null,null,null,{"$f":"IFERROR(VLOOKUP(C1118,Teilnehmer!$B$3:$C$1002,2,0),\"\")","v":""},null,{"$f":"IFERROR(VLOOKUP(E1118,Teilnehmer!$B$3:$C$1002,2,0),\"\")","v":""}]
[null,null,null,{"$f":"IFERROR(VLOOKUP(C1119,Teilnehmer!$B$3:$C$1002,2,0),\"\")","v":""},null,{"$f":"IFERROR(VLOOKUP(E1119,Teilnehmer!$B$3:$C$1002,2,0),\"\")","v":""}]
[null,null,null,{"$f":"IFERROR(VLOOKUP(C1120,Teilnehmer!$B$3:$C$1002,2,0),\"\")","v":""},null,{"$f":"IFERROR(VLOOKUP(E1120,Teilnehmer!$B$3:$C$1002,2,0),\"\")","v":""}]
[null,null,null,{"$f":"IFERROR(VLOOKUP(C1121,Teilnehmer!$B$3:$C$1002,2,0),\"\")","v":""},null,{"$f":"IFERROR(VLOOKUP(E1121,Teilnehmer!$B$3:$C$1002,2,0),\"\")","v":""}]
[null,null,null,{"$f":"IFERROR(VLOOKUP(C1122,Teilnehmer!$B$3:$C$1002,2,0),\"\")","v":""},null,{"$f":"IFERROR(VLOOKUP(E1122,Teilnehmer!$B$3:$C$1002,2,0),\"\")","v":""}]
[null,null,null,{"$f":"IFERROR(VLOOKUP(C1123,Teilnehmer!$B$3:$C$1002,2,0),\"\")","v":""},null,{"$f":"IFERROR(VLOOKUP(E1123,Teilnehmer!$B$3:$C$1002,2,0),\"\")","v":""}]
[null,null,null,{"$f":"IFERROR(VLOOKUP(C1124,Teilnehmer!$B$3:$C$1002,2,0),\"\")","v":""},null,{"$f":"IFERROR(VLOOKUP(E1124,Teilnehmer!$B$3:$C$1002,2,0),\"\")","v":""}]
[null,null,null,{"$f":"IFERROR(VLOOKUP(C1125,Teilnehmer!$B$3:$C$1002,2,0),\"\")","v":""},null,{"$f":"IFERROR(VLOOKUP(E1125,Teilnehmer!$B$3:$C$1002,2,0),\"\")","v":""}]
[null,null,null,{"$f":"IFERROR(VLOOKUP(C1126,Teilnehmer!$B$3:$C$1002,2,0),\"\")","v":""},null,{"$f":"IFERROR(VLOOKUP(E1126,Teilnehmer!$B$3:$C$1002,2,0),\"\")","v":""}]
[null,null,null,{"$f":"IFERROR(VLOOKUP(C1127,Teilnehmer!$B$3:$C$1002,2,0),\"\")","v":""},null,{"$f":"IFERROR(VLOOKUP(E1127,Teilnehmer!$B$3:$C$1002,2,0),\"\")","v":""}]
[null,null,null,{"$f":"IFERROR(VLOOKUP(C1128,Teilnehmer!$B$3:$C$1002,2,0),\"\")","v":""},null,{"$f":"IFERROR(VLOOKUP(E1128,Teilnehmer!$B$3:$C$1002,2,0),\"\")","v":""}]
[null,null,null,{"$f":"IFERROR(VLOOKUP(C1129,Teilnehmer!$B$3:$C$1002,2,0),\"\")","v":""},null,{"$f":"IFERROR(VLOOKUP(E1129,Teilnehmer!$B$3:$C$1002,2,0),\"\")","v":""}]
[null,null,null,{"$f":"IFERROR(VLOOKUP(C1130,Teilnehmer!$B$3:$C$1002,2,0),\"\")","v":""},null,{"$f":"IFERROR(VLOOKUP(E1130,Teilnehmer!$B$3:$C$1002,2,0),\"\")","v":""}]
[null,null,null,{"$f":"IFERROR(VLOOKUP(C1131,Teilnehmer!$B$3:$C$1002,2,0),\"\")","v":""},null,{"$f":"IFERROR(VLOOKUP(E1131,Teilnehmer!$B$3:$C$1002,2,0),\"\")","v":""}]
[null,null,null,{"$f":"IFERROR(VLOOKUP(C1132,Teilnehmer!$B$3:$C$1002,2,0),\"\")","v":""},null,{"$f":"IFERROR(VLOOKUP(E1132,Teilnehmer!$B$3:$C$1002,2,0),\"\")","v":""}]
[null,null,null,{"$f":"IFERROR(VLOOKUP(C1133,Teilnehmer!$B$3:$C$1002,2,0),\"\")","v":""},null,{"$f":"IFERROR(VLOOKUP(E1133,Teilnehmer!$B$3:$C$1002,2,0),\"\")","v":""}]
[null,null,null,{"$f":"IFERROR(VLOOKUP(C1134,Teilnehmer!$B$3:$C$1002,2,0),\"\")","v":""},null,{"$f":"IFERROR(VLOOKUP(E1134,Teilnehmer!$B$3:$C$1002,2,0),\"\")","v":""}]
[null,null,null,{"$f":"IFERROR(VLOOKUP(C1135,Teilnehmer!$B$3:$C$1002,2,0),\"\")","v":""},null,{"$f":"IFERROR(VLOOKUP(E1135,Teilnehmer!$B$3:$C$1002,2,0),\"\")","v":""}]
[null,null,null,{"$f":"IFERROR(VLOOKUP(C1136,Teilnehmer!$B$3:$C$1002,2,0),\"\")","v":""},null,{"$f":"IFERROR(VLOOKUP(E1136,Teilnehmer!$B$3:$C$1002,2,0),\"\")","v":""}]
[null,null,null,{"$f":"IFERROR(VLOOKUP(C1137,Teilnehmer!$B$3:$C$1002,2,0),\"\")","v":""},null,{"$f":"IFERROR(VLOOKUP(E1137,Teilnehmer!$B$3:$C$1002,2,0),\"\")","v":""}]
[null,null,null,{"$f":"IFERROR(VLOOKUP(C1138,Teilnehmer!$B$3:$C$1002,2,0),\"\")","v":""},null,{"$f":"IFERROR(VLOOKUP(E1138,Teilnehmer!$B$3:$C$1002,2,0),\"\")","v":""}]
[null,null,null,{"$f":"IFERROR(VLOOKUP(C1139,Teilnehmer!$B$3:$C$1002,2,0),\"\")","v":""},null,{"$f":"IFERROR(VLOOKUP(E1139,Teilnehmer!$B$3:$C$1002,2,0),\"\")","v":""}]
[null,null,null,{"$f":"IFERROR(VLOOKUP(C1140,Teilnehmer!$B$3:$C$1002,2,0),\"\")","v":""},null,{"$f":"IFERROR(VLOOKUP(E1140,Teilnehmer!$B$3:$C$1002,2,0),\"\")","v":""}]
[null,null,null,{"$f":"IFERROR(VLOOKUP(C1141,Teilnehmer!$B$3:$C$1002,2,0),\"\")","v":""},null,{"$f":"IFERROR(VLOOKUP(E1141,Teilnehmer!$B$3:$C$1002,2,0),\"\")","v":""}]
[null,null,null,{"$f":"IFERROR(VLOOKUP(C1142,Teilnehmer!$B$3:$C$1002,2,0),\"\")","v":""},null,{"$f":"IFERROR(VLOOKUP(E1142,Teilnehmer!$B$3:$C$1002,2,0),\"\")","v":""}]
[null,null,null,{"$f":"IFERROR(VLOOKUP(C1143,Teilnehmer!$B$3:$C$1002,2,0),\"\")","v":""},null,{"$f":"IFERROR(VLOOKUP(E1143,Teilnehmer!$B$3:$C$1002,2,0),\"\")","v":""}]
[null,null,null,{"$f":"IFERROR(VLOOKUP(C1144,Teilnehmer!$B$3:$C$1002,2,0),\"\")","v":""},null,{"$f":"IFERROR(VLOOKUP(E1144,Teilnehmer!$B$3:$C$1002,2,0),\"\")","v":""}]
[null,null,null,{"$f":"IFERROR(VLOOKUP(C1145,Teilnehmer!$B$3:$C$1002,2,0),\"\")","v":""},null,{"$f":"IFERROR(VLOOKUP(E1145,Teilnehmer!$B$3:$C$1002,2,0),\"\")","v":""}]
[null,null,null,{"$f":"IFERROR(VLOOKUP(C1146,Teilnehmer!$B$3:$C$1002,2,0),\"\")","v":""},null,{"$f":"IFERROR(VLOOKUP(E1146,Teilnehmer!$B$3:$C$1002,2,0),\"\")","v":""}]
[null,null,null,{"$f":"IFERROR(VLOOKUP(C1147,Teilnehmer!$B$3:$C$1002,2,0),\"\")","v":""},null,{"$f":"IFERROR(VLOOKUP(E1147,Teilnehmer!$B$3:$C$1002,2,0),\"\")","v":""}]
[null,null,null,{"$f":"IFERROR(VLOOKUP(C1148,Teilnehmer!$B$3:$C$1002,2,0),\"\")","v":""},null,{"$f":"IFERROR(VLOOKUP(E1148,Teilnehmer!$B$3:$C$1002,2,0),\"\")","v":""}]
[null,null,null,{"$f":"IFERROR(VLOOKUP(C1149,Teilnehmer!$B$3:$C$1002,2,0),\"\")","v":""},null,{"$f":"IFERROR(VLOOKUP(E1149,Teilnehmer!$B$3:$C$1002,2,0),\"\")","v":""}]
[null,null,null,{"$f":"IFERROR(VLOOKUP(C1150,Teilnehmer!$B$3:$C$1002,2,0),\"\")","v":""},null,{"$f":"IFERROR(VLOOKUP(E1150,Teilnehmer!$B$3:$C$1002,2,0),\"\")","v":""}]
[null,null,null,{"$f":"IFERROR(VLOOKUP(C1151,Teilnehmer!$B$3:$C$1002,2,0),\"\")","v":""},null,{"$f":"IFERROR(VLOOKUP(E1151,Teilnehmer!$B$3:$C$1002,2,0),\"\")","v":""}]
[null,null,null,{"$f":"IFERROR(VLOOKUP(C1152,Teilnehmer!$B$3:$C$1002,2,0),\"\")","v":""},null,{"$f":"IFERROR(VLOOKUP(E1152,Teilnehmer!$B$3:$C$1002,2,0),\"\")","v":""}]
[null,null,null,{"$f":"IFERROR(VLOOKUP(C1153,Teilnehmer!$B$3:$C$1002,2,0),\"\")","v":""},null,{"$f":"IFERROR(VLOOKUP(E1153,Teilnehmer!$B$3:$C$1002,2,0),\"\")","v":""}]
[null,null,null,{"$f":"IFERROR(VLOOKUP(C1154,Teilnehmer!$B$3:$C$1002,2,0),\"\")","v":""},null,{"$f":"IFERROR(VLOOKUP(E1154,Teilnehmer!$B$3:$C$1002,2,0),\"\")","v":""}]
[null,null,null,{"$f":"IFERROR(VLOOKUP(C1155,Teilnehmer!$B$3:$C$1002,2,0),\"\")","v":""},null,{"$f":"IFERROR(VLOOKUP(E1155,Teilnehmer!$B$3:$C$1002,2,0),\"\")","v":""}]
[null,null,null,{"$f":"IFERROR(VLOOKUP(C1156,Teilnehmer!$B$3:$C$1002,2,0),\"\")","v":""},null,{"$f":"IFERROR(VLOOKUP(E1156,Teilnehmer!$B$3:$C$1002,2,0),\"\")","v":""}]
[null,null,null,{"$f":"IFERROR(VLOOKUP(C1157,Teilnehmer!$B$3:$C$1002,2,0),\"\")","v":""},null,{"$f":"IFERROR(VLOOKUP(E1157,Teilnehmer!$B$3:$C$1002,2,0),\"\")","v":""}]
[null,null,null,{"$f":"IFERROR(VLOOKUP(C1158,Teilnehmer!$B$3:$C$1002,2,0),\"\")","v":""},null,{"$f":"IFERROR(VLOOKUP(E1158,Teilnehmer!$B$3:$C$1002,2,0),\"\")","v":""}]
[null,null,null,{"$f":"IFERROR(VLOOKUP(C1159,Teilnehmer!$B$3:$C$1002,2,0),\"\")","v":""},null,{"$f":"IFERROR(VLOOKUP(E1159,Teilnehmer!$B$3:$C$1002,2,0),\"\")","v":""}]
[null,null,null,{"$f":"IFERROR(VLOOKUP(C1160,Teilnehmer!$B$3:$C$1002,2,0),\"\")","v":""},null,{"$f":"IFERROR(VLOOKUP(E1160,Teilnehmer!$B$3:$C$1002,2,0),\"\")","v":""}]
[null,null,null,{"$f":"IFERROR(VLOOKUP(C1161,Teilnehmer!$B$3:$C$1002,2,0),\"\")","v":""},null,{"$f":"IFERROR(VLOOKUP(E1161,Teilnehmer!$B$3:$C$1002,2,0),\"\")","v":""}]
[null,null,null,{"$f":"IFERROR(VLOOKUP(C1162,Teilnehmer!$B$3:$C$1002,2,0),\"\")","v":""},null,{"$f":"IFERROR(VLOOKUP(E1162,Teilnehmer!$B$3:$C$1002,2,0),\"\")","v":""}]
[null,null,null,{"$f":"IFERROR(VLOOKUP(C1163,Teilnehmer!$B$3:$C$1002,2,0),\"\")","v":""},null,{"$f":"IFERROR(VLOOKUP(E1163,Teilnehmer!$B$3:$C$1002,2,0),\"\")","v":""}]
[null,null,null,{"$f":"IFERROR(VLOOKUP(C1164,Teilnehmer!$B$3:$C$1002,2,0),\"\")","v":""},null,{"$f":"IFERROR(VLOOKUP(E1164,Teilnehmer!$B$3:$C$1002,2,0),\"\")","v":""}]
[null,null,null,{"$f":"IFERROR(VLOOKUP(C1165,Teilnehmer!$B$3:$C$1002,2,0),\"\")","v":""},null,{"$f":"IFERROR(VLOOKUP(E1165,Teilnehmer!$B$3:$C$1002,2,0),\"\")","v":""}]
[null,null,null,{"$f":"IFERROR(VLOOKUP(C1166,Teilnehmer!$B$3:$C$1002,2,0),\"\")","v":""},null,{"$f":"IFERROR(VLOOKUP(E1166,Teilnehmer!$B$3:$C$1002,2,0),\"\")","v":""}]
[null,null,null,{"$f":"IFERROR(VLOOKUP(C1167,Teilnehmer!$B$3:$C$1002,2,0),\"\")","v":""},null,{"$f":"IFERROR(VLOOKUP(E1167,Teilnehmer!$B$3:$C$1002,2,0),\"\")","v":""}]
[null,null,null,{"$f":"IFERROR(VLOOKUP(C1168,Teilnehmer!$B$3:$C$1002,2,0),\"\")","v":""},null,{"$f":"IFERROR(VLOOKUP(E1168,Teilnehmer!$B$3:$C$1002,2,0),\"\")","v":""}]
[null,null,null,{"$f":"IFERROR(VLOOKUP(C1169,Teilnehmer!$B$3:$C$1002,2,0),\"\")","v":""},null,{"$f":"IFERROR(VLOOKUP(E1169,Teilnehmer!$B$3:$C$1002,2,0),\"\")","v":""}]
[null,null,null,{"$f":"IFERROR(VLOOKUP(C1170,Teilnehmer!$B$3:$C$1002,2,0),\"\")","v":""},null,{"$f":"IFERROR(VLOOKUP(E1170,Teilnehmer!$B$3:$C$1002,2,0),\"\")","v":""}]
[null,null,null,{"$f":"IFERROR(VLOOKUP(C1171,Teilnehmer!$B$3:$C$1002,2,0),\"\")","v":""},null,{"$f":"IFERROR(VLOOKUP(E1171,Teilnehmer!$B$3:$C$1002,2,0),\"\")","v":""}]
[null,null,null,{"$f":"IFERROR(VLOOKUP(C1172,Teilnehmer!$B$3:$C$1002,2,0),\"\")","v":""},null,{"$f":"IFERROR(VLOOKUP(E1172,Teilnehmer!$B$3:$C$1002,2,0),\"\")","v":""}]
[null,null,null,{"$f":"IFERROR(VLOOKUP(C1173,Teilnehmer!$B$3:$C$1002,2,0),\"\")","v":""},null,{"$f":"IFERROR(VLOOKUP(E1173,Teilnehmer!$B$3:$C$1002,2,0),\"\")","v":""}]
[null,null,null,{"$f":"IFERROR(VLOOKUP(C1174,Teilnehmer!$B$3:$C$1002,2,0),\"\")","v":""},null,{"$f":"IFERROR(VLOOKUP(E1174,Teilnehmer!$B$3:$C$1002,2,0),\"\")","v":""}]
[null,null,null,{"$f":"IFERROR(VLOOKUP(C1175,Teilnehmer!$B$3:$C$1002,2,0),\"\")","v":""},null,{"$f":"IFERROR(VLOOKUP(E1175,Teilnehmer!$B$3:$C$1002,2,0),\"\")","v":""}]
[null,null,null,{"$f":"IFERROR(VLOOKUP(C1176,Teilnehmer!$B$3:$C$1002,2,0),\"\")","v":""},null,{"$f":"IFERROR(VLOOKUP(E1176,Teilnehmer!$B$3:$C$1002,2,0),\"\")","v":""}]
[null,null,null,{"$f":"IFERROR(VLOOKUP(C1177,Teilnehmer!$B$3:$C$1002,2,0),\"\")","v":""},null,{"$f":"IFERROR(VLOOKUP(E1177,Teilnehmer!$B$3:$C$1002,2,0),\"\")","v":""}]
[null,null,null,{"$f":"IFERROR(VLOOKUP(C1178,Teilnehmer!$B$3:$C$1002,2,0),\"\")","v":""},null,{"$f":"IFERROR(VLOOKUP(E1178,Teilnehmer!$B$3:$C$1002,2,0),\"\")","v":""}]
[null,null,null,{"$f":"IFERROR(VLOOKUP(C1179,Teilnehmer!$B$3:$C$1002,2,0),\"\")","v":""},null,{"$f":"IFERROR(VLOOKUP(E1179,Teilnehmer!$B$3:$C$1002,2,0),\"\")","v":""}]
[null,null,null,{"$f":"IFERROR(VLOOKUP(C1180,Teilnehmer!$B$3:$C$1002,2,0),\"\")","v":""},null,{"$f":"IFERROR(VLOOKUP(E1180,Teilnehmer!$B$3:$C$1002,2,0),\"\")","v":""}]
[null,null,null,{"$f":"IFERROR(VLOOKUP(C1181,Teilnehmer!$B$3:$C$1002,2,0),\"\")","v":""},null,{"$f":"IFERROR(VLOOKUP(E1181,Teilnehmer!$B$3:$C$1002,2,0),\"\")","v":""}]
[null,null,null,{"$f":"IFERROR(VLOOKUP(C1182,Teilnehmer!$B$3:$C$1002,2,0),\"\")","v":""},null,{"$f":"IFERROR(VLOOKUP(E1182,Teilnehmer!$B$3:$C$1002,2,0),\"\")","v":""}]
[null,null,null,{"$f":"IFERROR(VLOOKUP(C1183,Teilnehmer!$B$3:$C$1002,2,0),\"\")","v":""},null,{"$f":"IFERROR(VLOOKUP(E1183,Teilnehmer!$B$3:$C$1002,2,0),\"\")","v":""}]
[null,null,null,{"$f":"IFERROR(VLOOKUP(C1184,Teilnehmer!$B$3:$C$1002,2,0),\"\")","v":""},null,{"$f":"IFERROR(VLOOKUP(E1184,Teilnehmer!$B$3:$C$1002,2,0),\"\")","v":""}]
[null,null,null,{"$f":"IFERROR(VLOOKUP(C1185,Teilnehmer!$B$3:$C$1002,2,0),\"\")","v":""},null,{"$f":"IFERROR(VLOOKUP(E1185,Teilnehmer!$B$3:$C$1002,2,0),\"\")","v":""}]
[null,null,null,{"$f":"IFERROR(VLOOKUP(C1186,Teilnehmer!$B$3:$C$1002,2,0),\"\")","v":""},null,{"$f":"IFERROR(VLOOKUP(E1186,Teilnehmer!$B$3:$C$1002,2,0),\"\")","v":""}]
[null,null,null,{"$f":"IFERROR(VLOOKUP(C1187,Teilnehmer!$B$3:$C$1002,2,0),\"\")","v":""},null,{"$f":"IFERROR(VLOOKUP(E1187,Teilnehmer!$B$3:$C$1002,2,0),\"\")","v":""}]
[null,null,null,{"$f":"IFERROR(VLOOKUP(C1188,Teilnehmer!$B$3:$C$1002,2,0),\"\")","v":""},null,{"$f":"IFERROR(VLOOKUP(E1188,Teilnehmer!$B$3:$C$1002,2,0),\"\")","v":""}]
[null,null,null,{"$f":"IFERROR(VLOOKUP(C1189,Teilnehmer!$B$3:$C$1002,2,0),\"\")","v":""},null,{"$f":"IFERROR(VLOOKUP(E1189,Teilnehmer!$B$3:$C$1002,2,0),\"\")","v":""}]
[null,null,null,{"$f":"IFERROR(VLOOKUP(C1190,Teilnehmer!$B$3:$C$1002,2,0),\"\")","v":""},null,{"$f":"IFERROR(VLOOKUP(E1190,Teilnehmer!$B$3:$C$1002,2,0),\"\")","v":""}]
[null,null,null,{"$f":"IFERROR(VLOOKUP(C1191,Teilnehmer!$B$3:$C$1002,2,0),\"\")","v":""},null,{"$f":"IFERROR(VLOOKUP(E1191,Teilnehmer!$B$3:$C$1002,2,0),\"\")","v":""}]
[null,null,null,{"$f":"IFERROR(VLOOKUP(C1192,Teilnehmer!$B$3:$C$1002,2,0),\"\")","v":""},null,{"$f":"IFERROR(VLOOKUP(E1192,Teilnehmer!$B$3:$C$1002,2,0),\"\")","v":""}]
[null,null,null,{"$f":"IFERROR(VLOOKUP(C1193,Teilnehmer!$B$3:$C$1002,2,0),\"\")","v":""},null,{"$f":"IFERROR(VLOOKUP(E1193,Teilnehmer!$B$3:$C$1002,2,0),\"\")","v":""}]
[null,null,null,{"$f":"IFERROR(VLOOKUP(C1194,Teilnehmer!$B$3:$C$1002,2,0),\"\")","v":""},null,{"$f":"IFERROR(VLOOKUP(E1194,Teilnehmer!$B$3:$C$1002,2,0),\"\")","v":""}]
[null,null,null,{"$f":"IFERROR(VLOOKUP(C1195,Teilnehmer!$B$3:$C$1002,2,0),\"\")","v":""},null,{"$f":"IFERROR(VLOOKUP(E1195,Teilnehmer!$B$3:$C$1002,2,0),\"\")","v":""}]
[null,null,null,{"$f":"IFERROR(VLOOKUP(C1196,Teilnehmer!$B$3:$C$1002,2,0),\"\")","v":""},null,{"$f":"IFERROR(VLOOKUP(E1196,Teilnehmer!$B$3:$C$1002,2,0),\"\")","v":""}]
[null,null,null,{"$f":"IFERROR(VLOOKUP(C1197,Teilnehmer!$B$3:$C$1002,2,0),\"\")","v":""},null,{"$f":"IFERROR(VLOOKUP(E1197,Teilnehmer!$B$3:$C$1002,2,0),\"\")","v":""}]
[null,null,null,{"$f":"IFERROR(VLOOKUP(C1198,Teilnehmer!$B$3:$C$1002,2,0),\"\")","v":""},null,{"$f":"IFERROR(VLOOKUP(E1198,Teilnehmer!$B$3:$C$1002,2,0),\"\")","v":""}]
[null,null,null,{"$f":"IFERROR(VLOOKUP(C1199,Teilnehmer!$B$3:$C$1002,2,0),\"\")","v":""},null,{"$f":"IFERROR(VLOOKUP(E1199,Teilnehmer!$B$3:$C$1002,2,0),\"\")","v":""}]
[null,null,null,{"$f":"IFERROR(VLOOKUP(C1200,Teilnehmer!$B$3:$C$1002,2,0),\"\")","v":""},null,{"$f":"IFERROR(VLOOKUP(E1200,Teilnehmer!$B$3:$C$1002,2,0),\"\")","v":""}]
[null,null,null,{"$f":"IFERROR(VLOOKUP(C1201,Teilnehmer!$B$3:$C$1002,2,0),\"\")","v":""},null,{"$f":"IFERROR(VLOOKUP(E1201,Teilnehmer!$B$3:$C$1002,2,0),\"\")","v":""}]
[null,null,null,{"$f":"IFERROR(VLOOKUP(C1202,Teilnehmer!$B$3:$C$1002,2,0),\"\")","v":""},null,{"$f":"IFERROR(VLOOKUP(E1202,Teilnehmer!$B$3:$C$1002,2,0),\"\")","v":""}]
[null,null,null,{"$f":"IFERROR(VLOOKUP(C1203,Teilnehmer!$B$3:$C$1002,2,0),\"\")","v":""},null,{"$f":"IFERROR(VLOOKUP(E1203,Teilnehmer!$B$3:$C$1002,2,0),\"\")","v":""}]
[null,null,null,{"$f":"IFERROR(VLOOKUP(C1204,Teilnehmer!$B$3:$C$1002,2,0),\"\")","v":""},null,{"$f":"IFERROR(VLOOKUP(E1204,Teilnehmer!$B$3:$C$1002,2,0),\"\")","v":""}]
[null,null,null,{"$f":"IFERROR(VLOOKUP(C1205,Teilnehmer!$B$3:$C$1002,2,0),\"\")","v":""},null,{"$f":"IFERROR(VLOOKUP(E1205,Teilnehmer!$B$3:$C$1002,2,0),\"\")","v":""}]
[null,null,null,{"$f":"IFERROR(VLOOKUP(C1206,Teilnehmer!$B$3:$C$1002,2,0),\"\")","v":""},null,{"$f":"IFERROR(VLOOKUP(E1206,Teilnehmer!$B$3:$C$1002,2,0),\"\")","v":""}]
[null,null,null,{"$f":"IFERROR(VLOOKUP(C1207,Teilnehmer!$B$3:$C$1002,2,0),\"\")","v":""},null,{"$f":"IFERROR(VLOOKUP(E1207,Teilnehmer!$B$3:$C$1002,2,0),\"\")","v":""}]
[null,null,null,{"$f":"IFERROR(VLOOKUP(C1208,Teilnehmer!$B$3:$C$1002,2,0),\"\")","v":""},null,{"$f":"IFERROR(VLOOKUP(E1208,Teilnehmer!$B$3:$C$1002,2,0),\"\")","v":""}]
[null,null,null,{"$f":"IFERROR(VLOOKUP(C1209,Teilnehmer!$B$3:$C$1002,2,0),\"\")","v":""},null,{"$f":"IFERROR(VLOOKUP(E1209,Teilnehmer!$B$3:$C$1002,2,0),\"\")","v":""}]
[null,null,null,{"$f":"IFERROR(VLOOKUP(C1210,Teilnehmer!$B$3:$C$1002,2,0),\"\")","v":""},null,{"$f":"IFERROR(VLOOKUP(E1210,Teilnehmer!$B$3:$C$1002,2,0),\"\")","v":""}]
[null,null,null,{"$f":"IFERROR(VLOOKUP(C1211,Teilnehmer!$B$3:$C$1002,2,0),\"\")","v":""},null,{"$f":"IFERROR(VLOOKUP(E1211,Teilnehmer!$B$3:$C$1002,2,0),\"\")","v":""}]
[null,null,null,{"$f":"IFERROR(VLOOKUP(C1212,Teilnehmer!$B$3:$C$1002,2,0),\"\")","v":""},null,{"$f":"IFERROR(VLOOKUP(E1212,Teilnehmer!$B$3:$C$1002,2,0),\"\")","v":""}]
[null,null,null,{"$f":"IFERROR(VLOOKUP(C1213,Teilnehmer!$B$3:$C$1002,2,0),\"\")","v":""},null,{"$f":"IFERROR(VLOOKUP(E1213,Teilnehmer!$B$3:$C$1002,2,0),\"\")","v":""}]
[null,null,null,{"$f":"IFERROR(VLOOKUP(C1214,Teilnehmer!$B$3:$C$1002,2,0),\"\")","v":""},null,{"$f":"IFERROR(VLOOKUP(E1214,Teilnehmer!$B$3:$C$1002,2,0),\"\")","v":""}]
[null,null,null,{"$f":"IFERROR(VLOOKUP(C1215,Teilnehmer!$B$3:$C$1002,2,0),\"\")","v":""},null,{"$f":"IFERROR(VLOOKUP(E1215,Teilnehmer!$B$3:$C$1002,2,0),\"\")","v":""}]
[null,null,null,{"$f":"IFERROR(VLOOKUP(C1216,Teilnehmer!$B$3:$C$1002,2,0),\"\")","v":""},null,{"$f":"IFERROR(VLOOKUP(E1216,Teilnehmer!$B$3:$C$1002,2,0),\"\")","v":""}]
[null,null,null,{"$f":"IFERROR(VLOOKUP(C1217,Teilnehmer!$B$3:$C$1002,2,0),\"\")","v":""},null,{"$f":"IFERROR(VLOOKUP(E1217,Teilnehmer!$B$3:$C$1002,2,0),\"\")","v":""}]
[null,null,null,{"$f":"IFERROR(VLOOKUP(C1218,Teilnehmer!$B$3:$C$1002,2,0),\"\")","v":""},null,{"$f":"IFERROR(VLOOKUP(E1218,Teilnehmer!$B$3:$C$1002,2,0),\"\")","v":""}]
[null,null,null,{"$f":"IFERROR(VLOOKUP(C1219,Teilnehmer!$B$3:$C$1002,2,0),\"\")","v":""},null,{"$f":"IFERROR(VLOOKUP(E1219,Teilnehmer!$B$3:$C$1002,2,0),\"\")","v":""}]
[null,null,null,{"$f":"IFERROR(VLOOKUP(C1220,Teilnehmer!$B$3:$C$1002,2,0),\"\")","v":""},null,{"$f":"IFERROR(VLOOKUP(E1220,Teilnehmer!$B$3:$C$1002,2,0),\"\")","v":""}]
[null,null,null,{"$f":"IFERROR(VLOOKUP(C1221,Teilnehmer!$B$3:$C$1002,2,0),\"\")","v":""},null,{"$f":"IFERROR(VLOOKUP(E1221,Teilnehmer!$B$3:$C$1002,2,0),\"\")","v":""}]
[null,null,null,{"$f":"IFERROR(VLOOKUP(C1222,Teilnehmer!$B$3:$C$1002,2,0),\"\")","v":""},null,{"$f":"IFERROR(VLOOKUP(E1222,Teilnehmer!$B$3:$C$1002,2,0),\"\")","v":""}]
[null,null,null,{"$f":"IFERROR(VLOOKUP(C1223,Teilnehmer!$B$3:$C$1002,2,0),\"\")","v":""},null,{"$f":"IFERROR(VLOOKUP(E1223,Teilnehmer!$B$3:$C$1002,2,0),\"\")","v":""}]
[null,null,null,{"$f":"IFERROR(VLOOKUP(C1224,Teilnehmer!$B$3:$C$1002,2,0),\"\")","v":""},null,{"$f":"IFERROR(VLOOKUP(E1224,Teilnehmer!$B$3:$C$1002,2,0),\"\")","v":""}]
[null,null,null,{"$f":"IFERROR(VLOOKUP(C1225,Teilnehmer!$B$3:$C$1002,2,0),\"\")","v":""},null,{"$f":"IFERROR(VLOOKUP(E1225,Teilnehmer!$B$3:$C$1002,2,0),\"\")","v":""}]
[null,null,null,{"$f":"IFERROR(VLOOKUP(C1226,Teilnehmer!$B$3:$C$1002,2,0),\"\")","v":""},null,{"$f":"IFERROR(VLOOKUP(E1226,Teilnehmer!$B$3:$C$1002,2,0),\"\")","v":""}]
[null,null,null,{"$f":"IFERROR(VLOOKUP(C1227,Teilnehmer!$B$3:$C$1002,2,0),\"\")","v":""},null,{"$f":"IFERROR(VLOOKUP(E1227,Teilnehmer!$B$3:$C$1002,2,0),\"\")","v":""}]
[null,null,null,{"$f":"IFERROR(VLOOKUP(C1228,Teilnehmer!$B$3:$C$1002,2,0),\"\")","v":""},null,{"$f":"IFERROR(VLOOKUP(E1228,Teilnehmer!$B$3:$C$1002,2,0),\"\")","v":""}]
[null,null,null,{"$f":"IFERROR(VLOOKUP(C1229,Teilnehmer!$B$3:$C$1002,2,0),\"\")","v":""},null,{"$f":"IFERROR(VLOOKUP(E1229,Teilnehmer!$B$3:$C$1002,2,0),\"\")","v":""}]
[null,null,null,{"$f":"IFERROR(VLOOKUP(C1230,Teilnehmer!$B$3:$C$1002,2,0),\"\")","v":""},null,{"$f":"IFERROR(VLOOKUP(E1230,Teilnehmer!$B$3:$C$1002,2,0),\"\")","v":""}]
[null,null,null,{"$f":"IFERROR(VLOOKUP(C1231,Teilnehmer!$B$3:$C$1002,2,0),\"\")","v":""},null,{"$f":"IFERROR(VLOOKUP(E1231,Teilnehmer!$B$3:$C$1002,2,0),\"\")","v":""}]
[null,null,null,{"$f":"IFERROR(VLOOKUP(C1232,Teilnehmer!$B$3:$C$1002,2,0),\"\")","v":""},null,{"$f":"IFERROR(VLOOKUP(E1232,Teilnehmer!$B$3:$C$1002,2,0),\"\")","v":""}]
[null,null,null,{"$f":"IFERROR(VLOOKUP(C1233,Teilnehmer!$B$3:$C$1002,2,0),\"\")","v":""},null,{"$f":"IFERROR(VLOOKUP(E1233,Teilnehmer!$B$3:$C$1002,2,0),\"\")","v":""}]
[null,null,null,{"$f":"IFERROR(VLOOKUP(C1234,Teilnehmer!$B$3:$C$1002,2,0),\"\")","v":""},null,{"$f":"IFERROR(VLOOKUP(E1234,Teilnehmer!$B$3:$C$1002,2,0),\"\")","v":""}]
[null,null,null,{"$f":"IFERROR(VLOOKUP(C1235,Teilnehmer!$B$3:$C$1002,2,0),\"\")","v":""},null,{"$f":"IFERROR(VLOOKUP(E1235,Teilnehmer!$B$3:$C$1002,2,0),\"\")","v":""}]
[null,null,null,{"$f":"IFERROR(VLOOKUP(C1236,Teilnehmer!$B$3:$C$1002,2,0),\"\")","v":""},null,{"$f":"IFERROR(VLOOKUP(E1236,Teilnehmer!$B$3:$C$1002,2,0),\"\")","v":""}]
[null,null,null,{"$f":"IFERROR(VLOOKUP(C1237,Teilnehmer!$B$3:$C$1002,2,0),\"\")","v":""},null,{"$f":"IFERROR(VLOOKUP(E1237,Teilnehmer!$B$3:$C$1002,2,0),\"\")","v":""}]
[null,null,null,{"$f":"IFERROR(VLOOKUP(C1238,Teilnehmer!$B$3:$C$1002,2,0),\"\")","v":""},null,{"$f":"IFERROR(VLOOKUP(E1238,Teilnehmer!$B$3:$C$1002,2,0),\"\")","v":""}]
[null,null,null,{"$f":"IFERROR(VLOOKUP(C1239,Teilnehmer!$B$3:$C$1002,2,0),\"\")","v":""},null,{"$f":"IFERROR(VLOOKUP(E1239,Teilnehmer!$B$3:$C$1002,2,0),\"\")","v":""}]
[null,null,null,{"$f":"IFERROR(VLOOKUP(C1240,Teilnehmer!$B$3:$C$1002,2,0),\"\")","v":""},null,{"$f":"IFERROR(VLOOKUP(E1240,Teilnehmer!$B$3:$C$1002,2,0),\"\")","v":""}]
[null,null,null,{"$f":"IFERROR(VLOOKUP(C1241,Teilnehmer!$B$3:$C$1002,2,0),\"\")","v":""},null,{"$f":"IFERROR(VLOOKUP(E1241,Teilnehmer!$B$3:$C$1002,2,0),\"\")","v":""}]
[null,null,null,{"$f":"IFERROR(VLOOKUP(C1242,Teilnehmer!$B$3:$C$1002,2,0),\"\")","v":""},null,{"$f":"IFERROR(VLOOKUP(E1242,Teilnehmer!$B$3:$C$1002,2,0),\"\")","v":""}]
[null,null,null,{"$f":"IFERROR(VLOOKUP(C1243,Teilnehmer!$B$3:$C$1002,2,0),\"\")","v":""},null,{"$f":"IFERROR(VLOOKUP(E1243,Teilnehmer!$B$3:$C$1002,2,0),\"\")","v":""}]
[null,null,null,{"$f":"IFERROR(VLOOKUP(C1244,Teilnehmer!$B$3:$C$1002,2,0),\"\")","v":""},null,{"$f":"IFERROR(VLOOKUP(E1244,Teilnehmer!$B$3:$C$1002,2,0),\"\")","v":""}]
[null,null,null,{"$f":"IFERROR(VLOOKUP(C1245,Teilnehmer!$B$3:$C$1002,2,0),\"\")","v":""},null,{"$f":"IFERROR(VLOOKUP(E1245,Teilnehmer!$B$3:$C$1002,2,0),\"\")","v":""}]
[null,null,null,{"$f":"IFERROR(VLOOKUP(C1246,Teilnehmer!$B$3:$C$1002,2,0),\"\")","v":""},null,{"$f":"IFERROR(VLOOKUP(E1246,Teilnehmer!$B$3:$C$1002,2,0),\"\")","v":""}]
[null,null,null,{"$f":"IFERROR(VLOOKUP(C1247,Teilnehmer!$B$3:$C$1002,2,0),\"\")","v":""},null,{"$f":"IFERROR(VLOOKUP(E1247,Teilnehmer!$B$3:$C$1002,2,0),\"\")","v":""}]
[null,null,null,{"$f":"IFERROR(VLOOKUP(C1248,Teilnehmer!$B$3:$C$1002,2,0),\"\")","v":""},null,{"$f":"IFERROR(VLOOKUP(E1248,Teilnehmer!$B$3:$C$1002,2,0),\"\")","v":""}]
[null,null,null,{"$f":"IFERROR(VLOOKUP(C1249,Teilnehmer!$B$3:$C$1002,2,0),\"\")","v":""},null,{"$f":"IFERROR(VLOOKUP(E1249,Teilnehmer!$B$3:$C$1002,2,0),\"\")","v":""}]
[null,null,null,{"$f":"IFERROR(VLOOKUP(C1250,Teilnehmer!$B$3:$C$1002,2,0),\"\")","v":""},null,{"$f":"IFERROR(VLOOKUP(E1250,Teilnehmer!$B$3:$C$1002,2,0),\"\")","v":""}]
[null,null,null,{"$f":"IFERROR(VLOOKUP(C1251,Teilnehmer!$B$3:$C$1002,2,0),\"\")","v":""},null,{"$f":"IFERROR(VLOOKUP(E1251,Teilnehmer!$B$3:$C$1002,2,0),\"\")","v":""}]
[null,null,null,{"$f":"IFERROR(VLOOKUP(C1252,Teilnehmer!$B$3:$C$1002,2,0),\"\")","v":""},null,{"$f":"IFERROR(VLOOKUP(E1252,Teilnehmer!$B$3:$C$1002,2,0),\"\")","v":""}]
[null,null,null,{"$f":"IFERROR(VLOOKUP(C1253,Teilnehmer!$B$3:$C$1002,2,0),\"\")","v":""},null,{"$f":"IFERROR(VLOOKUP(E1253,Teilnehmer!$B$3:$C$1002,2,0),\"\")","v":""}]
[null,null,null,{"$f":"IFERROR(VLOOKUP(C1254,Teilnehmer!$B$3:$C$1002,2,0),\"\")","v":""},null,{"$f":"IFERROR(VLOOKUP(E1254,Teilnehmer!$B$3:$C$1002,2,0),\"\")","v":""}]
[null,null,null,{"$f":"IFERROR(VLOOKUP(C1255,Teilnehmer!$B$3:$C$1002,2,0),\"\")","v":""},null,{"$f":"IFERROR(VLOOKUP(E1255,Teilnehmer!$B$3:$C$1002,2,0),\"\")","v":""}]
[null,null,null,{"$f":"IFERROR(VLOOKUP(C1256,Teilnehmer!$B$3:$C$1002,2,0),\"\")","v":""},null,{"$f":"IFERROR(VLOOKUP(E1256,Teilnehmer!$B$3:$C$1002,2,0),\"\")","v":""}]
[null,null,null,{"$f":"IFERROR(VLOOKUP(C1257,Teilnehmer!$B$3:$C$1002,2,0),\"\")","v":""},null,{"$f":"IFERROR(VLOOKUP(E1257,Teilnehmer!$B$3:$C$1002,2,0),\"\")","v":""}]
[null,null,null,{"$f":"IFERROR(VLOOKUP(C1258,Teilnehmer!$B$3:$C$1002,2,0),\"\")","v":""},null,{"$f":"IFERROR(VLOOKUP(E1258,Teilnehmer!$B$3:$C$1002,2,0),\"\")","v":""}]
[null,null,null,{"$f":"IFERROR(VLOOKUP(C1259,Teilnehmer!$B$3:$C$1002,2,0),\"\")","v":""},null,{"$f":"IFERROR(VLOOKUP(E1259,Teilnehmer!$B$3:$C$1002,2,0),\"\")","v":""}]
[null,null,null,{"$f":"IFERROR(VLOOKUP(C1260,Teilnehmer!$B$3:$C$1002,2,0),\"\")","v":""},null,{"$f":"IFERROR(VLOOKUP(E1260,Teilnehmer!$B$3:$C$1002,2,0),\"\")","v":""}]
[null,null,null,{"$f":"IFERROR(VLOOKUP(C1261,Teilnehmer!$B$3:$C$1002,2,0),\"\")","v":""},null,{"$f":"IFERROR(VLOOKUP(E1261,Teilnehmer!$B$3:$C$1002,2,0),\"\")","v":""}]
[null,null,null,{"$f":"IFERROR(VLOOKUP(C1262,Teilnehmer!$B$3:$C$1002,2,0),\"\")","v":""},null,{"$f":"IFERROR(VLOOKUP(E1262,Teilnehmer!$B$3:$C$1002,2,0),\"\")","v":""}]
[null,null,null,{"$f":"IFERROR(VLOOKUP(C1263,Teilnehmer!$B$3:$C$1002,2,0),\"\")","v":""},null,{"$f":"IFERROR(VLOOKUP(E1263,Teilnehmer!$B$3:$C$1002,2,0),\"\")","v":""}]
[null,null,null,{"$f":"IFERROR(VLOOKUP(C1264,Teilnehmer!$B$3:$C$1002,2,0),\"\")","v":""},null,{"$f":"IFERROR(VLOOKUP(E1264,Teilnehmer!$B$3:$C$1002,2,0),\"\")","v":""}]
[null,null,null,{"$f":"IFERROR(VLOOKUP(C1265,Teilnehmer!$B$3:$C$1002,2,0),\"\")","v":""},null,{"$f":"IFERROR(VLOOKUP(E1265,Teilnehmer!$B$3:$C$1002,2,0),\"\")","v":""}]
[null,null,null,{"$f":"IFERROR(VLOOKUP(C1266,Teilnehmer!$B$3:$C$1002,2,0),\"\")","v":""},null,{"$f":"IFERROR(VLOOKUP(E1266,Teilnehmer!$B$3:$C$1002,2,0),\"\")","v":""}]
[null,null,null,{"$f":"IFERROR(VLOOKUP(C1267,Teilnehmer!$B$3:$C$1002,2,0),\"\")","v":""},null,{"$f":"IFERROR(VLOOKUP(E1267,Teilnehmer!$B$3:$C$1002,2,0),\"\")","v":""}]
[null,null,null,{"$f":"IFERROR(VLOOKUP(C1268,Teilnehmer!$B$3:$C$1002,2,0),\"\")","v":""},null,{"$f":"IFERROR(VLOOKUP(E1268,Teilnehmer!$B$3:$C$1002,2,0),\"\")","v":""}]
[null,null,null,{"$f":"IFERROR(VLOOKUP(C1269,Teilnehmer!$B$3:$C$1002,2,0),\"\")","v":""},null,{"$f":"IFERROR(VLOOKUP(E1269,Teilnehmer!$B$3:$C$1002,2,0),\"\")","v":""}]
[null,null,null,{"$f":"IFERROR(VLOOKUP(C1270,Teilnehmer!$B$3:$C$1002,2,0),\"\")","v":""},null,{"$f":"IFERROR(VLOOKUP(E1270,Teilnehmer!$B$3:$C$1002,2,0),\"\")","v":""}]
[null,null,null,{"$f":"IFERROR(VLOOKUP(C1271,Teilnehmer!$B$3:$C$1002,2,0),\"\")","v":""},null,{"$f":"IFERROR(VLOOKUP(E1271,Teilnehmer!$B$3:$C$1002,2,0),\"\")","v":""}]
[null,null,null,{"$f":"IFERROR(VLOOKUP(C1272,Teilnehmer!$B$3:$C$1002,2,0),\"\")","v":""},null,{"$f":"IFERROR(VLOOKUP(E1272,Teilnehmer!$B$3:$C$1002,2,0),\"\")","v":""}]
[null,null,null,{"$f":"IFERROR(VLOOKUP(C1273,Teilnehmer!$B$3:$C$1002,2,0),\"\")","v":""},null,{"$f":"IFERROR(VLOOKUP(E1273,Teilnehmer!$B$3:$C$1002,2,0),\"\")","v":""}]
[null,null,null,{"$f":"IFERROR(VLOOKUP(C1274,Teilnehmer!$B$3:$C$1002,2,0),\"\")","v":""},null,{"$f":"IFERROR(VLOOKUP(E1274,Teilnehmer!$B$3:$C$1002,2,0),\"\")","v":""}]
[null,null,null,{"$f":"IFERROR(VLOOKUP(C1275,Teilnehmer!$B$3:$C$1002,2,0),\"\")","v":""},null,{"$f":"IFERROR(VLOOKUP(E1275,Teilnehmer!$B$3:$C$1002,2,0),\"\")","v":""}]
[null,null,null,{"$f":"IFERROR(VLOOKUP(C1276,Teilnehmer!$B$3:$C$1002,2,0),\"\")","v":""},null,{"$f":"IFERROR(VLOOKUP(E1276,Teilnehmer!$B$3:$C$1002,2,0),\"\")","v":""}]
[null,null,null,{"$f":"IFERROR(VLOOKUP(C1277,Teilnehmer!$B$3:$C$1002,2,0),\"\")","v":""},null,{"$f":"IFERROR(VLOOKUP(E1277,Teilnehmer!$B$3:$C$1002,2,0),\"\")","v":""}]
[null,null,null,{"$f":"IFERROR(VLOOKUP(C1278,Teilnehmer!$B$3:$C$1002,2,0),\"\")","v":""},null,{"$f":"IFERROR(VLOOKUP(E1278,Teilnehmer!$B$3:$C$1002,2,0),\"\")","v":""}]
[null,null,null,{"$f":"IFERROR(VLOOKUP(C1279,Teilnehmer!$B$3:$C$1002,2,0),\"\")","v":""},null,{"$f":"IFERROR(VLOOKUP(E1279,Teilnehmer!$B$3:$C$1002,2,0),\"\")","v":""}]
[null,null,null,{"$f":"IFERROR(VLOOKUP(C1280,Teilnehmer!$B$3:$C$1002,2,0),\"\")","v":""},null,{"$f":"IFERROR(VLOOKUP(E1280,Teilnehmer!$B$3:$C$1002,2,0),\"\")","v":""}]
[null,null,null,{"$f":"IFERROR(VLOOKUP(C1281,Teilnehmer!$B$3:$C$1002,2,0),\"\")","v":""},null,{"$f":"IFERROR(VLOOKUP(E1281,Teilnehmer!$B$3:$C$1002,2,0),\"\")","v":""}]
[null,null,null,{"$f":"IFERROR(VLOOKUP(C1282,Teilnehmer!$B$3:$C$1002,2,0),\"\")","v":""},null,{"$f":"IFERROR(VLOOKUP(E1282,Teilnehmer!$B$3:$C$1002,2,0),\"\")","v":""}]
[null,null,null,{"$f":"IFERROR(VLOOKUP(C1283,Teilnehmer!$B$3:$C$1002,2,0),\"\")","v":""},null,{"$f":"IFERROR(VLOOKUP(E1283,Teilnehmer!$B$3:$C$1002,2,0),\"\")","v":""}]
[null,null,null,{"$f":"IFERROR(VLOOKUP(C1284,Teilnehmer!$B$3:$C$1002,2,0),\"\")","v":""},null,{"$f":"IFERROR(VLOOKUP(E1284,Teilnehmer!$B$3:$C$1002,2,0),\"\")","v":""}]
[null,null,null,{"$f":"IFERROR(VLOOKUP(C1285,Teilnehmer!$B$3:$C$1002,2,0),\"\")","v":""},null,{"$f":"IFERROR(VLOOKUP(E1285,Teilnehmer!$B$3:$C$1002,2,0),\"\")","v":""}]
[null,null,null,{"$f":"IFERROR(VLOOKUP(C1286,Teilnehmer!$B$3:$C$1002,2,0),\"\")","v":""},null,{"$f":"IFERROR(VLOOKUP(E1286,Teilnehmer!$B$3:$C$1002,2,0),\"\")","v":""}]
[null,null,null,{"$f":"IFERROR(VLOOKUP(C1287,Teilnehmer!$B$3:$C$1002,2,0),\"\")","v":""},null,{"$f":"IFERROR(VLOOKUP(E1287,Teilnehmer!$B$3:$C$1002,2,0),\"\")","v":""}]
[null,null,null,{"$f":"IFERROR(VLOOKUP(C1288,Teilnehmer!$B$3:$C$1002,2,0),\"\")","v":""},null,{"$f":"IFERROR(VLOOKUP(E1288,Teilnehmer!$B$3:$C$1002,2,0),\"\")","v":""}]
[null,null,null,{"$f":"IFERROR(VLOOKUP(C1289,Teilnehmer!$B$3:$C$1002,2,0),\"\")","v":""},null,{"$f":"IFERROR(VLOOKUP(E1289,Teilnehmer!$B$3:$C$1002,2,0),\"\")","v":""}]
[null,null,null,{"$f":"IFERROR(VLOOKUP(C1290,Teilnehmer!$B$3:$C$1002,2,0),\"\")","v":""},null,{"$f":"IFERROR(VLOOKUP(E1290,Teilnehmer!$B$3:$C$1002,2,0),\"\")","v":""}]
[null,null,null,{"$f":"IFERROR(VLOOKUP(C1291,Teilnehmer!$B$3:$C$1002,2,0),\"\")","v":""},null,{"$f":"IFERROR(VLOOKUP(E1291,Teilnehmer!$B$3:$C$1002,2,0),\"\")","v":""}]
[null,null,null,{"$f":"IFERROR(VLOOKUP(C1292,Teilnehmer!$B$3:$C$1002,2,0),\"\")","v":""},null,{"$f":"IFERROR(VLOOKUP(E1292,Teilnehmer!$B$3:$C$1002,2,0),\"\")","v":""}]
[null,null,null,{"$f":"IFERROR(VLOOKUP(C1293,Teilnehmer!$B$3:$C$1002,2,0),\"\")","v":""},null,{"$f":"IFERROR(VLOOKUP(E1293,Teilnehmer!$B$3:$C$1002,2,0),\"\")","v":""}]
[null,null,null,{"$f":"IFERROR(VLOOKUP(C1294,Teilnehmer!$B$3:$C$1002,2,0),\"\")","v":""},null,{"$f":"IFERROR(VLOOKUP(E1294,Teilnehmer!$B$3:$C$1002,2,0),\"\")","v":""}]
[null,null,null,{"$f":"IFERROR(VLOOKUP(C1295,Teilnehmer!$B$3:$C$1002,2,0),\"\")","v":""},null,{"$f":"IFERROR(VLOOKUP(E1295,Teilnehmer!$B$3:$C$1002,2,0),\"\")","v":""}]
[null,null,null,{"$f":"IFERROR(VLOOKUP(C1296,Teilnehmer!$B$3:$C$1002,2,0),\"\")","v":""},null,{"$f":"IFERROR(VLOOKUP(E1296,Teilnehmer!$B$3:$C$1002,2,0),\"\")","v":""}]
[null,null,null,{"$f":"IFERROR(VLOOKUP(C1297,Teilnehmer!$B$3:$C$1002,2,0),\"\")","v":""},null,{"$f":"IFERROR(VLOOKUP(E1297,Teilnehmer!$B$3:$C$1002,2,0),\"\")","v":""}]
[null,null,null,{"$f":"IFERROR(VLOOKUP(C1298,Teilnehmer!$B$3:$C$1002,2,0),\"\")","v":""},null,{"$f":"IFERROR(VLOOKUP(E1298,Teilnehmer!$B$3:$C$1002,2,0),\"\")","v":""}]
[null,null,null,{"$f":"IFERROR(VLOOKUP(C1299,Teilnehmer!$B$3:$C$1002,2,0),\"\")","v":""},null,{"$f":"IFERROR(VLOOKUP(E1299,Teilnehmer!$B$3:$C$1002,2,0),\"\")","v":""}]
[null,null,null,{"$f":"IFERROR(VLOOKUP(C1300,Teilnehmer!$B$3:$C$1002,2,0),\"\")","v":""},null,{"$f":"IFERROR(VLOOKUP(E1300,Teilnehmer!$B$3:$C$1002,2,0),\"\")","v":""}]
[null,null,null,{"$f":"IFERROR(VLOOKUP(C1301,Teilnehmer!$B$3:$C$1002,2,0),\"\")","v":""},null,{"$f":"IFERROR(VLOOKUP(E1301,Teilnehmer!$B$3:$C$1002,2,0),\"\")","v":""}]
[null,null,null,{"$f":"IFERROR(VLOOKUP(C1302,Teilnehmer!$B$3:$C$1002,2,0),\"\")","v":""},null,{"$f":"IFERROR(VLOOKUP(E1302,Teilnehmer!$B$3:$C$1002,2,0),\"\")","v":""}]
[null,null,null,{"$f":"IFERROR(VLOOKUP(C1303,Teilnehmer!$B$3:$C$1002,2,0),\"\")","v":""},null,{"$f":"IFERROR(VLOOKUP(E1303,Teilnehmer!$B$3:$C$1002,2,0),\"\")","v":""}]
[null,null,null,{"$f":"IFERROR(VLOOKUP(C1304,Teilnehmer!$B$3:$C$1002,2,0),\"\")","v":""},null,{"$f":"IFERROR(VLOOKUP(E1304,Teilnehmer!$B$3:$C$1002,2,0),\"\")","v":""}]
[null,null,null,{"$f":"IFERROR(VLOOKUP(C1305,Teilnehmer!$B$3:$C$1002,2,0),\"\")","v":""},null,{"$f":"IFERROR(VLOOKUP(E1305,Teilnehmer!$B$3:$C$1002,2,0),\"\")","v":""}]
[null,null,null,{"$f":"IFERROR(VLOOKUP(C1306,Teilnehmer!$B$3:$C$1002,2,0),\"\")","v":""},null,{"$f":"IFERROR(VLOOKUP(E1306,Teilnehmer!$B$3:$C$1002,2,0),\"\")","v":""}]
[null,null,null,{"$f":"IFERROR(VLOOKUP(C1307,Teilnehmer!$B$3:$C$1002,2,0),\"\")","v":""},null,{"$f":"IFERROR(VLOOKUP(E1307,Teilnehmer!$B$3:$C$1002,2,0),\"\")","v":""}]
[null,null,null,{"$f":"IFERROR(VLOOKUP(C1308,Teilnehmer!$B$3:$C$1002,2,0),\"\")","v":""},null,{"$f":"IFERROR(VLOOKUP(E1308,Teilnehmer!$B$3:$C$1002,2,0),\"\")","v":""}]
[null,null,null,{"$f":"IFERROR(VLOOKUP(C1309,Teilnehmer!$B$3:$C$1002,2,0),\"\")","v":""},null,{"$f":"IFERROR(VLOOKUP(E1309,Teilnehmer!$B$3:$C$1002,2,0),\"\")","v":""}]
[null,null,null,{"$f":"IFERROR(VLOOKUP(C1310,Teilnehmer!$B$3:$C$1002,2,0),\"\")","v":""},null,{"$f":"IFERROR(VLOOKUP(E1310,Teilnehmer!$B$3:$C$1002,2,0),\"\")","v":""}]
[null,null,null,{"$f":"IFERROR(VLOOKUP(C1311,Teilnehmer!$B$3:$C$1002,2,0),\"\")","v":""},null,{"$f":"IFERROR(VLOOKUP(E1311,Teilnehmer!$B$3:$C$1002,2,0),\"\")","v":""}]
[null,null,null,{"$f":"IFERROR(VLOOKUP(C1312,Teilnehmer!$B$3:$C$1002,2,0),\"\")","v":""},null,{"$f":"IFERROR(VLOOKUP(E1312,Teilnehmer!$B$3:$C$1002,2,0),\"\")","v":""}]
[null,null,null,{"$f":"IFERROR(VLOOKUP(C1313,Teilnehmer!$B$3:$C$1002,2,0),\"\")","v":""},null,{"$f":"IFERROR(VLOOKUP(E1313,Teilnehmer!$B$3:$C$1002,2,0),\"\")","v":""}]
[null,null,null,{"$f":"IFERROR(VLOOKUP(C1314,Teilnehmer!$B$3:$C$1002,2,0),\"\")","v":""},null,{"$f":"IFERROR(VLOOKUP(E1314,Teilnehmer!$B$3:$C$1002,2,0),\"\")","v":""}]
[null,null,null,{"$f":"IFERROR(VLOOKUP(C1315,Teilnehmer!$B$3:$C$1002,2,0),\"\")","v":""},null,{"$f":"IFERROR(VLOOKUP(E1315,Teilnehmer!$B$3:$C$1002,2,0),\"\")","v":""}]
[null,null,null,{"$f":"IFERROR(VLOOKUP(C1316,Teilnehmer!$B$3:$C$1002,2,0),\"\")","v":""},null,{"$f":"IFERROR(VLOOKUP(E1316,Teilnehmer!$B$3:$C$1002,2,0),\"\")","v":""}]
[null,null,null,{"$f":"IFERROR(VLOOKUP(C1317,Teilnehmer!$B$3:$C$1002,2,0),\"\")","v":""},null,{"$f":"IFERROR(VLOOKUP(E1317,Teilnehmer!$B$3:$C$1002,2,0),\"\")","v":""}]
[null,null,null,{"$f":"IFERROR(VLOOKUP(C1318,Teilnehmer!$B$3:$C$1002,2,0),\"\")","v":""},null,{"$f":"IFERROR(VLOOKUP(E1318,Teilnehmer!$B$3:$C$1002,2,0),\"\")","v":""}]
[null,null,null,{"$f":"IFERROR(VLOOKUP(C1319,Teilnehmer!$B$3:$C$1002,2,0),\"\")","v":""},null,{"$f":"IFERROR(VLOOKUP(E1319,Teilnehmer!$B$3:$C$1002,2,0),\"\")","v":""}]
[null,null,null,{"$f":"IFERROR(VLOOKUP(C1320,Teilnehmer!$B$3:$C$1002,2,0),\"\")","v":""},null,{"$f":"IFERROR(VLOOKUP(E1320,Teilnehmer!$B$3:$C$1002,2,0),\"\")","v":""}]
[null,null,null,{"$f":"IFERROR(VLOOKUP(C1321,Teilnehmer!$B$3:$C$1002,2,0),\"\")","v":""},null,{"$f":"IFERROR(VLOOKUP(E1321,Teilnehmer!$B$3:$C$1002,2,0),\"\")","v":""}]
[null,null,null,{"$f":"IFERROR(VLOOKUP(C1322,Teilnehmer!$B$3:$C$1002,2,0),\"\")","v":""},null,{"$f":"IFERROR(VLOOKUP(E1322,Teilnehmer!$B$3:$C$1002,2,0),\"\")","v":""}]
[null,null,null,{"$f":"IFERROR(VLOOKUP(C1323,Teilnehmer!$B$3:$C$1002,2,0),\"\")","v":""},null,{"$f":"IFERROR(VLOOKUP(E1323,Teilnehmer!$B$3:$C$1002,2,0),\"\")","v":""}]
[null,null,null,{"$f":"IFERROR(VLOOKUP(C1324,Teilnehmer!$B$3:$C$1002,2,0),\"\")","v":""},null,{"$f":"IFERROR(VLOOKUP(E1324,Teilnehmer!$B$3:$C$1002,2,0),\"\")","v":""}]
[null,null,null,{"$f":"IFERROR(VLOOKUP(C1325,Teilnehmer!$B$3:$C$1002,2,0),\"\")","v":""},null,{"$f":"IFERROR(VLOOKUP(E1325,Teilnehmer!$B$3:$C$1002,2,0),\"\")","v":""}]
[null,null,null,{"$f":"IFERROR(VLOOKUP(C1326,Teilnehmer!$B$3:$C$1002,2,0),\"\")","v":""},null,{"$f":"IFERROR(VLOOKUP(E1326,Teilnehmer!$B$3:$C$1002,2,0),\"\")","v":""}]
[null,null,null,{"$f":"IFERROR(VLOOKUP(C1327,Teilnehmer!$B$3:$C$1002,2,0),\"\")","v":""},null,{"$f":"IFERROR(VLOOKUP(E1327,Teilnehmer!$B$3:$C$1002,2,0),\"\")","v":""}]
[null,null,null,{"$f":"IFERROR(VLOOKUP(C1328,Teilnehmer!$B$3:$C$1002,2,0),\"\")","v":""},null,{"$f":"IFERROR(VLOOKUP(E1328,Teilnehmer!$B$3:$C$1002,2,0),\"\")","v":""}]
[null,null,null,{"$f":"IFERROR(VLOOKUP(C1329,Teilnehmer!$B$3:$C$1002,2,0),\"\")","v":""},null,{"$f":"IFERROR(VLOOKUP(E1329,Teilnehmer!$B$3:$C$1002,2,0),\"\")","v":""}]
[null,null,null,{"$f":"IFERROR(VLOOKUP(C1330,Teilnehmer!$B$3:$C$1002,2,0),\"\")","v":""},null,{"$f":"IFERROR(VLOOKUP(E1330,Teilnehmer!$B$3:$C$1002,2,0),\"\")","v":""}]
[null,null,null,{"$f":"IFERROR(VLOOKUP(C1331,Teilnehmer!$B$3:$C$1002,2,0),\"\")","v":""},null,{"$f":"IFERROR(VLOOKUP(E1331,Teilnehmer!$B$3:$C$1002,2,0),\"\")","v":""}]
[null,null,null,{"$f":"IFERROR(VLOOKUP(C1332,Teilnehmer!$B$3:$C$1002,2,0),\"\")","v":""},null,{"$f":"IFERROR(VLOOKUP(E1332,Teilnehmer!$B$3:$C$1002,2,0),\"\")","v":""}]
[null,null,null,{"$f":"IFERROR(VLOOKUP(C1333,Teilnehmer!$B$3:$C$1002,2,0),\"\")","v":""},null,{"$f":"IFERROR(VLOOKUP(E1333,Teilnehmer!$B$3:$C$1002,2,0),\"\")","v":""}]
[null,null,null,{"$f":"IFERROR(VLOOKUP(C1334,Teilnehmer!$B$3:$C$1002,2,0),\"\")","v":""},null,{"$f":"IFERROR(VLOOKUP(E1334,Teilnehmer!$B$3:$C$1002,2,0),\"\")","v":""}]
[null,null,null,{"$f":"IFERROR(VLOOKUP(C1335,Teilnehmer!$B$3:$C$1002,2,0),\"\")","v":""},null,{"$f":"IFERROR(VLOOKUP(E1335,Teilnehmer!$B$3:$C$1002,2,0),\"\")","v":""}]
[null,null,null,{"$f":"IFERROR(VLOOKUP(C1336,Teilnehmer!$B$3:$C$1002,2,0),\"\")","v":""},null,{"$f":"IFERROR(VLOOKUP(E1336,Teilnehmer!$B$3:$C$1002,2,0),\"\")","v":""}]
[null,null,null,{"$f":"IFERROR(VLOOKUP(C1337,Teilnehmer!$B$3:$C$1002,2,0),\"\")","v":""},null,{"$f":"IFERROR(VLOOKUP(E1337,Teilnehmer!$B$3:$C$1002,2,0),\"\")","v":""}]
[null,null,null,{"$f":"IFERROR(VLOOKUP(C1338,Teilnehmer!$B$3:$C$1002,2,0),\"\")","v":""},null,{"$f":"IFERROR(VLOOKUP(E1338,Teilnehmer!$B$3:$C$1002,2,0),\"\")","v":""}]
[null,null,null,{"$f":"IFERROR(VLOOKUP(C1339,Teilnehmer!$B$3:$C$1002,2,0),\"\")","v":""},null,{"$f":"IFERROR(VLOOKUP(E1339,Teilnehmer!$B$3:$C$1002,2,0),\"\")","v":""}]
[null,null,null,{"$f":"IFERROR(VLOOKUP(C1340,Teilnehmer!$B$3:$C$1002,2,0),\"\")","v":""},null,{"$f":"IFERROR(VLOOKUP(E1340,Teilnehmer!$B$3:$C$1002,2,0),\"\")","v":""}]
[null,null,null,{"$f":"IFERROR(VLOOKUP(C1341,Teilnehmer!$B$3:$C$1002,2,0),\"\")","v":""},null,{"$f":"IFERROR(VLOOKUP(E1341,Teilnehmer!$B$3:$C$1002,2,0),\"\")","v":""}]
[null,null,null,{"$f":"IFERROR(VLOOKUP(C1342,Teilnehmer!$B$3:$C$1002,2,0),\"\")","v":""},null,{"$f":"IFERROR(VLOOKUP(E1342,Teilnehmer!$B$3:$C$1002,2,0),\"\")","v":""}]
[null,null,null,{"$f":"IFERROR(VLOOKUP(C1343,Teilnehmer!$B$3:$C$1002,2,0),\"\")","v":""},null,{"$f":"IFERROR(VLOOKUP(E1343,Teilnehmer!$B$3:$C$1002,2,0),\"\")","v":""}]
[null,null,null,{"$f":"IFERROR(VLOOKUP(C1344,Teilnehmer!$B$3:$C$1002,2,0),\"\")","v":""},null,{"$f":"IFERROR(VLOOKUP(E1344,Teilnehmer!$B$3:$C$1002,2,0),\"\")","v":""}]
[null,null,null,{"$f":"IFERROR(VLOOKUP(C1345,Teilnehmer!$B$3:$C$1002,2,0),\"\")","v":""},null,{"$f":"IFERROR(VLOOKUP(E1345,Teilnehmer!$B$3:$C$1002,2,0),\"\")","v":""}]
[null,null,null,{"$f":"IFERROR(VLOOKUP(C1346,Teilnehmer!$B$3:$C$1002,2,0),\"\")","v":""},null,{"$f":"IFERROR(VLOOKUP(E1346,Teilnehmer!$B$3:$C$1002,2,0),\"\")","v":""}]
[null,null,null,{"$f":"IFERROR(VLOOKUP(C1347,Teilnehmer!$B$3:$C$1002,2,0),\"\")","v":""},null,{"$f":"IFERROR(VLOOKUP(E1347,Teilnehmer!$B$3:$C$1002,2,0),\"\")","v":""}]
[null,null,null,{"$f":"IFERROR(VLOOKUP(C1348,Teilnehmer!$B$3:$C$1002,2,0),\"\")","v":""},null,{"$f":"IFERROR(VLOOKUP(E1348,Teilnehmer!$B$3:$C$1002,2,0),\"\")","v":""}]
[null,null,null,{"$f":"IFERROR(VLOOKUP(C1349,Teilnehmer!$B$3:$C$1002,2,0),\"\")","v":""},null,{"$f":"IFERROR(VLOOKUP(E1349,Teilnehmer!$B$3:$C$1002,2,0),\"\")","v":""}]
[null,null,null,{"$f":"IFERROR(VLOOKUP(C1350,Teilnehmer!$B$3:$C$1002,2,0),\"\")","v":""},null,{"$f":"IFERROR(VLOOKUP(E1350,Teilnehmer!$B$3:$C$1002,2,0),\"\")","v":""}]
[null,null,null,{"$f":"IFERROR(VLOOKUP(C1351,Teilnehmer!$B$3:$C$1002,2,0),\"\")","v":""},null,{"$f":"IFERROR(VLOOKUP(E1351,Teilnehmer!$B$3:$C$1002,2,0),\"\")","v":""}]
[null,null,null,{"$f":"IFERROR(VLOOKUP(C1352,Teilnehmer!$B$3:$C$1002,2,0),\"\")","v":""},null,{"$f":"IFERROR(VLOOKUP(E1352,Teilnehmer!$B$3:$C$1002,2,0),\"\")","v":""}]
[null,null,null,{"$f":"IFERROR(VLOOKUP(C1353,Teilnehmer!$B$3:$C$1002,2,0),\"\")","v":""},null,{"$f":"IFERROR(VLOOKUP(E1353,Teilnehmer!$B$3:$C$1002,2,0),\"\")","v":""}]
[null,null,null,{"$f":"IFERROR(VLOOKUP(C1354,Teilnehmer!$B$3:$C$1002,2,0),\"\")","v":""},null,{"$f":"IFERROR(VLOOKUP(E1354,Teilnehmer!$B$3:$C$1002,2,0),\"\")","v":""}]
[null,null,null,{"$f":"IFERROR(VLOOKUP(C1355,Teilnehmer!$B$3:$C$1002,2,0),\"\")","v":""},null,{"$f":"IFERROR(VLOOKUP(E1355,Teilnehmer!$B$3:$C$1002,2,0),\"\")","v":""}]
[null,null,null,{"$f":"IFERROR(VLOOKUP(C1356,Teilnehmer!$B$3:$C$1002,2,0),\"\")","v":""},null,{"$f":"IFERROR(VLOOKUP(E1356,Teilnehmer!$B$3:$C$1002,2,0),\"\")","v":""}]
[null,null,null,{"$f":"IFERROR(VLOOKUP(C1357,Teilnehmer!$B$3:$C$1002,2,0),\"\")","v":""},null,{"$f":"IFERROR(VLOOKUP(E1357,Teilnehmer!$B$3:$C$1002,2,0),\"\")","v":""}]
[null,null,null,{"$f":"IFERROR(VLOOKUP(C1358,Teilnehmer!$B$3:$C$1002,2,0),\"\")","v":""},null,{"$f":"IFERROR(VLOOKUP(E1358,Teilnehmer!$B$3:$C$1002,2,0),\"\")","v":""}]
[null,null,null,{"$f":"IFERROR(VLOOKUP(C1359,Teilnehmer!$B$3:$C$1002,2,0),\"\")","v":""},null,{"$f":"IFERROR(VLOOKUP(E1359,Teilnehmer!$B$3:$C$1002,2,0),\"\")","v":""}]
[null,null,null,{"$f":"IFERROR(VLOOKUP(C1360,Teilnehmer!$B$3:$C$1002,2,0),\"\")","v":""},null,{"$f":"IFERROR(VLOOKUP(E1360,Teilnehmer!$B$3:$C$1002,2,0),\"\")","v":""}]
[null,null,null,{"$f":"IFERROR(VLOOKUP(C1361,Teilnehmer!$B$3:$C$1002,2,0),\"\")","v":""},null,{"$f":"IFERROR(VLOOKUP(E1361,Teilnehmer!$B$3:$C$1002,2,0),\"\")","v":""}]
[null,null,null,{"$f":"IFERROR(VLOOKUP(C1362,Teilnehmer!$B$3:$C$1002,2,0),\"\")","v":""},null,{"$f":"IFERROR(VLOOKUP(E1362,Teilnehmer!$B$3:$C$1002,2,0),\"\")","v":""}]
[null,null,null,{"$f":"IFERROR(VLOOKUP(C1363,Teilnehmer!$B$3:$C$1002,2,0),\"\")","v":""},null,{"$f":"IFERROR(VLOOKUP(E1363,Teilnehmer!$B$3:$C$1002,2,0),\"\")","v":""}]
[null,null,null,{"$f":"IFERROR(VLOOKUP(C1364,Teilnehmer!$B$3:$C$1002,2,0),\"\")","v":""},null,{"$f":"IFERROR(VLOOKUP(E1364,Teilnehmer!$B$3:$C$1002,2,0),\"\")","v":""}]
[null,null,null,{"$f":"IFERROR(VLOOKUP(C1365,Teilnehmer!$B$3:$C$1002,2,0),\"\")","v":""},null,{"$f":"IFERROR(VLOOKUP(E1365,Teilnehmer!$B$3:$C$1002,2,0),\"\")","v":""}]
[null,null,null,{"$f":"IFERROR(VLOOKUP(C1366,Teilnehmer!$B$3:$C$1002,2,0),\"\")","v":""},null,{"$f":"IFERROR(VLOOKUP(E1366,Teilnehmer!$B$3:$C$1002,2,0),\"\")","v":""}]
[null,null,null,{"$f":"IFERROR(VLOOKUP(C1367,Teilnehmer!$B$3:$C$1002,2,0),\"\")","v":""},null,{"$f":"IFERROR(VLOOKUP(E1367,Teilnehmer!$B$3:$C$1002,2,0),\"\")","v":""}]
[null,null,null,{"$f":"IFERROR(VLOOKUP(C1368,Teilnehmer!$B$3:$C$1002,2,0),\"\")","v":""},null,{"$f":"IFERROR(VLOOKUP(E1368,Teilnehmer!$B$3:$C$1002,2,0),\"\")","v":""}]
[null,null,null,{"$f":"IFERROR(VLOOKUP(C1369,Teilnehmer!$B$3:$C$1002,2,0),\"\")","v":""},null,{"$f":"IFERROR(VLOOKUP(E1369,Teilnehmer!$B$3:$C$1002,2,0),\"\")","v":""}]
[null,null,null,{"$f":"IFERROR(VLOOKUP(C1370,Teilnehmer!$B$3:$C$1002,2,0),\"\")","v":""},null,{"$f":"IFERROR(VLOOKUP(E1370,Teilnehmer!$B$3:$C$1002,2,0),\"\")","v":""}]
[null,null,null,{"$f":"IFERROR(VLOOKUP(C1371,Teilnehmer!$B$3:$C$1002,2,0),\"\")","v":""},null,{"$f":"IFERROR(VLOOKUP(E1371,Teilnehmer!$B$3:$C$1002,2,0),\"\")","v":""}]
[null,null,null,{"$f":"IFERROR(VLOOKUP(C1372,Teilnehmer!$B$3:$C$1002,2,0),\"\")","v":""},null,{"$f":"IFERROR(VLOOKUP(E1372,Teilnehmer!$B$3:$C$1002,2,0),\"\")","v":""}]
[null,null,null,{"$f":"IFERROR(VLOOKUP(C1373,Teilnehmer!$B$3:$C$1002,2,0),\"\")","v":""},null,{"$f":"IFERROR(VLOOKUP(E1373,Teilnehmer!$B$3:$C$1002,2,0),\"\")","v":""}]
[null,null,null,{"$f":"IFERROR(VLOOKUP(C1374,Teilnehmer!$B$3:$C$1002,2,0),\"\")","v":""},null,{"$f":"IFERROR(VLOOKUP(E1374,Teilnehmer!$B$3:$C$1002,2,0),\"\")","v":""}]
[null,null,null,{"$f":"IFERROR(VLOOKUP(C1375,Teilnehmer!$B$3:$C$1002,2,0),\"\")","v":""},null,{"$f":"IFERROR(VLOOKUP(E1375,Teilnehmer!$B$3:$C$1002,2,0),\"\")","v":""}]
[null,null,null,{"$f":"IFERROR(VLOOKUP(C1376,Teilnehmer!$B$3:$C$1002,2,0),\"\")","v":""},null,{"$f":"IFERROR(VLOOKUP(E1376,Teilnehmer!$B$3:$C$1002,2,0),\"\")","v":""}]
[null,null,null,{"$f":"IFERROR(VLOOKUP(C1377,Teilnehmer!$B$3:$C$1002,2,0),\"\")","v":""},null,{"$f":"IFERROR(VLOOKUP(E1377,Teilnehmer!$B$3:$C$1002,2,0),\"\")","v":""}]
[null,null,null,{"$f":"IFERROR(VLOOKUP(C1378,Teilnehmer!$B$3:$C$1002,2,0),\"\")","v":""},null,{"$f":"IFERROR(VLOOKUP(E1378,Teilnehmer!$B$3:$C$1002,2,0),\"\")","v":""}]
[null,null,null,{"$f":"IFERROR(VLOOKUP(C1379,Teilnehmer!$B$3:$C$1002,2,0),\"\")","v":""},null,{"$f":"IFERROR(VLOOKUP(E1379,Teilnehmer!$B$3:$C$1002,2,0),\"\")","v":""}]
[null,null,null,{"$f":"IFERROR(VLOOKUP(C1380,Teilnehmer!$B$3:$C$1002,2,0),\"\")","v":""},null,{"$f":"IFERROR(VLOOKUP(E1380,Teilnehmer!$B$3:$C$1002,2,0),\"\")","v":""}]
[null,null,null,{"$f":"IFERROR(VLOOKUP(C1381,Teilnehmer!$B$3:$C$1002,2,0),\"\")","v":""},null,{"$f":"IFERROR(VLOOKUP(E1381,Teilnehmer!$B$3:$C$1002,2,0),\"\")","v":""}]
[null,null,null,{"$f":"IFERROR(VLOOKUP(C1382,Teilnehmer!$B$3:$C$1002,2,0),\"\")","v":""},null,{"$f":"IFERROR(VLOOKUP(E1382,Teilnehmer!$B$3:$C$1002,2,0),\"\")","v":""}]
[null,null,null,{"$f":"IFERROR(VLOOKUP(C1383,Teilnehmer!$B$3:$C$1002,2,0),\"\")","v":""},null,{"$f":"IFERROR(VLOOKUP(E1383,Teilnehmer!$B$3:$C$1002,2,0),\"\")","v":""}]
[null,null,null,{"$f":"IFERROR(VLOOKUP(C1384,Teilnehmer!$B$3:$C$1002,2,0),\"\")","v":""},null,{"$f":"IFERROR(VLOOKUP(E1384,Teilnehmer!$B$3:$C$1002,2,0),\"\")","v":""}]
[null,null,null,{"$f":"IFERROR(VLOOKUP(C1385,Teilnehmer!$B$3:$C$1002,2,0),\"\")","v":""},null,{"$f":"IFERROR(VLOOKUP(E1385,Teilnehmer!$B$3:$C$1002,2,0),\"\")","v":""}]
[null,null,null,{"$f":"IFERROR(VLOOKUP(C1386,Teilnehmer!$B$3:$C$1002,2,0),\"\")","v":""},null,{"$f":"IFERROR(VLOOKUP(E1386,Teilnehmer!$B$3:$C$1002,2,0),\"\")","v":""}]
[null,null,null,{"$f":"IFERROR(VLOOKUP(C1387,Teilnehmer!$B$3:$C$1002,2,0),\"\")","v":""},null,{"$f":"IFERROR(VLOOKUP(E1387,Teilnehmer!$B$3:$C$1002,2,0),\"\")","v":""}]
[null,null,null,{"$f":"IFERROR(VLOOKUP(C1388,Teilnehmer!$B$3:$C$1002,2,0),\"\")","v":""},null,{"$f":"IFERROR(VLOOKUP(E1388,Teilnehmer!$B$3:$C$1002,2,0),\"\")","v":""}]
[null,null,null,{"$f":"IFERROR(VLOOKUP(C1389,Teilnehmer!$B$3:$C$1002,2,0),\"\")","v":""},null,{"$f":"IFERROR(VLOOKUP(E1389,Teilnehmer!$B$3:$C$1002,2,0),\"\")","v":""}]
[null,null,null,{"$f":"IFERROR(VLOOKUP(C1390,Teilnehmer!$B$3:$C$1002,2,0),\"\")","v":""},null,{"$f":"IFERROR(VLOOKUP(E1390,Teilnehmer!$B$3:$C$1002,2,0),\"\")","v":""}]
[null,null,null,{"$f":"IFERROR(VLOOKUP(C1391,Teilnehmer!$B$3:$C$1002,2,0),\"\")","v":""},null,{"$f":"IFERROR(VLOOKUP(E1391,Teilnehmer!$B$3:$C$1002,2,0),\"\")","v":""}]
[null,null,null,{"$f":"IFERROR(VLOOKUP(C1392,Teilnehmer!$B$3:$C$1002,2,0),\"\")","v":""},null,{"$f":"IFERROR(VLOOKUP(E1392,Teilnehmer!$B$3:$C$1002,2,0),\"\")","v":""}]
[null,null,null,{"$f":"IFERROR(VLOOKUP(C1393,Teilnehmer!$B$3:$C$1002,2,0),\"\")","v":""},null,{"$f":"IFERROR(VLOOKUP(E1393,Teilnehmer!$B$3:$C$1002,2,0),\"\")","v":""}]
[null,null,null,{"$f":"IFERROR(VLOOKUP(C1394,Teilnehmer!$B$3:$C$1002,2,0),\"\")","v":""},null,{"$f":"IFERROR(VLOOKUP(E1394,Teilnehmer!$B$3:$C$1002,2,0),\"\")","v":""}]
[null,null,null,{"$f":"IFERROR(VLOOKUP(C1395,Teilnehmer!$B$3:$C$1002,2,0),\"\")","v":""},null,{"$f":"IFERROR(VLOOKUP(E1395,Teilnehmer!$B$3:$C$1002,2,0),\"\")","v":""}]
[null,null,null,{"$f":"IFERROR(VLOOKUP(C1396,Teilnehmer!$B$3:$C$1002,2,0),\"\")","v":""},null,{"$f":"IFERROR(VLOOKUP(E1396,Teilnehmer!$B$3:$C$1002,2,0),\"\")","v":""}]
[null,null,null,{"$f":"IFERROR(VLOOKUP(C1397,Teilnehmer!$B$3:$C$1002,2,0),\"\")","v":""},null,{"$f":"IFERROR(VLOOKUP(E1397,Teilnehmer!$B$3:$C$1002,2,0),\"\")","v":""}]
[null,null,null,{"$f":"IFERROR(VLOOKUP(C1398,Teilnehmer!$B$3:$C$1002,2,0),\"\")","v":""},null,{"$f":"IFERROR(VLOOKUP(E1398,Teilnehmer!$B$3:$C$1002,2,0),\"\")","v":""}]
[null,null,null,{"$f":"IFERROR(VLOOKUP(C1399,Teilnehmer!$B$3:$C$1002,2,0),\"\")","v":""},null,{"$f":"IFERROR(VLOOKUP(E1399,Teilnehmer!$B$3:$C$1002,2,0),\"\")","v":""}]
[null,null,null,{"$f":"IFERROR(VLOOKUP(C1400,Teilnehmer!$B$3:$C$1002,2,0),\"\")","v":""},null,{"$f":"IFERROR(VLOOKUP(E1400,Teilnehmer!$B$3:$C$1002,2,0),\"\")","v":""}]
[null,null,null,{"$f":"IFERROR(VLOOKUP(C1401,Teilnehmer!$B$3:$C$1002,2,0),\"\")","v":""},null,{"$f":"IFERROR(VLOOKUP(E1401,Teilnehmer!$B$3:$C$1002,2,0),\"\")","v":""}]
[null,null,null,{"$f":"IFERROR(VLOOKUP(C1402,Teilnehmer!$B$3:$C$1002,2,0),\"\")","v":""},null,{"$f":"IFERROR(VLOOKUP(E1402,Teilnehmer!$B$3:$C$1002,2,0),\"\")","v":""}]
[null,null,null,{"$f":"IFERROR(VLOOKUP(C1403,Teilnehmer!$B$3:$C$1002,2,0),\"\")","v":""},null,{"$f":"IFERROR(VLOOKUP(E1403,Teilnehmer!$B$3:$C$1002,2,0),\"\")","v":""}]
[null,null,null,{"$f":"IFERROR(VLOOKUP(C1404,Teilnehmer!$B$3:$C$1002,2,0),\"\")","v":""},null,{"$f":"IFERROR(VLOOKUP(E1404,Teilnehmer!$B$3:$C$1002,2,0),\"\")","v":""}]
[null,null,null,{"$f":"IFERROR(VLOOKUP(C1405,Teilnehmer!$B$3:$C$1002,2,0),\"\")","v":""},null,{"$f":"IFERROR(VLOOKUP(E1405,Teilnehmer!$B$3:$C$1002,2,0),\"\")","v":""}]
[null,null,null,{"$f":"IFERROR(VLOOKUP(C1406,Teilnehmer!$B$3:$C$1002,2,0),\"\")","v":""},null,{"$f":"IFERROR(VLOOKUP(E1406,Teilnehmer!$B$3:$C$1002,2,0),\"\")","v":""}]
[null,null,null,{"$f":"IFERROR(VLOOKUP(C1407,Teilnehmer!$B$3:$C$1002,2,0),\"\")","v":""},null,{"$f":"IFERROR(VLOOKUP(E1407,Teilnehmer!$B$3:$C$1002,2,0),\"\")","v":""}]
[null,null,null,{"$f":"IFERROR(VLOOKUP(C1408,Teilnehmer!$B$3:$C$1002,2,0),\"\")","v":""},null,{"$f":"IFERROR(VLOOKUP(E1408,Teilnehmer!$B$3:$C$1002,2,0),\"\")","v":""}]
[null,null,null,{"$f":"IFERROR(VLOOKUP(C1409,Teilnehmer!$B$3:$C$1002,2,0),\"\")","v":""},null,{"$f":"IFERROR(VLOOKUP(E1409,Teilnehmer!$B$3:$C$1002,2,0),\"\")","v":""}]
[null,null,null,{"$f":"IFERROR(VLOOKUP(C1410,Teilnehmer!$B$3:$C$1002,2,0),\"\")","v":""},null,{"$f":"IFERROR(VLOOKUP(E1410,Teilnehmer!$B$3:$C$1002,2,0),\"\")","v":""}]
[null,null,null,{"$f":"IFERROR(VLOOKUP(C1411,Teilnehmer!$B$3:$C$1002,2,0),\"\")","v":""},null,{"$f":"IFERROR(VLOOKUP(E1411,Teilnehmer!$B$3:$C$1002,2,0),\"\")","v":""}]
[null,null,null,{"$f":"IFERROR(VLOOKUP(C1412,Teilnehmer!$B$3:$C$1002,2,0),\"\")","v":""},null,{"$f":"IFERROR(VLOOKUP(E1412,Teilnehmer!$B$3:$C$1002,2,0),\"\")","v":""}]
[null,null,null,{"$f":"IFERROR(VLOOKUP(C1413,Teilnehmer!$B$3:$C$1002,2,0),\"\")","v":""},null,{"$f":"IFERROR(VLOOKUP(E1413,Teilnehmer!$B$3:$C$1002,2,0),\"\")","v":""}]
[null,null,null,{"$f":"IFERROR(VLOOKUP(C1414,Teilnehmer!$B$3:$C$1002,2,0),\"\")","v":""},null,{"$f":"IFERROR(VLOOKUP(E1414,Teilnehmer!$B$3:$C$1002,2,0),\"\")","v":""}]
[null,null,null,{"$f":"IFERROR(VLOOKUP(C1415,Teilnehmer!$B$3:$C$1002,2,0),\"\")","v":""},null,{"$f":"IFERROR(VLOOKUP(E1415,Teilnehmer!$B$3:$C$1002,2,0),\"\")","v":""}]
[null,null,null,{"$f":"IFERROR(VLOOKUP(C1416,Teilnehmer!$B$3:$C$1002,2,0),\"\")","v":""},null,{"$f":"IFERROR(VLOOKUP(E1416,Teilnehmer!$B$3:$C$1002,2,0),\"\")","v":""}]
[null,null,null,{"$f":"IFERROR(VLOOKUP(C1417,Teilnehmer!$B$3:$C$1002,2,0),\"\")","v":""},null,{"$f":"IFERROR(VLOOKUP(E1417,Teilnehmer!$B$3:$C$1002,2,0),\"\")","v":""}]
[null,null,null,{"$f":"IFERROR(VLOOKUP(C1418,Teilnehmer!$B$3:$C$1002,2,0),\"\")","v":""},null,{"$f":"IFERROR(VLOOKUP(E1418,Teilnehmer!$B$3:$C$1002,2,0),\"\")","v":""}]
[null,null,null,{"$f":"IFERROR(VLOOKUP(C1419,Teilnehmer!$B$3:$C$1002,2,0),\"\")","v":""},null,{"$f":"IFERROR(VLOOKUP(E1419,Teilnehmer!$B$3:$C$1002,2,0),\"\")","v":""}]
[null,null,null,{"$f":"IFERROR(VLOOKUP(C1420,Teilnehmer!$B$3:$C$1002,2,0),\"\")","v":""},null,{"$f":"IFERROR(VLOOKUP(E1420,Teilnehmer!$B$3:$C$1002,2,0),\"\")","v":""}]
[null,null,null,{"$f":"IFERROR(VLOOKUP(C1421,Teilnehmer!$B$3:$C$1002,2,0),\"\")","v":""},null,{"$f":"IFERROR(VLOOKUP(E1421,Teilnehmer!$B$3:$C$1002,2,0),\"\")","v":""}]
[null,null,null,{"$f":"IFERROR(VLOOKUP(C1422,Teilnehmer!$B$3:$C$1002,2,0),\"\")","v":""},null,{"$f":"IFERROR(VLOOKUP(E1422,Teilnehmer!$B$3:$C$1002,2,0),\"\")","v":""}]
[null,null,null,{"$f":"IFERROR(VLOOKUP(C1423,Teilnehmer!$B$3:$C$1002,2,0),\"\")","v":""},null,{"$f":"IFERROR(VLOOKUP(E1423,Teilnehmer!$B$3:$C$1002,2,0),\"\")","v":""}]
[null,null,null,{"$f":"IFERROR(VLOOKUP(C1424,Teilnehmer!$B$3:$C$1002,2,0),\"\")","v":""},null,{"$f":"IFERROR(VLOOKUP(E1424,Teilnehmer!$B$3:$C$1002,2,0),\"\")","v":""}]
[null,null,null,{"$f":"IFERROR(VLOOKUP(C1425,Teilnehmer!$B$3:$C$1002,2,0),\"\")","v":""},null,{"$f":"IFERROR(VLOOKUP(E1425,Teilnehmer!$B$3:$C$1002,2,0),\"\")","v":""}]
[null,null,null,{"$f":"IFERROR(VLOOKUP(C1426,Teilnehmer!$B$3:$C$1002,2,0),\"\")","v":""},null,{"$f":"IFERROR(VLOOKUP(E1426,Teilnehmer!$B$3:$C$1002,2,0),\"\")","v":""}]
[null,null,null,{"$f":"IFERROR(VLOOKUP(C1427,Teilnehmer!$B$3:$C$1002,2,0),\"\")","v":""},null,{"$f":"IFERROR(VLOOKUP(E1427,Teilnehmer!$B$3:$C$1002,2,0),\"\")","v":""}]
[null,null,null,{"$f":"IFERROR(VLOOKUP(C1428,Teilnehmer!$B$3:$C$1002,2,0),\"\")","v":""},null,{"$f":"IFERROR(VLOOKUP(E1428,Teilnehmer!$B$3:$C$1002,2,0),\"\")","v":""}]
[null,null,null,{"$f":"IFERROR(VLOOKUP(C1429,Teilnehmer!$B$3:$C$1002,2,0),\"\")","v":""},null,{"$f":"IFERROR(VLOOKUP(E1429,Teilnehmer!$B$3:$C$1002,2,0),\"\")","v":""}]
[null,null,null,{"$f":"IFERROR(VLOOKUP(C1430,Teilnehmer!$B$3:$C$1002,2,0),\"\")","v":""},null,{"$f":"IFERROR(VLOOKUP(E1430,Teilnehmer!$B$3:$C$1002,2,0),\"\")","v":""}]
[null,null,null,{"$f":"IFERROR(VLOOKUP(C1431,Teilnehmer!$B$3:$C$1002,2,0),\"\")","v":""},null,{"$f":"IFERROR(VLOOKUP(E1431,Teilnehmer!$B$3:$C$1002,2,0),\"\")","v":""}]
[null,null,null,{"$f":"IFERROR(VLOOKUP(C1432,Teilnehmer!$B$3:$C$1002,2,0),\"\")","v":""},null,{"$f":"IFERROR(VLOOKUP(E1432,Teilnehmer!$B$3:$C$1002,2,0),\"\")","v":""}]
[null,null,null,{"$f":"IFERROR(VLOOKUP(C1433,Teilnehmer!$B$3:$C$1002,2,0),\"\")","v":""},null,{"$f":"IFERROR(VLOOKUP(E1433,Teilnehmer!$B$3:$C$1002,2,0),\"\")","v":""}]
[null,null,null,{"$f":"IFERROR(VLOOKUP(C1434,Teilnehmer!$B$3:$C$1002,2,0),\"\")","v":""},null,{"$f":"IFERROR(VLOOKUP(E1434,Teilnehmer!$B$3:$C$1002,2,0),\"\")","v":""}]
[null,null,null,{"$f":"IFERROR(VLOOKUP(C1435,Teilnehmer!$B$3:$C$1002,2,0),\"\")","v":""},null,{"$f":"IFERROR(VLOOKUP(E1435,Teilnehmer!$B$3:$C$1002,2,0),\"\")","v":""}]
[null,null,null,{"$f":"IFERROR(VLOOKUP(C1436,Teilnehmer!$B$3:$C$1002,2,0),\"\")","v":""},null,{"$f":"IFERROR(VLOOKUP(E1436,Teilnehmer!$B$3:$C$1002,2,0),\"\")","v":""}]
[null,null,null,{"$f":"IFERROR(VLOOKUP(C1437,Teilnehmer!$B$3:$C$1002,2,0),\"\")","v":""},null,{"$f":"IFERROR(VLOOKUP(E1437,Teilnehmer!$B$3:$C$1002,2,0),\"\")","v":""}]
[null,null,null,{"$f":"IFERROR(VLOOKUP(C1438,Teilnehmer!$B$3:$C$1002,2,0),\"\")","v":""},null,{"$f":"IFERROR(VLOOKUP(E1438,Teilnehmer!$B$3:$C$1002,2,0),\"\")","v":""}]
[null,null,null,{"$f":"IFERROR(VLOOKUP(C1439,Teilnehmer!$B$3:$C$1002,2,0),\"\")","v":""},null,{"$f":"IFERROR(VLOOKUP(E1439,Teilnehmer!$B$3:$C$1002,2,0),\"\")","v":""}]
[null,null,null,{"$f":"IFERROR(VLOOKUP(C1440,Teilnehmer!$B$3:$C$1002,2,0),\"\")","v":""},null,{"$f":"IFERROR(VLOOKUP(E1440,Teilnehmer!$B$3:$C$1002,2,0),\"\")","v":""}]
[null,null,null,{"$f":"IFERROR(VLOOKUP(C1441,Teilnehmer!$B$3:$C$1002,2,0),\"\")","v":""},null,{"$f":"IFERROR(VLOOKUP(E1441,Teilnehmer!$B$3:$C$1002,2,0),\"\")","v":""}]
[null,null,null,{"$f":"IFERROR(VLOOKUP(C1442,Teilnehmer!$B$3:$C$1002,2,0),\"\")","v":""},null,{"$f":"IFERROR(VLOOKUP(E1442,Teilnehmer!$B$3:$C$1002,2,0),\"\")","v":""}]
[null,null,null,{"$f":"IFERROR(VLOOKUP(C1443,Teilnehmer!$B$3:$C$1002,2,0),\"\")","v":""},null,{"$f":"IFERROR(VLOOKUP(E1443,Teilnehmer!$B$3:$C$1002,2,0),\"\")","v":""}]
[null,null,null,{"$f":"IFERROR(VLOOKUP(C1444,Teilnehmer!$B$3:$C$1002,2,0),\"\")","v":""},null,{"$f":"IFERROR(VLOOKUP(E1444,Teilnehmer!$B$3:$C$1002,2,0),\"\")","v":""}]
[null,null,null,{"$f":"IFERROR(VLOOKUP(C1445,Teilnehmer!$B$3:$C$1002,2,0),\"\")","v":""},null,{"$f":"IFERROR(VLOOKUP(E1445,Teilnehmer!$B$3:$C$1002,2,0),\"\")","v":""}]
[null,null,null,{"$f":"IFERROR(VLOOKUP(C1446,Teilnehmer!$B$3:$C$1002,2,0),\"\")","v":""},null,{"$f":"IFERROR(VLOOKUP(E1446,Teilnehmer!$B$3:$C$1002,2,0),\"\")","v":""}]
[null,null,null,{"$f":"IFERROR(VLOOKUP(C1447,Teilnehmer!$B$3:$C$1002,2,0),\"\")","v":""},null,{"$f":"IFERROR(VLOOKUP(E1447,Teilnehmer!$B$3:$C$1002,2,0),\"\")","v":""}]
[null,null,null,{"$f":"IFERROR(VLOOKUP(C1448,Teilnehmer!$B$3:$C$1002,2,0),\"\")","v":""},null,{"$f":"IFERROR(VLOOKUP(E1448,Teilnehmer!$B$3:$C$1002,2,0),\"\")","v":""}]
[null,null,null,{"$f":"IFERROR(VLOOKUP(C1449,Teilnehmer!$B$3:$C$1002,2,0),\"\")","v":""},null,{"$f":"IFERROR(VLOOKUP(E1449,Teilnehmer!$B$3:$C$1002,2,0),\"\")","v":""}]
[null,null,null,{"$f":"IFERROR(VLOOKUP(C1450,Teilnehmer!$B$3:$C$1002,2,0),\"\")","v":""},null,{"$f":"IFERROR(VLOOKUP(E1450,Teilnehmer!$B$3:$C$1002,2,0),\"\")","v":""}]
[null,null,null,{"$f":"IFERROR(VLOOKUP(C1451,Teilnehmer!$B$3:$C$1002,2,0),\"\")","v":""},null,{"$f":"IFERROR(VLOOKUP(E1451,Teilnehmer!$B$3:$C$1002,2,0),\"\")","v":""}]
[null,null,null,{"$f":"IFERROR(VLOOKUP(C1452,Teilnehmer!$B$3:$C$1002,2,0),\"\")","v":""},null,{"$f":"IFERROR(VLOOKUP(E1452,Teilnehmer!$B$3:$C$1002,2,0),\"\")","v":""}]
[null,null,null,{"$f":"IFERROR(VLOOKUP(C1453,Teilnehmer!$B$3:$C$1002,2,0),\"\")","v":""},null,{"$f":"IFERROR(VLOOKUP(E1453,Teilnehmer!$B$3:$C$1002,2,0),\"\")","v":""}]
[null,null,null,{"$f":"IFERROR(VLOOKUP(C1454,Teilnehmer!$B$3:$C$1002,2,0),\"\")","v":""},null,{"$f":"IFERROR(VLOOKUP(E1454,Teilnehmer!$B$3:$C$1002,2,0),\"\")","v":""}]
[null,null,null,{"$f":"IFERROR(VLOOKUP(C1455,Teilnehmer!$B$3:$C$1002,2,0),\"\")","v":""},null,{"$f":"IFERROR(VLOOKUP(E1455,Teilnehmer!$B$3:$C$1002,2,0),\"\")","v":""}]
[null,null,null,{"$f":"IFERROR(VLOOKUP(C1456,Teilnehmer!$B$3:$C$1002,2,0),\"\")","v":""},null,{"$f":"IFERROR(VLOOKUP(E1456,Teilnehmer!$B$3:$C$1002,2,0),\"\")","v":""}]
[null,null,null,{"$f":"IFERROR(VLOOKUP(C1457,Teilnehmer!$B$3:$C$1002,2,0),\"\")","v":""},null,{"$f":"IFERROR(VLOOKUP(E1457,Teilnehmer!$B$3:$C$1002,2,0),\"\")","v":""}]
[null,null,null,{"$f":"IFERROR(VLOOKUP(C1458,Teilnehmer!$B$3:$C$1002,2,0),\"\")","v":""},null,{"$f":"IFERROR(VLOOKUP(E1458,Teilnehmer!$B$3:$C$1002,2,0),\"\")","v":""}]
[null,null,null,{"$f":"IFERROR(VLOOKUP(C1459,Teilnehmer!$B$3:$C$1002,2,0),\"\")","v":""},null,{"$f":"IFERROR(VLOOKUP(E1459,Teilnehmer!$B$3:$C$1002,2,0),\"\")","v":""}]
[null,null,null,{"$f":"IFERROR(VLOOKUP(C1460,Teilnehmer!$B$3:$C$1002,2,0),\"\")","v":""},null,{"$f":"IFERROR(VLOOKUP(E1460,Teilnehmer!$B$3:$C$1002,2,0),\"\")","v":""}]
[null,null,null,{"$f":"IFERROR(VLOOKUP(C1461,Teilnehmer!$B$3:$C$1002,2,0),\"\")","v":""},null,{"$f":"IFERROR(VLOOKUP(E1461,Teilnehmer!$B$3:$C$1002,2,0),\"\")","v":""}]
[null,null,null,{"$f":"IFERROR(VLOOKUP(C1462,Teilnehmer!$B$3:$C$1002,2,0),\"\")","v":""},null,{"$f":"IFERROR(VLOOKUP(E1462,Teilnehmer!$B$3:$C$1002,2,0),\"\")","v":""}]
[null,null,null,{"$f":"IFERROR(VLOOKUP(C1463,Teilnehmer!$B$3:$C$1002,2,0),\"\")","v":""},null,{"$f":"IFERROR(VLOOKUP(E1463,Teilnehmer!$B$3:$C$1002,2,0),\"\")","v":""}]
[null,null,null,{"$f":"IFERROR(VLOOKUP(C1464,Teilnehmer!$B$3:$C$1002,2,0),\"\")","v":""},null,{"$f":"IFERROR(VLOOKUP(E1464,Teilnehmer!$B$3:$C$1002,2,0),\"\")","v":""}]
[null,null,null,{"$f":"IFERROR(VLOOKUP(C1465,Teilnehmer!$B$3:$C$1002,2,0),\"\")","v":""},null,{"$f":"IFERROR(VLOOKUP(E1465,Teilnehmer!$B$3:$C$1002,2,0),\"\")","v":""}]
[null,null,null,{"$f":"IFERROR(VLOOKUP(C1466,Teilnehmer!$B$3:$C$1002,2,0),\"\")","v":""},null,{"$f":"IFERROR(VLOOKUP(E1466,Teilnehmer!$B$3:$C$1002,2,0),\"\")","v":""}]
[null,null,null,{"$f":"IFERROR(VLOOKUP(C1467,Teilnehmer!$B$3:$C$1002,2,0),\"\")","v":""},null,{"$f":"IFERROR(VLOOKUP(E1467,Teilnehmer!$B$3:$C$1002,2,0),\"\")","v":""}]
[null,null,null,{"$f":"IFERROR(VLOOKUP(C1468,Teilnehmer!$B$3:$C$1002,2,0),\"\")","v":""},null,{"$f":"IFERROR(VLOOKUP(E1468,Teilnehmer!$B$3:$C$1002,2,0),\"\")","v":""}]
[null,null,null,{"$f":"IFERROR(VLOOKUP(C1469,Teilnehmer!$B$3:$C$1002,2,0),\"\")","v":""},null,{"$f":"IFERROR(VLOOKUP(E1469,Teilnehmer!$B$3:$C$1002,2,0),\"\")","v":""}]
[null,null,null,{"$f":"IFERROR(VLOOKUP(C1470,Teilnehmer!$B$3:$C$1002,2,0),\"\")","v":""},null,{"$f":"IFERROR(VLOOKUP(E1470,Teilnehmer!$B$3:$C$1002,2,0),\"\")","v":""}]
[null,null,null,{"$f":"IFERROR(VLOOKUP(C1471,Teilnehmer!$B$3:$C$1002,2,0),\"\")","v":""},null,{"$f":"IFERROR(VLOOKUP(E1471,Teilnehmer!$B$3:$C$1002,2,0),\"\")","v":""}]
[null,null,null,{"$f":"IFERROR(VLOOKUP(C1472,Teilnehmer!$B$3:$C$1002,2,0),\"\")","v":""},null,{"$f":"IFERROR(VLOOKUP(E1472,Teilnehmer!$B$3:$C$1002,2,0),\"\")","v":""}]
[null,null,null,{"$f":"IFERROR(VLOOKUP(C1473,Teilnehmer!$B$3:$C$1002,2,0),\"\")","v":""},null,{"$f":"IFERROR(VLOOKUP(E1473,Teilnehmer!$B$3:$C$1002,2,0),\"\")","v":""}]
[null,null,null,{"$f":"IFERROR(VLOOKUP(C1474,Teilnehmer!$B$3:$C$1002,2,0),\"\")","v":""},null,{"$f":"IFERROR(VLOOKUP(E1474,Teilnehmer!$B$3:$C$1002,2,0),\"\")","v":""}]
[null,null,null,{"$f":"IFERROR(VLOOKUP(C1475,Teilnehmer!$B$3:$C$1002,2,0),\"\")","v":""},null,{"$f":"IFERROR(VLOOKUP(E1475,Teilnehmer!$B$3:$C$1002,2,0),\"\")","v":""}]
[null,null,null,{"$f":"IFERROR(VLOOKUP(C1476,Teilnehmer!$B$3:$C$1002,2,0),\"\")","v":""},null,{"$f":"IFERROR(VLOOKUP(E1476,Teilnehmer!$B$3:$C$1002,2,0),\"\")","v":""}]
[null,null,null,{"$f":"IFERROR(VLOOKUP(C1477,Teilnehmer!$B$3:$C$1002,2,0),\"\")","v":""},null,{"$f":"IFERROR(VLOOKUP(E1477,Teilnehmer!$B$3:$C$1002,2,0),\"\")","v":""}]
[null,null,null,{"$f":"IFERROR(VLOOKUP(C1478,Teilnehmer!$B$3:$C$1002,2,0),\"\")","v":""},null,{"$f":"IFERROR(VLOOKUP(E1478,Teilnehmer!$B$3:$C$1002,2,0),\"\")","v":""}]
[null,null,null,{"$f":"IFERROR(VLOOKUP(C1479,Teilnehmer!$B$3:$C$1002,2,0),\"\")","v":""},null,{"$f":"IFERROR(VLOOKUP(E1479,Teilnehmer!$B$3:$C$1002,2,0),\"\")","v":""}]
[null,null,null,{"$f":"IFERROR(VLOOKUP(C1480,Teilnehmer!$B$3:$C$1002,2,0),\"\")","v":""},null,{"$f":"IFERROR(VLOOKUP(E1480,Teilnehmer!$B$3:$C$1002,2,0),\"\")","v":""}]
[null,null,null,{"$f":"IFERROR(VLOOKUP(C1481,Teilnehmer!$B$3:$C$1002,2,0),\"\")","v":""},null,{"$f":"IFERROR(VLOOKUP(E1481,Teilnehmer!$B$3:$C$1002,2,0),\"\")","v":""}]
[null,null,null,{"$f":"IFERROR(VLOOKUP(C1482,Teilnehmer!$B$3:$C$1002,2,0),\"\")","v":""},null,{"$f":"IFERROR(VLOOKUP(E1482,Teilnehmer!$B$3:$C$1002,2,0),\"\")","v":""}]
[null,null,null,{"$f":"IFERROR(VLOOKUP(C1483,Teilnehmer!$B$3:$C$1002,2,0),\"\")","v":""},null,{"$f":"IFERROR(VLOOKUP(E1483,Teilnehmer!$B$3:$C$1002,2,0),\"\")","v":""}]
[null,null,null,{"$f":"IFERROR(VLOOKUP(C1484,Teilnehmer!$B$3:$C$1002,2,0),\"\")","v":""},null,{"$f":"IFERROR(VLOOKUP(E1484,Teilnehmer!$B$3:$C$1002,2,0),\"\")","v":""}]
[null,null,null,{"$f":"IFERROR(VLOOKUP(C1485,Teilnehmer!$B$3:$C$1002,2,0),\"\")","v":""},null,{"$f":"IFERROR(VLOOKUP(E1485,Teilnehmer!$B$3:$C$1002,2,0),\"\")","v":""}]
[null,null,null,{"$f":"IFERROR(VLOOKUP(C1486,Teilnehmer!$B$3:$C$1002,2,0),\"\")","v":""},null,{"$f":"IFERROR(VLOOKUP(E1486,Teilnehmer!$B$3:$C$1002,2,0),\"\")","v":""}]
[null,null,null,{"$f":"IFERROR(VLOOKUP(C1487,Teilnehmer!$B$3:$C$1002,2,0),\"\")","v":""},null,{"$f":"IFERROR(VLOOKUP(E1487,Teilnehmer!$B$3:$C$1002,2,0),\"\")","v":""}]
[null,null,null,{"$f":"IFERROR(VLOOKUP(C1488,Teilnehmer!$B$3:$C$1002,2,0),\"\")","v":""},null,{"$f":"IFERROR(VLOOKUP(E1488,Teilnehmer!$B$3:$C$1002,2,0),\"\")","v":""}]
[null,null,null,{"$f":"IFERROR(VLOOKUP(C1489,Teilnehmer!$B$3:$C$1002,2,0),\"\")","v":""},null,{"$f":"IFERROR(VLOOKUP(E1489,Teilnehmer!$B$3:$C$1002,2,0),\"\")","v":""}]
[null,null,null,{"$f":"IFERROR(VLOOKUP(C1490,Teilnehmer!$B$3:$C$1002,2,0),\"\")","v":""},null,{"$f":"IFERROR(VLOOKUP(E1490,Teilnehmer!$B$3:$C$1002,2,0),\"\")","v":""}]
[null,null,null,{"$f":"IFERROR(VLOOKUP(C1491,Teilnehmer!$B$3:$C$1002,2,0),\"\")","v":""},null,{"$f":"IFERROR(VLOOKUP(E1491,Teilnehmer!$B$3:$C$1002,2,0),\"\")","v":""}]
[null,null,null,{"$f":"IFERROR(VLOOKUP(C1492,Teilnehmer!$B$3:$C$1002,2,0),\"\")","v":""},null,{"$f":"IFERROR(VLOOKUP(E1492,Teilnehmer!$B$3:$C$1002,2,0),\"\")","v":""}]
[null,null,null,{"$f":"IFERROR(VLOOKUP(C1493,Teilnehmer!$B$3:$C$1002,2,0),\"\")","v":""},null,{"$f":"IFERROR(VLOOKUP(E1493,Teilnehmer!$B$3:$C$1002,2,0),\"\")","v":""}]
[null,null,null,{"$f":"IFERROR(VLOOKUP(C1494,Teilnehmer!$B$3:$C$1002,2,0),\"\")","v":""},null,{"$f":"IFERROR(VLOOKUP(E1494,Teilnehmer!$B$3:$C$1002,2,0),\"\")","v":""}]
[null,null,null,{"$f":"IFERROR(VLOOKUP(C1495,Teilnehmer!$B$3:$C$1002,2,0),\"\")","v":""},null,{"$f":"IFERROR(VLOOKUP(E1495,Teilnehmer!$B$3:$C$1002,2,0),\"\")","v":""}]
[null,null,null,{"$f":"IFERROR(VLOOKUP(C1496,Teilnehmer!$B$3:$C$1002,2,0),\"\")","v":""},null,{"$f":"IFERROR(VLOOKUP(E1496,Teilnehmer!$B$3:$C$1002,2,0),\"\")","v":""}]
[null,null,null,{"$f":"IFERROR(VLOOKUP(C1497,Teilnehmer!$B$3:$C$1002,2,0),\"\")","v":""},null,{"$f":"IFERROR(VLOOKUP(E1497,Teilnehmer!$B$3:$C$1002,2,0),\"\")","v":""}]
[null,null,null,{"$f":"IFERROR(VLOOKUP(C1498,Teilnehmer!$B$3:$C$1002,2,0),\"\")","v":""},null,{"$f":"IFERROR(VLOOKUP(E1498,Teilnehmer!$B$3:$C$1002,2,0),\"\")","v":""}]
[null,null,null,{"$f":"IFERROR(VLOOKUP(C1499,Teilnehmer!$B$3:$C$1002,2,0),\"\")","v":""},null,{"$f":"IFERROR(VLOOKUP(E1499,Teilnehmer!$B$3:$C$1002,2,0),\"\")","v":""}]
[null,null,null,{"$f":"IFERROR(VLOOKUP(C1500,Teilnehmer!$B$3:$C$1002,2,0),\"\")","v":""},null,{"$f":"IFERROR(VLOOKUP(E1500,Teilnehmer!$B$3:$C$1002,2,0),\"\")","v":""}]
[null,null,null,{"$f":"IFERROR(VLOOKUP(C1501,Teilnehmer!$B$3:$C$1002,2,0),\"\")","v":""},null,{"$f":"IFERROR(VLOOKUP(E1501,Teilnehmer!$B$3:$C$1002,2,0),\"\")","v":""}]
[null,null,null,{"$f":"IFERROR(VLOOKUP(C1502,Teilnehmer!$B$3:$C$1002,2,0),\"\")","v":""},null,{"$f":"IFERROR(VLOOKUP(E1502,Teilnehmer!$B$3:$C$1002,2,0),\"\")","v":""}]
[null,null,null,{"$f":"IFERROR(VLOOKUP(C1503,Teilnehmer!$B$3:$C$1002,2,0),\"\")","v":""},null,{"$f":"IFERROR(VLOOKUP(E1503,Teilnehmer!$B$3:$C$1002,2,0),\"\")","v":""}]
[null,null,null,{"$f":"IFERROR(VLOOKUP(C1504,Teilnehmer!$B$3:$C$1002,2,0),\"\")","v":""},null,{"$f":"IFERROR(VLOOKUP(E1504,Teilnehmer!$B$3:$C$1002,2,0),\"\")","v":""}]
[null,null,null,{"$f":"IFERROR(VLOOKUP(C1505,Teilnehmer!$B$3:$C$1002,2,0),\"\")","v":""},null,{"$f":"IFERROR(VLOOKUP(E1505,Teilnehmer!$B$3:$C$1002,2,0),\"\")","v":""}]
[null,null,null,{"$f":"IFERROR(VLOOKUP(C1506,Teilnehmer!$B$3:$C$1002,2,0),\"\")","v":""},null,{"$f":"IFERROR(VLOOKUP(E1506,Teilnehmer!$B$3:$C$1002,2,0),\"\")","v":""}]
[null,null,null,{"$f":"IFERROR(VLOOKUP(C1507,Teilnehmer!$B$3:$C$1002,2,0),\"\")","v":""},null,{"$f":"IFERROR(VLOOKUP(E1507,Teilnehmer!$B$3:$C$1002,2,0),\"\")","v":""}]
[null,null,null,{"$f":"IFERROR(VLOOKUP(C1508,Teilnehmer!$B$3:$C$1002,2,0),\"\")","v":""},null,{"$f":"IFERROR(VLOOKUP(E1508,Teilnehmer!$B$3:$C$1002,2,0),\"\")","v":""}]
[null,null,null,{"$f":"IFERROR(VLOOKUP(C1509,Teilnehmer!$B$3:$C$1002,2,0),\"\")","v":""},null,{"$f":"IFERROR(VLOOKUP(E1509,Teilnehmer!$B$3:$C$1002,2,0),\"\")","v":""}]
[null,null,null,{"$f":"IFERROR(VLOOKUP(C1510,Teilnehmer!$B$3:$C$1002,2,0),\"\")","v":""},null,{"$f":"IFERROR(VLOOKUP(E1510,Teilnehmer!$B$3:$C$1002,2,0),\"\")","v":""}]
[null,null,null,{"$f":"IFERROR(VLOOKUP(C1511,Teilnehmer!$B$3:$C$1002,2,0),\"\")","v":""},null,{"$f":"IFERROR(VLOOKUP(E1511,Teilnehmer!$B$3:$C$1002,2,0),\"\")","v":""}]
[null,null,null,{"$f":"IFERROR(VLOOKUP(C1512,Teilnehmer!$B$3:$C$1002,2,0),\"\")","v":""},null,{"$f":"IFERROR(VLOOKUP(E1512,Teilnehmer!$B$3:$C$1002,2,0),\"\")","v":""}]
[null,null,null,{"$f":"IFERROR(VLOOKUP(C1513,Teilnehmer!$B$3:$C$1002,2,0),\"\")","v":""},null,{"$f":"IFERROR(VLOOKUP(E1513,Teilnehmer!$B$3:$C$1002,2,0),\"\")","v":""}]
[null,null,null,{"$f":"IFERROR(VLOOKUP(C1514,Teilnehmer!$B$3:$C$1002,2,0),\"\")","v":""},null,{"$f":"IFERROR(VLOOKUP(E1514,Teilnehmer!$B$3:$C$1002,2,0),\"\")","v":""}]
[null,null,null,{"$f":"IFERROR(VLOOKUP(C1515,Teilnehmer!$B$3:$C$1002,2,0),\"\")","v":""},null,{"$f":"IFERROR(VLOOKUP(E1515,Teilnehmer!$B$3:$C$1002,2,0),\"\")","v":""}]
[null,null,null,{"$f":"IFERROR(VLOOKUP(C1516,Teilnehmer!$B$3:$C$1002,2,0),\"\")","v":""},null,{"$f":"IFERROR(VLOOKUP(E1516,Teilnehmer!$B$3:$C$1002,2,0),\"\")","v":""}]
[null,null,null,{"$f":"IFERROR(VLOOKUP(C1517,Teilnehmer!$B$3:$C$1002,2,0),\"\")","v":""},null,{"$f":"IFERROR(VLOOKUP(E1517,Teilnehmer!$B$3:$C$1002,2,0),\"\")","v":""}]
[null,null,null,{"$f":"IFERROR(VLOOKUP(C1518,Teilnehmer!$B$3:$C$1002,2,0),\"\")","v":""},null,{"$f":"IFERROR(VLOOKUP(E1518,Teilnehmer!$B$3:$C$1002,2,0),\"\")","v":""}]
[null,null,null,{"$f":"IFERROR(VLOOKUP(C1519,Teilnehmer!$B$3:$C$1002,2,0),\"\")","v":""},null,{"$f":"IFERROR(VLOOKUP(E1519,Teilnehmer!$B$3:$C$1002,2,0),\"\")","v":""}]
[null,null,null,{"$f":"IFERROR(VLOOKUP(C1520,Teilnehmer!$B$3:$C$1002,2,0),\"\")","v":""},null,{"$f":"IFERROR(VLOOKUP(E1520,Teilnehmer!$B$3:$C$1002,2,0),\"\")","v":""}]
[null,null,null,{"$f":"IFERROR(VLOOKUP(C1521,Teilnehmer!$B$3:$C$1002,2,0),\"\")","v":""},null,{"$f":"IFERROR(VLOOKUP(E1521,Teilnehmer!$B$3:$C$1002,2,0),\"\")","v":""}]
[null,null,null,{"$f":"IFERROR(VLOOKUP(C1522,Teilnehmer!$B$3:$C$1002,2,0),\"\")","v":""},null,{"$f":"IFERROR(VLOOKUP(E1522,Teilnehmer!$B$3:$C$1002,2,0),\"\")","v":""}]
[null,null,null,{"$f":"IFERROR(VLOOKUP(C1523,Teilnehmer!$B$3:$C$1002,2,0),\"\")","v":""},null,{"$f":"IFERROR(VLOOKUP(E1523,Teilnehmer!$B$3:$C$1002,2,0),\"\")","v":""}]
[null,null,null,{"$f":"IFERROR(VLOOKUP(C1524,Teilnehmer!$B$3:$C$1002,2,0),\"\")","v":""},null,{"$f":"IFERROR(VLOOKUP(E1524,Teilnehmer!$B$3:$C$1002,2,0),\"\")","v":""}]
[null,null,null,{"$f":"IFERROR(VLOOKUP(C1525,Teilnehmer!$B$3:$C$1002,2,0),\"\")","v":""},null,{"$f":"IFERROR(VLOOKUP(E1525,Teilnehmer!$B$3:$C$1002,2,0),\"\")","v":""}]
[null,null,null,{"$f":"IFERROR(VLOOKUP(C1526,Teilnehmer!$B$3:$C$1002,2,0),\"\")","v":""},null,{"$f":"IFERROR(VLOOKUP(E1526,Teilnehmer!$B$3:$C$1002,2,0),\"\")","v":""}]
[null,null,null,{"$f":"IFERROR(VLOOKUP(C1527,Teilnehmer!$B$3:$C$1002,2,0),\"\")","v":""},null,{"$f":"IFERROR(VLOOKUP(E1527,Teilnehmer!$B$3:$C$1002,2,0),\"\")","v":""}]
[null,null,null,{"$f":"IFERROR(VLOOKUP(C1528,Teilnehmer!$B$3:$C$1002,2,0),\"\")","v":""},null,{"$f":"IFERROR(VLOOKUP(E1528,Teilnehmer!$B$3:$C$1002,2,0),\"\")","v":""}]
[null,null,null,{"$f":"IFERROR(VLOOKUP(C1529,Teilnehmer!$B$3:$C$1002,2,0),\"\")","v":""},null,{"$f":"IFERROR(VLOOKUP(E1529,Teilnehmer!$B$3:$C$1002,2,0),\"\")","v":""}]
[null,null,null,{"$f":"IFERROR(VLOOKUP(C1530,Teilnehmer!$B$3:$C$1002,2,0),\"\")","v":""},null,{"$f":"IFERROR(VLOOKUP(E1530,Teilnehmer!$B$3:$C$1002,2,0),\"\")","v":""}]
[null,null,null,{"$f":"IFERROR(VLOOKUP(C1531,Teilnehmer!$B$3:$C$1002,2,0),\"\")","v":""},null,{"$f":"IFERROR(VLOOKUP(E1531,Teilnehmer!$B$3:$C$1002,2,0),\"\")","v":""}]
[null,null,null,{"$f":"IFERROR(VLOOKUP(C1532,Teilnehmer!$B$3:$C$1002,2,0),\"\")","v":""},null,{"$f":"IFERROR(VLOOKUP(E1532,Teilnehmer!$B$3:$C$1002,2,0),\"\")","v":""}]
[null,null,null,{"$f":"IFERROR(VLOOKUP(C1533,Teilnehmer!$B$3:$C$1002,2,0),\"\")","v":""},null,{"$f":"IFERROR(VLOOKUP(E1533,Teilnehmer!$B$3:$C$1002,2,0),\"\")","v":""}]
[null,null,null,{"$f":"IFERROR(VLOOKUP(C1534,Teilnehmer!$B$3:$C$1002,2,0),\"\")","v":""},null,{"$f":"IFERROR(VLOOKUP(E1534,Teilnehmer!$B$3:$C$1002,2,0),\"\")","v":""}]
[null,null,null,{"$f":"IFERROR(VLOOKUP(C1535,Teilnehmer!$B$3:$C$1002,2,0),\"\")","v":""},null,{"$f":"IFERROR(VLOOKUP(E1535,Teilnehmer!$B$3:$C$1002,2,0),\"\")","v":""}]
[null,null,null,{"$f":"IFERROR(VLOOKUP(C1536,Teilnehmer!$B$3:$C$1002,2,0),\"\")","v":""},null,{"$f":"IFERROR(VLOOKUP(E1536,Teilnehmer!$B$3:$C$1002,2,0),\"\")","v":""}]
[null,null,null,{"$f":"IFERROR(VLOOKUP(C1537,Teilnehmer!$B$3:$C$1002,2,0),\"\")","v":""},null,{"$f":"IFERROR(VLOOKUP(E1537,Teilnehmer!$B$3:$C$1002,2,0),\"\")","v":""}]
[null,null,null,{"$f":"IFERROR(VLOOKUP(C1538,Teilnehmer!$B$3:$C$1002,2,0),\"\")","v":""},null,{"$f":"IFERROR(VLOOKUP(E1538,Teilnehmer!$B$3:$C$1002,2,0),\"\")","v":""}]
[null,null,null,{"$f":"IFERROR(VLOOKUP(C1539,Teilnehmer!$B$3:$C$1002,2,0),\"\")","v":""},null,{"$f":"IFERROR(VLOOKUP(E1539,Teilnehmer!$B$3:$C$1002,2,0),\"\")","v":""}]
[null,null,null,{"$f":"IFERROR(VLOOKUP(C1540,Teilnehmer!$B$3:$C$1002,2,0),\"\")","v":""},null,{"$f":"IFERROR(VLOOKUP(E1540,Teilnehmer!$B$3:$C$1002,2,0),\"\")","v":""}]
[null,null,null,{"$f":"IFERROR(VLOOKUP(C1541,Teilnehmer!$B$3:$C$1002,2,0),\"\")","v":""},null,{"$f":"IFERROR(VLOOKUP(E1541,Teilnehmer!$B$3:$C$1002,2,0),\"\")","v":""}]
[null,null,null,{"$f":"IFERROR(VLOOKUP(C1542,Teilnehmer!$B$3:$C$1002,2,0),\"\")","v":""},null,{"$f":"IFERROR(VLOOKUP(E1542,Teilnehmer!$B$3:$C$1002,2,0),\"\")","v":""}]
[null,null,null,{"$f":"IFERROR(VLOOKUP(C1543,Teilnehmer!$B$3:$C$1002,2,0),\"\")","v":""},null,{"$f":"IFERROR(VLOOKUP(E1543,Teilnehmer!$B$3:$C$1002,2,0),\"\")","v":""}]
[null,null,null,{"$f":"IFERROR(VLOOKUP(C1544,Teilnehmer!$B$3:$C$1002,2,0),\"\")","v":""},null,{"$f":"IFERROR(VLOOKUP(E1544,Teilnehmer!$B$3:$C$1002,2,0),\"\")","v":""}]
[null,null,null,{"$f":"IFERROR(VLOOKUP(C1545,Teilnehmer!$B$3:$C$1002,2,0),\"\")","v":""},null,{"$f":"IFERROR(VLOOKUP(E1545,Teilnehmer!$B$3:$C$1002,2,0),\"\")","v":""}]
[null,null,null,{"$f":"IFERROR(VLOOKUP(C1546,Teilnehmer!$B$3:$C$1002,2,0),\"\")","v":""},null,{"$f":"IFERROR(VLOOKUP(E1546,Teilnehmer!$B$3:$C$1002,2,0),\"\")","v":""}]
[null,null,null,{"$f":"IFERROR(VLOOKUP(C1547,Teilnehmer!$B$3:$C$1002,2,0),\"\")","v":""},null,{"$f":"IFERROR(VLOOKUP(E1547,Teilnehmer!$B$3:$C$1002,2,0),\"\")","v":""}]
[null,null,null,{"$f":"IFERROR(VLOOKUP(C1548,Teilnehmer!$B$3:$C$1002,2,0),\"\")","v":""},null,{"$f":"IFERROR(VLOOKUP(E1548,Teilnehmer!$B$3:$C$1002,2,0),\"\")","v":""}]
[null,null,null,{"$f":"IFERROR(VLOOKUP(C1549,Teilnehmer!$B$3:$C$1002,2,0),\"\")","v":""},null,{"$f":"IFERROR(VLOOKUP(E1549,Teilnehmer!$B$3:$C$1002,2,0),\"\")","v":""}]
[null,null,null,{"$f":"IFERROR(VLOOKUP(C1550,Teilnehmer!$B$3:$C$1002,2,0),\"\")","v":""},null,{"$f":"IFERROR(VLOOKUP(E1550,Teilnehmer!$B$3:$C$1002,2,0),\"\")","v":""}]
[null,null,null,{"$f":"IFERROR(VLOOKUP(C1551,Teilnehmer!$B$3:$C$1002,2,0),\"\")","v":""},null,{"$f":"IFERROR(VLOOKUP(E1551,Teilnehmer!$B$3:$C$1002,2,0),\"\")","v":""}]
[null,null,null,{"$f":"IFERROR(VLOOKUP(C1552,Teilnehmer!$B$3:$C$1002,2,0),\"\")","v":""},null,{"$f":"IFERROR(VLOOKUP(E1552,Teilnehmer!$B$3:$C$1002,2,0),\"\")","v":""}]
[null,null,null,{"$f":"IFERROR(VLOOKUP(C1553,Teilnehmer!$B$3:$C$1002,2,0),\"\")","v":""},null,{"$f":"IFERROR(VLOOKUP(E1553,Teilnehmer!$B$3:$C$1002,2,0),\"\")","v":""}]
[null,null,null,{"$f":"IFERROR(VLOOKUP(C1554,Teilnehmer!$B$3:$C$1002,2,0),\"\")","v":""},null,{"$f":"IFERROR(VLOOKUP(E1554,Teilnehmer!$B$3:$C$1002,2,0),\"\")","v":""}]
[null,null,null,{"$f":"IFERROR(VLOOKUP(C1555,Teilnehmer!$B$3:$C$1002,2,0),\"\")","v":""},null,{"$f":"IFERROR(VLOOKUP(E1555,Teilnehmer!$B$3:$C$1002,2,0),\"\")","v":""}]
[null,null,null,{"$f":"IFERROR(VLOOKUP(C1556,Teilnehmer!$B$3:$C$1002,2,0),\"\")","v":""},null,{"$f":"IFERROR(VLOOKUP(E1556,Teilnehmer!$B$3:$C$1002,2,0),\"\")","v":""}]
[null,null,null,{"$f":"IFERROR(VLOOKUP(C1557,Teilnehmer!$B$3:$C$1002,2,0),\"\")","v":""},null,{"$f":"IFERROR(VLOOKUP(E1557,Teilnehmer!$B$3:$C$1002,2,0),\"\")","v":""}]
[null,null,null,{"$f":"IFERROR(VLOOKUP(C1558,Teilnehmer!$B$3:$C$1002,2,0),\"\")","v":""},null,{"$f":"IFERROR(VLOOKUP(E1558,Teilnehmer!$B$3:$C$1002,2,0),\"\")","v":""}]
[null,null,null,{"$f":"IFERROR(VLOOKUP(C1559,Teilnehmer!$B$3:$C$1002,2,0),\"\")","v":""},null,{"$f":"IFERROR(VLOOKUP(E1559,Teilnehmer!$B$3:$C$1002,2,0),\"\")","v":""}]
[null,null,null,{"$f":"IFERROR(VLOOKUP(C1560,Teilnehmer!$B$3:$C$1002,2,0),\"\")","v":""},null,{"$f":"IFERROR(VLOOKUP(E1560,Teilnehmer!$B$3:$C$1002,2,0),\"\")","v":""}]
[null,null,null,{"$f":"IFERROR(VLOOKUP(C1561,Teilnehmer!$B$3:$C$1002,2,0),\"\")","v":""},null,{"$f":"IFERROR(VLOOKUP(E1561,Teilnehmer!$B$3:$C$1002,2,0),\"\")","v":""}]
[null,null,null,{"$f":"IFERROR(VLOOKUP(C1562,Teilnehmer!$B$3:$C$1002,2,0),\"\")","v":""},null,{"$f":"IFERROR(VLOOKUP(E1562,Teilnehmer!$B$3:$C$1002,2,0),\"\")","v":""}]
[null,null,null,{"$f":"IFERROR(VLOOKUP(C1563,Teilnehmer!$B$3:$C$1002,2,0),\"\")","v":""},null,{"$f":"IFERROR(VLOOKUP(E1563,Teilnehmer!$B$3:$C$1002,2,0),\"\")","v":""}]
[null,null,null,{"$f":"IFERROR(VLOOKUP(C1564,Teilnehmer!$B$3:$C$1002,2,0),\"\")","v":""},null,{"$f":"IFERROR(VLOOKUP(E1564,Teilnehmer!$B$3:$C$1002,2,0),\"\")","v":""}]
[null,null,null,{"$f":"IFERROR(VLOOKUP(C1565,Teilnehmer!$B$3:$C$1002,2,0),\"\")","v":""},null,{"$f":"IFERROR(VLOOKUP(E1565,Teilnehmer!$B$3:$C$1002,2,0),\"\")","v":""}]
[null,null,null,{"$f":"IFERROR(VLOOKUP(C1566,Teilnehmer!$B$3:$C$1002,2,0),\"\")","v":""},null,{"$f":"IFERROR(VLOOKUP(E1566,Teilnehmer!$B$3:$C$1002,2,0),\"\")","v":""}]
[null,null,null,{"$f":"IFERROR(VLOOKUP(C1567,Teilnehmer!$B$3:$C$1002,2,0),\"\")","v":""},null,{"$f":"IFERROR(VLOOKUP(E1567,Teilnehmer!$B$3:$C$1002,2,0),\"\")","v":""}]
[null,null,null,{"$f":"IFERROR(VLOOKUP(C1568,Teilnehmer!$B$3:$C$1002,2,0),\"\")","v":""},null,{"$f":"IFERROR(VLOOKUP(E1568,Teilnehmer!$B$3:$C$1002,2,0),\"\")","v":""}]
[null,null,null,{"$f":"IFERROR(VLOOKUP(C1569,Teilnehmer!$B$3:$C$1002,2,0),\"\")","v":""},null,{"$f":"IFERROR(VLOOKUP(E1569,Teilnehmer!$B$3:$C$1002,2,0),\"\")","v":""}]
[null,null,null,{"$f":"IFERROR(VLOOKUP(C1570,Teilnehmer!$B$3:$C$1002,2,0),\"\")","v":""},null,{"$f":"IFERROR(VLOOKUP(E1570,Teilnehmer!$B$3:$C$1002,2,0),\"\")","v":""}]
[null,null,null,{"$f":"IFERROR(VLOOKUP(C1571,Teilnehmer!$B$3:$C$1002,2,0),\"\")","v":""},null,{"$f":"IFERROR(VLOOKUP(E1571,Teilnehmer!$B$3:$C$1002,2,0),\"\")","v":""}]
[null,null,null,{"$f":"IFERROR(VLOOKUP(C1572,Teilnehmer!$B$3:$C$1002,2,0),\"\")","v":""},null,{"$f":"IFERROR(VLOOKUP(E1572,Teilnehmer!$B$3:$C$1002,2,0),\"\")","v":""}]
[null,null,null,{"$f":"IFERROR(VLOOKUP(C1573,Teilnehmer!$B$3:$C$1002,2,0),\"\")","v":""},null,{"$f":"IFERROR(VLOOKUP(E1573,Teilnehmer!$B$3:$C$1002,2,0),\"\")","v":""}]
[null,null,null,{"$f":"IFERROR(VLOOKUP(C1574,Teilnehmer!$B$3:$C$1002,2,0),\"\")","v":""},null,{"$f":"IFERROR(VLOOKUP(E1574,Teilnehmer!$B$3:$C$1002,2,0),\"\")","v":""}]
[null,null,null,{"$f":"IFERROR(VLOOKUP(C1575,Teilnehmer!$B$3:$C$1002,2,0),\"\")","v":""},null,{"$f":"IFERROR(VLOOKUP(E1575,Teilnehmer!$B$3:$C$1002,2,0),\"\")","v":""}]
[null,null,null,{"$f":"IFERROR(VLOOKUP(C1576,Teilnehmer!$B$3:$C$1002,2,0),\"\")","v":""},null,{"$f":"IFERROR(VLOOKUP(E1576,Teilnehmer!$B$3:$C$1002,2,0),\"\")","v":""}]
[null,null,null,{"$f":"IFERROR(VLOOKUP(C1577,Teilnehmer!$B$3:$C$1002,2,0),\"\")","v":""},null,{"$f":"IFERROR(VLOOKUP(E1577,Teilnehmer!$B$3:$C$1002,2,0),\"\")","v":""}]
[null,null,null,{"$f":"IFERROR(VLOOKUP(C1578,Teilnehmer!$B$3:$C$1002,2,0),\"\")","v":""},null,{"$f":"IFERROR(VLOOKUP(E1578,Teilnehmer!$B$3:$C$1002,2,0),\"\")","v":""}]
[null,null,null,{"$f":"IFERROR(VLOOKUP(C1579,Teilnehmer!$B$3:$C$1002,2,0),\"\")","v":""},null,{"$f":"IFERROR(VLOOKUP(E1579,Teilnehmer!$B$3:$C$1002,2,0),\"\")","v":""}]
[null,null,null,{"$f":"IFERROR(VLOOKUP(C1580,Teilnehmer!$B$3:$C$1002,2,0),\"\")","v":""},null,{"$f":"IFERROR(VLOOKUP(E1580,Teilnehmer!$B$3:$C$1002,2,0),\"\")","v":""}]
[null,null,null,{"$f":"IFERROR(VLOOKUP(C1581,Teilnehmer!$B$3:$C$1002,2,0),\"\")","v":""},null,{"$f":"IFERROR(VLOOKUP(E1581,Teilnehmer!$B$3:$C$1002,2,0),\"\")","v":""}]
[null,null,null,{"$f":"IFERROR(VLOOKUP(C1582,Teilnehmer!$B$3:$C$1002,2,0),\"\")","v":""},null,{"$f":"IFERROR(VLOOKUP(E1582,Teilnehmer!$B$3:$C$1002,2,0),\"\")","v":""}]
[null,null,null,{"$f":"IFERROR(VLOOKUP(C1583,Teilnehmer!$B$3:$C$1002,2,0),\"\")","v":""},null,{"$f":"IFERROR(VLOOKUP(E1583,Teilnehmer!$B$3:$C$1002,2,0),\"\")","v":""}]
[null,null,null,{"$f":"IFERROR(VLOOKUP(C1584,Teilnehmer!$B$3:$C$1002,2,0),\"\")","v":""},null,{"$f":"IFERROR(VLOOKUP(E1584,Teilnehmer!$B$3:$C$1002,2,0),\"\")","v":""}]
[null,null,null,{"$f":"IFERROR(VLOOKUP(C1585,Teilnehmer!$B$3:$C$1002,2,0),\"\")","v":""},null,{"$f":"IFERROR(VLOOKUP(E1585,Teilnehmer!$B$3:$C$1002,2,0),\"\")","v":""}]
[null,null,null,{"$f":"IFERROR(VLOOKUP(C1586,Teilnehmer!$B$3:$C$1002,2,0),\"\")","v":""},null,{"$f":"IFERROR(VLOOKUP(E1586,Teilnehmer!$B$3:$C$1002,2,0),\"\")","v":""}]
[null,null,null,{"$f":"IFERROR(VLOOKUP(C1587,Teilnehmer!$B$3:$C$1002,2,0),\"\")","v":""},null,{"$f":"IFERROR(VLOOKUP(E1587,Teilnehmer!$B$3:$C$1002,2,0),\"\")","v":""}]
[null,null,null,{"$f":"IFERROR(VLOOKUP(C1588,Teilnehmer!$B$3:$C$1002,2,0),\"\")","v":""},null,{"$f":"IFERROR(VLOOKUP(E1588,Teilnehmer!$B$3:$C$1002,2,0),\"\")","v":""}]
[null,null,null,{"$f":"IFERROR(VLOOKUP(C1589,Teilnehmer!$B$3:$C$1002,2,0),\"\")","v":""},null,{"$f":"IFERROR(VLOOKUP(E1589,Teilnehmer!$B$3:$C$1002,2,0),\"\")","v":""}]
[null,null,null,{"$f":"IFERROR(VLOOKUP(C1590,Teilnehmer!$B$3:$C$1002,2,0),\"\")","v":""},null,{"$f":"IFERROR(VLOOKUP(E1590,Teilnehmer!$B$3:$C$1002,2,0),\"\")","v":""}]
[null,null,null,{"$f":"IFERROR(VLOOKUP(C1591,Teilnehmer!$B$3:$C$1002,2,0),\"\")","v":""},null,{"$f":"IFERROR(VLOOKUP(E1591,Teilnehmer!$B$3:$C$1002,2,0),\"\")","v":""}]
[null,null,null,{"$f":"IFERROR(VLOOKUP(C1592,Teilnehmer!$B$3:$C$1002,2,0),\"\")","v":""},null,{"$f":"IFERROR(VLOOKUP(E1592,Teilnehmer!$B$3:$C$1002,2,0),\"\")","v":""}]
[null,null,null,{"$f":"IFERROR(VLOOKUP(C1593,Teilnehmer!$B$3:$C$1002,2,0),\"\")","v":""},null,{"$f":"IFERROR(VLOOKUP(E1593,Teilnehmer!$B$3:$C$1002,2,0),\"\")","v":""}]
[null,null,null,{"$f":"IFERROR(VLOOKUP(C1594,Teilnehmer!$B$3:$C$1002,2,0),\"\")","v":""},null,{"$f":"IFERROR(VLOOKUP(E1594,Teilnehmer!$B$3:$C$1002,2,0),\"\")","v":""}]
[null,null,null,{"$f":"IFERROR(VLOOKUP(C1595,Teilnehmer!$B$3:$C$1002,2,0),\"\")","v":""},null,{"$f":"IFERROR(VLOOKUP(E1595,Teilnehmer!$B$3:$C$1002,2,0),\"\")","v":""}]
[null,null,null,{"$f":"IFERROR(VLOOKUP(C1596,Teilnehmer!$B$3:$C$1002,2,0),\"\")","v":""},null,{"$f":"IFERROR(VLOOKUP(E1596,Teilnehmer!$B$3:$C$1002,2,0),\"\")","v":""}]
[null,null,null,{"$f":"IFERROR(VLOOKUP(C1597,Teilnehmer!$B$3:$C$1002,2,0),\"\")","v":""},null,{"$f":"IFERROR(VLOOKUP(E1597,Teilnehmer!$B$3:$C$1002,2,0),\"\")","v":""}]
[null,null,null,{"$f":"IFERROR(VLOOKUP(C1598,Teilnehmer!$B$3:$C$1002,2,0),\"\")","v":""},null,{"$f":"IFERROR(VLOOKUP(E1598,Teilnehmer!$B$3:$C$1002,2,0),\"\")","v":""}]
[null,null,null,{"$f":"IFERROR(VLOOKUP(C1599,Teilnehmer!$B$3:$C$1002,2,0),\"\")","v":""},null,{"$f":"IFERROR(VLOOKUP(E1599,Teilnehmer!$B$3:$C$1002,2,0),\"\")","v":""}]
[null,null,null,{"$f":"IFERROR(VLOOKUP(C1600,Teilnehmer!$B$3:$C$1002,2,0),\"\")","v":""},null,{"$f":"IFERROR(VLOOKUP(E1600,Teilnehmer!$B$3:$C$1002,2,0),\"\")","v":""}]
[null,null,null,{"$f":"IFERROR(VLOOKUP(C1601,Teilnehmer!$B$3:$C$1002,2,0),\"\")","v":""},null,{"$f":"IFERROR(VLOOKUP(E1601,Teilnehmer!$B$3:$C$1002,2,0),\"\")","v":""}]
[null,null,null,{"$f":"IFERROR(VLOOKUP(C1602,Teilnehmer!$B$3:$C$1002,2,0),\"\")","v":""},null,{"$f":"IFERROR(VLOOKUP(E1602,Teilnehmer!$B$3:$C$1002,2,0),\"\")","v":""}]
[null,null,null,{"$f":"IFERROR(VLOOKUP(C1603,Teilnehmer!$B$3:$C$1002,2,0),\"\")","v":""},null,{"$f":"IFERROR(VLOOKUP(E1603,Teilnehmer!$B$3:$C$1002,2,0),\"\")","v":""}]
[null,null,null,{"$f":"IFERROR(VLOOKUP(C1604,Teilnehmer!$B$3:$C$1002,2,0),\"\")","v":""},null,{"$f":"IFERROR(VLOOKUP(E1604,Teilnehmer!$B$3:$C$1002,2,0),\"\")","v":""}]
[null,null,null,{"$f":"IFERROR(VLOOKUP(C1605,Teilnehmer!$B$3:$C$1002,2,0),\"\")","v":""},null,{"$f":"IFERROR(VLOOKUP(E1605,Teilnehmer!$B$3:$C$1002,2,0),\"\")","v":""}]
[null,null,null,{"$f":"IFERROR(VLOOKUP(C1606,Teilnehmer!$B$3:$C$1002,2,0),\"\")","v":""},null,{"$f":"IFERROR(VLOOKUP(E1606,Teilnehmer!$B$3:$C$1002,2,0),\"\")","v":""}]
[null,null,null,{"$f":"IFERROR(VLOOKUP(C1607,Teilnehmer!$B$3:$C$1002,2,0),\"\")","v":""},null,{"$f":"IFERROR(VLOOKUP(E1607,Teilnehmer!$B$3:$C$1002,2,0),\"\")","v":""}]
[null,null,null,{"$f":"IFERROR(VLOOKUP(C1608,Teilnehmer!$B$3:$C$1002,2,0),\"\")","v":""},null,{"$f":"IFERROR(VLOOKUP(E1608,Teilnehmer!$B$3:$C$1002,2,0),\"\")","v":""}]
[null,null,null,{"$f":"IFERROR(VLOOKUP(C1609,Teilnehmer!$B$3:$C$1002,2,0),\"\")","v":""},null,{"$f":"IFERROR(VLOOKUP(E1609,Teilnehmer!$B$3:$C$1002,2,0),\"\")","v":""}]
[null,null,null,{"$f":"IFERROR(VLOOKUP(C1610,Teilnehmer!$B$3:$C$1002,2,0),\"\")","v":""},null,{"$f":"IFERROR(VLOOKUP(E1610,Teilnehmer!$B$3:$C$1002,2,0),\"\")","v":""}]
[null,null,null,{"$f":"IFERROR(VLOOKUP(C1611,Teilnehmer!$B$3:$C$1002,2,0),\"\")","v":""},null,{"$f":"IFERROR(VLOOKUP(E1611,Teilnehmer!$B$3:$C$1002,2,0),\"\")","v":""}]
[null,null,null,{"$f":"IFERROR(VLOOKUP(C1612,Teilnehmer!$B$3:$C$1002,2,0),\"\")","v":""},null,{"$f":"IFERROR(VLOOKUP(E1612,Teilnehmer!$B$3:$C$1002,2,0),\"\")","v":""}]
[null,null,null,{"$f":"IFERROR(VLOOKUP(C1613,Teilnehmer!$B$3:$C$1002,2,0),\"\")","v":""},null,{"$f":"IFERROR(VLOOKUP(E1613,Teilnehmer!$B$3:$C$1002,2,0),\"\")","v":""}]
[null,null,null,{"$f":"IFERROR(VLOOKUP(C1614,Teilnehmer!$B$3:$C$1002,2,0),\"\")","v":""},null,{"$f":"IFERROR(VLOOKUP(E1614,Teilnehmer!$B$3:$C$1002,2,0),\"\")","v":""}]
[null,null,null,{"$f":"IFERROR(VLOOKUP(C1615,Teilnehmer!$B$3:$C$1002,2,0),\"\")","v":""},null,{"$f":"IFERROR(VLOOKUP(E1615,Teilnehmer!$B$3:$C$1002,2,0),\"\")","v":""}]
[null,null,null,{"$f":"IFERROR(VLOOKUP(C1616,Teilnehmer!$B$3:$C$1002,2,0),\"\")","v":""},null,{"$f":"IFERROR(VLOOKUP(E1616,Teilnehmer!$B$3:$C$1002,2,0),\"\")","v":""}]
[null,null,null,{"$f":"IFERROR(VLOOKUP(C1617,Teilnehmer!$B$3:$C$1002,2,0),\"\")","v":""},null,{"$f":"IFERROR(VLOOKUP(E1617,Teilnehmer!$B$3:$C$1002,2,0),\"\")","v":""}]
[null,null,null,{"$f":"IFERROR(VLOOKUP(C1618,Teilnehmer!$B$3:$C$1002,2,0),\"\")","v":""},null,{"$f":"IFERROR(VLOOKUP(E1618,Teilnehmer!$B$3:$C$1002,2,0),\"\")","v":""}]
[null,null,null,{"$f":"IFERROR(VLOOKUP(C1619,Teilnehmer!$B$3:$C$1002,2,0),\"\")","v":""},null,{"$f":"IFERROR(VLOOKUP(E1619,Teilnehmer!$B$3:$C$1002,2,0),\"\")","v":""}]
[null,null,null,{"$f":"IFERROR(VLOOKUP(C1620,Teilnehmer!$B$3:$C$1002,2,0),\"\")","v":""},null,{"$f":"IFERROR(VLOOKUP(E1620,Teilnehmer!$B$3:$C$1002,2,0),\"\")","v":""}]
[null,null,null,{"$f":"IFERROR(VLOOKUP(C1621,Teilnehmer!$B$3:$C$1002,2,0),\"\")","v":""},null,{"$f":"IFERROR(VLOOKUP(E1621,Teilnehmer!$B$3:$C$1002,2,0),\"\")","v":""}]
[null,null,null,{"$f":"IFERROR(VLOOKUP(C1622,Teilnehmer!$B$3:$C$1002,2,0),\"\")","v":""},null,{"$f":"IFERROR(VLOOKUP(E1622,Teilnehmer!$B$3:$C$1002,2,0),\"\")","v":""}]
[null,null,null,{"$f":"IFERROR(VLOOKUP(C1623,Teilnehmer!$B$3:$C$1002,2,0),\"\")","v":""},null,{"$f":"IFERROR(VLOOKUP(E1623,Teilnehmer!$B$3:$C$1002,2,0),\"\")","v":""}]
[null,null,null,{"$f":"IFERROR(VLOOKUP(C1624,Teilnehmer!$B$3:$C$1002,2,0),\"\")","v":""},null,{"$f":"IFERROR(VLOOKUP(E1624,Teilnehmer!$B$3:$C$1002,2,0),\"\")","v":""}]
[null,null,null,{"$f":"IFERROR(VLOOKUP(C1625,Teilnehmer!$B$3:$C$1002,2,0),\"\")","v":""},null,{"$f":"IFERROR(VLOOKUP(E1625,Teilnehmer!$B$3:$C$1002,2,0),\"\")","v":""}]
[null,null,null,{"$f":"IFERROR(VLOOKUP(C1626,Teilnehmer!$B$3:$C$1002,2,0),\"\")","v":""},null,{"$f":"IFERROR(VLOOKUP(E1626,Teilnehmer!$B$3:$C$1002,2,0),\"\")","v":""}]
[null,null,null,{"$f":"IFERROR(VLOOKUP(C1627,Teilnehmer!$B$3:$C$1002,2,0),\"\")","v":""},null,{"$f":"IFERROR(VLOOKUP(E1627,Teilnehmer!$B$3:$C$1002,2,0),\"\")","v":""}]
[null,null,null,{"$f":"IFERROR(VLOOKUP(C1628,Teilnehmer!$B$3:$C$1002,2,0),\"\")","v":""},null,{"$f":"IFERROR(VLOOKUP(E1628,Teilnehmer!$B$3:$C$1002,2,0),\"\")","v":""}]
[null,null,null,{"$f":"IFERROR(VLOOKUP(C1629,Teilnehmer!$B$3:$C$1002,2,0),\"\")","v":""},null,{"$f":"IFERROR(VLOOKUP(E1629,Teilnehmer!$B$3:$C$1002,2,0),\"\")","v":""}]
[null,null,null,{"$f":"IFERROR(VLOOKUP(C1630,Teilnehmer!$B$3:$C$1002,2,0),\"\")","v":""},null,{"$f":"IFERROR(VLOOKUP(E1630,Teilnehmer!$B$3:$C$1002,2,0),\"\")","v":""}]
[null,null,null,{"$f":"IFERROR(VLOOKUP(C1631,Teilnehmer!$B$3:$C$1002,2,0),\"\")","v":""},null,{"$f":"IFERROR(VLOOKUP(E1631,Teilnehmer!$B$3:$C$1002,2,0),\"\")","v":""}]
[null,null,null,{"$f":"IFERROR(VLOOKUP(C1632,Teilnehmer!$B$3:$C$1002,2,0),\"\")","v":""},null,{"$f":"IFERROR(VLOOKUP(E1632,Teilnehmer!$B$3:$C$1002,2,0),\"\")","v":""}]
[null,null,null,{"$f":"IFERROR(VLOOKUP(C1633,Teilnehmer!$B$3:$C$1002,2,0),\"\")","v":""},null,{"$f":"IFERROR(VLOOKUP(E1633,Teilnehmer!$B$3:$C$1002,2,0),\"\")","v":""}]
[null,null,null,{"$f":"IFERROR(VLOOKUP(C1634,Teilnehmer!$B$3:$C$1002,2,0),\"\")","v":""},null,{"$f":"IFERROR(VLOOKUP(E1634,Teilnehmer!$B$3:$C$1002,2,0),\"\")","v":""}]
[null,null,null,{"$f":"IFERROR(VLOOKUP(C1635,Teilnehmer!$B$3:$C$1002,2,0),\"\")","v":""},null,{"$f":"IFERROR(VLOOKUP(E1635,Teilnehmer!$B$3:$C$1002,2,0),\"\")","v":""}]
[null,null,null,{"$f":"IFERROR(VLOOKUP(C1636,Teilnehmer!$B$3:$C$1002,2,0),\"\")","v":""},null,{"$f":"IFERROR(VLOOKUP(E1636,Teilnehmer!$B$3:$C$1002,2,0),\"\")","v":""}]
[null,null,null,{"$f":"IFERROR(VLOOKUP(C1637,Teilnehmer!$B$3:$C$1002,2,0),\"\")","v":""},null,{"$f":"IFERROR(VLOOKUP(E1637,Teilnehmer!$B$3:$C$1002,2,0),\"\")","v":""}]
[null,null,null,{"$f":"IFERROR(VLOOKUP(C1638,Teilnehmer!$B$3:$C$1002,2,0),\"\")","v":""},null,{"$f":"IFERROR(VLOOKUP(E1638,Teilnehmer!$B$3:$C$1002,2,0),\"\")","v":""}]
[null,null,null,{"$f":"IFERROR(VLOOKUP(C1639,Teilnehmer!$B$3:$C$1002,2,0),\"\")","v":""},null,{"$f":"IFERROR(VLOOKUP(E1639,Teilnehmer!$B$3:$C$1002,2,0),\"\")","v":""}]
[null,null,null,{"$f":"IFERROR(VLOOKUP(C1640,Teilnehmer!$B$3:$C$1002,2,0),\"\")","v":""},null,{"$f":"IFERROR(VLOOKUP(E1640,Teilnehmer!$B$3:$C$1002,2,0),\"\")","v":""}]
[null,null,null,{"$f":"IFERROR(VLOOKUP(C1641,Teilnehmer!$B$3:$C$1002,2,0),\"\")","v":""},null,{"$f":"IFERROR(VLOOKUP(E1641,Teilnehmer!$B$3:$C$1002,2,0),\"\")","v":""}]
[null,null,null,{"$f":"IFERROR(VLOOKUP(C1642,Teilnehmer!$B$3:$C$1002,2,0),\"\")","v":""},null,{"$f":"IFERROR(VLOOKUP(E1642,Teilnehmer!$B$3:$C$1002,2,0),\"\")","v":""}]
[null,null,null,{"$f":"IFERROR(VLOOKUP(C1643,Teilnehmer!$B$3:$C$1002,2,0),\"\")","v":""},null,{"$f":"IFERROR(VLOOKUP(E1643,Teilnehmer!$B$3:$C$1002,2,0),\"\")","v":""}]
[null,null,null,{"$f":"IFERROR(VLOOKUP(C1644,Teilnehmer!$B$3:$C$1002,2,0),\"\")","v":""},null,{"$f":"IFERROR(VLOOKUP(E1644,Teilnehmer!$B$3:$C$1002,2,0),\"\")","v":""}]
[null,null,null,{"$f":"IFERROR(VLOOKUP(C1645,Teilnehmer!$B$3:$C$1002,2,0),\"\")","v":""},null,{"$f":"IFERROR(VLOOKUP(E1645,Teilnehmer!$B$3:$C$1002,2,0),\"\")","v":""}]
[null,null,null,{"$f":"IFERROR(VLOOKUP(C1646,Teilnehmer!$B$3:$C$1002,2,0),\"\")","v":""},null,{"$f":"IFERROR(VLOOKUP(E1646,Teilnehmer!$B$3:$C$1002,2,0),\"\")","v":""}]
[null,null,null,{"$f":"IFERROR(VLOOKUP(C1647,Teilnehmer!$B$3:$C$1002,2,0),\"\")","v":""},null,{"$f":"IFERROR(VLOOKUP(E1647,Teilnehmer!$B$3:$C$1002,2,0),\"\")","v":""}]
[null,null,null,{"$f":"IFERROR(VLOOKUP(C1648,Teilnehmer!$B$3:$C$1002,2,0),\"\")","v":""},null,{"$f":"IFERROR(VLOOKUP(E1648,Teilnehmer!$B$3:$C$1002,2,0),\"\")","v":""}]
[null,null,null,{"$f":"IFERROR(VLOOKUP(C1649,Teilnehmer!$B$3:$C$1002,2,0),\"\")","v":""},null,{"$f":"IFERROR(VLOOKUP(E1649,Teilnehmer!$B$3:$C$1002,2,0),\"\")","v":""}]
[null,null,null,{"$f":"IFERROR(VLOOKUP(C1650,Teilnehmer!$B$3:$C$1002,2,0),\"\")","v":""},null,{"$f":"IFERROR(VLOOKUP(E1650,Teilnehmer!$B$3:$C$1002,2,0),\"\")","v":""}]
[null,null,null,{"$f":"IFERROR(VLOOKUP(C1651,Teilnehmer!$B$3:$C$1002,2,0),\"\")","v":""},null,{"$f":"IFERROR(VLOOKUP(E1651,Teilnehmer!$B$3:$C$1002,2,0),\"\")","v":""}]
[null,null,null,{"$f":"IFERROR(VLOOKUP(C1652,Teilnehmer!$B$3:$C$1002,2,0),\"\")","v":""},null,{"$f":"IFERROR(VLOOKUP(E1652,Teilnehmer!$B$3:$C$1002,2,0),\"\")","v":""}]
[null,null,null,{"$f":"IFERROR(VLOOKUP(C1653,Teilnehmer!$B$3:$C$1002,2,0),\"\")","v":""},null,{"$f":"IFERROR(VLOOKUP(E1653,Teilnehmer!$B$3:$C$1002,2,0),\"\")","v":""}]
[null,null,null,{"$f":"IFERROR(VLOOKUP(C1654,Teilnehmer!$B$3:$C$1002,2,0),\"\")","v":""},null,{"$f":"IFERROR(VLOOKUP(E1654,Teilnehmer!$B$3:$C$1002,2,0),\"\")","v":""}]
[null,null,null,{"$f":"IFERROR(VLOOKUP(C1655,Teilnehmer!$B$3:$C$1002,2,0),\"\")","v":""},null,{"$f":"IFERROR(VLOOKUP(E1655,Teilnehmer!$B$3:$C$1002,2,0),\"\")","v":""}]
[null,null,null,{"$f":"IFERROR(VLOOKUP(C1656,Teilnehmer!$B$3:$C$1002,2,0),\"\")","v":""},null,{"$f":"IFERROR(VLOOKUP(E1656,Teilnehmer!$B$3:$C$1002,2,0),\"\")","v":""}]
[null,null,null,{"$f":"IFERROR(VLOOKUP(C1657,Teilnehmer!$B$3:$C$1002,2,0),\"\")","v":""},null,{"$f":"IFERROR(VLOOKUP(E1657,Teilnehmer!$B$3:$C$1002,2,0),\"\")","v":""}]
[null,null,null,{"$f":"IFERROR(VLOOKUP(C1658,Teilnehmer!$B$3:$C$1002,2,0),\"\")","v":""},null,{"$f":"IFERROR(VLOOKUP(E1658,Teilnehmer!$B$3:$C$1002,2,0),\"\")","v":""}]
[null,null,null,{"$f":"IFERROR(VLOOKUP(C1659,Teilnehmer!$B$3:$C$1002,2,0),\"\")","v":""},null,{"$f":"IFERROR(VLOOKUP(E1659,Teilnehmer!$B$3:$C$1002,2,0),\"\")","v":""}]
[null,null,null,{"$f":"IFERROR(VLOOKUP(C1660,Teilnehmer!$B$3:$C$1002,2,0),\"\")","v":""},null,{"$f":"IFERROR(VLOOKUP(E1660,Teilnehmer!$B$3:$C$1002,2,0),\"\")","v":""}]
[null,null,null,{"$f":"IFERROR(VLOOKUP(C1661,Teilnehmer!$B$3:$C$1002,2,0),\"\")","v":""},null,{"$f":"IFERROR(VLOOKUP(E1661,Teilnehmer!$B$3:$C$1002,2,0),\"\")","v":""}]
[null,null,null,{"$f":"IFERROR(VLOOKUP(C1662,Teilnehmer!$B$3:$C$1002,2,0),\"\")","v":""},null,{"$f":"IFERROR(VLOOKUP(E1662,Teilnehmer!$B$3:$C$1002,2,0),\"\")","v":""}]
[null,null,null,{"$f":"IFERROR(VLOOKUP(C1663,Teilnehmer!$B$3:$C$1002,2,0),\"\")","v":""},null,{"$f":"IFERROR(VLOOKUP(E1663,Teilnehmer!$B$3:$C$1002,2,0),\"\")","v":""}]
[null,null,null,{"$f":"IFERROR(VLOOKUP(C1664,Teilnehmer!$B$3:$C$1002,2,0),\"\")","v":""},null,{"$f":"IFERROR(VLOOKUP(E1664,Teilnehmer!$B$3:$C$1002,2,0),\"\")","v":""}]
[null,null,null,{"$f":"IFERROR(VLOOKUP(C1665,Teilnehmer!$B$3:$C$1002,2,0),\"\")","v":""},null,{"$f":"IFERROR(VLOOKUP(E1665,Teilnehmer!$B$3:$C$1002,2,0),\"\")","v":""}]
[null,null,null,{"$f":"IFERROR(VLOOKUP(C1666,Teilnehmer!$B$3:$C$1002,2,0),\"\")","v":""},null,{"$f":"IFERROR(VLOOKUP(E1666,Teilnehmer!$B$3:$C$1002,2,0),\"\")","v":""}]
[null,null,null,{"$f":"IFERROR(VLOOKUP(C1667,Teilnehmer!$B$3:$C$1002,2,0),\"\")","v":""},null,{"$f":"IFERROR(VLOOKUP(E1667,Teilnehmer!$B$3:$C$1002,2,0),\"\")","v":""}]
[null,null,null,{"$f":"IFERROR(VLOOKUP(C1668,Teilnehmer!$B$3:$C$1002,2,0),\"\")","v":""},null,{"$f":"IFERROR(VLOOKUP(E1668,Teilnehmer!$B$3:$C$1002,2,0),\"\")","v":""}]
[null,null,null,{"$f":"IFERROR(VLOOKUP(C1669,Teilnehmer!$B$3:$C$1002,2,0),\"\")","v":""},null,{"$f":"IFERROR(VLOOKUP(E1669,Teilnehmer!$B$3:$C$1002,2,0),\"\")","v":""}]
[null,null,null,{"$f":"IFERROR(VLOOKUP(C1670,Teilnehmer!$B$3:$C$1002,2,0),\"\")","v":""},null,{"$f":"IFERROR(VLOOKUP(E1670,Teilnehmer!$B$3:$C$1002,2,0),\"\")","v":""}]
[null,null,null,{"$f":"IFERROR(VLOOKUP(C1671,Teilnehmer!$B$3:$C$1002,2,0),\"\")","v":""},null,{"$f":"IFERROR(VLOOKUP(E1671,Teilnehmer!$B$3:$C$1002,2,0),\"\")","v":""}]
[null,null,null,{"$f":"IFERROR(VLOOKUP(C1672,Teilnehmer!$B$3:$C$1002,2,0),\"\")","v":""},null,{"$f":"IFERROR(VLOOKUP(E1672,Teilnehmer!$B$3:$C$1002,2,0),\"\")","v":""}]
[null,null,null,{"$f":"IFERROR(VLOOKUP(C1673,Teilnehmer!$B$3:$C$1002,2,0),\"\")","v":""},null,{"$f":"IFERROR(VLOOKUP(E1673,Teilnehmer!$B$3:$C$1002,2,0),\"\")","v":""}]
[null,null,null,{"$f":"IFERROR(VLOOKUP(C1674,Teilnehmer!$B$3:$C$1002,2,0),\"\")","v":""},null,{"$f":"IFERROR(VLOOKUP(E1674,Teilnehmer!$B$3:$C$1002,2,0),\"\")","v":""}]
[null,null,null,{"$f":"IFERROR(VLOOKUP(C1675,Teilnehmer!$B$3:$C$1002,2,0),\"\")","v":""},null,{"$f":"IFERROR(VLOOKUP(E1675,Teilnehmer!$B$3:$C$1002,2,0),\"\")","v":""}]
[null,null,null,{"$f":"IFERROR(VLOOKUP(C1676,Teilnehmer!$B$3:$C$1002,2,0),\"\")","v":""},null,{"$f":"IFERROR(VLOOKUP(E1676,Teilnehmer!$B$3:$C$1002,2,0),\"\")","v":""}]
[null,null,null,{"$f":"IFERROR(VLOOKUP(C1677,Teilnehmer!$B$3:$C$1002,2,0),\"\")","v":""},null,{"$f":"IFERROR(VLOOKUP(E1677,Teilnehmer!$B$3:$C$1002,2,0),\"\")","v":""}]
[null,null,null,{"$f":"IFERROR(VLOOKUP(C1678,Teilnehmer!$B$3:$C$1002,2,0),\"\")","v":""},null,{"$f":"IFERROR(VLOOKUP(E1678,Teilnehmer!$B$3:$C$1002,2,0),\"\")","v":""}]
[null,null,null,{"$f":"IFERROR(VLOOKUP(C1679,Teilnehmer!$B$3:$C$1002,2,0),\"\")","v":""},null,{"$f":"IFERROR(VLOOKUP(E1679,Teilnehmer!$B$3:$C$1002,2,0),\"\")","v":""}]
[null,null,null,{"$f":"IFERROR(VLOOKUP(C1680,Teilnehmer!$B$3:$C$1002,2,0),\"\")","v":""},null,{"$f":"IFERROR(VLOOKUP(E1680,Teilnehmer!$B$3:$C$1002,2,0),\"\")","v":""}]
[null,null,null,{"$f":"IFERROR(VLOOKUP(C1681,Teilnehmer!$B$3:$C$1002,2,0),\"\")","v":""},null,{"$f":"IFERROR(VLOOKUP(E1681,Teilnehmer!$B$3:$C$1002,2,0),\"\")","v":""}]
[null,null,null,{"$f":"IFERROR(VLOOKUP(C1682,Teilnehmer!$B$3:$C$1002,2,0),\"\")","v":""},null,{"$f":"IFERROR(VLOOKUP(E1682,Teilnehmer!$B$3:$C$1002,2,0),\"\")","v":""}]
[null,null,null,{"$f":"IFERROR(VLOOKUP(C1683,Teilnehmer!$B$3:$C$1002,2,0),\"\")","v":""},null,{"$f":"IFERROR(VLOOKUP(E1683,Teilnehmer!$B$3:$C$1002,2,0),\"\")","v":""}]
[null,null,null,{"$f":"IFERROR(VLOOKUP(C1684,Teilnehmer!$B$3:$C$1002,2,0),\"\")","v":""},null,{"$f":"IFERROR(VLOOKUP(E1684,Teilnehmer!$B$3:$C$1002,2,0),\"\")","v":""}]
[null,null,null,{"$f":"IFERROR(VLOOKUP(C1685,Teilnehmer!$B$3:$C$1002,2,0),\"\")","v":""},null,{"$f":"IFERROR(VLOOKUP(E1685,Teilnehmer!$B$3:$C$1002,2,0),\"\")","v":""}]
[null,null,null,{"$f":"IFERROR(VLOOKUP(C1686,Teilnehmer!$B$3:$C$1002,2,0),\"\")","v":""},null,{"$f":"IFERROR(VLOOKUP(E1686,Teilnehmer!$B$3:$C$1002,2,0),\"\")","v":""}]
[null,null,null,{"$f":"IFERROR(VLOOKUP(C1687,Teilnehmer!$B$3:$C$1002,2,0),\"\")","v":""},null,{"$f":"IFERROR(VLOOKUP(E1687,Teilnehmer!$B$3:$C$1002,2,0),\"\")","v":""}]
[null,null,null,{"$f":"IFERROR(VLOOKUP(C1688,Teilnehmer!$B$3:$C$1002,2,0),\"\")","v":""},null,{"$f":"IFERROR(VLOOKUP(E1688,Teilnehmer!$B$3:$C$1002,2,0),\"\")","v":""}]
[null,null,null,{"$f":"IFERROR(VLOOKUP(C1689,Teilnehmer!$B$3:$C$1002,2,0),\"\")","v":""},null,{"$f":"IFERROR(VLOOKUP(E1689,Teilnehmer!$B$3:$C$1002,2,0),\"\")","v":""}]
[null,null,null,{"$f":"IFERROR(VLOOKUP(C1690,Teilnehmer!$B$3:$C$1002,2,0),\"\")","v":""},null,{"$f":"IFERROR(VLOOKUP(E1690,Teilnehmer!$B$3:$C$1002,2,0),\"\")","v":""}]
[null,null,null,{"$f":"IFERROR(VLOOKUP(C1691,Teilnehmer!$B$3:$C$1002,2,0),\"\")","v":""},null,{"$f":"IFERROR(VLOOKUP(E1691,Teilnehmer!$B$3:$C$1002,2,0),\"\")","v":""}]
[null,null,null,{"$f":"IFERROR(VLOOKUP(C1692,Teilnehmer!$B$3:$C$1002,2,0),\"\")","v":""},null,{"$f":"IFERROR(VLOOKUP(E1692,Teilnehmer!$B$3:$C$1002,2,0),\"\")","v":""}]
[null,null,null,{"$f":"IFERROR(VLOOKUP(C1693,Teilnehmer!$B$3:$C$1002,2,0),\"\")","v":""},null,{"$f":"IFERROR(VLOOKUP(E1693,Teilnehmer!$B$3:$C$1002,2,0),\"\")","v":""}]
[null,null,null,{"$f":"IFERROR(VLOOKUP(C1694,Teilnehmer!$B$3:$C$1002,2,0),\"\")","v":""},null,{"$f":"IFERROR(VLOOKUP(E1694,Teilnehmer!$B$3:$C$1002,2,0),\"\")","v":""}]
[null,null,null,{"$f":"IFERROR(VLOOKUP(C1695,Teilnehmer!$B$3:$C$1002,2,0),\"\")","v":""},null,{"$f":"IFERROR(VLOOKUP(E1695,Teilnehmer!$B$3:$C$1002,2,0),\"\")","v":""}]
[null,null,null,{"$f":"IFERROR(VLOOKUP(C1696,Teilnehmer!$B$3:$C$1002,2,0),\"\")","v":""},null,{"$f":"IFERROR(VLOOKUP(E1696,Teilnehmer!$B$3:$C$1002,2,0),\"\")","v":""}]
[null,null,null,{"$f":"IFERROR(VLOOKUP(C1697,Teilnehmer!$B$3:$C$1002,2,0),\"\")","v":""},null,{"$f":"IFERROR(VLOOKUP(E1697,Teilnehmer!$B$3:$C$1002,2,0),\"\")","v":""}]
[null,null,null,{"$f":"IFERROR(VLOOKUP(C1698,Teilnehmer!$B$3:$C$1002,2,0),\"\")","v":""},null,{"$f":"IFERROR(VLOOKUP(E1698,Teilnehmer!$B$3:$C$1002,2,0),\"\")","v":""}]
[null,null,null,{"$f":"IFERROR(VLOOKUP(C1699,Teilnehmer!$B$3:$C$1002,2,0),\"\")","v":""},null,{"$f":"IFERROR(VLOOKUP(E1699,Teilnehmer!$B$3:$C$1002,2,0),\"\")","v":""}]
[null,null,null,{"$f":"IFERROR(VLOOKUP(C1700,Teilnehmer!$B$3:$C$1002,2,0),\"\")","v":""},null,{"$f":"IFERROR(VLOOKUP(E1700,Teilnehmer!$B$3:$C$1002,2,0),\"\")","v":""}]
[null,null,null,{"$f":"IFERROR(VLOOKUP(C1701,Teilnehmer!$B$3:$C$1002,2,0),\"\")","v":""},null,{"$f":"IFERROR(VLOOKUP(E1701,Teilnehmer!$B$3:$C$1002,2,0),\"\")","v":""}]
[null,null,null,{"$f":"IFERROR(VLOOKUP(C1702,Teilnehmer!$B$3:$C$1002,2,0),\"\")","v":""},null,{"$f":"IFERROR(VLOOKUP(E1702,Teilnehmer!$B$3:$C$1002,2,0),\"\")","v":""}]
[null,null,null,{"$f":"IFERROR(VLOOKUP(C1703,Teilnehmer!$B$3:$C$1002,2,0),\"\")","v":""},null,{"$f":"IFERROR(VLOOKUP(E1703,Teilnehmer!$B$3:$C$1002,2,0),\"\")","v":""}]
[null,null,null,{"$f":"IFERROR(VLOOKUP(C1704,Teilnehmer!$B$3:$C$1002,2,0),\"\")","v":""},null,{"$f":"IFERROR(VLOOKUP(E1704,Teilnehmer!$B$3:$C$1002,2,0),\"\")","v":""}]
[null,null,null,{"$f":"IFERROR(VLOOKUP(C1705,Teilnehmer!$B$3:$C$1002,2,0),\"\")","v":""},null,{"$f":"IFERROR(VLOOKUP(E1705,Teilnehmer!$B$3:$C$1002,2,0),\"\")","v":""}]
[null,null,null,{"$f":"IFERROR(VLOOKUP(C1706,Teilnehmer!$B$3:$C$1002,2,0),\"\")","v":""},null,{"$f":"IFERROR(VLOOKUP(E1706,Teilnehmer!$B$3:$C$1002,2,0),\"\")","v":""}]
[null,null,null,{"$f":"IFERROR(VLOOKUP(C1707,Teilnehmer!$B$3:$C$1002,2,0),\"\")","v":""},null,{"$f":"IFERROR(VLOOKUP(E1707,Teilnehmer!$B$3:$C$1002,2,0),\"\")","v":""}]
[null,null,null,{"$f":"IFERROR(VLOOKUP(C1708,Teilnehmer!$B$3:$C$1002,2,0),\"\")","v":""},null,{"$f":"IFERROR(VLOOKUP(E1708,Teilnehmer!$B$3:$C$1002,2,0),\"\")","v":""}]
[null,null,null,{"$f":"IFERROR(VLOOKUP(C1709,Teilnehmer!$B$3:$C$1002,2,0),\"\")","v":""},null,{"$f":"IFERROR(VLOOKUP(E1709,Teilnehmer!$B$3:$C$1002,2,0),\"\")","v":""}]
[null,null,null,{"$f":"IFERROR(VLOOKUP(C1710,Teilnehmer!$B$3:$C$1002,2,0),\"\")","v":""},null,{"$f":"IFERROR(VLOOKUP(E1710,Teilnehmer!$B$3:$C$1002,2,0),\"\")","v":""}]
[null,null,null,{"$f":"IFERROR(VLOOKUP(C1711,Teilnehmer!$B$3:$C$1002,2,0),\"\")","v":""},null,{"$f":"IFERROR(VLOOKUP(E1711,Teilnehmer!$B$3:$C$1002,2,0),\"\")","v":""}]
[null,null,null,{"$f":"IFERROR(VLOOKUP(C1712,Teilnehmer!$B$3:$C$1002,2,0),\"\")","v":""},null,{"$f":"IFERROR(VLOOKUP(E1712,Teilnehmer!$B$3:$C$1002,2,0),\"\")","v":""}]
[null,null,null,{"$f":"IFERROR(VLOOKUP(C1713,Teilnehmer!$B$3:$C$1002,2,0),\"\")","v":""},null,{"$f":"IFERROR(VLOOKUP(E1713,Teilnehmer!$B$3:$C$1002,2,0),\"\")","v":""}]
[null,null,null,{"$f":"IFERROR(VLOOKUP(C1714,Teilnehmer!$B$3:$C$1002,2,0),\"\")","v":""},null,{"$f":"IFERROR(VLOOKUP(E1714,Teilnehmer!$B$3:$C$1002,2,0),\"\")","v":""}]
[null,null,null,{"$f":"IFERROR(VLOOKUP(C1715,Teilnehmer!$B$3:$C$1002,2,0),\"\")","v":""},null,{"$f":"IFERROR(VLOOKUP(E1715,Teilnehmer!$B$3:$C$1002,2,0),\"\")","v":""}]
[null,null,null,{"$f":"IFERROR(VLOOKUP(C1716,Teilnehmer!$B$3:$C$1002,2,0),\"\")","v":""},null,{"$f":"IFERROR(VLOOKUP(E1716,Teilnehmer!$B$3:$C$1002,2,0),\"\")","v":""}]
[null,null,null,{"$f":"IFERROR(VLOOKUP(C1717,Teilnehmer!$B$3:$C$1002,2,0),\"\")","v":""},null,{"$f":"IFERROR(VLOOKUP(E1717,Teilnehmer!$B$3:$C$1002,2,0),\"\")","v":""}]
[null,null,null,{"$f":"IFERROR(VLOOKUP(C1718,Teilnehmer!$B$3:$C$1002,2,0),\"\")","v":""},null,{"$f":"IFERROR(VLOOKUP(E1718,Teilnehmer!$B$3:$C$1002,2,0),\"\")","v":""}]
[null,null,null,{"$f":"IFERROR(VLOOKUP(C1719,Teilnehmer!$B$3:$C$1002,2,0),\"\")","v":""},null,{"$f":"IFERROR(VLOOKUP(E1719,Teilnehmer!$B$3:$C$1002,2,0),\"\")","v":""}]
[null,null,null,{"$f":"IFERROR(VLOOKUP(C1720,Teilnehmer!$B$3:$C$1002,2,0),\"\")","v":""},null,{"$f":"IFERROR(VLOOKUP(E1720,Teilnehmer!$B$3:$C$1002,2,0),\"\")","v":""}]
[null,null,null,{"$f":"IFERROR(VLOOKUP(C1721,Teilnehmer!$B$3:$C$1002,2,0),\"\")","v":""},null,{"$f":"IFERROR(VLOOKUP(E1721,Teilnehmer!$B$3:$C$1002,2,0),\"\")","v":""}]
[null,null,null,{"$f":"IFERROR(VLOOKUP(C1722,Teilnehmer!$B$3:$C$1002,2,0),\"\")","v":""},null,{"$f":"IFERROR(VLOOKUP(E1722,Teilnehmer!$B$3:$C$1002,2,0),\"\")","v":""}]
[null,null,null,{"$f":"IFERROR(VLOOKUP(C1723,Teilnehmer!$B$3:$C$1002,2,0),\"\")","v":""},null,{"$f":"IFERROR(VLOOKUP(E1723,Teilnehmer!$B$3:$C$1002,2,0),\"\")","v":""}]
[null,null,null,{"$f":"IFERROR(VLOOKUP(C1724,Teilnehmer!$B$3:$C$1002,2,0),\"\")","v":""},null,{"$f":"IFERROR(VLOOKUP(E1724,Teilnehmer!$B$3:$C$1002,2,0),\"\")","v":""}]
[null,null,null,{"$f":"IFERROR(VLOOKUP(C1725,Teilnehmer!$B$3:$C$1002,2,0),\"\")","v":""},null,{"$f":"IFERROR(VLOOKUP(E1725,Teilnehmer!$B$3:$C$1002,2,0),\"\")","v":""}]
[null,null,null,{"$f":"IFERROR(VLOOKUP(C1726,Teilnehmer!$B$3:$C$1002,2,0),\"\")","v":""},null,{"$f":"IFERROR(VLOOKUP(E1726,Teilnehmer!$B$3:$C$1002,2,0),\"\")","v":""}]
[null,null,null,{"$f":"IFERROR(VLOOKUP(C1727,Teilnehmer!$B$3:$C$1002,2,0),\"\")","v":""},null,{"$f":"IFERROR(VLOOKUP(E1727,Teilnehmer!$B$3:$C$1002,2,0),\"\")","v":""}]
[null,null,null,{"$f":"IFERROR(VLOOKUP(C1728,Teilnehmer!$B$3:$C$1002,2,0),\"\")","v":""},null,{"$f":"IFERROR(VLOOKUP(E1728,Teilnehmer!$B$3:$C$1002,2,0),\"\")","v":""}]
[null,null,null,{"$f":"IFERROR(VLOOKUP(C1729,Teilnehmer!$B$3:$C$1002,2,0),\"\")","v":""},null,{"$f":"IFERROR(VLOOKUP(E1729,Teilnehmer!$B$3:$C$1002,2,0),\"\")","v":""}]
[null,null,null,{"$f":"IFERROR(VLOOKUP(C1730,Teilnehmer!$B$3:$C$1002,2,0),\"\")","v":""},null,{"$f":"IFERROR(VLOOKUP(E1730,Teilnehmer!$B$3:$C$1002,2,0),\"\")","v":""}]
[null,null,null,{"$f":"IFERROR(VLOOKUP(C1731,Teilnehmer!$B$3:$C$1002,2,0),\"\")","v":""},null,{"$f":"IFERROR(VLOOKUP(E1731,Teilnehmer!$B$3:$C$1002,2,0),\"\")","v":""}]
[null,null,null,{"$f":"IFERROR(VLOOKUP(C1732,Teilnehmer!$B$3:$C$1002,2,0),\"\")","v":""},null,{"$f":"IFERROR(VLOOKUP(E1732,Teilnehmer!$B$3:$C$1002,2,0),\"\")","v":""}]
[null,null,null,{"$f":"IFERROR(VLOOKUP(C1733,Teilnehmer!$B$3:$C$1002,2,0),\"\")","v":""},null,{"$f":"IFERROR(VLOOKUP(E1733,Teilnehmer!$B$3:$C$1002,2,0),\"\")","v":""}]
[null,null,null,{"$f":"IFERROR(VLOOKUP(C1734,Teilnehmer!$B$3:$C$1002,2,0),\"\")","v":""},null,{"$f":"IFERROR(VLOOKUP(E1734,Teilnehmer!$B$3:$C$1002,2,0),\"\")","v":""}]
[null,null,null,{"$f":"IFERROR(VLOOKUP(C1735,Teilnehmer!$B$3:$C$1002,2,0),\"\")","v":""},null,{"$f":"IFERROR(VLOOKUP(E1735,Teilnehmer!$B$3:$C$1002,2,0),\"\")","v":""}]
[null,null,null,{"$f":"IFERROR(VLOOKUP(C1736,Teilnehmer!$B$3:$C$1002,2,0),\"\")","v":""},null,{"$f":"IFERROR(VLOOKUP(E1736,Teilnehmer!$B$3:$C$1002,2,0),\"\")","v":""}]
[null,null,null,{"$f":"IFERROR(VLOOKUP(C1737,Teilnehmer!$B$3:$C$1002,2,0),\"\")","v":""},null,{"$f":"IFERROR(VLOOKUP(E1737,Teilnehmer!$B$3:$C$1002,2,0),\"\")","v":""}]
[null,null,null,{"$f":"IFERROR(VLOOKUP(C1738,Teilnehmer!$B$3:$C$1002,2,0),\"\")","v":""},null,{"$f":"IFERROR(VLOOKUP(E1738,Teilnehmer!$B$3:$C$1002,2,0),\"\")","v":""}]
[null,null,null,{"$f":"IFERROR(VLOOKUP(C1739,Teilnehmer!$B$3:$C$1002,2,0),\"\")","v":""},null,{"$f":"IFERROR(VLOOKUP(E1739,Teilnehmer!$B$3:$C$1002,2,0),\"\")","v":""}]
[null,null,null,{"$f":"IFERROR(VLOOKUP(C1740,Teilnehmer!$B$3:$C$1002,2,0),\"\")","v":""},null,{"$f":"IFERROR(VLOOKUP(E1740,Teilnehmer!$B$3:$C$1002,2,0),\"\")","v":""}]
[null,null,null,{"$f":"IFERROR(VLOOKUP(C1741,Teilnehmer!$B$3:$C$1002,2,0),\"\")","v":""},null,{"$f":"IFERROR(VLOOKUP(E1741,Teilnehmer!$B$3:$C$1002,2,0),\"\")","v":""}]
[null,null,null,{"$f":"IFERROR(VLOOKUP(C1742,Teilnehmer!$B$3:$C$1002,2,0),\"\")","v":""},null,{"$f":"IFERROR(VLOOKUP(E1742,Teilnehmer!$B$3:$C$1002,2,0),\"\")","v":""}]
[null,null,null,{"$f":"IFERROR(VLOOKUP(C1743,Teilnehmer!$B$3:$C$1002,2,0),\"\")","v":""},null,{"$f":"IFERROR(VLOOKUP(E1743,Teilnehmer!$B$3:$C$1002,2,0),\"\")","v":""}]
[null,null,null,{"$f":"IFERROR(VLOOKUP(C1744,Teilnehmer!$B$3:$C$1002,2,0),\"\")","v":""},null,{"$f":"IFERROR(VLOOKUP(E1744,Teilnehmer!$B$3:$C$1002,2,0),\"\")","v":""}]
[null,null,null,{"$f":"IFERROR(VLOOKUP(C1745,Teilnehmer!$B$3:$C$1002,2,0),\"\")","v":""},null,{"$f":"IFERROR(VLOOKUP(E1745,Teilnehmer!$B$3:$C$1002,2,0),\"\")","v":""}]
[null,null,null,{"$f":"IFERROR(VLOOKUP(C1746,Teilnehmer!$B$3:$C$1002,2,0),\"\")","v":""},null,{"$f":"IFERROR(VLOOKUP(E1746,Teilnehmer!$B$3:$C$1002,2,0),\"\")","v":""}]
[null,null,null,{"$f":"IFERROR(VLOOKUP(C1747,Teilnehmer!$B$3:$C$1002,2,0),\"\")","v":""},null,{"$f":"IFERROR(VLOOKUP(E1747,Teilnehmer!$B$3:$C$1002,2,0),\"\")","v":""}]
[null,null,null,{"$f":"IFERROR(VLOOKUP(C1748,Teilnehmer!$B$3:$C$1002,2,0),\"\")","v":""},null,{"$f":"IFERROR(VLOOKUP(E1748,Teilnehmer!$B$3:$C$1002,2,0),\"\")","v":""}]
[null,null,null,{"$f":"IFERROR(VLOOKUP(C1749,Teilnehmer!$B$3:$C$1002,2,0),\"\")","v":""},null,{"$f":"IFERROR(VLOOKUP(E1749,Teilnehmer!$B$3:$C$1002,2,0),\"\")","v":""}]
[null,null,null,{"$f":"IFERROR(VLOOKUP(C1750,Teilnehmer!$B$3:$C$1002,2,0),\"\")","v":""},null,{"$f":"IFERROR(VLOOKUP(E1750,Teilnehmer!$B$3:$C$1002,2,0),\"\")","v":""}]
[null,null,null,{"$f":"IFERROR(VLOOKUP(C1751,Teilnehmer!$B$3:$C$1002,2,0),\"\")","v":""},null,{"$f":"IFERROR(VLOOKUP(E1751,Teilnehmer!$B$3:$C$1002,2,0),\"\")","v":""}]
[null,null,null,{"$f":"IFERROR(VLOOKUP(C1752,Teilnehmer!$B$3:$C$1002,2,0),\"\")","v":""},null,{"$f":"IFERROR(VLOOKUP(E1752,Teilnehmer!$B$3:$C$1002,2,0),\"\")","v":""}]
[null,null,null,{"$f":"IFERROR(VLOOKUP(C1753,Teilnehmer!$B$3:$C$1002,2,0),\"\")","v":""},null,{"$f":"IFERROR(VLOOKUP(E1753,Teilnehmer!$B$3:$C$1002,2,0),\"\")","v":""}]
[null,null,null,{"$f":"IFERROR(VLOOKUP(C1754,Teilnehmer!$B$3:$C$1002,2,0),\"\")","v":""},null,{"$f":"IFERROR(VLOOKUP(E1754,Teilnehmer!$B$3:$C$1002,2,0),\"\")","v":""}]
[null,null,null,{"$f":"IFERROR(VLOOKUP(C1755,Teilnehmer!$B$3:$C$1002,2,0),\"\")","v":""},null,{"$f":"IFERROR(VLOOKUP(E1755,Teilnehmer!$B$3:$C$1002,2,0),\"\")","v":""}]
[null,null,null,{"$f":"IFERROR(VLOOKUP(C1756,Teilnehmer!$B$3:$C$1002,2,0),\"\")","v":""},null,{"$f":"IFERROR(VLOOKUP(E1756,Teilnehmer!$B$3:$C$1002,2,0),\"\")","v":""}]
[null,null,null,{"$f":"IFERROR(VLOOKUP(C1757,Teilnehmer!$B$3:$C$1002,2,0),\"\")","v":""},null,{"$f":"IFERROR(VLOOKUP(E1757,Teilnehmer!$B$3:$C$1002,2,0),\"\")","v":""}]
[null,null,null,{"$f":"IFERROR(VLOOKUP(C1758,Teilnehmer!$B$3:$C$1002,2,0),\"\")","v":""},null,{"$f":"IFERROR(VLOOKUP(E1758,Teilnehmer!$B$3:$C$1002,2,0),\"\")","v":""}]
[null,null,null,{"$f":"IFERROR(VLOOKUP(C1759,Teilnehmer!$B$3:$C$1002,2,0),\"\")","v":""},null,{"$f":"IFERROR(VLOOKUP(E1759,Teilnehmer!$B$3:$C$1002,2,0),\"\")","v":""}]
[null,null,null,{"$f":"IFERROR(VLOOKUP(C1760,Teilnehmer!$B$3:$C$1002,2,0),\"\")","v":""},null,{"$f":"IFERROR(VLOOKUP(E1760,Teilnehmer!$B$3:$C$1002,2,0),\"\")","v":""}]
[null,null,null,{"$f":"IFERROR(VLOOKUP(C1761,Teilnehmer!$B$3:$C$1002,2,0),\"\")","v":""},null,{"$f":"IFERROR(VLOOKUP(E1761,Teilnehmer!$B$3:$C$1002,2,0),\"\")","v":""}]
[null,null,null,{"$f":"IFERROR(VLOOKUP(C1762,Teilnehmer!$B$3:$C$1002,2,0),\"\")","v":""},null,{"$f":"IFERROR(VLOOKUP(E1762,Teilnehmer!$B$3:$C$1002,2,0),\"\")","v":""}]
[null,null,null,{"$f":"IFERROR(VLOOKUP(C1763,Teilnehmer!$B$3:$C$1002,2,0),\"\")","v":""},null,{"$f":"IFERROR(VLOOKUP(E1763,Teilnehmer!$B$3:$C$1002,2,0),\"\")","v":""}]
[null,null,null,{"$f":"IFERROR(VLOOKUP(C1764,Teilnehmer!$B$3:$C$1002,2,0),\"\")","v":""},null,{"$f":"IFERROR(VLOOKUP(E1764,Teilnehmer!$B$3:$C$1002,2,0),\"\")","v":""}]
[null,null,null,{"$f":"IFERROR(VLOOKUP(C1765,Teilnehmer!$B$3:$C$1002,2,0),\"\")","v":""},null,{"$f":"IFERROR(VLOOKUP(E1765,Teilnehmer!$B$3:$C$1002,2,0),\"\")","v":""}]
[null,null,null,{"$f":"IFERROR(VLOOKUP(C1766,Teilnehmer!$B$3:$C$1002,2,0),\"\")","v":""},null,{"$f":"IFERROR(VLOOKUP(E1766,Teilnehmer!$B$3:$C$1002,2,0),\"\")","v":""}]
[null,null,null,{"$f":"IFERROR(VLOOKUP(C1767,Teilnehmer!$B$3:$C$1002,2,0),\"\")","v":""},null,{"$f":"IFERROR(VLOOKUP(E1767,Teilnehmer!$B$3:$C$1002,2,0),\"\")","v":""}]
[null,null,null,{"$f":"IFERROR(VLOOKUP(C1768,Teilnehmer!$B$3:$C$1002,2,0),\"\")","v":""},null,{"$f":"IFERROR(VLOOKUP(E1768,Teilnehmer!$B$3:$C$1002,2,0),\"\")","v":""}]
[null,null,null,{"$f":"IFERROR(VLOOKUP(C1769,Teilnehmer!$B$3:$C$1002,2,0),\"\")","v":""},null,{"$f":"IFERROR(VLOOKUP(E1769,Teilnehmer!$B$3:$C$1002,2,0),\"\")","v":""}]
[null,null,null,{"$f":"IFERROR(VLOOKUP(C1770,Teilnehmer!$B$3:$C$1002,2,0),\"\")","v":""},null,{"$f":"IFERROR(VLOOKUP(E1770,Teilnehmer!$B$3:$C$1002,2,0),\"\")","v":""}]
[null,null,null,{"$f":"IFERROR(VLOOKUP(C1771,Teilnehmer!$B$3:$C$1002,2,0),\"\")","v":""},null,{"$f":"IFERROR(VLOOKUP(E1771,Teilnehmer!$B$3:$C$1002,2,0),\"\")","v":""}]
[null,null,null,{"$f":"IFERROR(VLOOKUP(C1772,Teilnehmer!$B$3:$C$1002,2,0),\"\")","v":""},null,{"$f":"IFERROR(VLOOKUP(E1772,Teilnehmer!$B$3:$C$1002,2,0),\"\")","v":""}]
[null,null,null,{"$f":"IFERROR(VLOOKUP(C1773,Teilnehmer!$B$3:$C$1002,2,0),\"\")","v":""},null,{"$f":"IFERROR(VLOOKUP(E1773,Teilnehmer!$B$3:$C$1002,2,0),\"\")","v":""}]
[null,null,null,{"$f":"IFERROR(VLOOKUP(C1774,Teilnehmer!$B$3:$C$1002,2,0),\"\")","v":""},null,{"$f":"IFERROR(VLOOKUP(E1774,Teilnehmer!$B$3:$C$1002,2,0),\"\")","v":""}]
[null,null,null,{"$f":"IFERROR(VLOOKUP(C1775,Teilnehmer!$B$3:$C$1002,2,0),\"\")","v":""},null,{"$f":"IFERROR(VLOOKUP(E1775,Teilnehmer!$B$3:$C$1002,2,0),\"\")","v":""}]
[null,null,null,{"$f":"IFERROR(VLOOKUP(C1776,Teilnehmer!$B$3:$C$1002,2,0),\"\")","v":""},null,{"$f":"IFERROR(VLOOKUP(E1776,Teilnehmer!$B$3:$C$1002,2,0),\"\")","v":""}]
[null,null,null,{"$f":"IFERROR(VLOOKUP(C1777,Teilnehmer!$B$3:$C$1002,2,0),\"\")","v":""},null,{"$f":"IFERROR(VLOOKUP(E1777,Teilnehmer!$B$3:$C$1002,2,0),\"\")","v":""}]
[null,null,null,{"$f":"IFERROR(VLOOKUP(C1778,Teilnehmer!$B$3:$C$1002,2,0),\"\")","v":""},null,{"$f":"IFERROR(VLOOKUP(E1778,Teilnehmer!$B$3:$C$1002,2,0),\"\")","v":""}]
[null,null,null,{"$f":"IFERROR(VLOOKUP(C1779,Teilnehmer!$B$3:$C$1002,2,0),\"\")","v":""},null,{"$f":"IFERROR(VLOOKUP(E1779,Teilnehmer!$B$3:$C$1002,2,0),\"\")","v":""}]
[null,null,null,{"$f":"IFERROR(VLOOKUP(C1780,Teilnehmer!$B$3:$C$1002,2,0),\"\")","v":""},null,{"$f":"IFERROR(VLOOKUP(E1780,Teilnehmer!$B$3:$C$1002,2,0),\"\")","v":""}]
[null,null,null,{"$f":"IFERROR(VLOOKUP(C1781,Teilnehmer!$B$3:$C$1002,2,0),\"\")","v":""},null,{"$f":"IFERROR(VLOOKUP(E1781,Teilnehmer!$B$3:$C$1002,2,0),\"\")","v":""}]
[null,null,null,{"$f":"IFERROR(VLOOKUP(C1782,Teilnehmer!$B$3:$C$1002,2,0),\"\")","v":""},null,{"$f":"IFERROR(VLOOKUP(E1782,Teilnehmer!$B$3:$C$1002,2,0),\"\")","v":""}]
[null,null,null,{"$f":"IFERROR(VLOOKUP(C1783,Teilnehmer!$B$3:$C$1002,2,0),\"\")","v":""},null,{"$f":"IFERROR(VLOOKUP(E1783,Teilnehmer!$B$3:$C$1002,2,0),\"\")","v":""}]
[null,null,null,{"$f":"IFERROR(VLOOKUP(C1784,Teilnehmer!$B$3:$C$1002,2,0),\"\")","v":""},null,{"$f":"IFERROR(VLOOKUP(E1784,Teilnehmer!$B$3:$C$1002,2,0),\"\")","v":""}]
[null,null,null,{"$f":"IFERROR(VLOOKUP(C1785,Teilnehmer!$B$3:$C$1002,2,0),\"\")","v":""},null,{"$f":"IFERROR(VLOOKUP(E1785,Teilnehmer!$B$3:$C$1002,2,0),\"\")","v":""}]
[null,null,null,{"$f":"IFERROR(VLOOKUP(C1786,Teilnehmer!$B$3:$C$1002,2,0),\"\")","v":""},null,{"$f":"IFERROR(VLOOKUP(E1786,Teilnehmer!$B$3:$C$1002,2,0),\"\")","v":""}]
[null,null,null,{"$f":"IFERROR(VLOOKUP(C1787,Teilnehmer!$B$3:$C$1002,2,0),\"\")","v":""},null,{"$f":"IFERROR(VLOOKUP(E1787,Teilnehmer!$B$3:$C$1002,2,0),\"\")","v":""}]
[null,null,null,{"$f":"IFERROR(VLOOKUP(C1788,Teilnehmer!$B$3:$C$1002,2,0),\"\")","v":""},null,{"$f":"IFERROR(VLOOKUP(E1788,Teilnehmer!$B$3:$C$1002,2,0),\"\")","v":""}]
[null,null,null,{"$f":"IFERROR(VLOOKUP(C1789,Teilnehmer!$B$3:$C$1002,2,0),\"\")","v":""},null,{"$f":"IFERROR(VLOOKUP(E1789,Teilnehmer!$B$3:$C$1002,2,0),\"\")","v":""}]
[null,null,null,{"$f":"IFERROR(VLOOKUP(C1790,Teilnehmer!$B$3:$C$1002,2,0),\"\")","v":""},null,{"$f":"IFERROR(VLOOKUP(E1790,Teilnehmer!$B$3:$C$1002,2,0),\"\")","v":""}]
[null,null,null,{"$f":"IFERROR(VLOOKUP(C1791,Teilnehmer!$B$3:$C$1002,2,0),\"\")","v":""},null,{"$f":"IFERROR(VLOOKUP(E1791,Teilnehmer!$B$3:$C$1002,2,0),\"\")","v":""}]
[null,null,null,{"$f":"IFERROR(VLOOKUP(C1792,Teilnehmer!$B$3:$C$1002,2,0),\"\")","v":""},null,{"$f":"IFERROR(VLOOKUP(E1792,Teilnehmer!$B$3:$C$1002,2,0),\"\")","v":""}]
[null,null,null,{"$f":"IFERROR(VLOOKUP(C1793,Teilnehmer!$B$3:$C$1002,2,0),\"\")","v":""},null,{"$f":"IFERROR(VLOOKUP(E1793,Teilnehmer!$B$3:$C$1002,2,0),\"\")","v":""}]
[null,null,null,{"$f":"IFERROR(VLOOKUP(C1794,Teilnehmer!$B$3:$C$1002,2,0),\"\")","v":""},null,{"$f":"IFERROR(VLOOKUP(E1794,Teilnehmer!$B$3:$C$1002,2,0),\"\")","v":""}]
[null,null,null,{"$f":"IFERROR(VLOOKUP(C1795,Teilnehmer!$B$3:$C$1002,2,0),\"\")","v":""},null,{"$f":"IFERROR(VLOOKUP(E1795,Teilnehmer!$B$3:$C$1002,2,0),\"\")","v":""}]
[null,null,null,{"$f":"IFERROR(VLOOKUP(C1796,Teilnehmer!$B$3:$C$1002,2,0),\"\")","v":""},null,{"$f":"IFERROR(VLOOKUP(E1796,Teilnehmer!$B$3:$C$1002,2,0),\"\")","v":""}]
[null,null,null,{"$f":"IFERROR(VLOOKUP(C1797,Teilnehmer!$B$3:$C$1002,2,0),\"\")","v":""},null,{"$f":"IFERROR(VLOOKUP(E1797,Teilnehmer!$B$3:$C$1002,2,0),\"\")","v":""}]
[null,null,null,{"$f":"IFERROR(VLOOKUP(C1798,Teilnehmer!$B$3:$C$1002,2,0),\"\")","v":""},null,{"$f":"IFERROR(VLOOKUP(E1798,Teilnehmer!$B$3:$C$1002,2,0),\"\")","v":""}]
[null,null,null,{"$f":"IFERROR(VLOOKUP(C1799,Teilnehmer!$B$3:$C$1002,2,0),\"\")","v":""},null,{"$f":"IFERROR(VLOOKUP(E1799,Teilnehmer!$B$3:$C$1002,2,0),\"\")","v":""}]
[null,null,null,{"$f":"IFERROR(VLOOKUP(C1800,Teilnehmer!$B$3:$C$1002,2,0),\"\")","v":""},null,{"$f":"IFERROR(VLOOKUP(E1800,Teilnehmer!$B$3:$C$1002,2,0),\"\")","v":""}]
[null,null,null,{"$f":"IFERROR(VLOOKUP(C1801,Teilnehmer!$B$3:$C$1002,2,0),\"\")","v":""},null,{"$f":"IFERROR(VLOOKUP(E1801,Teilnehmer!$B$3:$C$1002,2,0),\"\")","v":""}]
[null,null,null,{"$f":"IFERROR(VLOOKUP(C1802,Teilnehmer!$B$3:$C$1002,2,0),\"\")","v":""},null,{"$f":"IFERROR(VLOOKUP(E1802,Teilnehmer!$B$3:$C$1002,2,0),\"\")","v":""}]
[null,null,null,{"$f":"IFERROR(VLOOKUP(C1803,Teilnehmer!$B$3:$C$1002,2,0),\"\")","v":""},null,{"$f":"IFERROR(VLOOKUP(E1803,Teilnehmer!$B$3:$C$1002,2,0),\"\")","v":""}]
[null,null,null,{"$f":"IFERROR(VLOOKUP(C1804,Teilnehmer!$B$3:$C$1002,2,0),\"\")","v":""},null,{"$f":"IFERROR(VLOOKUP(E1804,Teilnehmer!$B$3:$C$1002,2,0),\"\")","v":""}]
[null,null,null,{"$f":"IFERROR(VLOOKUP(C1805,Teilnehmer!$B$3:$C$1002,2,0),\"\")","v":""},null,{"$f":"IFERROR(VLOOKUP(E1805,Teilnehmer!$B$3:$C$1002,2,0),\"\")","v":""}]
[null,null,null,{"$f":"IFERROR(VLOOKUP(C1806,Teilnehmer!$B$3:$C$1002,2,0),\"\")","v":""},null,{"$f":"IFERROR(VLOOKUP(E1806,Teilnehmer!$B$3:$C$1002,2,0),\"\")","v":""}]
[null,null,null,{"$f":"IFERROR(VLOOKUP(C1807,Teilnehmer!$B$3:$C$1002,2,0),\"\")","v":""},null,{"$f":"IFERROR(VLOOKUP(E1807,Teilnehmer!$B$3:$C$1002,2,0),\"\")","v":""}]
[null,null,null,{"$f":"IFERROR(VLOOKUP(C1808,Teilnehmer!$B$3:$C$1002,2,0),\"\")","v":""},null,{"$f":"IFERROR(VLOOKUP(E1808,Teilnehmer!$B$3:$C$1002,2,0),\"\")","v":""}]
[null,null,null,{"$f":"IFERROR(VLOOKUP(C1809,Teilnehmer!$B$3:$C$1002,2,0),\"\")","v":""},null,{"$f":"IFERROR(VLOOKUP(E1809,Teilnehmer!$B$3:$C$1002,2,0),\"\")","v":""}]
[null,null,null,{"$f":"IFERROR(VLOOKUP(C1810,Teilnehmer!$B$3:$C$1002,2,0),\"\")","v":""},null,{"$f":"IFERROR(VLOOKUP(E1810,Teilnehmer!$B$3:$C$1002,2,0),\"\")","v":""}]
[null,null,null,{"$f":"IFERROR(VLOOKUP(C1811,Teilnehmer!$B$3:$C$1002,2,0),\"\")","v":""},null,{"$f":"IFERROR(VLOOKUP(E1811,Teilnehmer!$B$3:$C$1002,2,0),\"\")","v":""}]
[null,null,null,{"$f":"IFERROR(VLOOKUP(C1812,Teilnehmer!$B$3:$C$1002,2,0),\"\")","v":""},null,{"$f":"IFERROR(VLOOKUP(E1812,Teilnehmer!$B$3:$C$1002,2,0),\"\")","v":""}]
[null,null,null,{"$f":"IFERROR(VLOOKUP(C1813,Teilnehmer!$B$3:$C$1002,2,0),\"\")","v":""},null,{"$f":"IFERROR(VLOOKUP(E1813,Teilnehmer!$B$3:$C$1002,2,0),\"\")","v":""}]
[null,null,null,{"$f":"IFERROR(VLOOKUP(C1814,Teilnehmer!$B$3:$C$1002,2,0),\"\")","v":""},null,{"$f":"IFERROR(VLOOKUP(E1814,Teilnehmer!$B$3:$C$1002,2,0),\"\")","v":""}]
[null,null,null,{"$f":"IFERROR(VLOOKUP(C1815,Teilnehmer!$B$3:$C$1002,2,0),\"\")","v":""},null,{"$f":"IFERROR(VLOOKUP(E1815,Teilnehmer!$B$3:$C$1002,2,0),\"\")","v":""}]
[null,null,null,{"$f":"IFERROR(VLOOKUP(C1816,Teilnehmer!$B$3:$C$1002,2,0),\"\")","v":""},null,{"$f":"IFERROR(VLOOKUP(E1816,Teilnehmer!$B$3:$C$1002,2,0),\"\")","v":""}]
[null,null,null,{"$f":"IFERROR(VLOOKUP(C1817,Teilnehmer!$B$3:$C$1002,2,0),\"\")","v":""},null,{"$f":"IFERROR(VLOOKUP(E1817,Teilnehmer!$B$3:$C$1002,2,0),\"\")","v":""}]
[null,null,null,{"$f":"IFERROR(VLOOKUP(C1818,Teilnehmer!$B$3:$C$1002,2,0),\"\")","v":""},null,{"$f":"IFERROR(VLOOKUP(E1818,Teilnehmer!$B$3:$C$1002,2,0),\"\")","v":""}]
[null,null,null,{"$f":"IFERROR(VLOOKUP(C1819,Teilnehmer!$B$3:$C$1002,2,0),\"\")","v":""},null,{"$f":"IFERROR(VLOOKUP(E1819,Teilnehmer!$B$3:$C$1002,2,0),\"\")","v":""}]
[null,null,null,{"$f":"IFERROR(VLOOKUP(C1820,Teilnehmer!$B$3:$C$1002,2,0),\"\")","v":""},null,{"$f":"IFERROR(VLOOKUP(E1820,Teilnehmer!$B$3:$C$1002,2,0),\"\")","v":""}]
[null,null,null,{"$f":"IFERROR(VLOOKUP(C1821,Teilnehmer!$B$3:$C$1002,2,0),\"\")","v":""},null,{"$f":"IFERROR(VLOOKUP(E1821,Teilnehmer!$B$3:$C$1002,2,0),\"\")","v":""}]
[null,null,null,{"$f":"IFERROR(VLOOKUP(C1822,Teilnehmer!$B$3:$C$1002,2,0),\"\")","v":""},null,{"$f":"IFERROR(VLOOKUP(E1822,Teilnehmer!$B$3:$C$1002,2,0),\"\")","v":""}]
[null,null,null,{"$f":"IFERROR(VLOOKUP(C1823,Teilnehmer!$B$3:$C$1002,2,0),\"\")","v":""},null,{"$f":"IFERROR(VLOOKUP(E1823,Teilnehmer!$B$3:$C$1002,2,0),\"\")","v":""}]
[null,null,null,{"$f":"IFERROR(VLOOKUP(C1824,Teilnehmer!$B$3:$C$1002,2,0),\"\")","v":""},null,{"$f":"IFERROR(VLOOKUP(E1824,Teilnehmer!$B$3:$C$1002,2,0),\"\")","v":""}]
[null,null,null,{"$f":"IFERROR(VLOOKUP(C1825,Teilnehmer!$B$3:$C$1002,2,0),\"\")","v":""},null,{"$f":"IFERROR(VLOOKUP(E1825,Teilnehmer!$B$3:$C$1002,2,0),\"\")","v":""}]
[null,null,null,{"$f":"IFERROR(VLOOKUP(C1826,Teilnehmer!$B$3:$C$1002,2,0),\"\")","v":""},null,{"$f":"IFERROR(VLOOKUP(E1826,Teilnehmer!$B$3:$C$1002,2,0),\"\")","v":""}]
[null,null,null,{"$f":"IFERROR(VLOOKUP(C1827,Teilnehmer!$B$3:$C$1002,2,0),\"\")","v":""},null,{"$f":"IFERROR(VLOOKUP(E1827,Teilnehmer!$B$3:$C$1002,2,0),\"\")","v":""}]
[null,null,null,{"$f":"IFERROR(VLOOKUP(C1828,Teilnehmer!$B$3:$C$1002,2,0),\"\")","v":""},null,{"$f":"IFERROR(VLOOKUP(E1828,Teilnehmer!$B$3:$C$1002,2,0),\"\")","v":""}]
[null,null,null,{"$f":"IFERROR(VLOOKUP(C1829,Teilnehmer!$B$3:$C$1002,2,0),\"\")","v":""},null,{"$f":"IFERROR(VLOOKUP(E1829,Teilnehmer!$B$3:$C$1002,2,0),\"\")","v":""}]
[null,null,null,{"$f":"IFERROR(VLOOKUP(C1830,Teilnehmer!$B$3:$C$1002,2,0),\"\")","v":""},null,{"$f":"IFERROR(VLOOKUP(E1830,Teilnehmer!$B$3:$C$1002,2,0),\"\")","v":""}]
[null,null,null,{"$f":"IFERROR(VLOOKUP(C1831,Teilnehmer!$B$3:$C$1002,2,0),\"\")","v":""},null,{"$f":"IFERROR(VLOOKUP(E1831,Teilnehmer!$B$3:$C$1002,2,0),\"\")","v":""}]
[null,null,null,{"$f":"IFERROR(VLOOKUP(C1832,Teilnehmer!$B$3:$C$1002,2,0),\"\")","v":""},null,{"$f":"IFERROR(VLOOKUP(E1832,Teilnehmer!$B$3:$C$1002,2,0),\"\")","v":""}]
[null,null,null,{"$f":"IFERROR(VLOOKUP(C1833,Teilnehmer!$B$3:$C$1002,2,0),\"\")","v":""},null,{"$f":"IFERROR(VLOOKUP(E1833,Teilnehmer!$B$3:$C$1002,2,0),\"\")","v":""}]
[null,null,null,{"$f":"IFERROR(VLOOKUP(C1834,Teilnehmer!$B$3:$C$1002,2,0),\"\")","v":""},null,{"$f":"IFERROR(VLOOKUP(E1834,Teilnehmer!$B$3:$C$1002,2,0),\"\")","v":""}]
[null,null,null,{"$f":"IFERROR(VLOOKUP(C1835,Teilnehmer!$B$3:$C$1002,2,0),\"\")","v":""},null,{"$f":"IFERROR(VLOOKUP(E1835,Teilnehmer!$B$3:$C$1002,2,0),\"\")","v":""}]
[null,null,null,{"$f":"IFERROR(VLOOKUP(C1836,Teilnehmer!$B$3:$C$1002,2,0),\"\")","v":""},null,{"$f":"IFERROR(VLOOKUP(E1836,Teilnehmer!$B$3:$C$1002,2,0),\"\")","v":""}]
[null,null,null,{"$f":"IFERROR(VLOOKUP(C1837,Teilnehmer!$B$3:$C$1002,2,0),\"\")","v":""},null,{"$f":"IFERROR(VLOOKUP(E1837,Teilnehmer!$B$3:$C$1002,2,0),\"\")","v":""}]
[null,null,null,{"$f":"IFERROR(VLOOKUP(C1838,Teilnehmer!$B$3:$C$1002,2,0),\"\")","v":""},null,{"$f":"IFERROR(VLOOKUP(E1838,Teilnehmer!$B$3:$C$1002,2,0),\"\")","v":""}]
[null,null,null,{"$f":"IFERROR(VLOOKUP(C1839,Teilnehmer!$B$3:$C$1002,2,0),\"\")","v":""},null,{"$f":"IFERROR(VLOOKUP(E1839,Teilnehmer!$B$3:$C$1002,2,0),\"\")","v":""}]
[null,null,null,{"$f":"IFERROR(VLOOKUP(C1840,Teilnehmer!$B$3:$C$1002,2,0),\"\")","v":""},null,{"$f":"IFERROR(VLOOKUP(E1840,Teilnehmer!$B$3:$C$1002,2,0),\"\")","v":""}]
[null,null,null,{"$f":"IFERROR(VLOOKUP(C1841,Teilnehmer!$B$3:$C$1002,2,0),\"\")","v":""},null,{"$f":"IFERROR(VLOOKUP(E1841,Teilnehmer!$B$3:$C$1002,2,0),\"\")","v":""}]
[null,null,null,{"$f":"IFERROR(VLOOKUP(C1842,Teilnehmer!$B$3:$C$1002,2,0),\"\")","v":""},null,{"$f":"IFERROR(VLOOKUP(E1842,Teilnehmer!$B$3:$C$1002,2,0),\"\")","v":""}]
[null,null,null,{"$f":"IFERROR(VLOOKUP(C1843,Teilnehmer!$B$3:$C$1002,2,0),\"\")","v":""},null,{"$f":"IFERROR(VLOOKUP(E1843,Teilnehmer!$B$3:$C$1002,2,0),\"\")","v":""}]
[null,null,null,{"$f":"IFERROR(VLOOKUP(C1844,Teilnehmer!$B$3:$C$1002,2,0),\"\")","v":""},null,{"$f":"IFERROR(VLOOKUP(E1844,Teilnehmer!$B$3:$C$1002,2,0),\"\")","v":""}]
[null,null,null,{"$f":"IFERROR(VLOOKUP(C1845,Teilnehmer!$B$3:$C$1002,2,0),\"\")","v":""},null,{"$f":"IFERROR(VLOOKUP(E1845,Teilnehmer!$B$3:$C$1002,2,0),\"\")","v":""}]
[null,null,null,{"$f":"IFERROR(VLOOKUP(C1846,Teilnehmer!$B$3:$C$1002,2,0),\"\")","v":""},null,{"$f":"IFERROR(VLOOKUP(E1846,Teilnehmer!$B$3:$C$1002,2,0),\"\")","v":""}]
[null,null,null,{"$f":"IFERROR(VLOOKUP(C1847,Teilnehmer!$B$3:$C$1002,2,0),\"\")","v":""},null,{"$f":"IFERROR(VLOOKUP(E1847,Teilnehmer!$B$3:$C$1002,2,0),\"\")","v":""}]
[null,null,null,{"$f":"IFERROR(VLOOKUP(C1848,Teilnehmer!$B$3:$C$1002,2,0),\"\")","v":""},null,{"$f":"IFERROR(VLOOKUP(E1848,Teilnehmer!$B$3:$C$1002,2,0),\"\")","v":""}]
[null,null,null,{"$f":"IFERROR(VLOOKUP(C1849,Teilnehmer!$B$3:$C$1002,2,0),\"\")","v":""},null,{"$f":"IFERROR(VLOOKUP(E1849,Teilnehmer!$B$3:$C$1002,2,0),\"\")","v":""}]
[null,null,null,{"$f":"IFERROR(VLOOKUP(C1850,Teilnehmer!$B$3:$C$1002,2,0),\"\")","v":""},null,{"$f":"IFERROR(VLOOKUP(E1850,Teilnehmer!$B$3:$C$1002,2,0),\"\")","v":""}]
[null,null,null,{"$f":"IFERROR(VLOOKUP(C1851,Teilnehmer!$B$3:$C$1002,2,0),\"\")","v":""},null,{"$f":"IFERROR(VLOOKUP(E1851,Teilnehmer!$B$3:$C$1002,2,0),\"\")","v":""}]
[null,null,null,{"$f":"IFERROR(VLOOKUP(C1852,Teilnehmer!$B$3:$C$1002,2,0),\"\")","v":""},null,{"$f":"IFERROR(VLOOKUP(E1852,Teilnehmer!$B$3:$C$1002,2,0),\"\")","v":""}]
[null,null,null,{"$f":"IFERROR(VLOOKUP(C1853,Teilnehmer!$B$3:$C$1002,2,0),\"\")","v":""},null,{"$f":"IFERROR(VLOOKUP(E1853,Teilnehmer!$B$3:$C$1002,2,0),\"\")","v":""}]
[null,null,null,{"$f":"IFERROR(VLOOKUP(C1854,Teilnehmer!$B$3:$C$1002,2,0),\"\")","v":""},null,{"$f":"IFERROR(VLOOKUP(E1854,Teilnehmer!$B$3:$C$1002,2,0),\"\")","v":""}]
[null,null,null,{"$f":"IFERROR(VLOOKUP(C1855,Teilnehmer!$B$3:$C$1002,2,0),\"\")","v":""},null,{"$f":"IFERROR(VLOOKUP(E1855,Teilnehmer!$B$3:$C$1002,2,0),\"\")","v":""}]
[null,null,null,{"$f":"IFERROR(VLOOKUP(C1856,Teilnehmer!$B$3:$C$1002,2,0),\"\")","v":""},null,{"$f":"IFERROR(VLOOKUP(E1856,Teilnehmer!$B$3:$C$1002,2,0),\"\")","v":""}]
[null,null,null,{"$f":"IFERROR(VLOOKUP(C1857,Teilnehmer!$B$3:$C$1002,2,0),\"\")","v":""},null,{"$f":"IFERROR(VLOOKUP(E1857,Teilnehmer!$B$3:$C$1002,2,0),\"\")","v":""}]
[null,null,null,{"$f":"IFERROR(VLOOKUP(C1858,Teilnehmer!$B$3:$C$1002,2,0),\"\")","v":""},null,{"$f":"IFERROR(VLOOKUP(E1858,Teilnehmer!$B$3:$C$1002,2,0),\"\")","v":""}]
[null,null,null,{"$f":"IFERROR(VLOOKUP(C1859,Teilnehmer!$B$3:$C$1002,2,0),\"\")","v":""},null,{"$f":"IFERROR(VLOOKUP(E1859,Teilnehmer!$B$3:$C$1002,2,0),\"\")","v":""}]
[null,null,null,{"$f":"IFERROR(VLOOKUP(C1860,Teilnehmer!$B$3:$C$1002,2,0),\"\")","v":""},null,{"$f":"IFERROR(VLOOKUP(E1860,Teilnehmer!$B$3:$C$1002,2,0),\"\")","v":""}]
[null,null,null,{"$f":"IFERROR(VLOOKUP(C1861,Teilnehmer!$B$3:$C$1002,2,0),\"\")","v":""},null,{"$f":"IFERROR(VLOOKUP(E1861,Teilnehmer!$B$3:$C$1002,2,0),\"\")","v":""}]
[null,null,null,{"$f":"IFERROR(VLOOKUP(C1862,Teilnehmer!$B$3:$C$1002,2,0),\"\")","v":""},null,{"$f":"IFERROR(VLOOKUP(E1862,Teilnehmer!$B$3:$C$1002,2,0),\"\")","v":""}]
[null,null,null,{"$f":"IFERROR(VLOOKUP(C1863,Teilnehmer!$B$3:$C$1002,2,0),\"\")","v":""},null,{"$f":"IFERROR(VLOOKUP(E1863,Teilnehmer!$B$3:$C$1002,2,0),\"\")","v":""}]
[null,null,null,{"$f":"IFERROR(VLOOKUP(C1864,Teilnehmer!$B$3:$C$1002,2,0),\"\")","v":""},null,{"$f":"IFERROR(VLOOKUP(E1864,Teilnehmer!$B$3:$C$1002,2,0),\"\")","v":""}]
[null,null,null,{"$f":"IFERROR(VLOOKUP(C1865,Teilnehmer!$B$3:$C$1002,2,0),\"\")","v":""},null,{"$f":"IFERROR(VLOOKUP(E1865,Teilnehmer!$B$3:$C$1002,2,0),\"\")","v":""}]
[null,null,null,{"$f":"IFERROR(VLOOKUP(C1866,Teilnehmer!$B$3:$C$1002,2,0),\"\")","v":""},null,{"$f":"IFERROR(VLOOKUP(E1866,Teilnehmer!$B$3:$C$1002,2,0),\"\")","v":""}]
[null,null,null,{"$f":"IFERROR(VLOOKUP(C1867,Teilnehmer!$B$3:$C$1002,2,0),\"\")","v":""},null,{"$f":"IFERROR(VLOOKUP(E1867,Teilnehmer!$B$3:$C$1002,2,0),\"\")","v":""}]
[null,null,null,{"$f":"IFERROR(VLOOKUP(C1868,Teilnehmer!$B$3:$C$1002,2,0),\"\")","v":""},null,{"$f":"IFERROR(VLOOKUP(E1868,Teilnehmer!$B$3:$C$1002,2,0),\"\")","v":""}]
[null,null,null,{"$f":"IFERROR(VLOOKUP(C1869,Teilnehmer!$B$3:$C$1002,2,0),\"\")","v":""},null,{"$f":"IFERROR(VLOOKUP(E1869,Teilnehmer!$B$3:$C$1002,2,0),\"\")","v":""}]
[null,null,null,{"$f":"IFERROR(VLOOKUP(C1870,Teilnehmer!$B$3:$C$1002,2,0),\"\")","v":""},null,{"$f":"IFERROR(VLOOKUP(E1870,Teilnehmer!$B$3:$C$1002,2,0),\"\")","v":""}]
[null,null,null,{"$f":"IFERROR(VLOOKUP(C1871,Teilnehmer!$B$3:$C$1002,2,0),\"\")","v":""},null,{"$f":"IFERROR(VLOOKUP(E1871,Teilnehmer!$B$3:$C$1002,2,0),\"\")","v":""}]
[null,null,null,{"$f":"IFERROR(VLOOKUP(C1872,Teilnehmer!$B$3:$C$1002,2,0),\"\")","v":""},null,{"$f":"IFERROR(VLOOKUP(E1872,Teilnehmer!$B$3:$C$1002,2,0),\"\")","v":""}]
[null,null,null,{"$f":"IFERROR(VLOOKUP(C1873,Teilnehmer!$B$3:$C$1002,2,0),\"\")","v":""},null,{"$f":"IFERROR(VLOOKUP(E1873,Teilnehmer!$B$3:$C$1002,2,0),\"\")","v":""}]
[null,null,null,{"$f":"IFERROR(VLOOKUP(C1874,Teilnehmer!$B$3:$C$1002,2,0),\"\")","v":""},null,{"$f":"IFERROR(VLOOKUP(E1874,Teilnehmer!$B$3:$C$1002,2,0),\"\")","v":""}]
[null,null,null,{"$f":"IFERROR(VLOOKUP(C1875,Teilnehmer!$B$3:$C$1002,2,0),\"\")","v":""},null,{"$f":"IFERROR(VLOOKUP(E1875,Teilnehmer!$B$3:$C$1002,2,0),\"\")","v":""}]
[null,null,null,{"$f":"IFERROR(VLOOKUP(C1876,Teilnehmer!$B$3:$C$1002,2,0),\"\")","v":""},null,{"$f":"IFERROR(VLOOKUP(E1876,Teilnehmer!$B$3:$C$1002,2,0),\"\")","v":""}]
[null,null,null,{"$f":"IFERROR(VLOOKUP(C1877,Teilnehmer!$B$3:$C$1002,2,0),\"\")","v":""},null,{"$f":"IFERROR(VLOOKUP(E1877,Teilnehmer!$B$3:$C$1002,2,0),\"\")","v":""}]
[null,null,null,{"$f":"IFERROR(VLOOKUP(C1878,Teilnehmer!$B$3:$C$1002,2,0),\"\")","v":""},null,{"$f":"IFERROR(VLOOKUP(E1878,Teilnehmer!$B$3:$C$1002,2,0),\"\")","v":""}]
[null,null,null,{"$f":"IFERROR(VLOOKUP(C1879,Teilnehmer!$B$3:$C$1002,2,0),\"\")","v":""},null,{"$f":"IFERROR(VLOOKUP(E1879,Teilnehmer!$B$3:$C$1002,2,0),\"\")","v":""}]
[null,null,null,{"$f":"IFERROR(VLOOKUP(C1880,Teilnehmer!$B$3:$C$1002,2,0),\"\")","v":""},null,{"$f":"IFERROR(VLOOKUP(E1880,Teilnehmer!$B$3:$C$1002,2,0),\"\")","v":""}]
[null,null,null,{"$f":"IFERROR(VLOOKUP(C1881,Teilnehmer!$B$3:$C$1002,2,0),\"\")","v":""},null,{"$f":"IFERROR(VLOOKUP(E1881,Teilnehmer!$B$3:$C$1002,2,0),\"\")","v":""}]
[null,null,null,{"$f":"IFERROR(VLOOKUP(C1882,Teilnehmer!$B$3:$C$1002,2,0),\"\")","v":""},null,{"$f":"IFERROR(VLOOKUP(E1882,Teilnehmer!$B$3:$C$1002,2,0),\"\")","v":""}]
[null,null,null,{"$f":"IFERROR(VLOOKUP(C1883,Teilnehmer!$B$3:$C$1002,2,0),\"\")","v":""},null,{"$f":"IFERROR(VLOOKUP(E1883,Teilnehmer!$B$3:$C$1002,2,0),\"\")","v":""}]
[null,null,null,{"$f":"IFERROR(VLOOKUP(C1884,Teilnehmer!$B$3:$C$1002,2,0),\"\")","v":""},null,{"$f":"IFERROR(VLOOKUP(E1884,Teilnehmer!$B$3:$C$1002,2,0),\"\")","v":""}]
[null,null,null,{"$f":"IFERROR(VLOOKUP(C1885,Teilnehmer!$B$3:$C$1002,2,0),\"\")","v":""},null,{"$f":"IFERROR(VLOOKUP(E1885,Teilnehmer!$B$3:$C$1002,2,0),\"\")","v":""}]
[null,null,null,{"$f":"IFERROR(VLOOKUP(C1886,Teilnehmer!$B$3:$C$1002,2,0),\"\")","v":""},null,{"$f":"IFERROR(VLOOKUP(E1886,Teilnehmer!$B$3:$C$1002,2,0),\"\")","v":""}]
[null,null,null,{"$f":"IFERROR(VLOOKUP(C1887,Teilnehmer!$B$3:$C$1002,2,0),\"\")","v":""},null,{"$f":"IFERROR(VLOOKUP(E1887,Teilnehmer!$B$3:$C$1002,2,0),\"\")","v":""}]
[null,null,null,{"$f":"IFERROR(VLOOKUP(C1888,Teilnehmer!$B$3:$C$1002,2,0),\"\")","v":""},null,{"$f":"IFERROR(VLOOKUP(E1888,Teilnehmer!$B$3:$C$1002,2,0),\"\")","v":""}]
[null,null,null,{"$f":"IFERROR(VLOOKUP(C1889,Teilnehmer!$B$3:$C$1002,2,0),\"\")","v":""},null,{"$f":"IFERROR(VLOOKUP(E1889,Teilnehmer!$B$3:$C$1002,2,0),\"\")","v":""}]
[null,null,null,{"$f":"IFERROR(VLOOKUP(C1890,Teilnehmer!$B$3:$C$1002,2,0),\"\")","v":""},null,{"$f":"IFERROR(VLOOKUP(E1890,Teilnehmer!$B$3:$C$1002,2,0),\"\")","v":""}]
[null,null,null,{"$f":"IFERROR(VLOOKUP(C1891,Teilnehmer!$B$3:$C$1002,2,0),\"\")","v":""},null,{"$f":"IFERROR(VLOOKUP(E1891,Teilnehmer!$B$3:$C$1002,2,0),\"\")","v":""}]
[null,null,null,{"$f":"IFERROR(VLOOKUP(C1892,Teilnehmer!$B$3:$C$1002,2,0),\"\")","v":""},null,{"$f":"IFERROR(VLOOKUP(E1892,Teilnehmer!$B$3:$C$1002,2,0),\"\")","v":""}]
[null,null,null,{"$f":"IFERROR(VLOOKUP(C1893,Teilnehmer!$B$3:$C$1002,2,0),\"\")","v":""},null,{"$f":"IFERROR(VLOOKUP(E1893,Teilnehmer!$B$3:$C$1002,2,0),\"\")","v":""}]
[null,null,null,{"$f":"IFERROR(VLOOKUP(C1894,Teilnehmer!$B$3:$C$1002,2,0),\"\")","v":""},null,{"$f":"IFERROR(VLOOKUP(E1894,Teilnehmer!$B$3:$C$1002,2,0),\"\")","v":""}]
[null,null,null,{"$f":"IFERROR(VLOOKUP(C1895,Teilnehmer!$B$3:$C$1002,2,0),\"\")","v":""},null,{"$f":"IFERROR(VLOOKUP(E1895,Teilnehmer!$B$3:$C$1002,2,0),\"\")","v":""}]
[null,null,null,{"$f":"IFERROR(VLOOKUP(C1896,Teilnehmer!$B$3:$C$1002,2,0),\"\")","v":""},null,{"$f":"IFERROR(VLOOKUP(E1896,Teilnehmer!$B$3:$C$1002,2,0),\"\")","v":""}]
[null,null,null,{"$f":"IFERROR(VLOOKUP(C1897,Teilnehmer!$B$3:$C$1002,2,0),\"\")","v":""},null,{"$f":"IFERROR(VLOOKUP(E1897,Teilnehmer!$B$3:$C$1002,2,0),\"\")","v":""}]
[null,null,null,{"$f":"IFERROR(VLOOKUP(C1898,Teilnehmer!$B$3:$C$1002,2,0),\"\")","v":""},null,{"$f":"IFERROR(VLOOKUP(E1898,Teilnehmer!$B$3:$C$1002,2,0),\"\")","v":""}]
[null,null,null,{"$f":"IFERROR(VLOOKUP(C1899,Teilnehmer!$B$3:$C$1002,2,0),\"\")","v":""},null,{"$f":"IFERROR(VLOOKUP(E1899,Teilnehmer!$B$3:$C$1002,2,0),\"\")","v":""}]
[null,null,null,{"$f":"IFERROR(VLOOKUP(C1900,Teilnehmer!$B$3:$C$1002,2,0),\"\")","v":""},null,{"$f":"IFERROR(VLOOKUP(E1900,Teilnehmer!$B$3:$C$1002,2,0),\"\")","v":""}]
[null,null,null,{"$f":"IFERROR(VLOOKUP(C1901,Teilnehmer!$B$3:$C$1002,2,0),\"\")","v":""},null,{"$f":"IFERROR(VLOOKUP(E1901,Teilnehmer!$B$3:$C$1002,2,0),\"\")","v":""}]
[null,null,null,{"$f":"IFERROR(VLOOKUP(C1902,Teilnehmer!$B$3:$C$1002,2,0),\"\")","v":""},null,{"$f":"IFERROR(VLOOKUP(E1902,Teilnehmer!$B$3:$C$1002,2,0),\"\")","v":""}]
[null,null,null,{"$f":"IFERROR(VLOOKUP(C1903,Teilnehmer!$B$3:$C$1002,2,0),\"\")","v":""},null,{"$f":"IFERROR(VLOOKUP(E1903,Teilnehmer!$B$3:$C$1002,2,0),\"\")","v":""}]
[null,null,null,{"$f":"IFERROR(VLOOKUP(C1904,Teilnehmer!$B$3:$C$1002,2,0),\"\")","v":""},null,{"$f":"IFERROR(VLOOKUP(E1904,Teilnehmer!$B$3:$C$1002,2,0),\"\")","v":""}]
[null,null,null,{"$f":"IFERROR(VLOOKUP(C1905,Teilnehmer!$B$3:$C$1002,2,0),\"\")","v":""},null,{"$f":"IFERROR(VLOOKUP(E1905,Teilnehmer!$B$3:$C$1002,2,0),\"\")","v":""}]
[null,null,null,{"$f":"IFERROR(VLOOKUP(C1906,Teilnehmer!$B$3:$C$1002,2,0),\"\")","v":""},null,{"$f":"IFERROR(VLOOKUP(E1906,Teilnehmer!$B$3:$C$1002,2,0),\"\")","v":""}]
[null,null,null,{"$f":"IFERROR(VLOOKUP(C1907,Teilnehmer!$B$3:$C$1002,2,0),\"\")","v":""},null,{"$f":"IFERROR(VLOOKUP(E1907,Teilnehmer!$B$3:$C$1002,2,0),\"\")","v":""}]
[null,null,null,{"$f":"IFERROR(VLOOKUP(C1908,Teilnehmer!$B$3:$C$1002,2,0),\"\")","v":""},null,{"$f":"IFERROR(VLOOKUP(E1908,Teilnehmer!$B$3:$C$1002,2,0),\"\")","v":""}]
[null,null,null,{"$f":"IFERROR(VLOOKUP(C1909,Teilnehmer!$B$3:$C$1002,2,0),\"\")","v":""},null,{"$f":"IFERROR(VLOOKUP(E1909,Teilnehmer!$B$3:$C$1002,2,0),\"\")","v":""}]
[null,null,null,{"$f":"IFERROR(VLOOKUP(C1910,Teilnehmer!$B$3:$C$1002,2,0),\"\")","v":""},null,{"$f":"IFERROR(VLOOKUP(E1910,Teilnehmer!$B$3:$C$1002,2,0),\"\")","v":""}]
[null,null,null,{"$f":"IFERROR(VLOOKUP(C1911,Teilnehmer!$B$3:$C$1002,2,0),\"\")","v":""},null,{"$f":"IFERROR(VLOOKUP(E1911,Teilnehmer!$B$3:$C$1002,2,0),\"\")","v":""}]
[null,null,null,{"$f":"IFERROR(VLOOKUP(C1912,Teilnehmer!$B$3:$C$1002,2,0),\"\")","v":""},null,{"$f":"IFERROR(VLOOKUP(E1912,Teilnehmer!$B$3:$C$1002,2,0),\"\")","v":""}]
[null,null,null,{"$f":"IFERROR(VLOOKUP(C1913,Teilnehmer!$B$3:$C$1002,2,0),\"\")","v":""},null,{"$f":"IFERROR(VLOOKUP(E1913,Teilnehmer!$B$3:$C$1002,2,0),\"\")","v":""}]
[null,null,null,{"$f":"IFERROR(VLOOKUP(C1914,Teilnehmer!$B$3:$C$1002,2,0),\"\")","v":""},null,{"$f":"IFERROR(VLOOKUP(E1914,Teilnehmer!$B$3:$C$1002,2,0),\"\")","v":""}]
[null,null,null,{"$f":"IFERROR(VLOOKUP(C1915,Teilnehmer!$B$3:$C$1002,2,0),\"\")","v":""},null,{"$f":"IFERROR(VLOOKUP(E1915,Teilnehmer!$B$3:$C$1002,2,0),\"\")","v":""}]
[null,null,null,{"$f":"IFERROR(VLOOKUP(C1916,Teilnehmer!$B$3:$C$1002,2,0),\"\")","v":""},null,{"$f":"IFERROR(VLOOKUP(E1916,Teilnehmer!$B$3:$C$1002,2,0),\"\")","v":""}]
[null,null,null,{"$f":"IFERROR(VLOOKUP(C1917,Teilnehmer!$B$3:$C$1002,2,0),\"\")","v":""},null,{"$f":"IFERROR(VLOOKUP(E1917,Teilnehmer!$B$3:$C$1002,2,0),\"\")","v":""}]
[null,null,null,{"$f":"IFERROR(VLOOKUP(C1918,Teilnehmer!$B$3:$C$1002,2,0),\"\")","v":""},null,{"$f":"IFERROR(VLOOKUP(E1918,Teilnehmer!$B$3:$C$1002,2,0),\"\")","v":""}]
[null,null,null,{"$f":"IFERROR(VLOOKUP(C1919,Teilnehmer!$B$3:$C$1002,2,0),\"\")","v":""},null,{"$f":"IFERROR(VLOOKUP(E1919,Teilnehmer!$B$3:$C$1002,2,0),\"\")","v":""}]
[null,null,null,{"$f":"IFERROR(VLOOKUP(C1920,Teilnehmer!$B$3:$C$1002,2,0),\"\")","v":""},null,{"$f":"IFERROR(VLOOKUP(E1920,Teilnehmer!$B$3:$C$1002,2,0),\"\")","v":""}]
[null,null,null,{"$f":"IFERROR(VLOOKUP(C1921,Teilnehmer!$B$3:$C$1002,2,0),\"\")","v":""},null,{"$f":"IFERROR(VLOOKUP(E1921,Teilnehmer!$B$3:$C$1002,2,0),\"\")","v":""}]
[null,null,null,{"$f":"IFERROR(VLOOKUP(C1922,Teilnehmer!$B$3:$C$1002,2,0),\"\")","v":""},null,{"$f":"IFERROR(VLOOKUP(E1922,Teilnehmer!$B$3:$C$1002,2,0),\"\")","v":""}]
[null,null,null,{"$f":"IFERROR(VLOOKUP(C1923,Teilnehmer!$B$3:$C$1002,2,0),\"\")","v":""},null,{"$f":"IFERROR(VLOOKUP(E1923,Teilnehmer!$B$3:$C$1002,2,0),\"\")","v":""}]
[null,null,null,{"$f":"IFERROR(VLOOKUP(C1924,Teilnehmer!$B$3:$C$1002,2,0),\"\")","v":""},null,{"$f":"IFERROR(VLOOKUP(E1924,Teilnehmer!$B$3:$C$1002,2,0),\"\")","v":""}]
[null,null,null,{"$f":"IFERROR(VLOOKUP(C1925,Teilnehmer!$B$3:$C$1002,2,0),\"\")","v":""},null,{"$f":"IFERROR(VLOOKUP(E1925,Teilnehmer!$B$3:$C$1002,2,0),\"\")","v":""}]
[null,null,null,{"$f":"IFERROR(VLOOKUP(C1926,Teilnehmer!$B$3:$C$1002,2,0),\"\")","v":""},null,{"$f":"IFERROR(VLOOKUP(E1926,Teilnehmer!$B$3:$C$1002,2,0),\"\")","v":""}]
[null,null,null,{"$f":"IFERROR(VLOOKUP(C1927,Teilnehmer!$B$3:$C$1002,2,0),\"\")","v":""},null,{"$f":"IFERROR(VLOOKUP(E1927,Teilnehmer!$B$3:$C$1002,2,0),\"\")","v":""}]
[null,null,null,{"$f":"IFERROR(VLOOKUP(C1928,Teilnehmer!$B$3:$C$1002,2,0),\"\")","v":""},null,{"$f":"IFERROR(VLOOKUP(E1928,Teilnehmer!$B$3:$C$1002,2,0),\"\")","v":""}]
[null,null,null,{"$f":"IFERROR(VLOOKUP(C1929,Teilnehmer!$B$3:$C$1002,2,0),\"\")","v":""},null,{"$f":"IFERROR(VLOOKUP(E1929,Teilnehmer!$B$3:$C$1002,2,0),\"\")","v":""}]
[null,null,null,{"$f":"IFERROR(VLOOKUP(C1930,Teilnehmer!$B$3:$C$1002,2,0),\"\")","v":""},null,{"$f":"IFERROR(VLOOKUP(E1930,Teilnehmer!$B$3:$C$1002,2,0),\"\")","v":""}]
[null,null,null,{"$f":"IFERROR(VLOOKUP(C1931,Teilnehmer!$B$3:$C$1002,2,0),\"\")","v":""},null,{"$f":"IFERROR(VLOOKUP(E1931,Teilnehmer!$B$3:$C$1002,2,0),\"\")","v":""}]
[null,null,null,{"$f":"IFERROR(VLOOKUP(C1932,Teilnehmer!$B$3:$C$1002,2,0),\"\")","v":""},null,{"$f":"IFERROR(VLOOKUP(E1932,Teilnehmer!$B$3:$C$1002,2,0),\"\")","v":""}]
[null,null,null,{"$f":"IFERROR(VLOOKUP(C1933,Teilnehmer!$B$3:$C$1002,2,0),\"\")","v":""},null,{"$f":"IFERROR(VLOOKUP(E1933,Teilnehmer!$B$3:$C$1002,2,0),\"\")","v":""}]
[null,null,null,{"$f":"IFERROR(VLOOKUP(C1934,Teilnehmer!$B$3:$C$1002,2,0),\"\")","v":""},null,{"$f":"IFERROR(VLOOKUP(E1934,Teilnehmer!$B$3:$C$1002,2,0),\"\")","v":""}]
[null,null,null,{"$f":"IFERROR(VLOOKUP(C1935,Teilnehmer!$B$3:$C$1002,2,0),\"\")","v":""},null,{"$f":"IFERROR(VLOOKUP(E1935,Teilnehmer!$B$3:$C$1002,2,0),\"\")","v":""}]
[null,null,null,{"$f":"IFERROR(VLOOKUP(C1936,Teilnehmer!$B$3:$C$1002,2,0),\"\")","v":""},null,{"$f":"IFERROR(VLOOKUP(E1936,Teilnehmer!$B$3:$C$1002,2,0),\"\")","v":""}]
[null,null,null,{"$f":"IFERROR(VLOOKUP(C1937,Teilnehmer!$B$3:$C$1002,2,0),\"\")","v":""},null,{"$f":"IFERROR(VLOOKUP(E1937,Teilnehmer!$B$3:$C$1002,2,0),\"\")","v":""}]
[null,null,null,{"$f":"IFERROR(VLOOKUP(C1938,Teilnehmer!$B$3:$C$1002,2,0),\"\")","v":""},null,{"$f":"IFERROR(VLOOKUP(E1938,Teilnehmer!$B$3:$C$1002,2,0),\"\")","v":""}]
[null,null,null,{"$f":"IFERROR(VLOOKUP(C1939,Teilnehmer!$B$3:$C$1002,2,0),\"\")","v":""},null,{"$f":"IFERROR(VLOOKUP(E1939,Teilnehmer!$B$3:$C$1002,2,0),\"\")","v":""}]
[null,null,null,{"$f":"IFERROR(VLOOKUP(C1940,Teilnehmer!$B$3:$C$1002,2,0),\"\")","v":""},null,{"$f":"IFERROR(VLOOKUP(E1940,Teilnehmer!$B$3:$C$1002,2,0),\"\")","v":""}]
[null,null,null,{"$f":"IFERROR(VLOOKUP(C1941,Teilnehmer!$B$3:$C$1002,2,0),\"\")","v":""},null,{"$f":"IFERROR(VLOOKUP(E1941,Teilnehmer!$B$3:$C$1002,2,0),\"\")","v":""}]
[null,null,null,{"$f":"IFERROR(VLOOKUP(C1942,Teilnehmer!$B$3:$C$1002,2,0),\"\")","v":""},null,{"$f":"IFERROR(VLOOKUP(E1942,Teilnehmer!$B$3:$C$1002,2,0),\"\")","v":""}]
[null,null,null,{"$f":"IFERROR(VLOOKUP(C1943,Teilnehmer!$B$3:$C$1002,2,0),\"\")","v":""},null,{"$f":"IFERROR(VLOOKUP(E1943,Teilnehmer!$B$3:$C$1002,2,0),\"\")","v":""}]
[null,null,null,{"$f":"IFERROR(VLOOKUP(C1944,Teilnehmer!$B$3:$C$1002,2,0),\"\")","v":""},null,{"$f":"IFERROR(VLOOKUP(E1944,Teilnehmer!$B$3:$C$1002,2,0),\"\")","v":""}]
[null,null,null,{"$f":"IFERROR(VLOOKUP(C1945,Teilnehmer!$B$3:$C$1002,2,0),\"\")","v":""},null,{"$f":"IFERROR(VLOOKUP(E1945,Teilnehmer!$B$3:$C$1002,2,0),\"\")","v":""}]
[null,null,null,{"$f":"IFERROR(VLOOKUP(C1946,Teilnehmer!$B$3:$C$1002,2,0),\"\")","v":""},null,{"$f":"IFERROR(VLOOKUP(E1946,Teilnehmer!$B$3:$C$1002,2,0),\"\")","v":""}]
[null,null,null,{"$f":"IFERROR(VLOOKUP(C1947,Teilnehmer!$B$3:$C$1002,2,0),\"\")","v":""},null,{"$f":"IFERROR(VLOOKUP(E1947,Teilnehmer!$B$3:$C$1002,2,0),\"\")","v":""}]
[null,null,null,{"$f":"IFERROR(VLOOKUP(C1948,Teilnehmer!$B$3:$C$1002,2,0),\"\")","v":""},null,{"$f":"IFERROR(VLOOKUP(E1948,Teilnehmer!$B$3:$C$1002,2,0),\"\")","v":""}]
[null,null,null,{"$f":"IFERROR(VLOOKUP(C1949,Teilnehmer!$B$3:$C$1002,2,0),\"\")","v":""},null,{"$f":"IFERROR(VLOOKUP(E1949,Teilnehmer!$B$3:$C$1002,2,0),\"\")","v":""}]
[null,null,null,{"$f":"IFERROR(VLOOKUP(C1950,Teilnehmer!$B$3:$C$1002,2,0),\"\")","v":""},null,{"$f":"IFERROR(VLOOKUP(E1950,Teilnehmer!$B$3:$C$1002,2,0),\"\")","v":""}]
[null,null,null,{"$f":"IFERROR(VLOOKUP(C1951,Teilnehmer!$B$3:$C$1002,2,0),\"\")","v":""},null,{"$f":"IFERROR(VLOOKUP(E1951,Teilnehmer!$B$3:$C$1002,2,0),\"\")","v":""}]
[null,null,null,{"$f":"IFERROR(VLOOKUP(C1952,Teilnehmer!$B$3:$C$1002,2,0),\"\")","v":""},null,{"$f":"IFERROR(VLOOKUP(E1952,Teilnehmer!$B$3:$C$1002,2,0),\"\")","v":""}]
[null,null,null,{"$f":"IFERROR(VLOOKUP(C1953,Teilnehmer!$B$3:$C$1002,2,0),\"\")","v":""},null,{"$f":"IFERROR(VLOOKUP(E1953,Teilnehmer!$B$3:$C$1002,2,0),\"\")","v":""}]
[null,null,null,{"$f":"IFERROR(VLOOKUP(C1954,Teilnehmer!$B$3:$C$1002,2,0),\"\")","v":""},null,{"$f":"IFERROR(VLOOKUP(E1954,Teilnehmer!$B$3:$C$1002,2,0),\"\")","v":""}]
[null,null,null,{"$f":"IFERROR(VLOOKUP(C1955,Teilnehmer!$B$3:$C$1002,2,0),\"\")","v":""},null,{"$f":"IFERROR(VLOOKUP(E1955,Teilnehmer!$B$3:$C$1002,2,0),\"\")","v":""}]
[null,null,null,{"$f":"IFERROR(VLOOKUP(C1956,Teilnehmer!$B$3:$C$1002,2,0),\"\")","v":""},null,{"$f":"IFERROR(VLOOKUP(E1956,Teilnehmer!$B$3:$C$1002,2,0),\"\")","v":""}]
[null,null,null,{"$f":"IFERROR(VLOOKUP(C1957,Teilnehmer!$B$3:$C$1002,2,0),\"\")","v":""},null,{"$f":"IFERROR(VLOOKUP(E1957,Teilnehmer!$B$3:$C$1002,2,0),\"\")","v":""}]
[null,null,null,{"$f":"IFERROR(VLOOKUP(C1958,Teilnehmer!$B$3:$C$1002,2,0),\"\")","v":""},null,{"$f":"IFERROR(VLOOKUP(E1958,Teilnehmer!$B$3:$C$1002,2,0),\"\")","v":""}]
[null,null,null,{"$f":"IFERROR(VLOOKUP(C1959,Teilnehmer!$B$3:$C$1002,2,0),\"\")","v":""},null,{"$f":"IFERROR(VLOOKUP(E1959,Teilnehmer!$B$3:$C$1002,2,0),\"\")","v":""}]
[null,null,null,{"$f":"IFERROR(VLOOKUP(C1960,Teilnehmer!$B$3:$C$1002,2,0),\"\")","v":""},null,{"$f":"IFERROR(VLOOKUP(E1960,Teilnehmer!$B$3:$C$1002,2,0),\"\")","v":""}]
[null,null,null,{"$f":"IFERROR(VLOOKUP(C1961,Teilnehmer!$B$3:$C$1002,2,0),\"\")","v":""},null,{"$f":"IFERROR(VLOOKUP(E1961,Teilnehmer!$B$3:$C$1002,2,0),\"\")","v":""}]
[null,null,null,{"$f":"IFERROR(VLOOKUP(C1962,Teilnehmer!$B$3:$C$1002,2,0),\"\")","v":""},null,{"$f":"IFERROR(VLOOKUP(E1962,Teilnehmer!$B$3:$C$1002,2,0),\"\")","v":""}]
[null,null,null,{"$f":"IFERROR(VLOOKUP(C1963,Teilnehmer!$B$3:$C$1002,2,0),\"\")","v":""},null,{"$f":"IFERROR(VLOOKUP(E1963,Teilnehmer!$B$3:$C$1002,2,0),\"\")","v":""}]
[null,null,null,{"$f":"IFERROR(VLOOKUP(C1964,Teilnehmer!$B$3:$C$1002,2,0),\"\")","v":""},null,{"$f":"IFERROR(VLOOKUP(E1964,Teilnehmer!$B$3:$C$1002,2,0),\"\")","v":""}]
[null,null,null,{"$f":"IFERROR(VLOOKUP(C1965,Teilnehmer!$B$3:$C$1002,2,0),\"\")","v":""},null,{"$f":"IFERROR(VLOOKUP(E1965,Teilnehmer!$B$3:$C$1002,2,0),\"\")","v":""}]
[null,null,null,{"$f":"IFERROR(VLOOKUP(C1966,Teilnehmer!$B$3:$C$1002,2,0),\"\")","v":""},null,{"$f":"IFERROR(VLOOKUP(E1966,Teilnehmer!$B$3:$C$1002,2,0),\"\")","v":""}]
[null,null,null,{"$f":"IFERROR(VLOOKUP(C1967,Teilnehmer!$B$3:$C$1002,2,0),\"\")","v":""},null,{"$f":"IFERROR(VLOOKUP(E1967,Teilnehmer!$B$3:$C$1002,2,0),\"\")","v":""}]
[null,null,null,{"$f":"IFERROR(VLOOKUP(C1968,Teilnehmer!$B$3:$C$1002,2,0),\"\")","v":""},null,{"$f":"IFERROR(VLOOKUP(E1968,Teilnehmer!$B$3:$C$1002,2,0),\"\")","v":""}]
[null,null,null,{"$f":"IFERROR(VLOOKUP(C1969,Teilnehmer!$B$3:$C$1002,2,0),\"\")","v":""},null,{"$f":"IFERROR(VLOOKUP(E1969,Teilnehmer!$B$3:$C$1002,2,0),\"\")","v":""}]
[null,null,null,{"$f":"IFERROR(VLOOKUP(C1970,Teilnehmer!$B$3:$C$1002,2,0),\"\")","v":""},null,{"$f":"IFERROR(VLOOKUP(E1970,Teilnehmer!$B$3:$C$1002,2,0),\"\")","v":""}]
[null,null,null,{"$f":"IFERROR(VLOOKUP(C1971,Teilnehmer!$B$3:$C$1002,2,0),\"\")","v":""},null,{"$f":"IFERROR(VLOOKUP(E1971,Teilnehmer!$B$3:$C$1002,2,0),\"\")","v":""}]
[null,null,null,{"$f":"IFERROR(VLOOKUP(C1972,Teilnehmer!$B$3:$C$1002,2,0),\"\")","v":""},null,{"$f":"IFERROR(VLOOKUP(E1972,Teilnehmer!$B$3:$C$1002,2,0),\"\")","v":""}]
[null,null,null,{"$f":"IFERROR(VLOOKUP(C1973,Teilnehmer!$B$3:$C$1002,2,0),\"\")","v":""},null,{"$f":"IFERROR(VLOOKUP(E1973,Teilnehmer!$B$3:$C$1002,2,0),\"\")","v":""}]
[null,null,null,{"$f":"IFERROR(VLOOKUP(C1974,Teilnehmer!$B$3:$C$1002,2,0),\"\")","v":""},null,{"$f":"IFERROR(VLOOKUP(E1974,Teilnehmer!$B$3:$C$1002,2,0),\"\")","v":""}]
[null,null,null,{"$f":"IFERROR(VLOOKUP(C1975,Teilnehmer!$B$3:$C$1002,2,0),\"\")","v":""},null,{"$f":"IFERROR(VLOOKUP(E1975,Teilnehmer!$B$3:$C$1002,2,0),\"\")","v":""}]
[null,null,null,{"$f":"IFERROR(VLOOKUP(C1976,Teilnehmer!$B$3:$C$1002,2,0),\"\")","v":""},null,{"$f":"IFERROR(VLOOKUP(E1976,Teilnehmer!$B$3:$C$1002,2,0),\"\")","v":""}]
[null,null,null,{"$f":"IFERROR(VLOOKUP(C1977,Teilnehmer!$B$3:$C$1002,2,0),\"\")","v":""},null,{"$f":"IFERROR(VLOOKUP(E1977,Teilnehmer!$B$3:$C$1002,2,0),\"\")","v":""}]
[null,null,null,{"$f":"IFERROR(VLOOKUP(C1978,Teilnehmer!$B$3:$C$1002,2,0),\"\")","v":""},null,{"$f":"IFERROR(VLOOKUP(E1978,Teilnehmer!$B$3:$C$1002,2,0),\"\")","v":""}]
[null,null,null,{"$f":"IFERROR(VLOOKUP(C1979,Teilnehmer!$B$3:$C$1002,2,0),\"\")","v":""},null,{"$f":"IFERROR(VLOOKUP(E1979,Teilnehmer!$B$3:$C$1002,2,0),\"\")","v":""}]
[null,null,null,{"$f":"IFERROR(VLOOKUP(C1980,Teilnehmer!$B$3:$C$1002,2,0),\"\")","v":""},null,{"$f":"IFERROR(VLOOKUP(E1980,Teilnehmer!$B$3:$C$1002,2,0),\"\")","v":""}]
[null,null,null,{"$f":"IFERROR(VLOOKUP(C1981,Teilnehmer!$B$3:$C$1002,2,0),\"\")","v":""},null,{"$f":"IFERROR(VLOOKUP(E1981,Teilnehmer!$B$3:$C$1002,2,0),\"\")","v":""}]
[null,null,null,{"$f":"IFERROR(VLOOKUP(C1982,Teilnehmer!$B$3:$C$1002,2,0),\"\")","v":""},null,{"$f":"IFERROR(VLOOKUP(E1982,Teilnehmer!$B$3:$C$1002,2,0),\"\")","v":""}]
[null,null,null,{"$f":"IFERROR(VLOOKUP(C1983,Teilnehmer!$B$3:$C$1002,2,0),\"\")","v":""},null,{"$f":"IFERROR(VLOOKUP(E1983,Teilnehmer!$B$3:$C$1002,2,0),\"\")","v":""}]
[null,null,null,{"$f":"IFERROR(VLOOKUP(C1984,Teilnehmer!$B$3:$C$1002,2,0),\"\")","v":""},null,{"$f":"IFERROR(VLOOKUP(E1984,Teilnehmer!$B$3:$C$1002,2,0),\"\")","v":""}]
[null,null,null,{"$f":"IFERROR(VLOOKUP(C1985,Teilnehmer!$B$3:$C$1002,2,0),\"\")","v":""},null,{"$f":"IFERROR(VLOOKUP(E1985,Teilnehmer!$B$3:$C$1002,2,0),\"\")","v":""}]
[null,null,null,{"$f":"IFERROR(VLOOKUP(C1986,Teilnehmer!$B$3:$C$1002,2,0),\"\")","v":""},null,{"$f":"IFERROR(VLOOKUP(E1986,Teilnehmer!$B$3:$C$1002,2,0),\"\")","v":""}]
[null,null,null,{"$f":"IFERROR(VLOOKUP(C1987,Teilnehmer!$B$3:$C$1002,2,0),\"\")","v":""},null,{"$f":"IFERROR(VLOOKUP(E1987,Teilnehmer!$B$3:$C$1002,2,0),\"\")","v":""}]
[null,null,null,{"$f":"IFERROR(VLOOKUP(C1988,Teilnehmer!$B$3:$C$1002,2,0),\"\")","v":""},null,{"$f":"IFERROR(VLOOKUP(E1988,Teilnehmer!$B$3:$C$1002,2,0),\"\")","v":""}]
[null,null,null,{"$f":"IFERROR(VLOOKUP(C1989,Teilnehmer!$B$3:$C$1002,2,0),\"\")","v":""},null,{"$f":"IFERROR(VLOOKUP(E1989,Teilnehmer!$B$3:$C$1002,2,0),\"\")","v":""}]
[null,null,null,{"$f":"IFERROR(VLOOKUP(C1990,Teilnehmer!$B$3:$C$1002,2,0),\"\")","v":""},null,{"$f":"IFERROR(VLOOKUP(E1990,Teilnehmer!$B$3:$C$1002,2,0),\"\")","v":""}]
[null,null,null,{"$f":"IFERROR(VLOOKUP(C1991,Teilnehmer!$B$3:$C$1002,2,0),\"\")","v":""},null,{"$f":"IFERROR(VLOOKUP(E1991,Teilnehmer!$B$3:$C$1002,2,0),\"\")","v":""}]
[null,null,null,{"$f":"IFERROR(VLOOKUP(C1992,Teilnehmer!$B$3:$C$1002,2,0),\"\")","v":""},null,{"$f":"IFERROR(VLOOKUP(E1992,Teilnehmer!$B$3:$C$1002,2,0),\"\")","v":""}]
[null,null,null,{"$f":"IFERROR(VLOOKUP(C1993,Teilnehmer!$B$3:$C$1002,2,0),\"\")","v":""},null,{"$f":"IFERROR(VLOOKUP(E1993,Teilnehmer!$B$3:$C$1002,2,0),\"\")","v":""}]
[null,null,null,{"$f":"IFERROR(VLOOKUP(C1994,Teilnehmer!$B$3:$C$1002,2,0),\"\")","v":""},null,{"$f":"IFERROR(VLOOKUP(E1994,Teilnehmer!$B$3:$C$1002,2,0),\"\")","v":""}]
[null,null,null,{"$f":"IFERROR(VLOOKUP(C1995,Teilnehmer!$B$3:$C$1002,2,0),\"\")","v":""},null,{"$f":"IFERROR(VLOOKUP(E1995,Teilnehmer!$B$3:$C$1002,2,0),\"\")","v":""}]
[null,null,null,{"$f":"IFERROR(VLOOKUP(C1996,Teilnehmer!$B$3:$C$1002,2,0),\"\")","v":""},null,{"$f":"IFERROR(VLOOKUP(E1996,Teilnehmer!$B$3:$C$1002,2,0),\"\")","v":""}]
[null,null,null,{"$f":"IFERROR(VLOOKUP(C1997,Teilnehmer!$B$3:$C$1002,2,0),\"\")","v":""},null,{"$f":"IFERROR(VLOOKUP(E1997,Teilnehmer!$B$3:$C$1002,2,0),\"\")","v":""}]
[null,null,null,{"$f":"IFERROR(VLOOKUP(C1998,Teilnehmer!$B$3:$C$1002,2,0),\"\")","v":""},null,{"$f":"IFERROR(VLOOKUP(E1998,Teilnehmer!$B$3:$C$1002,2,0),\"\")","v":""}]
[null,null,null,{"$f":"IFERROR(VLOOKUP(C1999,Teilnehmer!$B$3:$C$1002,2,0),\"\")","v":""},null,{"$f":"IFERROR(VLOOKUP(E1999,Teilnehmer!$B$3:$C$1002,2,0),\"\")","v":""}]
[null,null,null,{"$f":"IFERROR(VLOOKUP(C2000,Teilnehmer!$B$3:$C$1002,2,0),\"\")","v":""},null,{"$f":"IFERROR(VLOOKUP(E2000,Teilnehmer!$B$3:$C$1002,2,0),\"\")","v":""}]
[null,null,null,{"$f":"IFERROR(VLOOKUP(C2001,Teilnehmer!$B$3:$C$1002,2,0),\"\")","v":""},null,{"$f":"IFERROR(VLOOKUP(E2001,Teilnehmer!$B$3:$C$1002,2,0),\"\")","v":""}]
[null,null,null,{"$f":"IFERROR(VLOOKUP(C2002,Teilnehmer!$B$3:$C$1002,2,0),\"\")","v":""},null,{"$f":"IFERROR(VLOOKUP(E2002,Teilnehmer!$B$3:$C$1002,2,0),\"\")","v":""}]
[null,null,null,{"$f":"IFERROR(VLOOKUP(C2003,Teilnehmer!$B$3:$C$1002,2,0),\"\")","v":""},null,{"$f":"IFERROR(VLOOKUP(E2003,Teilnehmer!$B$3:$C$1002,2,0),\"\")","v":""}]
[null,null,null,{"$f":"IFERROR(VLOOKUP(C2004,Teilnehmer!$B$3:$C$1002,2,0),\"\")","v":""},null,{"$f":"IFERROR(VLOOKUP(E2004,Teilnehmer!$B$3:$C$1002,2,0),\"\")","v":""}]
[null,null,null,{"$f":"IFERROR(VLOOKUP(C2005,Teilnehmer!$B$3:$C$1002,2,0),\"\")","v":""},null,{"$f":"IFERROR(VLOOKUP(E2005,Teilnehmer!$B$3:$C$1002,2,0),\"\")","v":""}]
[null,null,null,{"$f":"IFERROR(VLOOKUP(C2006,Teilnehmer!$B$3:$C$1002,2,0),\"\")","v":""},null,{"$f":"IFERROR(VLOOKUP(E2006,Teilnehmer!$B$3:$C$1002,2,0),\"\")","v":""}]

{"sheet":"22.12.2022","index":4,"n_rows":2006,"n_cols":26,"rows_kept":2006,"cut":false,"hidden":false,"merged":[[1,3,1,14],[2,3,2,14],[3,8,5,8],[3,9,5,9],[3,10,5,10],[5,6,5,7]]}
[]
[null,null,null,"WM 2022 in Katar"]
[]
[null,null,null,{"$f":"Sprache!$E$12","v":"Altes Datum:"},null,{"$f":"Sprache!$E$13","v":"Neues Datum:"},null,null,{"$f":"Sprache!$E$20","v":"Wichtung"},{"$f":"Sprache!$E$21","v":"Elfmetersch."},{"$f":"Sprache!$E$22","v":"KO-Runde"}]
[null,{"$f":"Sprache!$E$14","v":"Spiele"},null,"2022-10-06","\u009e","2022-12-22",null,null,null,null,null,null,{"$f":"Sprache!$E$15","v":"Neue Rangliste"},null,null,null,null,null,null,null,{"$f":"Sprache!$E$37","v":"Neue Gesamtrangliste"}]
[null,{"$f":"Sprache!$E$16","v":"Datum"},{"$f":"Sprache!$E$17","v":"ID 1"},null,{"$f":"Sprache!$E$18","v":"ID 2"},null,{"$f":"Sprache!$E$19","v":"Ergebnis"},null,null,null,null,null,{"$f":"Sprache!$E$23","v":"Rang"},{"$f":"Sprache!$E$10","v":"Name"},{"$f":"Sprache!$E$32","v":"Verein"},{"$f":"Sprache!$E$33","v":"Punkte"},"+/-",{"$f":"Sprache!$E$35","v":"Spiele"},null,null,{"$f":"Sprache!$E$23","v":"Rang"},{"$f":"Sprache!$E$10","v":"Name"},{"$f":"Sprache!$E$32","v":"Verein"},{"$f":"Sprache!$E$33","v":"Punkte"},"+/-",{"$f":"Sprache!$E$35","v":"Spiele"}]
[null,"2022-11-20T19:00:00","QAT",{"$f":"IFERROR(VLOOKUP(C7,Teilnehmer!$B$3:$C$1002,2,0),\"\")","v":"Katar"},"ECU",{"$f":"IFERROR(VLOOKUP(E7,Teilnehmer!$B$3:$C$1002,2,0),\"\")","v":"Ecuador"},0,2,50,null,null,null,1,"Brasilien",null,1840.8182497794046,-0.48175022059535877,5,null,null,1,"Brasilien",null,1840.8182497794046,-0.48175022059535877,5]
[null,"2022-11-21T19:00:00","SEN",{"$f":"IFERROR(VLOOKUP(C8,Teilnehmer!$B$3:$C$1002,2,0),\"\")","v":"Senegal"},"NED",{"$f":"IFERROR(VLOOKUP(E8,Teilnehmer!$B$3:$C$1002,2,0),\"\")","v":"Niederlande"},0,2,50,null,null,null,2,"Argentinien",null,1837.7343303226655,63.854330322665419,7,null,null,2,"Argentinien",null,1837.7343303226655,63.854330322665419,7]
[null,"2022-11-21T16:00:00","ENG",{"$f":"IFERROR(VLOOKUP(C9,Teilnehmer!$B$3:$C$1002,2,0),\"\")","v":"England"},"IRN",{"$f":"IFERROR(VLOOKUP(E9,Teilnehmer!$B$3:$C$1002,2,0),\"\")","v":"IR Iran"},6,2,50,null,null,null,3,"Frankreich",null,1823.2467372678627,63.466737267862754,7,null,null,3,"Frankreich",null,1823.2467372678627,63.466737267862754,7]
[null,"2022-11-21T22:00:00","USA",{"$f":"IFERROR(VLOOKUP(C10,Teilnehmer!$B$3:$C$1002,2,0),\"\")","v":"USA"},"WAL",{"$f":"IFERROR(VLOOKUP(E10,Teilnehmer!$B$3:$C$1002,2,0),\"\")","v":"Wales"},1,1,50,null,null,null,4,"Belgien",null,1784.5833793496768,-32.126620650323275,3,null,null,4,"Belgien",null,1784.5833793496768,-32.126620650323275,3]
[null,"2022-11-22T22:00:00","FRA",{"$f":"IFERROR(VLOOKUP(C11,Teilnehmer!$B$3:$C$1002,2,0),\"\")","v":"Frankreich"},"AUS",{"$f":"IFERROR(VLOOKUP(E11,Teilnehmer!$B$3:$C$1002,2,0),\"\")","v":"Australien"},4,1,50,null,null,null,5,"England",null,1774.141308672524,45.671308672523992,5,null,null,5,"England",null,1774.141308672524,45.671308672523992,5]
[null,"2022-11-22T16:00:00","DEN",{"$f":"IFERROR(VLOOKUP(C12,Teilnehmer!$B$3:$C$1002,2,0),\"\")","v":"Dänemark"},"TUN",{"$f":"IFERROR(VLOOKUP(E12,Teilnehmer!$B$3:$C$1002,2,0),\"\")","v":"Tunesien"},0,0,50,null,null,null,6,"Niederlande",null,1740.6487785894392,46.138778589439198,5,null,null,6,"Niederlande",null,1740.6487785894392,46.138778589439198,5]
[null,"2022-11-22T19:00:00","MEX",{"$f":"IFERROR(VLOOKUP(C13,Teilnehmer!$B$3:$C$1002,2,0),\"\")","v":"Mexiko"},"POL",{"$f":"IFERROR(VLOOKUP(E13,Teilnehmer!$B$3:$C$1002,2,0),\"\")","v":"Polen"},0,0,50,null,null,null,7,"Kroatien",null,1726.5261155167407,80.886115516740574,7,null,null,7,"Kroatien",null,1726.5261155167407,80.886115516740574,7]
[null,"2022-11-22T13:00:00","ARG",{"$f":"IFERROR(VLOOKUP(C14,Teilnehmer!$B$3:$C$1002,2,0),\"\")","v":"Argentinien"},"KSA",{"$f":"IFERROR(VLOOKUP(E14,Teilnehmer!$B$3:$C$1002,2,0),\"\")","v":"Saudi-Arabien"},1,2,50,null,null,null,8,"Portugal",null,1701.1047147426118,24.544714742611859,5,null,null,8,"Portugal",null,1701.1047147426118,24.544714742611859,5]
[null,"2022-11-23T22:00:00","BEL",{"$f":"IFERROR(VLOOKUP(C15,Teilnehmer!$B$3:$C$1002,2,0),\"\")","v":"Belgien"},"CAN",{"$f":"IFERROR(VLOOKUP(E15,Teilnehmer!$B$3:$C$1002,2,0),\"\")","v":"Kanada"},1,0,50,null,null,null,9,"Spanien",null,1692.6875513100958,-22.532448689904186,4,null,null,9,"Spanien",null,1692.6875513100958,-22.532448689904186,4]
[null,"2022-11-23T19:00:00","ESP",{"$f":"IFERROR(VLOOKUP(C16,Teilnehmer!$B$3:$C$1002,2,0),\"\")","v":"Spanien"},"CRC",{"$f":"IFERROR(VLOOKUP(E16,Teilnehmer!$B$3:$C$1002,2,0),\"\")","v":"Costa Rica"},7,0,50,null,null,null,10,"Marokko",null,1671.1804237792071,107.6804237792071,7,null,null,10,"Marokko",null,1671.1804237792071,107.6804237792071,7]
[null,"2022-11-23T16:00:00","GER",{"$f":"IFERROR(VLOOKUP(C17,Teilnehmer!$B$3:$C$1002,2,0),\"\")","v":"Deutschland"},"JPN",{"$f":"IFERROR(VLOOKUP(E17,Teilnehmer!$B$3:$C$1002,2,0),\"\")","v":"Japan"},1,2,50,null,null,null,11,"Schweiz",null,1658.1326311161736,22.212631116173498,4,null,null,11,"Schweiz",null,1658.1326311161736,22.212631116173498,4]
[null,"2022-11-23T13:00:00","MAR",{"$f":"IFERROR(VLOOKUP(C18,Teilnehmer!$B$3:$C$1002,2,0),\"\")","v":"Marokko"},"CRO",{"$f":"IFERROR(VLOOKUP(E18,Teilnehmer!$B$3:$C$1002,2,0),\"\")","v":"Kroatien"},0,0,50,null,null,null,12,"USA",null,1652.7103236326968,25.230323632696809,4,null,null,12,"USA",null,1652.7103236326968,25.230323632696809,4]
[null,"2022-11-24T13:00:00","SUI",{"$f":"IFERROR(VLOOKUP(C19,Teilnehmer!$B$3:$C$1002,2,0),\"\")","v":"Schweiz"},"CMR",{"$f":"IFERROR(VLOOKUP(E19,Teilnehmer!$B$3:$C$1002,2,0),\"\")","v":"Kamerun"},1,0,50,null,null,null,13,"Deutschland",null,1645.976674709251,-4.2333252907490078,3,null,null,13,"Deutschland",null,1645.976674709251,-4.2333252907490078,3]
[null,"2022-11-24T16:00:00","URU",{"$f":"IFERROR(VLOOKUP(C20,Teilnehmer!$B$3:$C$1002,2,0),\"\")","v":"Uruguay"},"KOR",{"$f":"IFERROR(VLOOKUP(E20,Teilnehmer!$B$3:$C$1002,2,0),\"\")","v":"Korea Republik"},0,0,50,null,null,null,14,"Mexiko",null,1637.1741634022635,-7.7158365977365975,3,null,null,14,"Mexiko",null,1637.1741634022635,-7.7158365977365975,3]
[null,"2022-11-24T19:00:00","POR",{"$f":"IFERROR(VLOOKUP(C21,Teilnehmer!$B$3:$C$1002,2,0),\"\")","v":"Portugal"},"GHA",{"$f":"IFERROR(VLOOKUP(E21,Teilnehmer!$B$3:$C$1002,2,0),\"\")","v":"Ghana"},3,2,50,null,null,null,15,"Uruguay",null,1627.1475472750744,-11.562452724925606,3,null,null,15,"Uruguay",null,1627.1475472750744,-11.562452724925606,3]
[null,"2022-11-24T22:00:00","BRA",{"$f":"IFERROR(VLOOKUP(C22,Teilnehmer!$B$3:$C$1002,2,0),\"\")","v":"Brasilien"},"SRB",{"$f":"IFERROR(VLOOKUP(E22,Teilnehmer!$B$3:$C$1002,2,0),\"\")","v":"Serbien"},2,0,50,null,null,null,16,"Dänemark",null,1608.113005179637,-58.456994820362979,3,null,null,16,"Dänemark",null,1608.113005179637,-58.456994820362979,3]
[null,"2022-11-25T13:00:00","WAL",{"$f":"IFERROR(VLOOKUP(C23,Teilnehmer!$B$3:$C$1002,2,0),\"\")","v":"Wales"},"IRN",{"$f":"IFERROR(VLOOKUP(E23,Teilnehmer!$B$3:$C$1002,2,0),\"\")","v":"IR Iran"},0,2,50,null,null,null,17,"Senegal",null,1603.6426538698399,19.262653869839824,4,null,null,17,"Senegal",null,1603.6426538698399,19.262653869839824,4]
[null,"2022-11-25T16:00:00","QAT",{"$f":"IFERROR(VLOOKUP(C24,Teilnehmer!$B$3:$C$1002,2,0),\"\")","v":"Katar"},"SEN",{"$f":"IFERROR(VLOOKUP(E24,Teilnehmer!$B$3:$C$1002,2,0),\"\")","v":"Senegal"},1,3,50,null,null,null,18,"Japan",null,1595.2735498829391,35.733549882939087,4,null,null,18,"Japan",null,1595.2735498829391,35.733549882939087,4]
[null,"2022-11-25T19:00:00","NED",{"$f":"IFERROR(VLOOKUP(C25,Teilnehmer!$B$3:$C$1002,2,0),\"\")","v":"Niederlande"},"ECU",{"$f":"IFERROR(VLOOKUP(E25,Teilnehmer!$B$3:$C$1002,2,0),\"\")","v":"Ecuador"},1,1,50,null,null,null,19,"Polen",null,1557.8649270928411,9.2749270928411534,4,null,null,19,"Polen",null,1557.8649270928411,9.2749270928411534,4]
[null,"2022-11-25T22:00:00","ENG",{"$f":"IFERROR(VLOOKUP(C26,Teilnehmer!$B$3:$C$1002,2,0),\"\")","v":"England"},"USA",{"$f":"IFERROR(VLOOKUP(E26,Teilnehmer!$B$3:$C$1002,2,0),\"\")","v":"USA"},0,0,50,null,null,null,20,"IR Iran",null,1551.1598670925353,-13.450132907464649,3,null,null,20,"IR Iran",null,1551.1598670925353,-13.450132907464649,3]
[null,"2022-11-26T13:00:00","TUN",{"$f":"IFERROR(VLOOKUP(C27,Teilnehmer!$B$3:$C$1002,2,0),\"\")","v":"Tunesien"},"AUS",{"$f":"IFERROR(VLOOKUP(E27,Teilnehmer!$B$3:$C$1002,2,0),\"\")","v":"Australien"},0,1,50,null,null,null,21,"Korea Republik",null,1537.6940853063384,7.3940853063384111,4,null,null,21,"Korea Republik",null,1537.6940853063384,7.3940853063384111,4]
[null,"2022-11-26T16:00:00","POL",{"$f":"IFERROR(VLOOKUP(C28,Teilnehmer!$B$3:$C$1002,2,0),\"\")","v":"Polen"},"KSA",{"$f":"IFERROR(VLOOKUP(E28,Teilnehmer!$B$3:$C$1002,2,0),\"\")","v":"Saudi-Arabien"},2,0,50,null,null,null,22,"Australien",null,1533.9695399163395,45.249539916339472,4,null,null,22,"Australien",null,1533.9695399163395,45.249539916339472,4]
[null,"2022-11-26T19:00:00","FRA",{"$f":"IFERROR(VLOOKUP(C29,Teilnehmer!$B$3:$C$1002,2,0),\"\")","v":"Frankreich"},"DEN",{"$f":"IFERROR(VLOOKUP(E29,Teilnehmer!$B$3:$C$1002,2,0),\"\")","v":"Dänemark"},2,1,50,null,null,null,23,"Wales",null,1530.249706846158,-39.570293153841931,3,null,null,23,"Wales",null,1530.249706846158,-39.570293153841931,3]
[null,"2022-11-26T22:00:00","ARG",{"$f":"IFERROR(VLOOKUP(C30,Teilnehmer!$B$3:$C$1002,2,0),\"\")","v":"Argentinien"},"MEX",{"$f":"IFERROR(VLOOKUP(E30,Teilnehmer!$B$3:$C$1002,2,0),\"\")","v":"Mexiko"},2,0,50,null,null,null,24,"Tunesien",null,1526.2009853978452,18.660985397845252,3,null,null,24,"Tunesien",null,1526.2009853978452,18.660985397845252,3]
[null,"2022-11-27T13:00:00","JPN",{"$f":"IFERROR(VLOOKUP(C31,Teilnehmer!$B$3:$C$1002,2,0),\"\")","v":"Japan"},"CRC",{"$f":"IFERROR(VLOOKUP(E31,Teilnehmer!$B$3:$C$1002,2,0),\"\")","v":"Costa Rica"},0,1,50,null,null,null,25,"Serbien",null,1525.5535582737702,-38.066441726229641,3,null,null,25,"Serbien",null,1525.5535582737702,-38.066441726229641,3]
[null,"2022-11-27T16:00:00","BEL",{"$f":"IFERROR(VLOOKUP(C32,Teilnehmer!$B$3:$C$1002,2,0),\"\")","v":"Belgien"},"MAR",{"$f":"IFERROR(VLOOKUP(E32,Teilnehmer!$B$3:$C$1002,2,0),\"\")","v":"Marokko"},0,2,50,null,null,null,26,"Kamerun",null,1500.1138938162321,28.673893816232066,3,null,null,26,"Kamerun",null,1500.1138938162321,28.673893816232066,3]
[null,"2022-11-27T19:00:00","CRO",{"$f":"IFERROR(VLOOKUP(C33,Teilnehmer!$B$3:$C$1002,2,0),\"\")","v":"Kroatien"},"CAN",{"$f":"IFERROR(VLOOKUP(E33,Teilnehmer!$B$3:$C$1002,2,0),\"\")","v":"Kanada"},4,1,50,null,null,null,27,"Costa Rica",null,1498.0991626264918,-5.4908373735081568,3,null,null,27,"Costa Rica",null,1498.0991626264918,-5.4908373735081568,3]
[null,"2022-11-27T22:00:00","ESP",{"$f":"IFERROR(VLOOKUP(C34,Teilnehmer!$B$3:$C$1002,2,0),\"\")","v":"Spanien"},"GER",{"$f":"IFERROR(VLOOKUP(E34,Teilnehmer!$B$3:$C$1002,2,0),\"\")","v":"Deutschland"},1,1,50,null,null,null,28,"Ecuador",null,1477.4336325277422,13.043632527742147,3,null,null,28,"Ecuador",null,1477.4336325277422,13.043632527742147,3]
[null,"2022-11-28T13:00:00","CMR",{"$f":"IFERROR(VLOOKUP(C35,Teilnehmer!$B$3:$C$1002,2,0),\"\")","v":"Kamerun"},"SRB",{"$f":"IFERROR(VLOOKUP(E35,Teilnehmer!$B$3:$C$1002,2,0),\"\")","v":"Serbien"},3,3,50,null,null,null,29,"Saudi-Arabien",null,1438.2395693909043,0.4595693909043348,3,null,null,29,"Saudi-Arabien",null,1438.2395693909043,0.4595693909043348,3]
[null,"2022-11-28T16:00:00","KOR",{"$f":"IFERROR(VLOOKUP(C36,Teilnehmer!$B$3:$C$1002,2,0),\"\")","v":"Korea Republik"},"GHA",{"$f":"IFERROR(VLOOKUP(E36,Teilnehmer!$B$3:$C$1002,2,0),\"\")","v":"Ghana"},2,3,50,null,null,null,30,"Kanada",null,1429.863744647593,-45.136255352407034,3,null,null,30,"Kanada",null,1429.863744647593,-45.136255352407034,3]
[null,"2022-11-28T19:00:00","BRA",{"$f":"IFERROR(VLOOKUP(C37,Teilnehmer!$B$3:$C$1002,2,0),\"\")","v":"Brasilien"},"SUI",{"$f":"IFERROR(VLOOKUP(E37,Teilnehmer!$B$3:$C$1002,2,0),\"\")","v":"Schweiz"},1,0,50,null,null,null,31,"Ghana",null,1396.718497492644,3.7184974926440191,3,null,null,31,"Ghana",null,1396.718497492644,3.7184974926440191,3]
[null,"2022-11-28T22:00:00","POR",{"$f":"IFERROR(VLOOKUP(C38,Teilnehmer!$B$3:$C$1002,2,0),\"\")","v":"Portugal"},"URU",{"$f":"IFERROR(VLOOKUP(E38,Teilnehmer!$B$3:$C$1002,2,0),\"\")","v":"Uruguay"},2,0,50,null,null,null,32,"Katar",null,1386.2015665539955,-53.688433446004638,3,null,null,32,"Katar",null,1386.2015665539955,-53.688433446004638,3]
[null,"2022-11-29T22:00:00","WAL",{"$f":"IFERROR(VLOOKUP(C39,Teilnehmer!$B$3:$C$1002,2,0),\"\")","v":"Wales"},"ENG",{"$f":"IFERROR(VLOOKUP(E39,Teilnehmer!$B$3:$C$1002,2,0),\"\")","v":"England"},0,3,50]
[null,"2022-11-29T22:00:00","IRN",{"$f":"IFERROR(VLOOKUP(C40,Teilnehmer!$B$3:$C$1002,2,0),\"\")","v":"IR Iran"},"USA",{"$f":"IFERROR(VLOOKUP(E40,Teilnehmer!$B$3:$C$1002,2,0),\"\")","v":"USA"},0,1,50]
[null,"2022-11-29T18:00:00","ECU",{"$f":"IFERROR(VLOOKUP(C41,Teilnehmer!$B$3:$C$1002,2,0),\"\")","v":"Ecuador"},"SEN",{"$f":"IFERROR(VLOOKUP(E41,Teilnehmer!$B$3:$C$1002,2,0),\"\")","v":"Senegal"},1,2,50]
[null,"2022-11-29T18:00:00","NED",{"$f":"IFERROR(VLOOKUP(C42,Teilnehmer!$B$3:$C$1002,2,0),\"\")","v":"Niederlande"},"QAT",{"$f":"IFERROR(VLOOKUP(E42,Teilnehmer!$B$3:$C$1002,2,0),\"\")","v":"Katar"},2,0,50]
[null,"2022-11-30T18:00:00","AUS",{"$f":"IFERROR(VLOOKUP(C43,Teilnehmer!$B$3:$C$1002,2,0),\"\")","v":"Australien"},"DEN",{"$f":"IFERROR(VLOOKUP(E43,Teilnehmer!$B$3:$C$1002,2,0),\"\")","v":"Dänemark"},1,0,50]
[null,"2022-11-30T18:00:00","TUN",{"$f":"IFERROR(VLOOKUP(C44,Teilnehmer!$B$3:$C$1002,2,0),\"\")","v":"Tunesien"},"FRA",{"$f":"IFERROR(VLOOKUP(E44,Teilnehmer!$B$3:$C$1002,2,0),\"\")","v":"Frankreich"},1,0,50]
[null,"2022-11-30T22:00:00","POL",{"$f":"IFERROR(VLOOKUP(C45,Teilnehmer!$B$3:$C$1002,2,0),\"\")","v":"Polen"},"ARG",{"$f":"IFERROR(VLOOKUP(E45,Teilnehmer!$B$3:$C$1002,2,0),\"\")","v":"Argentinien"},0,2,50]
[null,"2022-11-30T22:00:00","KSA",{"$f":"IFERROR(VLOOKUP(C46,Teilnehmer!$B$3:$C$1002,2,0),\"\")","v":"Saudi-Arabien"},"MEX",{"$f":"IFERROR(VLOOKUP(E46,Teilnehmer!$B$3:$C$1002,2,0),\"\")","v":"Mexiko"},1,2,50]
[null,"2022-12-01T18:00:00","CRO",{"$f":"IFERROR(VLOOKUP(C47,Teilnehmer!$B$3:$C$1002,2,0),\"\")","v":"Kroatien"},"BEL",{"$f":"IFERROR(VLOOKUP(E47,Teilnehmer!$B$3:$C$1002,2,0),\"\")","v":"Belgien"},0,0,50]
[null,"2022-12-01T18:00:00","CAN",{"$f":"IFERROR(VLOOKUP(C48,Teilnehmer!$B$3:$C$1002,2,0),\"\")","v":"Kanada"},"MAR",{"$f":"IFERROR(VLOOKUP(E48,Teilnehmer!$B$3:$C$1002,2,0),\"\")","v":"Marokko"},1,2,50]
[null,"2022-12-01T22:00:00","JPN",{"$f":"IFERROR(VLOOKUP(C49,Teilnehmer!$B$3:$C$1002,2,0),\"\")","v":"Japan"},"ESP",{"$f":"IFERROR(VLOOKUP(E49,Teilnehmer!$B$3:$C$1002,2,0),\"\")","v":"Spanien"},2,1,50]
[null,"2022-12-01T22:00:00","CRC",{"$f":"IFERROR(VLOOKUP(C50,Teilnehmer!$B$3:$C$1002,2,0),\"\")","v":"Costa Rica"},"GER",{"$f":"IFERROR(VLOOKUP(E50,Teilnehmer!$B$3:$C$1002,2,0),\"\")","v":"Deutschland"},2,4,50]
[null,"2022-12-02T18:00:00","GHA",{"$f":"IFERROR(VLOOKUP(C51,Teilnehmer!$B$3:$C$1002,2,0),\"\")","v":"Ghana"},"URU",{"$f":"IFERROR(VLOOKUP(E51,Teilnehmer!$B$3:$C$1002,2,0),\"\")","v":"Uruguay"},0,2,50]
[null,"2022-12-02T18:00:00","KOR",{"$f":"IFERROR(VLOOKUP(C52,Teilnehmer!$B$3:$C$1002,2,0),\"\")","v":"Korea Republik"},"POR",{"$f":"IFERROR(VLOOKUP(E52,Teilnehmer!$B$3:$C$1002,2,0),\"\")","v":"Portugal"},2,1,50]
[null,"2022-12-02T22:00:00","SRB",{"$f":"IFERROR(VLOOKUP(C53,Teilnehmer!$B$3:$C$1002,2,0),\"\")","v":"Serbien"},"SUI",{"$f":"IFERROR(VLOOKUP(E53,Teilnehmer!$B$3:$C$1002,2,0),\"\")","v":"Schweiz"},2,3,50]
[null,"2022-12-02T22:00:00","CMR",{"$f":"IFERROR(VLOOKUP(C54,Teilnehmer!$B$3:$C$1002,2,0),\"\")","v":"Kamerun"},"BRA",{"$f":"IFERROR(VLOOKUP(E54,Teilnehmer!$B$3:$C$1002,2,0),\"\")","v":"Brasilien"},1,0,50]
[null,"2022-12-03T18:00:00","NED",{"$f":"IFERROR(VLOOKUP(C55,Teilnehmer!$B$3:$C$1002,2,0),\"\")","v":"Niederlande"},"USA",{"$f":"IFERROR(VLOOKUP(E55,Teilnehmer!$B$3:$C$1002,2,0),\"\")","v":"USA"},3,1,50,null,"k"]
[null,"2022-12-03T22:00:00","ARG",{"$f":"IFERROR(VLOOKUP(C56,Teilnehmer!$B$3:$C$1002,2,0),\"\")","v":"Argentinien"},"AUS",{"$f":"IFERROR(VLOOKUP(E56,Teilnehmer!$B$3:$C$1002,2,0),\"\")","v":"Australien"},2,1,50,null,"k"]
[null,"2022-12-04T22:00:00","ENG",{"$f":"IFERROR(VLOOKUP(C57,Teilnehmer!$B$3:$C$1002,2,0),\"\")","v":"England"},"SEN",{"$f":"IFERROR(VLOOKUP(E57,Teilnehmer!$B$3:$C$1002,2,0),\"\")","v":"Senegal"},3,0,50,null,"k"]
[null,"2022-12-04T18:00:00","FRA",{"$f":"IFERROR(VLOOKUP(C58,Teilnehmer!$B$3:$C$1002,2,0),\"\")","v":"Frankreich"},"POL",{"$f":"IFERROR(VLOOKUP(E58,Teilnehmer!$B$3:$C$1002,2,0),\"\")","v":"Polen"},3,1,50,null,"k"]
[null,"2022-12-05T18:00:00","JPN",{"$f":"IFERROR(VLOOKUP(C59,Teilnehmer!$B$3:$C$1002,2,0),\"\")","v":"Japan"},"CRO",{"$f":"IFERROR(VLOOKUP(E59,Teilnehmer!$B$3:$C$1002,2,0),\"\")","v":"Kroatien"},2,4,50,"e","k"]
[null,"2022-12-05T22:00:00","BRA",{"$f":"IFERROR(VLOOKUP(C60,Teilnehmer!$B$3:$C$1002,2,0),\"\")","v":"Brasilien"},"KOR",{"$f":"IFERROR(VLOOKUP(E60,Teilnehmer!$B$3:$C$1002,2,0),\"\")","v":"Korea Republik"},4,1,50,null,"k"]
[null,"2022-12-06T18:00:00","MAR",{"$f":"IFERROR(VLOOKUP(C61,Teilnehmer!$B$3:$C$1002,2,0),\"\")","v":"Marokko"},"ESP",{"$f":"IFERROR(VLOOKUP(E61,Teilnehmer!$B$3:$C$1002,2,0),\"\")","v":"Spanien"},3,0,50,"e","k"]
[null,"2022-12-06T22:00:00","POR",{"$f":"IFERROR(VLOOKUP(C62,Teilnehmer!$B$3:$C$1002,2,0),\"\")","v":"Portugal"},"SUI",{"$f":"IFERROR(VLOOKUP(E62,Teilnehmer!$B$3:$C$1002,2,0),\"\")","v":"Schweiz"},6,1,50,null,"k"]
[null,"2022-12-09T22:00:00","CRO",{"$f":"IFERROR(VLOOKUP(C63,Teilnehmer!$B$3:$C$1002,2,0),\"\")","v":"Kroatien"},"BRA",{"$f":"IFERROR(VLOOKUP(E63,Teilnehmer!$B$3:$C$1002,2,0),\"\")","v":"Brasilien"},5,3,60,"e","k"]
[null,"2022-12-09T18:00:00","NED",{"$f":"IFERROR(VLOOKUP(C64,Teilnehmer!$B$3:$C$1002,2,0),\"\")","v":"Niederlande"},"ARG",{"$f":"IFERROR(VLOOKUP(E64,Teilnehmer!$B$3:$C$1002,2,0),\"\")","v":"Argentinien"},5,6,60,"e","k"]
[null,"2022-12-10T22:00:00","MAR",{"$f":"IFERROR(VLOOKUP(C65,Teilnehmer!$B$3:$C$1002,2,0),\"\")","v":"Marokko"},"POR",{"$f":"IFERROR(VLOOKUP(E65,Teilnehmer!$B$3:$C$1002,2,0),\"\")","v":"Portugal"},1,0,60,null,"k"]
[null,"2022-12-10T18:00:00","ENG",{"$f":"IFERROR(VLOOKUP(C66,Teilnehmer!$B$3:$C$1002,2,0),\"\")","v":"England"},"FRA",{"$f":"IFERROR(VLOOKUP(E66,Teilnehmer!$B$3:$C$1002,2,0),\"\")","v":"Frankreich"},1,2,60,null,"k"]
[null,"2022-12-13T22:00:00","ARG",{"$f":"IFERROR(VLOOKUP(C67,Teilnehmer!$B$3:$C$1002,2,0),\"\")","v":"Argentinien"},"CRO",{"$f":"IFERROR(VLOOKUP(E67,Teilnehmer!$B$3:$C$1002,2,0),\"\")","v":"Kroatien"},3,0,60,null,"k"]
[null,"2022-12-14T22:00:00","FRA",{"$f":"IFERROR(VLOOKUP(C68,Teilnehmer!$B$3:$C$1002,2,0),\"\")","v":"Frankreich"},"MAR",{"$f":"IFERROR(VLOOKUP(E68,Teilnehmer!$B$3:$C$1002,2,0),\"\")","v":"Marokko"},2,0,60,null,"k"]
[null,"2022-12-17T18:00:00","CRO",{"$f":"IFERROR(VLOOKUP(C69,Teilnehmer!$B$3:$C$1002,2,0),\"\")","v":"Kroatien"},"MAR",{"$f":"IFERROR(VLOOKUP(E69,Teilnehmer!$B$3:$C$1002,2,0),\"\")","v":"Marokko"},2,1,60,null,"k"]
[null,"2022-12-18T18:00:00","ARG",{"$f":"IFERROR(VLOOKUP(C70,Teilnehmer!$B$3:$C$1002,2,0),\"\")","v":"Argentinien"},"FRA",{"$f":"IFERROR(VLOOKUP(E70,Teilnehmer!$B$3:$C$1002,2,0),\"\")","v":"Frankreich"},7,5,60,"e","k"]
[null,null,null,{"$f":"IFERROR(VLOOKUP(C71,Teilnehmer!$B$3:$C$1002,2,0),\"\")","v":""},null,{"$f":"IFERROR(VLOOKUP(E71,Teilnehmer!$B$3:$C$1002,2,0),\"\")","v":""}]
[null,null,null,{"$f":"IFERROR(VLOOKUP(C72,Teilnehmer!$B$3:$C$1002,2,0),\"\")","v":""},null,{"$f":"IFERROR(VLOOKUP(E72,Teilnehmer!$B$3:$C$1002,2,0),\"\")","v":""}]
[null,null,null,{"$f":"IFERROR(VLOOKUP(C73,Teilnehmer!$B$3:$C$1002,2,0),\"\")","v":""},null,{"$f":"IFERROR(VLOOKUP(E73,Teilnehmer!$B$3:$C$1002,2,0),\"\")","v":""}]
[null,null,null,{"$f":"IFERROR(VLOOKUP(C74,Teilnehmer!$B$3:$C$1002,2,0),\"\")","v":""},null,{"$f":"IFERROR(VLOOKUP(E74,Teilnehmer!$B$3:$C$1002,2,0),\"\")","v":""}]
[null,null,null,{"$f":"IFERROR(VLOOKUP(C75,Teilnehmer!$B$3:$C$1002,2,0),\"\")","v":""},null,{"$f":"IFERROR(VLOOKUP(E75,Teilnehmer!$B$3:$C$1002,2,0),\"\")","v":""}]
[null,null,null,{"$f":"IFERROR(VLOOKUP(C76,Teilnehmer!$B$3:$C$1002,2,0),\"\")","v":""},null,{"$f":"IFERROR(VLOOKUP(E76,Teilnehmer!$B$3:$C$1002,2,0),\"\")","v":""}]
[null,null,null,{"$f":"IFERROR(VLOOKUP(C77,Teilnehmer!$B$3:$C$1002,2,0),\"\")","v":""},null,{"$f":"IFERROR(VLOOKUP(E77,Teilnehmer!$B$3:$C$1002,2,0),\"\")","v":""}]
[null,null,null,{"$f":"IFERROR(VLOOKUP(C78,Teilnehmer!$B$3:$C$1002,2,0),\"\")","v":""},null,{"$f":"IFERROR(VLOOKUP(E78,Teilnehmer!$B$3:$C$1002,2,0),\"\")","v":""}]
[null,null,null,{"$f":"IFERROR(VLOOKUP(C79,Teilnehmer!$B$3:$C$1002,2,0),\"\")","v":""},null,{"$f":"IFERROR(VLOOKUP(E79,Teilnehmer!$B$3:$C$1002,2,0),\"\")","v":""}]
[null,null,null,{"$f":"IFERROR(VLOOKUP(C80,Teilnehmer!$B$3:$C$1002,2,0),\"\")","v":""},null,{"$f":"IFERROR(VLOOKUP(E80,Teilnehmer!$B$3:$C$1002,2,0),\"\")","v":""}]
[null,null,null,{"$f":"IFERROR(VLOOKUP(C81,Teilnehmer!$B$3:$C$1002,2,0),\"\")","v":""},null,{"$f":"IFERROR(VLOOKUP(E81,Teilnehmer!$B$3:$C$1002,2,0),\"\")","v":""}]
[null,null,null,{"$f":"IFERROR(VLOOKUP(C82,Teilnehmer!$B$3:$C$1002,2,0),\"\")","v":""},null,{"$f":"IFERROR(VLOOKUP(E82,Teilnehmer!$B$3:$C$1002,2,0),\"\")","v":""}]
[null,null,null,{"$f":"IFERROR(VLOOKUP(C83,Teilnehmer!$B$3:$C$1002,2,0),\"\")","v":""},null,{"$f":"IFERROR(VLOOKUP(E83,Teilnehmer!$B$3:$C$1002,2,0),\"\")","v":""}]
[null,null,null,{"$f":"IFERROR(VLOOKUP(C84,Teilnehmer!$B$3:$C$1002,2,0),\"\")","v":""},null,{"$f":"IFERROR(VLOOKUP(E84,Teilnehmer!$B$3:$C$1002,2,0),\"\")","v":""}]
[null,null,null,{"$f":"IFERROR(VLOOKUP(C85,Teilnehmer!$B$3:$C$1002,2,0),\"\")","v":""},null,{"$f":"IFERROR(VLOOKUP(E85,Teilnehmer!$B$3:$C$1002,2,0),\"\")","v":""}]
[null,null,null,{"$f":"IFERROR(VLOOKUP(C86,Teilnehmer!$B$3:$C$1002,2,0),\"\")","v":""},null,{"$f":"IFERROR(VLOOKUP(E86,Teilnehmer!$B$3:$C$1002,2,0),\"\")","v":""}]
[null,null,null,{"$f":"IFERROR(VLOOKUP(C87,Teilnehmer!$B$3:$C$1002,2,0),\"\")","v":""},null,{"$f":"IFERROR(VLOOKUP(E87,Teilnehmer!$B$3:$C$1002,2,0),\"\")","v":""}]
[null,null,null,{"$f":"IFERROR(VLOOKUP(C88,Teilnehmer!$B$3:$C$1002,2,0),\"\")","v":""},null,{"$f":"IFERROR(VLOOKUP(E88,Teilnehmer!$B$3:$C$1002,2,0),\"\")","v":""}]
[null,null,null,{"$f":"IFERROR(VLOOKUP(C89,Teilnehmer!$B$3:$C$1002,2,0),\"\")","v":""},null,{"$f":"IFERROR(VLOOKUP(E89,Teilnehmer!$B$3:$C$1002,2,0),\"\")","v":""}]
[null,null,null,{"$f":"IFERROR(VLOOKUP(C90,Teilnehmer!$B$3:$C$1002,2,0),\"\")","v":""},null,{"$f":"IFERROR(VLOOKUP(E90,Teilnehmer!$B$3:$C$1002,2,0),\"\")","v":""}]
[null,null,null,{"$f":"IFERROR(VLOOKUP(C91,Teilnehmer!$B$3:$C$1002,2,0),\"\")","v":""},null,{"$f":"IFERROR(VLOOKUP(E91,Teilnehmer!$B$3:$C$1002,2,0),\"\")","v":""}]
[null,null,null,{"$f":"IFERROR(VLOOKUP(C92,Teilnehmer!$B$3:$C$1002,2,0),\"\")","v":""},null,{"$f":"IFERROR(VLOOKUP(E92,Teilnehmer!$B$3:$C$1002,2,0),\"\")","v":""}]
[null,null,null,{"$f":"IFERROR(VLOOKUP(C93,Teilnehmer!$B$3:$C$1002,2,0),\"\")","v":""},null,{"$f":"IFERROR(VLOOKUP(E93,Teilnehmer!$B$3:$C$1002,2,0),\"\")","v":""}]
[null,null,null,{"$f":"IFERROR(VLOOKUP(C94,Teilnehmer!$B$3:$C$1002,2,0),\"\")","v":""},null,{"$f":"IFERROR(VLOOKUP(E94,Teilnehmer!$B$3:$C$1002,2,0),\"\")","v":""}]
[null,null,null,{"$f":"IFERROR(VLOOKUP(C95,Teilnehmer!$B$3:$C$1002,2,0),\"\")","v":""},null,{"$f":"IFERROR(VLOOKUP(E95,Teilnehmer!$B$3:$C$1002,2,0),\"\")","v":""}]
[null,null,null,{"$f":"IFERROR(VLOOKUP(C96,Teilnehmer!$B$3:$C$1002,2,0),\"\")","v":""},null,{"$f":"IFERROR(VLOOKUP(E96,Teilnehmer!$B$3:$C$1002,2,0),\"\")","v":""}]
[null,null,null,{"$f":"IFERROR(VLOOKUP(C97,Teilnehmer!$B$3:$C$1002,2,0),\"\")","v":""},null,{"$f":"IFERROR(VLOOKUP(E97,Teilnehmer!$B$3:$C$1002,2,0),\"\")","v":""}]
[null,null,null,{"$f":"IFERROR(VLOOKUP(C98,Teilnehmer!$B$3:$C$1002,2,0),\"\")","v":""},null,{"$f":"IFERROR(VLOOKUP(E98,Teilnehmer!$B$3:$C$1002,2,0),\"\")","v":""}]
[null,null,null,{"$f":"IFERROR(VLOOKUP(C99,Teilnehmer!$B$3:$C$1002,2,0),\"\")","v":""},null,{"$f":"IFERROR(VLOOKUP(E99,Teilnehmer!$B$3:$C$1002,2,0),\"\")","v":""}]
[null,null,null,{"$f":"IFERROR(VLOOKUP(C100,Teilnehmer!$B$3:$C$1002,2,0),\"\")","v":""},null,{"$f":"IFERROR(VLOOKUP(E100,Teilnehmer!$B$3:$C$1002,2,0),\"\")","v":""}]
[null,null,null,{"$f":"IFERROR(VLOOKUP(C101,Teilnehmer!$B$3:$C$1002,2,0),\"\")","v":""},null,{"$f":"IFERROR(VLOOKUP(E101,Teilnehmer!$B$3:$C$1002,2,0),\"\")","v":""}]
[null,null,null,{"$f":"IFERROR(VLOOKUP(C102,Teilnehmer!$B$3:$C$1002,2,0),\"\")","v":""},null,{"$f":"IFERROR(VLOOKUP(E102,Teilnehmer!$B$3:$C$1002,2,0),\"\")","v":""}]
[null,null,null,{"$f":"IFERROR(VLOOKUP(C103,Teilnehmer!$B$3:$C$1002,2,0),\"\")","v":""},null,{"$f":"IFERROR(VLOOKUP(E103,Teilnehmer!$B$3:$C$1002,2,0),\"\")","v":""}]
[null,null,null,{"$f":"IFERROR(VLOOKUP(C104,Teilnehmer!$B$3:$C$1002,2,0),\"\")","v":""},null,{"$f":"IFERROR(VLOOKUP(E104,Teilnehmer!$B$3:$C$1002,2,0),\"\")","v":""}]
[null,null,null,{"$f":"IFERROR(VLOOKUP(C105,Teilnehmer!$B$3:$C$1002,2,0),\"\")","v":""},null,{"$f":"IFERROR(VLOOKUP(E105,Teilnehmer!$B$3:$C$1002,2,0),\"\")","v":""}]
[null,null,null,{"$f":"IFERROR(VLOOKUP(C106,Teilnehmer!$B$3:$C$1002,2,0),\"\")","v":""},null,{"$f":"IFERROR(VLOOKUP(E106,Teilnehmer!$B$3:$C$1002,2,0),\"\")","v":""}]
[null,null,null,{"$f":"IFERROR(VLOOKUP(C107,Teilnehmer!$B$3:$C$1002,2,0),\"\")","v":""},null,{"$f":"IFERROR(VLOOKUP(E107,Teilnehmer!$B$3:$C$1002,2,0),\"\")","v":""}]
[null,null,null,{"$f":"IFERROR(VLOOKUP(C108,Teilnehmer!$B$3:$C$1002,2,0),\"\")","v":""},null,{"$f":"IFERROR(VLOOKUP(E108,Teilnehmer!$B$3:$C$1002,2,0),\"\")","v":""}]
[null,null,null,{"$f":"IFERROR(VLOOKUP(C109,Teilnehmer!$B$3:$C$1002,2,0),\"\")","v":""},null,{"$f":"IFERROR(VLOOKUP(E109,Teilnehmer!$B$3:$C$1002,2,0),\"\")","v":""}]
[null,null,null,{"$f":"IFERROR(VLOOKUP(C110,Teilnehmer!$B$3:$C$1002,2,0),\"\")","v":""},null,{"$f":"IFERROR(VLOOKUP(E110,Teilnehmer!$B$3:$C$1002,2,0),\"\")","v":""}]
[null,null,null,{"$f":"IFERROR(VLOOKUP(C111,Teilnehmer!$B$3:$C$1002,2,0),\"\")","v":""},null,{"$f":"IFERROR(VLOOKUP(E111,Teilnehmer!$B$3:$C$1002,2,0),\"\")","v":""}]
[null,null,null,{"$f":"IFERROR(VLOOKUP(C112,Teilnehmer!$B$3:$C$1002,2,0),\"\")","v":""},null,{"$f":"IFERROR(VLOOKUP(E112,Teilnehmer!$B$3:$C$1002,2,0),\"\")","v":""}]
[null,null,null,{"$f":"IFERROR(VLOOKUP(C113,Teilnehmer!$B$3:$C$1002,2,0),\"\")","v":""},null,{"$f":"IFERROR(VLOOKUP(E113,Teilnehmer!$B$3:$C$1002,2,0),\"\")","v":""}]
[null,null,null,{"$f":"IFERROR(VLOOKUP(C114,Teilnehmer!$B$3:$C$1002,2,0),\"\")","v":""},null,{"$f":"IFERROR(VLOOKUP(E114,Teilnehmer!$B$3:$C$1002,2,0),\"\")","v":""}]
[null,null,null,{"$f":"IFERROR(VLOOKUP(C115,Teilnehmer!$B$3:$C$1002,2,0),\"\")","v":""},null,{"$f":"IFERROR(VLOOKUP(E115,Teilnehmer!$B$3:$C$1002,2,0),\"\")","v":""}]
[null,null,null,{"$f":"IFERROR(VLOOKUP(C116,Teilnehmer!$B$3:$C$1002,2,0),\"\")","v":""},null,{"$f":"IFERROR(VLOOKUP(E116,Teilnehmer!$B$3:$C$1002,2,0),\"\")","v":""}]
[null,null,null,{"$f":"IFERROR(VLOOKUP(C117,Teilnehmer!$B$3:$C$1002,2,0),\"\")","v":""},null,{"$f":"IFERROR(VLOOKUP(E117,Teilnehmer!$B$3:$C$1002,2,0),\"\")","v":""}]
[null,null,null,{"$f":"IFERROR(VLOOKUP(C118,Teilnehmer!$B$3:$C$1002,2,0),\"\")","v":""},null,{"$f":"IFERROR(VLOOKUP(E118,Teilnehmer!$B$3:$C$1002,2,0),\"\")","v":""}]
[null,null,null,{"$f":"IFERROR(VLOOKUP(C119,Teilnehmer!$B$3:$C$1002,2,0),\"\")","v":""},null,{"$f":"IFERROR(VLOOKUP(E119,Teilnehmer!$B$3:$C$1002,2,0),\"\")","v":""}]
[null,null,null,{"$f":"IFERROR(VLOOKUP(C120,Teilnehmer!$B$3:$C$1002,2,0),\"\")","v":""},null,{"$f":"IFERROR(VLOOKUP(E120,Teilnehmer!$B$3:$C$1002,2,0),\"\")","v":""}]
[null,null,null,{"$f":"IFERROR(VLOOKUP(C121,Teilnehmer!$B$3:$C$1002,2,0),\"\")","v":""},null,{"$f":"IFERROR(VLOOKUP(E121,Teilnehmer!$B$3:$C$1002,2,0),\"\")","v":""}]
[null,null,null,{"$f":"IFERROR(VLOOKUP(C122,Teilnehmer!$B$3:$C$1002,2,0),\"\")","v":""},null,{"$f":"IFERROR(VLOOKUP(E122,Teilnehmer!$B$3:$C$1002,2,0),\"\")","v":""}]
[null,null,null,{"$f":"IFERROR(VLOOKUP(C123,Teilnehmer!$B$3:$C$1002,2,0),\"\")","v":""},null,{"$f":"IFERROR(VLOOKUP(E123,Teilnehmer!$B$3:$C$1002,2,0),\"\")","v":""}]
[null,null,null,{"$f":"IFERROR(VLOOKUP(C124,Teilnehmer!$B$3:$C$1002,2,0),\"\")","v":""},null,{"$f":"IFERROR(VLOOKUP(E124,Teilnehmer!$B$3:$C$1002,2,0),\"\")","v":""}]
[null,null,null,{"$f":"IFERROR(VLOOKUP(C125,Teilnehmer!$B$3:$C$1002,2,0),\"\")","v":""},null,{"$f":"IFERROR(VLOOKUP(E125,Teilnehmer!$B$3:$C$1002,2,0),\"\")","v":""}]
[null,null,null,{"$f":"IFERROR(VLOOKUP(C126,Teilnehmer!$B$3:$C$1002,2,0),\"\")","v":""},null,{"$f":"IFERROR(VLOOKUP(E126,Teilnehmer!$B$3:$C$1002,2,0),\"\")","v":""}]
[null,null,null,{"$f":"IFERROR(VLOOKUP(C127,Teilnehmer!$B$3:$C$1002,2,0),\"\")","v":""},null,{"$f":"IFERROR(VLOOKUP(E127,Teilnehmer!$B$3:$C$1002,2,0),\"\")","v":""}]
[null,null,null,{"$f":"IFERROR(VLOOKUP(C128,Teilnehmer!$B$3:$C$1002,2,0),\"\")","v":""},null,{"$f":"IFERROR(VLOOKUP(E128,Teilnehmer!$B$3:$C$1002,2,0),\"\")","v":""}]
[null,null,null,{"$f":"IFERROR(VLOOKUP(C129,Teilnehmer!$B$3:$C$1002,2,0),\"\")","v":""},null,{"$f":"IFERROR(VLOOKUP(E129,Teilnehmer!$B$3:$C$1002,2,0),\"\")","v":""}]
[null,null,null,{"$f":"IFERROR(VLOOKUP(C130,Teilnehmer!$B$3:$C$1002,2,0),\"\")","v":""},null,{"$f":"IFERROR(VLOOKUP(E130,Teilnehmer!$B$3:$C$1002,2,0),\"\")","v":""}]
[null,null,null,{"$f":"IFERROR(VLOOKUP(C131,Teilnehmer!$B$3:$C$1002,2,0),\"\")","v":""},null,{"$f":"IFERROR(VLOOKUP(E131,Teilnehmer!$B$3:$C$1002,2,0),\"\")","v":""}]
[null,null,null,{"$f":"IFERROR(VLOOKUP(C132,Teilnehmer!$B$3:$C$1002,2,0),\"\")","v":""},null,{"$f":"IFERROR(VLOOKUP(E132,Teilnehmer!$B$3:$C$1002,2,0),\"\")","v":""}]
[null,null,null,{"$f":"IFERROR(VLOOKUP(C133,Teilnehmer!$B$3:$C$1002,2,0),\"\")","v":""},null,{"$f":"IFERROR(VLOOKUP(E133,Teilnehmer!$B$3:$C$1002,2,0),\"\")","v":""}]
[null,null,null,{"$f":"IFERROR(VLOOKUP(C134,Teilnehmer!$B$3:$C$1002,2,0),\"\")","v":""},null,{"$f":"IFERROR(VLOOKUP(E134,Teilnehmer!$B$3:$C$1002,2,0),\"\")","v":""}]
[null,null,null,{"$f":"IFERROR(VLOOKUP(C135,Teilnehmer!$B$3:$C$1002,2,0),\"\")","v":""},null,{"$f":"IFERROR(VLOOKUP(E135,Teilnehmer!$B$3:$C$1002,2,0),\"\")","v":""}]
[null,null,null,{"$f":"IFERROR(VLOOKUP(C136,Teilnehmer!$B$3:$C$1002,2,0),\"\")","v":""},null,{"$f":"IFERROR(VLOOKUP(E136,Teilnehmer!$B$3:$C$1002,2,0),\"\")","v":""}]
[null,null,null,{"$f":"IFERROR(VLOOKUP(C137,Teilnehmer!$B$3:$C$1002,2,0),\"\")","v":""},null,{"$f":"IFERROR(VLOOKUP(E137,Teilnehmer!$B$3:$C$1002,2,0),\"\")","v":""}]
[null,null,null,{"$f":"IFERROR(VLOOKUP(C138,Teilnehmer!$B$3:$C$1002,2,0),\"\")","v":""},null,{"$f":"IFERROR(VLOOKUP(E138,Teilnehmer!$B$3:$C$1002,2,0),\"\")","v":""}]
[null,null,null,{"$f":"IFERROR(VLOOKUP(C139,Teilnehmer!$B$3:$C$1002,2,0),\"\")","v":""},null,{"$f":"IFERROR(VLOOKUP(E139,Teilnehmer!$B$3:$C$1002,2,0),\"\")","v":""}]
[null,null,null,{"$f":"IFERROR(VLOOKUP(C140,Teilnehmer!$B$3:$C$1002,2,0),\"\")","v":""},null,{"$f":"IFERROR(VLOOKUP(E140,Teilnehmer!$B$3:$C$1002,2,0),\"\")","v":""}]
[null,null,null,{"$f":"IFERROR(VLOOKUP(C141,Teilnehmer!$B$3:$C$1002,2,0),\"\")","v":""},null,{"$f":"IFERROR(VLOOKUP(E141,Teilnehmer!$B$3:$C$1002,2,0),\"\")","v":""}]
[null,null,null,{"$f":"IFERROR(VLOOKUP(C142,Teilnehmer!$B$3:$C$1002,2,0),\"\")","v":""},null,{"$f":"IFERROR(VLOOKUP(E142,Teilnehmer!$B$3:$C$1002,2,0),\"\")","v":""}]
[null,null,null,{"$f":"IFERROR(VLOOKUP(C143,Teilnehmer!$B$3:$C$1002,2,0),\"\")","v":""},null,{"$f":"IFERROR(VLOOKUP(E143,Teilnehmer!$B$3:$C$1002,2,0),\"\")","v":""}]
[null,null,null,{"$f":"IFERROR(VLOOKUP(C144,Teilnehmer!$B$3:$C$1002,2,0),\"\")","v":""},null,{"$f":"IFERROR(VLOOKUP(E144,Teilnehmer!$B$3:$C$1002,2,0),\"\")","v":""}]
[null,null,null,{"$f":"IFERROR(VLOOKUP(C145,Teilnehmer!$B$3:$C$1002,2,0),\"\")","v":""},null,{"$f":"IFERROR(VLOOKUP(E145,Teilnehmer!$B$3:$C$1002,2,0),\"\")","v":""}]
[null,null,null,{"$f":"IFERROR(VLOOKUP(C146,Teilnehmer!$B$3:$C$1002,2,0),\"\")","v":""},null,{"$f":"IFERROR(VLOOKUP(E146,Teilnehmer!$B$3:$C$1002,2,0),\"\")","v":""}]
[null,null,null,{"$f":"IFERROR(VLOOKUP(C147,Teilnehmer!$B$3:$C$1002,2,0),\"\")","v":""},null,{"$f":"IFERROR(VLOOKUP(E147,Teilnehmer!$B$3:$C$1002,2,0),\"\")","v":""}]
[null,null,null,{"$f":"IFERROR(VLOOKUP(C148,Teilnehmer!$B$3:$C$1002,2,0),\"\")","v":""},null,{"$f":"IFERROR(VLOOKUP(E148,Teilnehmer!$B$3:$C$1002,2,0),\"\")","v":""}]
[null,null,null,{"$f":"IFERROR(VLOOKUP(C149,Teilnehmer!$B$3:$C$1002,2,0),\"\")","v":""},null,{"$f":"IFERROR(VLOOKUP(E149,Teilnehmer!$B$3:$C$1002,2,0),\"\")","v":""}]
[null,null,null,{"$f":"IFERROR(VLOOKUP(C150,Teilnehmer!$B$3:$C$1002,2,0),\"\")","v":""},null,{"$f":"IFERROR(VLOOKUP(E150,Teilnehmer!$B$3:$C$1002,2,0),\"\")","v":""}]
[null,null,null,{"$f":"IFERROR(VLOOKUP(C151,Teilnehmer!$B$3:$C$1002,2,0),\"\")","v":""},null,{"$f":"IFERROR(VLOOKUP(E151,Teilnehmer!$B$3:$C$1002,2,0),\"\")","v":""}]
[null,null,null,{"$f":"IFERROR(VLOOKUP(C152,Teilnehmer!$B$3:$C$1002,2,0),\"\")","v":""},null,{"$f":"IFERROR(VLOOKUP(E152,Teilnehmer!$B$3:$C$1002,2,0),\"\")","v":""}]
[null,null,null,{"$f":"IFERROR(VLOOKUP(C153,Teilnehmer!$B$3:$C$1002,2,0),\"\")","v":""},null,{"$f":"IFERROR(VLOOKUP(E153,Teilnehmer!$B$3:$C$1002,2,0),\"\")","v":""}]
[null,null,null,{"$f":"IFERROR(VLOOKUP(C154,Teilnehmer!$B$3:$C$1002,2,0),\"\")","v":""},null,{"$f":"IFERROR(VLOOKUP(E154,Teilnehmer!$B$3:$C$1002,2,0),\"\")","v":""}]
[null,null,null,{"$f":"IFERROR(VLOOKUP(C155,Teilnehmer!$B$3:$C$1002,2,0),\"\")","v":""},null,{"$f":"IFERROR(VLOOKUP(E155,Teilnehmer!$B$3:$C$1002,2,0),\"\")","v":""}]
[null,null,null,{"$f":"IFERROR(VLOOKUP(C156,Teilnehmer!$B$3:$C$1002,2,0),\"\")","v":""},null,{"$f":"IFERROR(VLOOKUP(E156,Teilnehmer!$B$3:$C$1002,2,0),\"\")","v":""}]
[null,null,null,{"$f":"IFERROR(VLOOKUP(C157,Teilnehmer!$B$3:$C$1002,2,0),\"\")","v":""},null,{"$f":"IFERROR(VLOOKUP(E157,Teilnehmer!$B$3:$C$1002,2,0),\"\")","v":""}]
[null,null,null,{"$f":"IFERROR(VLOOKUP(C158,Teilnehmer!$B$3:$C$1002,2,0),\"\")","v":""},null,{"$f":"IFERROR(VLOOKUP(E158,Teilnehmer!$B$3:$C$1002,2,0),\"\")","v":""}]
[null,null,null,{"$f":"IFERROR(VLOOKUP(C159,Teilnehmer!$B$3:$C$1002,2,0),\"\")","v":""},null,{"$f":"IFERROR(VLOOKUP(E159,Teilnehmer!$B$3:$C$1002,2,0),\"\")","v":""}]
[null,null,null,{"$f":"IFERROR(VLOOKUP(C160,Teilnehmer!$B$3:$C$1002,2,0),\"\")","v":""},null,{"$f":"IFERROR(VLOOKUP(E160,Teilnehmer!$B$3:$C$1002,2,0),\"\")","v":""}]
[null,null,null,{"$f":"IFERROR(VLOOKUP(C161,Teilnehmer!$B$3:$C$1002,2,0),\"\")","v":""},null,{"$f":"IFERROR(VLOOKUP(E161,Teilnehmer!$B$3:$C$1002,2,0),\"\")","v":""}]
[null,null,null,{"$f":"IFERROR(VLOOKUP(C162,Teilnehmer!$B$3:$C$1002,2,0),\"\")","v":""},null,{"$f":"IFERROR(VLOOKUP(E162,Teilnehmer!$B$3:$C$1002,2,0),\"\")","v":""}]
[null,null,null,{"$f":"IFERROR(VLOOKUP(C163,Teilnehmer!$B$3:$C$1002,2,0),\"\")","v":""},null,{"$f":"IFERROR(VLOOKUP(E163,Teilnehmer!$B$3:$C$1002,2,0),\"\")","v":""}]
[null,null,null,{"$f":"IFERROR(VLOOKUP(C164,Teilnehmer!$B$3:$C$1002,2,0),\"\")","v":""},null,{"$f":"IFERROR(VLOOKUP(E164,Teilnehmer!$B$3:$C$1002,2,0),\"\")","v":""}]
[null,null,null,{"$f":"IFERROR(VLOOKUP(C165,Teilnehmer!$B$3:$C$1002,2,0),\"\")","v":""},null,{"$f":"IFERROR(VLOOKUP(E165,Teilnehmer!$B$3:$C$1002,2,0),\"\")","v":""}]
[null,null,null,{"$f":"IFERROR(VLOOKUP(C166,Teilnehmer!$B$3:$C$1002,2,0),\"\")","v":""},null,{"$f":"IFERROR(VLOOKUP(E166,Teilnehmer!$B$3:$C$1002,2,0),\"\")","v":""}]
[null,null,null,{"$f":"IFERROR(VLOOKUP(C167,Teilnehmer!$B$3:$C$1002,2,0),\"\")","v":""},null,{"$f":"IFERROR(VLOOKUP(E167,Teilnehmer!$B$3:$C$1002,2,0),\"\")","v":""}]
[null,null,null,{"$f":"IFERROR(VLOOKUP(C168,Teilnehmer!$B$3:$C$1002,2,0),\"\")","v":""},null,{"$f":"IFERROR(VLOOKUP(E168,Teilnehmer!$B$3:$C$1002,2,0),\"\")","v":""}]
[null,null,null,{"$f":"IFERROR(VLOOKUP(C169,Teilnehmer!$B$3:$C$1002,2,0),\"\")","v":""},null,{"$f":"IFERROR(VLOOKUP(E169,Teilnehmer!$B$3:$C$1002,2,0),\"\")","v":""}]
[null,null,null,{"$f":"IFERROR(VLOOKUP(C170,Teilnehmer!$B$3:$C$1002,2,0),\"\")","v":""},null,{"$f":"IFERROR(VLOOKUP(E170,Teilnehmer!$B$3:$C$1002,2,0),\"\")","v":""}]
[null,null,null,{"$f":"IFERROR(VLOOKUP(C171,Teilnehmer!$B$3:$C$1002,2,0),\"\")","v":""},null,{"$f":"IFERROR(VLOOKUP(E171,Teilnehmer!$B$3:$C$1002,2,0),\"\")","v":""}]
[null,null,null,{"$f":"IFERROR(VLOOKUP(C172,Teilnehmer!$B$3:$C$1002,2,0),\"\")","v":""},null,{"$f":"IFERROR(VLOOKUP(E172,Teilnehmer!$B$3:$C$1002,2,0),\"\")","v":""}]
[null,null,null,{"$f":"IFERROR(VLOOKUP(C173,Teilnehmer!$B$3:$C$1002,2,0),\"\")","v":""},null,{"$f":"IFERROR(VLOOKUP(E173,Teilnehmer!$B$3:$C$1002,2,0),\"\")","v":""}]
[null,null,null,{"$f":"IFERROR(VLOOKUP(C174,Teilnehmer!$B$3:$C$1002,2,0),\"\")","v":""},null,{"$f":"IFERROR(VLOOKUP(E174,Teilnehmer!$B$3:$C$1002,2,0),\"\")","v":""}]
[null,null,null,{"$f":"IFERROR(VLOOKUP(C175,Teilnehmer!$B$3:$C$1002,2,0),\"\")","v":""},null,{"$f":"IFERROR(VLOOKUP(E175,Teilnehmer!$B$3:$C$1002,2,0),\"\")","v":""}]
[null,null,null,{"$f":"IFERROR(VLOOKUP(C176,Teilnehmer!$B$3:$C$1002,2,0),\"\")","v":""},null,{"$f":"IFERROR(VLOOKUP(E176,Teilnehmer!$B$3:$C$1002,2,0),\"\")","v":""}]
[null,null,null,{"$f":"IFERROR(VLOOKUP(C177,Teilnehmer!$B$3:$C$1002,2,0),\"\")","v":""},null,{"$f":"IFERROR(VLOOKUP(E177,Teilnehmer!$B$3:$C$1002,2,0),\"\")","v":""}]
[null,null,null,{"$f":"IFERROR(VLOOKUP(C178,Teilnehmer!$B$3:$C$1002,2,0),\"\")","v":""},null,{"$f":"IFERROR(VLOOKUP(E178,Teilnehmer!$B$3:$C$1002,2,0),\"\")","v":""}]
[null,null,null,{"$f":"IFERROR(VLOOKUP(C179,Teilnehmer!$B$3:$C$1002,2,0),\"\")","v":""},null,{"$f":"IFERROR(VLOOKUP(E179,Teilnehmer!$B$3:$C$1002,2,0),\"\")","v":""}]
[null,null,null,{"$f":"IFERROR(VLOOKUP(C180,Teilnehmer!$B$3:$C$1002,2,0),\"\")","v":""},null,{"$f":"IFERROR(VLOOKUP(E180,Teilnehmer!$B$3:$C$1002,2,0),\"\")","v":""}]
[null,null,null,{"$f":"IFERROR(VLOOKUP(C181,Teilnehmer!$B$3:$C$1002,2,0),\"\")","v":""},null,{"$f":"IFERROR(VLOOKUP(E181,Teilnehmer!$B$3:$C$1002,2,0),\"\")","v":""}]
[null,null,null,{"$f":"IFERROR(VLOOKUP(C182,Teilnehmer!$B$3:$C$1002,2,0),\"\")","v":""},null,{"$f":"IFERROR(VLOOKUP(E182,Teilnehmer!$B$3:$C$1002,2,0),\"\")","v":""}]
[null,null,null,{"$f":"IFERROR(VLOOKUP(C183,Teilnehmer!$B$3:$C$1002,2,0),\"\")","v":""},null,{"$f":"IFERROR(VLOOKUP(E183,Teilnehmer!$B$3:$C$1002,2,0),\"\")","v":""}]
[null,null,null,{"$f":"IFERROR(VLOOKUP(C184,Teilnehmer!$B$3:$C$1002,2,0),\"\")","v":""},null,{"$f":"IFERROR(VLOOKUP(E184,Teilnehmer!$B$3:$C$1002,2,0),\"\")","v":""}]
[null,null,null,{"$f":"IFERROR(VLOOKUP(C185,Teilnehmer!$B$3:$C$1002,2,0),\"\")","v":""},null,{"$f":"IFERROR(VLOOKUP(E185,Teilnehmer!$B$3:$C$1002,2,0),\"\")","v":""}]
[null,null,null,{"$f":"IFERROR(VLOOKUP(C186,Teilnehmer!$B$3:$C$1002,2,0),\"\")","v":""},null,{"$f":"IFERROR(VLOOKUP(E186,Teilnehmer!$B$3:$C$1002,2,0),\"\")","v":""}]
[null,null,null,{"$f":"IFERROR(VLOOKUP(C187,Teilnehmer!$B$3:$C$1002,2,0),\"\")","v":""},null,{"$f":"IFERROR(VLOOKUP(E187,Teilnehmer!$B$3:$C$1002,2,0),\"\")","v":""}]
[null,null,null,{"$f":"IFERROR(VLOOKUP(C188,Teilnehmer!$B$3:$C$1002,2,0),\"\")","v":""},null,{"$f":"IFERROR(VLOOKUP(E188,Teilnehmer!$B$3:$C$1002,2,0),\"\")","v":""}]
[null,null,null,{"$f":"IFERROR(VLOOKUP(C189,Teilnehmer!$B$3:$C$1002,2,0),\"\")","v":""},null,{"$f":"IFERROR(VLOOKUP(E189,Teilnehmer!$B$3:$C$1002,2,0),\"\")","v":""}]
[null,null,null,{"$f":"IFERROR(VLOOKUP(C190,Teilnehmer!$B$3:$C$1002,2,0),\"\")","v":""},null,{"$f":"IFERROR(VLOOKUP(E190,Teilnehmer!$B$3:$C$1002,2,0),\"\")","v":""}]
[null,null,null,{"$f":"IFERROR(VLOOKUP(C191,Teilnehmer!$B$3:$C$1002,2,0),\"\")","v":""},null,{"$f":"IFERROR(VLOOKUP(E191,Teilnehmer!$B$3:$C$1002,2,0),\"\")","v":""}]
[null,null,null,{"$f":"IFERROR(VLOOKUP(C192,Teilnehmer!$B$3:$C$1002,2,0),\"\")","v":""},null,{"$f":"IFERROR(VLOOKUP(E192,Teilnehmer!$B$3:$C$1002,2,0),\"\")","v":""}]
[null,null,null,{"$f":"IFERROR(VLOOKUP(C193,Teilnehmer!$B$3:$C$1002,2,0),\"\")","v":""},null,{"$f":"IFERROR(VLOOKUP(E193,Teilnehmer!$B$3:$C$1002,2,0),\"\")","v":""}]
[null,null,null,{"$f":"IFERROR(VLOOKUP(C194,Teilnehmer!$B$3:$C$1002,2,0),\"\")","v":""},null,{"$f":"IFERROR(VLOOKUP(E194,Teilnehmer!$B$3:$C$1002,2,0),\"\")","v":""}]
[null,null,null,{"$f":"IFERROR(VLOOKUP(C195,Teilnehmer!$B$3:$C$1002,2,0),\"\")","v":""},null,{"$f":"IFERROR(VLOOKUP(E195,Teilnehmer!$B$3:$C$1002,2,0),\"\")","v":""}]
[null,null,null,{"$f":"IFERROR(VLOOKUP(C196,Teilnehmer!$B$3:$C$1002,2,0),\"\")","v":""},null,{"$f":"IFERROR(VLOOKUP(E196,Teilnehmer!$B$3:$C$1002,2,0),\"\")","v":""}]
[null,null,null,{"$f":"IFERROR(VLOOKUP(C197,Teilnehmer!$B$3:$C$1002,2,0),\"\")","v":""},null,{"$f":"IFERROR(VLOOKUP(E197,Teilnehmer!$B$3:$C$1002,2,0),\"\")","v":""}]
[null,null,null,{"$f":"IFERROR(VLOOKUP(C198,Teilnehmer!$B$3:$C$1002,2,0),\"\")","v":""},null,{"$f":"IFERROR(VLOOKUP(E198,Teilnehmer!$B$3:$C$1002,2,0),\"\")","v":""}]
[null,null,null,{"$f":"IFERROR(VLOOKUP(C199,Teilnehmer!$B$3:$C$1002,2,0),\"\")","v":""},null,{"$f":"IFERROR(VLOOKUP(E199,Teilnehmer!$B$3:$C$1002,2,0),\"\")","v":""}]
[null,null,null,{"$f":"IFERROR(VLOOKUP(C200,Teilnehmer!$B$3:$C$1002,2,0),\"\")","v":""},null,{"$f":"IFERROR(VLOOKUP(E200,Teilnehmer!$B$3:$C$1002,2,0),\"\")","v":""}]
[null,null,null,{"$f":"IFERROR(VLOOKUP(C201,Teilnehmer!$B$3:$C$1002,2,0),\"\")","v":""},null,{"$f":"IFERROR(VLOOKUP(E201,Teilnehmer!$B$3:$C$1002,2,0),\"\")","v":""}]
[null,null,null,{"$f":"IFERROR(VLOOKUP(C202,Teilnehmer!$B$3:$C$1002,2,0),\"\")","v":""},null,{"$f":"IFERROR(VLOOKUP(E202,Teilnehmer!$B$3:$C$1002,2,0),\"\")","v":""}]
[null,null,null,{"$f":"IFERROR(VLOOKUP(C203,Teilnehmer!$B$3:$C$1002,2,0),\"\")","v":""},null,{"$f":"IFERROR(VLOOKUP(E203,Teilnehmer!$B$3:$C$1002,2,0),\"\")","v":""}]
[null,null,null,{"$f":"IFERROR(VLOOKUP(C204,Teilnehmer!$B$3:$C$1002,2,0),\"\")","v":""},null,{"$f":"IFERROR(VLOOKUP(E204,Teilnehmer!$B$3:$C$1002,2,0),\"\")","v":""}]
[null,null,null,{"$f":"IFERROR(VLOOKUP(C205,Teilnehmer!$B$3:$C$1002,2,0),\"\")","v":""},null,{"$f":"IFERROR(VLOOKUP(E205,Teilnehmer!$B$3:$C$1002,2,0),\"\")","v":""}]
[null,null,null,{"$f":"IFERROR(VLOOKUP(C206,Teilnehmer!$B$3:$C$1002,2,0),\"\")","v":""},null,{"$f":"IFERROR(VLOOKUP(E206,Teilnehmer!$B$3:$C$1002,2,0),\"\")","v":""}]
[null,null,null,{"$f":"IFERROR(VLOOKUP(C207,Teilnehmer!$B$3:$C$1002,2,0),\"\")","v":""},null,{"$f":"IFERROR(VLOOKUP(E207,Teilnehmer!$B$3:$C$1002,2,0),\"\")","v":""}]
[null,null,null,{"$f":"IFERROR(VLOOKUP(C208,Teilnehmer!$B$3:$C$1002,2,0),\"\")","v":""},null,{"$f":"IFERROR(VLOOKUP(E208,Teilnehmer!$B$3:$C$1002,2,0),\"\")","v":""}]
[null,null,null,{"$f":"IFERROR(VLOOKUP(C209,Teilnehmer!$B$3:$C$1002,2,0),\"\")","v":""},null,{"$f":"IFERROR(VLOOKUP(E209,Teilnehmer!$B$3:$C$1002,2,0),\"\")","v":""}]
[null,null,null,{"$f":"IFERROR(VLOOKUP(C210,Teilnehmer!$B$3:$C$1002,2,0),\"\")","v":""},null,{"$f":"IFERROR(VLOOKUP(E210,Teilnehmer!$B$3:$C$1002,2,0),\"\")","v":""}]
[null,null,null,{"$f":"IFERROR(VLOOKUP(C211,Teilnehmer!$B$3:$C$1002,2,0),\"\")","v":""},null,{"$f":"IFERROR(VLOOKUP(E211,Teilnehmer!$B$3:$C$1002,2,0),\"\")","v":""}]
[null,null,null,{"$f":"IFERROR(VLOOKUP(C212,Teilnehmer!$B$3:$C$1002,2,0),\"\")","v":""},null,{"$f":"IFERROR(VLOOKUP(E212,Teilnehmer!$B$3:$C$1002,2,0),\"\")","v":""}]
[null,null,null,{"$f":"IFERROR(VLOOKUP(C213,Teilnehmer!$B$3:$C$1002,2,0),\"\")","v":""},null,{"$f":"IFERROR(VLOOKUP(E213,Teilnehmer!$B$3:$C$1002,2,0),\"\")","v":""}]
[null,null,null,{"$f":"IFERROR(VLOOKUP(C214,Teilnehmer!$B$3:$C$1002,2,0),\"\")","v":""},null,{"$f":"IFERROR(VLOOKUP(E214,Teilnehmer!$B$3:$C$1002,2,0),\"\")","v":""}]
[null,null,null,{"$f":"IFERROR(VLOOKUP(C215,Teilnehmer!$B$3:$C$1002,2,0),\"\")","v":""},null,{"$f":"IFERROR(VLOOKUP(E215,Teilnehmer!$B$3:$C$1002,2,0),\"\")","v":""}]
[null,null,null,{"$f":"IFERROR(VLOOKUP(C216,Teilnehmer!$B$3:$C$1002,2,0),\"\")","v":""},null,{"$f":"IFERROR(VLOOKUP(E216,Teilnehmer!$B$3:$C$1002,2,0),\"\")","v":""}]
[null,null,null,{"$f":"IFERROR(VLOOKUP(C217,Teilnehmer!$B$3:$C$1002,2,0),\"\")","v":""},null,{"$f":"IFERROR(VLOOKUP(E217,Teilnehmer!$B$3:$C$1002,2,0),\"\")","v":""}]
[null,null,null,{"$f":"IFERROR(VLOOKUP(C218,Teilnehmer!$B$3:$C$1002,2,0),\"\")","v":""},null,{"$f":"IFERROR(VLOOKUP(E218,Teilnehmer!$B$3:$C$1002,2,0),\"\")","v":""}]
[null,null,null,{"$f":"IFERROR(VLOOKUP(C219,Teilnehmer!$B$3:$C$1002,2,0),\"\")","v":""},null,{"$f":"IFERROR(VLOOKUP(E219,Teilnehmer!$B$3:$C$1002,2,0),\"\")","v":""}]
[null,null,null,{"$f":"IFERROR(VLOOKUP(C220,Teilnehmer!$B$3:$C$1002,2,0),\"\")","v":""},null,{"$f":"IFERROR(VLOOKUP(E220,Teilnehmer!$B$3:$C$1002,2,0),\"\")","v":""}]
[null,null,null,{"$f":"IFERROR(VLOOKUP(C221,Teilnehmer!$B$3:$C$1002,2,0),\"\")","v":""},null,{"$f":"IFERROR(VLOOKUP(E221,Teilnehmer!$B$3:$C$1002,2,0),\"\")","v":""}]
[null,null,null,{"$f":"IFERROR(VLOOKUP(C222,Teilnehmer!$B$3:$C$1002,2,0),\"\")","v":""},null,{"$f":"IFERROR(VLOOKUP(E222,Teilnehmer!$B$3:$C$1002,2,0),\"\")","v":""}]
[null,null,null,{"$f":"IFERROR(VLOOKUP(C223,Teilnehmer!$B$3:$C$1002,2,0),\"\")","v":""},null,{"$f":"IFERROR(VLOOKUP(E223,Teilnehmer!$B$3:$C$1002,2,0),\"\")","v":""}]
[null,null,null,{"$f":"IFERROR(VLOOKUP(C224,Teilnehmer!$B$3:$C$1002,2,0),\"\")","v":""},null,{"$f":"IFERROR(VLOOKUP(E224,Teilnehmer!$B$3:$C$1002,2,0),\"\")","v":""}]
[null,null,null,{"$f":"IFERROR(VLOOKUP(C225,Teilnehmer!$B$3:$C$1002,2,0),\"\")","v":""},null,{"$f":"IFERROR(VLOOKUP(E225,Teilnehmer!$B$3:$C$1002,2,0),\"\")","v":""}]
[null,null,null,{"$f":"IFERROR(VLOOKUP(C226,Teilnehmer!$B$3:$C$1002,2,0),\"\")","v":""},null,{"$f":"IFERROR(VLOOKUP(E226,Teilnehmer!$B$3:$C$1002,2,0),\"\")","v":""}]
[null,null,null,{"$f":"IFERROR(VLOOKUP(C227,Teilnehmer!$B$3:$C$1002,2,0),\"\")","v":""},null,{"$f":"IFERROR(VLOOKUP(E227,Teilnehmer!$B$3:$C$1002,2,0),\"\")","v":""}]
[null,null,null,{"$f":"IFERROR(VLOOKUP(C228,Teilnehmer!$B$3:$C$1002,2,0),\"\")","v":""},null,{"$f":"IFERROR(VLOOKUP(E228,Teilnehmer!$B$3:$C$1002,2,0),\"\")","v":""}]
[null,null,null,{"$f":"IFERROR(VLOOKUP(C229,Teilnehmer!$B$3:$C$1002,2,0),\"\")","v":""},null,{"$f":"IFERROR(VLOOKUP(E229,Teilnehmer!$B$3:$C$1002,2,0),\"\")","v":""}]
[null,null,null,{"$f":"IFERROR(VLOOKUP(C230,Teilnehmer!$B$3:$C$1002,2,0),\"\")","v":""},null,{"$f":"IFERROR(VLOOKUP(E230,Teilnehmer!$B$3:$C$1002,2,0),\"\")","v":""}]
[null,null,null,{"$f":"IFERROR(VLOOKUP(C231,Teilnehmer!$B$3:$C$1002,2,0),\"\")","v":""},null,{"$f":"IFERROR(VLOOKUP(E231,Teilnehmer!$B$3:$C$1002,2,0),\"\")","v":""}]
[null,null,null,{"$f":"IFERROR(VLOOKUP(C232,Teilnehmer!$B$3:$C$1002,2,0),\"\")","v":""},null,{"$f":"IFERROR(VLOOKUP(E232,Teilnehmer!$B$3:$C$1002,2,0),\"\")","v":""}]
[null,null,null,{"$f":"IFERROR(VLOOKUP(C233,Teilnehmer!$B$3:$C$1002,2,0),\"\")","v":""},null,{"$f":"IFERROR(VLOOKUP(E233,Teilnehmer!$B$3:$C$1002,2,0),\"\")","v":""}]
[null,null,null,{"$f":"IFERROR(VLOOKUP(C234,Teilnehmer!$B$3:$C$1002,2,0),\"\")","v":""},null,{"$f":"IFERROR(VLOOKUP(E234,Teilnehmer!$B$3:$C$1002,2,0),\"\")","v":""}]
[null,null,null,{"$f":"IFERROR(VLOOKUP(C235,Teilnehmer!$B$3:$C$1002,2,0),\"\")","v":""},null,{"$f":"IFERROR(VLOOKUP(E235,Teilnehmer!$B$3:$C$1002,2,0),\"\")","v":""}]
[null,null,null,{"$f":"IFERROR(VLOOKUP(C236,Teilnehmer!$B$3:$C$1002,2,0),\"\")","v":""},null,{"$f":"IFERROR(VLOOKUP(E236,Teilnehmer!$B$3:$C$1002,2,0),\"\")","v":""}]
[null,null,null,{"$f":"IFERROR(VLOOKUP(C237,Teilnehmer!$B$3:$C$1002,2,0),\"\")","v":""},null,{"$f":"IFERROR(VLOOKUP(E237,Teilnehmer!$B$3:$C$1002,2,0),\"\")","v":""}]
[null,null,null,{"$f":"IFERROR(VLOOKUP(C238,Teilnehmer!$B$3:$C$1002,2,0),\"\")","v":""},null,{"$f":"IFERROR(VLOOKUP(E238,Teilnehmer!$B$3:$C$1002,2,0),\"\")","v":""}]
[null,null,null,{"$f":"IFERROR(VLOOKUP(C239,Teilnehmer!$B$3:$C$1002,2,0),\"\")","v":""},null,{"$f":"IFERROR(VLOOKUP(E239,Teilnehmer!$B$3:$C$1002,2,0),\"\")","v":""}]
[null,null,null,{"$f":"IFERROR(VLOOKUP(C240,Teilnehmer!$B$3:$C$1002,2,0),\"\")","v":""},null,{"$f":"IFERROR(VLOOKUP(E240,Teilnehmer!$B$3:$C$1002,2,0),\"\")","v":""}]
[null,null,null,{"$f":"IFERROR(VLOOKUP(C241,Teilnehmer!$B$3:$C$1002,2,0),\"\")","v":""},null,{"$f":"IFERROR(VLOOKUP(E241,Teilnehmer!$B$3:$C$1002,2,0),\"\")","v":""}]
[null,null,null,{"$f":"IFERROR(VLOOKUP(C242,Teilnehmer!$B$3:$C$1002,2,0),\"\")","v":""},null,{"$f":"IFERROR(VLOOKUP(E242,Teilnehmer!$B$3:$C$1002,2,0),\"\")","v":""}]
[null,null,null,{"$f":"IFERROR(VLOOKUP(C243,Teilnehmer!$B$3:$C$1002,2,0),\"\")","v":""},null,{"$f":"IFERROR(VLOOKUP(E243,Teilnehmer!$B$3:$C$1002,2,0),\"\")","v":""}]
[null,null,null,{"$f":"IFERROR(VLOOKUP(C244,Teilnehmer!$B$3:$C$1002,2,0),\"\")","v":""},null,{"$f":"IFERROR(VLOOKUP(E244,Teilnehmer!$B$3:$C$1002,2,0),\"\")","v":""}]
[null,null,null,{"$f":"IFERROR(VLOOKUP(C245,Teilnehmer!$B$3:$C$1002,2,0),\"\")","v":""},null,{"$f":"IFERROR(VLOOKUP(E245,Teilnehmer!$B$3:$C$1002,2,0),\"\")","v":""}]
[null,null,null,{"$f":"IFERROR(VLOOKUP(C246,Teilnehmer!$B$3:$C$1002,2,0),\"\")","v":""},null,{"$f":"IFERROR(VLOOKUP(E246,Teilnehmer!$B$3:$C$1002,2,0),\"\")","v":""}]
[null,null,null,{"$f":"IFERROR(VLOOKUP(C247,Teilnehmer!$B$3:$C$1002,2,0),\"\")","v":""},null,{"$f":"IFERROR(VLOOKUP(E247,Teilnehmer!$B$3:$C$1002,2,0),\"\")","v":""}]
[null,null,null,{"$f":"IFERROR(VLOOKUP(C248,Teilnehmer!$B$3:$C$1002,2,0),\"\")","v":""},null,{"$f":"IFERROR(VLOOKUP(E248,Teilnehmer!$B$3:$C$1002,2,0),\"\")","v":""}]
[null,null,null,{"$f":"IFERROR(VLOOKUP(C249,Teilnehmer!$B$3:$C$1002,2,0),\"\")","v":""},null,{"$f":"IFERROR(VLOOKUP(E249,Teilnehmer!$B$3:$C$1002,2,0),\"\")","v":""}]
[null,null,null,{"$f":"IFERROR(VLOOKUP(C250,Teilnehmer!$B$3:$C$1002,2,0),\"\")","v":""},null,{"$f":"IFERROR(VLOOKUP(E250,Teilnehmer!$B$3:$C$1002,2,0),\"\")","v":""}]
[null,null,null,{"$f":"IFERROR(VLOOKUP(C251,Teilnehmer!$B$3:$C$1002,2,0),\"\")","v":""},null,{"$f":"IFERROR(VLOOKUP(E251,Teilnehmer!$B$3:$C$1002,2,0),\"\")","v":""}]
[null,null,null,{"$f":"IFERROR(VLOOKUP(C252,Teilnehmer!$B$3:$C$1002,2,0),\"\")","v":""},null,{"$f":"IFERROR(VLOOKUP(E252,Teilnehmer!$B$3:$C$1002,2,0),\"\")","v":""}]
[null,null,null,{"$f":"IFERROR(VLOOKUP(C253,Teilnehmer!$B$3:$C$1002,2,0),\"\")","v":""},null,{"$f":"IFERROR(VLOOKUP(E253,Teilnehmer!$B$3:$C$1002,2,0),\"\")","v":""}]
[null,null,null,{"$f":"IFERROR(VLOOKUP(C254,Teilnehmer!$B$3:$C$1002,2,0),\"\")","v":""},null,{"$f":"IFERROR(VLOOKUP(E254,Teilnehmer!$B$3:$C$1002,2,0),\"\")","v":""}]
[null,null,null,{"$f":"IFERROR(VLOOKUP(C255,Teilnehmer!$B$3:$C$1002,2,0),\"\")","v":""},null,{"$f":"IFERROR(VLOOKUP(E255,Teilnehmer!$B$3:$C$1002,2,0),\"\")","v":""}]
[null,null,null,{"$f":"IFERROR(VLOOKUP(C256,Teilnehmer!$B$3:$C$1002,2,0),\"\")","v":""},null,{"$f":"IFERROR(VLOOKUP(E256,Teilnehmer!$B$3:$C$1002,2,0),\"\")","v":""}]
[null,null,null,{"$f":"IFERROR(VLOOKUP(C257,Teilnehmer!$B$3:$C$1002,2,0),\"\")","v":""},null,{"$f":"IFERROR(VLOOKUP(E257,Teilnehmer!$B$3:$C$1002,2,0),\"\")","v":""}]
[null,null,null,{"$f":"IFERROR(VLOOKUP(C258,Teilnehmer!$B$3:$C$1002,2,0),\"\")","v":""},null,{"$f":"IFERROR(VLOOKUP(E258,Teilnehmer!$B$3:$C$1002,2,0),\"\")","v":""}]
[null,null,null,{"$f":"IFERROR(VLOOKUP(C259,Teilnehmer!$B$3:$C$1002,2,0),\"\")","v":""},null,{"$f":"IFERROR(VLOOKUP(E259,Teilnehmer!$B$3:$C$1002,2,0),\"\")","v":""}]
[null,null,null,{"$f":"IFERROR(VLOOKUP(C260,Teilnehmer!$B$3:$C$1002,2,0),\"\")","v":""},null,{"$f":"IFERROR(VLOOKUP(E260,Teilnehmer!$B$3:$C$1002,2,0),\"\")","v":""}]
[null,null,null,{"$f":"IFERROR(VLOOKUP(C261,Teilnehmer!$B$3:$C$1002,2,0),\"\")","v":""},null,{"$f":"IFERROR(VLOOKUP(E261,Teilnehmer!$B$3:$C$1002,2,0),\"\")","v":""}]
[null,null,null,{"$f":"IFERROR(VLOOKUP(C262,Teilnehmer!$B$3:$C$1002,2,0),\"\")","v":""},null,{"$f":"IFERROR(VLOOKUP(E262,Teilnehmer!$B$3:$C$1002,2,0),\"\")","v":""}]
[null,null,null,{"$f":"IFERROR(VLOOKUP(C263,Teilnehmer!$B$3:$C$1002,2,0),\"\")","v":""},null,{"$f":"IFERROR(VLOOKUP(E263,Teilnehmer!$B$3:$C$1002,2,0),\"\")","v":""}]
[null,null,null,{"$f":"IFERROR(VLOOKUP(C264,Teilnehmer!$B$3:$C$1002,2,0),\"\")","v":""},null,{"$f":"IFERROR(VLOOKUP(E264,Teilnehmer!$B$3:$C$1002,2,0),\"\")","v":""}]
[null,null,null,{"$f":"IFERROR(VLOOKUP(C265,Teilnehmer!$B$3:$C$1002,2,0),\"\")","v":""},null,{"$f":"IFERROR(VLOOKUP(E265,Teilnehmer!$B$3:$C$1002,2,0),\"\")","v":""}]
[null,null,null,{"$f":"IFERROR(VLOOKUP(C266,Teilnehmer!$B$3:$C$1002,2,0),\"\")","v":""},null,{"$f":"IFERROR(VLOOKUP(E266,Teilnehmer!$B$3:$C$1002,2,0),\"\")","v":""}]
[null,null,null,{"$f":"IFERROR(VLOOKUP(C267,Teilnehmer!$B$3:$C$1002,2,0),\"\")","v":""},null,{"$f":"IFERROR(VLOOKUP(E267,Teilnehmer!$B$3:$C$1002,2,0),\"\")","v":""}]
[null,null,null,{"$f":"IFERROR(VLOOKUP(C268,Teilnehmer!$B$3:$C$1002,2,0),\"\")","v":""},null,{"$f":"IFERROR(VLOOKUP(E268,Teilnehmer!$B$3:$C$1002,2,0),\"\")","v":""}]
[null,null,null,{"$f":"IFERROR(VLOOKUP(C269,Teilnehmer!$B$3:$C$1002,2,0),\"\")","v":""},null,{"$f":"IFERROR(VLOOKUP(E269,Teilnehmer!$B$3:$C$1002,2,0),\"\")","v":""}]
[null,null,null,{"$f":"IFERROR(VLOOKUP(C270,Teilnehmer!$B$3:$C$1002,2,0),\"\")","v":""},null,{"$f":"IFERROR(VLOOKUP(E270,Teilnehmer!$B$3:$C$1002,2,0),\"\")","v":""}]
[null,null,null,{"$f":"IFERROR(VLOOKUP(C271,Teilnehmer!$B$3:$C$1002,2,0),\"\")","v":""},null,{"$f":"IFERROR(VLOOKUP(E271,Teilnehmer!$B$3:$C$1002,2,0),\"\")","v":""}]
[null,null,null,{"$f":"IFERROR(VLOOKUP(C272,Teilnehmer!$B$3:$C$1002,2,0),\"\")","v":""},null,{"$f":"IFERROR(VLOOKUP(E272,Teilnehmer!$B$3:$C$1002,2,0),\"\")","v":""}]
[null,null,null,{"$f":"IFERROR(VLOOKUP(C273,Teilnehmer!$B$3:$C$1002,2,0),\"\")","v":""},null,{"$f":"IFERROR(VLOOKUP(E273,Teilnehmer!$B$3:$C$1002,2,0),\"\")","v":""}]
[null,null,null,{"$f":"IFERROR(VLOOKUP(C274,Teilnehmer!$B$3:$C$1002,2,0),\"\")","v":""},null,{"$f":"IFERROR(VLOOKUP(E274,Teilnehmer!$B$3:$C$1002,2,0),\"\")","v":""}]
[null,null,null,{"$f":"IFERROR(VLOOKUP(C275,Teilnehmer!$B$3:$C$1002,2,0),\"\")","v":""},null,{"$f":"IFERROR(VLOOKUP(E275,Teilnehmer!$B$3:$C$1002,2,0),\"\")","v":""}]
[null,null,null,{"$f":"IFERROR(VLOOKUP(C276,Teilnehmer!$B$3:$C$1002,2,0),\"\")","v":""},null,{"$f":"IFERROR(VLOOKUP(E276,Teilnehmer!$B$3:$C$1002,2,0),\"\")","v":""}]
[null,null,null,{"$f":"IFERROR(VLOOKUP(C277,Teilnehmer!$B$3:$C$1002,2,0),\"\")","v":""},null,{"$f":"IFERROR(VLOOKUP(E277,Teilnehmer!$B$3:$C$1002,2,0),\"\")","v":""}]
[null,null,null,{"$f":"IFERROR(VLOOKUP(C278,Teilnehmer!$B$3:$C$1002,2,0),\"\")","v":""},null,{"$f":"IFERROR(VLOOKUP(E278,Teilnehmer!$B$3:$C$1002,2,0),\"\")","v":""}]
[null,null,null,{"$f":"IFERROR(VLOOKUP(C279,Teilnehmer!$B$3:$C$1002,2,0),\"\")","v":""},null,{"$f":"IFERROR(VLOOKUP(E279,Teilnehmer!$B$3:$C$1002,2,0),\"\")","v":""}]
[null,null,null,{"$f":"IFERROR(VLOOKUP(C280,Teilnehmer!$B$3:$C$1002,2,0),\"\")","v":""},null,{"$f":"IFERROR(VLOOKUP(E280,Teilnehmer!$B$3:$C$1002,2,0),\"\")","v":""}]
[null,null,null,{"$f":"IFERROR(VLOOKUP(C281,Teilnehmer!$B$3:$C$1002,2,0),\"\")","v":""},null,{"$f":"IFERROR(VLOOKUP(E281,Teilnehmer!$B$3:$C$1002,2,0),\"\")","v":""}]
[null,null,null,{"$f":"IFERROR(VLOOKUP(C282,Teilnehmer!$B$3:$C$1002,2,0),\"\")","v":""},null,{"$f":"IFERROR(VLOOKUP(E282,Teilnehmer!$B$3:$C$1002,2,0),\"\")","v":""}]
[null,null,null,{"$f":"IFERROR(VLOOKUP(C283,Teilnehmer!$B$3:$C$1002,2,0),\"\")","v":""},null,{"$f":"IFERROR(VLOOKUP(E283,Teilnehmer!$B$3:$C$1002,2,0),\"\")","v":""}]
[null,null,null,{"$f":"IFERROR(VLOOKUP(C284,Teilnehmer!$B$3:$C$1002,2,0),\"\")","v":""},null,{"$f":"IFERROR(VLOOKUP(E284,Teilnehmer!$B$3:$C$1002,2,0),\"\")","v":""}]
[null,null,null,{"$f":"IFERROR(VLOOKUP(C285,Teilnehmer!$B$3:$C$1002,2,0),\"\")","v":""},null,{"$f":"IFERROR(VLOOKUP(E285,Teilnehmer!$B$3:$C$1002,2,0),\"\")","v":""}]
[null,null,null,{"$f":"IFERROR(VLOOKUP(C286,Teilnehmer!$B$3:$C$1002,2,0),\"\")","v":""},null,{"$f":"IFERROR(VLOOKUP(E286,Teilnehmer!$B$3:$C$1002,2,0),\"\")","v":""}]
[null,null,null,{"$f":"IFERROR(VLOOKUP(C287,Teilnehmer!$B$3:$C$1002,2,0),\"\")","v":""},null,{"$f":"IFERROR(VLOOKUP(E287,Teilnehmer!$B$3:$C$1002,2,0),\"\")","v":""}]
[null,null,null,{"$f":"IFERROR(VLOOKUP(C288,Teilnehmer!$B$3:$C$1002,2,0),\"\")","v":""},null,{"$f":"IFERROR(VLOOKUP(E288,Teilnehmer!$B$3:$C$1002,2,0),\"\")","v":""}]
[null,null,null,{"$f":"IFERROR(VLOOKUP(C289,Teilnehmer!$B$3:$C$1002,2,0),\"\")","v":""},null,{"$f":"IFERROR(VLOOKUP(E289,Teilnehmer!$B$3:$C$1002,2,0),\"\")","v":""}]
[null,null,null,{"$f":"IFERROR(VLOOKUP(C290,Teilnehmer!$B$3:$C$1002,2,0),\"\")","v":""},null,{"$f":"IFERROR(VLOOKUP(E290,Teilnehmer!$B$3:$C$1002,2,0),\"\")","v":""}]
[null,null,null,{"$f":"IFERROR(VLOOKUP(C291,Teilnehmer!$B$3:$C$1002,2,0),\"\")","v":""},null,{"$f":"IFERROR(VLOOKUP(E291,Teilnehmer!$B$3:$C$1002,2,0),\"\")","v":""}]
[null,null,null,{"$f":"IFERROR(VLOOKUP(C292,Teilnehmer!$B$3:$C$1002,2,0),\"\")","v":""},null,{"$f":"IFERROR(VLOOKUP(E292,Teilnehmer!$B$3:$C$1002,2,0),\"\")","v":""}]
[null,null,null,{"$f":"IFERROR(VLOOKUP(C293,Teilnehmer!$B$3:$C$1002,2,0),\"\")","v":""},null,{"$f":"IFERROR(VLOOKUP(E293,Teilnehmer!$B$3:$C$1002,2,0),\"\")","v":""}]
[null,null,null,{"$f":"IFERROR(VLOOKUP(C294,Teilnehmer!$B$3:$C$1002,2,0),\"\")","v":""},null,{"$f":"IFERROR(VLOOKUP(E294,Teilnehmer!$B$3:$C$1002,2,0),\"\")","v":""}]
[null,null,null,{"$f":"IFERROR(VLOOKUP(C295,Teilnehmer!$B$3:$C$1002,2,0),\"\")","v":""},null,{"$f":"IFERROR(VLOOKUP(E295,Teilnehmer!$B$3:$C$1002,2,0),\"\")","v":""}]
[null,null,null,{"$f":"IFERROR(VLOOKUP(C296,Teilnehmer!$B$3:$C$1002,2,0),\"\")","v":""},null,{"$f":"IFERROR(VLOOKUP(E296,Teilnehmer!$B$3:$C$1002,2,0),\"\")","v":""}]
[null,null,null,{"$f":"IFERROR(VLOOKUP(C297,Teilnehmer!$B$3:$C$1002,2,0),\"\")","v":""},null,{"$f":"IFERROR(VLOOKUP(E297,Teilnehmer!$B$3:$C$1002,2,0),\"\")","v":""}]
[null,null,null,{"$f":"IFERROR(VLOOKUP(C298,Teilnehmer!$B$3:$C$1002,2,0),\"\")","v":""},null,{"$f":"IFERROR(VLOOKUP(E298,Teilnehmer!$B$3:$C$1002,2,0),\"\")","v":""}]
[null,null,null,{"$f":"IFERROR(VLOOKUP(C299,Teilnehmer!$B$3:$C$1002,2,0),\"\")","v":""},null,{"$f":"IFERROR(VLOOKUP(E299,Teilnehmer!$B$3:$C$1002,2,0),\"\")","v":""}]
[null,null,null,{"$f":"IFERROR(VLOOKUP(C300,Teilnehmer!$B$3:$C$1002,2,0),\"\")","v":""},null,{"$f":"IFERROR(VLOOKUP(E300,Teilnehmer!$B$3:$C$1002,2,0),\"\")","v":""}]
[null,null,null,{"$f":"IFERROR(VLOOKUP(C301,Teilnehmer!$B$3:$C$1002,2,0),\"\")","v":""},null,{"$f":"IFERROR(VLOOKUP(E301,Teilnehmer!$B$3:$C$1002,2,0),\"\")","v":""}]
[null,null,null,{"$f":"IFERROR(VLOOKUP(C302,Teilnehmer!$B$3:$C$1002,2,0),\"\")","v":""},null,{"$f":"IFERROR(VLOOKUP(E302,Teilnehmer!$B$3:$C$1002,2,0),\"\")","v":""}]
[null,null,null,{"$f":"IFERROR(VLOOKUP(C303,Teilnehmer!$B$3:$C$1002,2,0),\"\")","v":""},null,{"$f":"IFERROR(VLOOKUP(E303,Teilnehmer!$B$3:$C$1002,2,0),\"\")","v":""}]
[null,null,null,{"$f":"IFERROR(VLOOKUP(C304,Teilnehmer!$B$3:$C$1002,2,0),\"\")","v":""},null,{"$f":"IFERROR(VLOOKUP(E304,Teilnehmer!$B$3:$C$1002,2,0),\"\")","v":""}]
[null,null,null,{"$f":"IFERROR(VLOOKUP(C305,Teilnehmer!$B$3:$C$1002,2,0),\"\")","v":""},null,{"$f":"IFERROR(VLOOKUP(E305,Teilnehmer!$B$3:$C$1002,2,0),\"\")","v":""}]
[null,null,null,{"$f":"IFERROR(VLOOKUP(C306,Teilnehmer!$B$3:$C$1002,2,0),\"\")","v":""},null,{"$f":"IFERROR(VLOOKUP(E306,Teilnehmer!$B$3:$C$1002,2,0),\"\")","v":""}]
[null,null,null,{"$f":"IFERROR(VLOOKUP(C307,Teilnehmer!$B$3:$C$1002,2,0),\"\")","v":""},null,{"$f":"IFERROR(VLOOKUP(E307,Teilnehmer!$B$3:$C$1002,2,0),\"\")","v":""}]
[null,null,null,{"$f":"IFERROR(VLOOKUP(C308,Teilnehmer!$B$3:$C$1002,2,0),\"\")","v":""},null,{"$f":"IFERROR(VLOOKUP(E308,Teilnehmer!$B$3:$C$1002,2,0),\"\")","v":""}]
[null,null,null,{"$f":"IFERROR(VLOOKUP(C309,Teilnehmer!$B$3:$C$1002,2,0),\"\")","v":""},null,{"$f":"IFERROR(VLOOKUP(E309,Teilnehmer!$B$3:$C$1002,2,0),\"\")","v":""}]
[null,null,null,{"$f":"IFERROR(VLOOKUP(C310,Teilnehmer!$B$3:$C$1002,2,0),\"\")","v":""},null,{"$f":"IFERROR(VLOOKUP(E310,Teilnehmer!$B$3:$C$1002,2,0),\"\")","v":""}]
[null,null,null,{"$f":"IFERROR(VLOOKUP(C311,Teilnehmer!$B$3:$C$1002,2,0),\"\")","v":""},null,{"$f":"IFERROR(VLOOKUP(E311,Teilnehmer!$B$3:$C$1002,2,0),\"\")","v":""}]
[null,null,null,{"$f":"IFERROR(VLOOKUP(C312,Teilnehmer!$B$3:$C$1002,2,0),\"\")","v":""},null,{"$f":"IFERROR(VLOOKUP(E312,Teilnehmer!$B$3:$C$1002,2,0),\"\")","v":""}]
[null,null,null,{"$f":"IFERROR(VLOOKUP(C313,Teilnehmer!$B$3:$C$1002,2,0),\"\")","v":""},null,{"$f":"IFERROR(VLOOKUP(E313,Teilnehmer!$B$3:$C$1002,2,0),\"\")","v":""}]
[null,null,null,{"$f":"IFERROR(VLOOKUP(C314,Teilnehmer!$B$3:$C$1002,2,0),\"\")","v":""},null,{"$f":"IFERROR(VLOOKUP(E314,Teilnehmer!$B$3:$C$1002,2,0),\"\")","v":""}]
[null,null,null,{"$f":"IFERROR(VLOOKUP(C315,Teilnehmer!$B$3:$C$1002,2,0),\"\")","v":""},null,{"$f":"IFERROR(VLOOKUP(E315,Teilnehmer!$B$3:$C$1002,2,0),\"\")","v":""}]
[null,null,null,{"$f":"IFERROR(VLOOKUP(C316,Teilnehmer!$B$3:$C$1002,2,0),\"\")","v":""},null,{"$f":"IFERROR(VLOOKUP(E316,Teilnehmer!$B$3:$C$1002,2,0),\"\")","v":""}]
[null,null,null,{"$f":"IFERROR(VLOOKUP(C317,Teilnehmer!$B$3:$C$1002,2,0),\"\")","v":""},null,{"$f":"IFERROR(VLOOKUP(E317,Teilnehmer!$B$3:$C$1002,2,0),\"\")","v":""}]
[null,null,null,{"$f":"IFERROR(VLOOKUP(C318,Teilnehmer!$B$3:$C$1002,2,0),\"\")","v":""},null,{"$f":"IFERROR(VLOOKUP(E318,Teilnehmer!$B$3:$C$1002,2,0),\"\")","v":""}]
[null,null,null,{"$f":"IFERROR(VLOOKUP(C319,Teilnehmer!$B$3:$C$1002,2,0),\"\")","v":""},null,{"$f":"IFERROR(VLOOKUP(E319,Teilnehmer!$B$3:$C$1002,2,0),\"\")","v":""}]
[null,null,null,{"$f":"IFERROR(VLOOKUP(C320,Teilnehmer!$B$3:$C$1002,2,0),\"\")","v":""},null,{"$f":"IFERROR(VLOOKUP(E320,Teilnehmer!$B$3:$C$1002,2,0),\"\")","v":""}]
[null,null,null,{"$f":"IFERROR(VLOOKUP(C321,Teilnehmer!$B$3:$C$1002,2,0),\"\")","v":""},null,{"$f":"IFERROR(VLOOKUP(E321,Teilnehmer!$B$3:$C$1002,2,0),\"\")","v":""}]
[null,null,null,{"$f":"IFERROR(VLOOKUP(C322,Teilnehmer!$B$3:$C$1002,2,0),\"\")","v":""},null,{"$f":"IFERROR(VLOOKUP(E322,Teilnehmer!$B$3:$C$1002,2,0),\"\")","v":""}]
[null,null,null,{"$f":"IFERROR(VLOOKUP(C323,Teilnehmer!$B$3:$C$1002,2,0),\"\")","v":""},null,{"$f":"IFERROR(VLOOKUP(E323,Teilnehmer!$B$3:$C$1002,2,0),\"\")","v":""}]
[null,null,null,{"$f":"IFERROR(VLOOKUP(C324,Teilnehmer!$B$3:$C$1002,2,0),\"\")","v":""},null,{"$f":"IFERROR(VLOOKUP(E324,Teilnehmer!$B$3:$C$1002,2,0),\"\")","v":""}]
[null,null,null,{"$f":"IFERROR(VLOOKUP(C325,Teilnehmer!$B$3:$C$1002,2,0),\"\")","v":""},null,{"$f":"IFERROR(VLOOKUP(E325,Teilnehmer!$B$3:$C$1002,2,0),\"\")","v":""}]
[null,null,null,{"$f":"IFERROR(VLOOKUP(C326,Teilnehmer!$B$3:$C$1002,2,0),\"\")","v":""},null,{"$f":"IFERROR(VLOOKUP(E326,Teilnehmer!$B$3:$C$1002,2,0),\"\")","v":""}]
[null,null,null,{"$f":"IFERROR(VLOOKUP(C327,Teilnehmer!$B$3:$C$1002,2,0),\"\")","v":""},null,{"$f":"IFERROR(VLOOKUP(E327,Teilnehmer!$B$3:$C$1002,2,0),\"\")","v":""}]
[null,null,null,{"$f":"IFERROR(VLOOKUP(C328,Teilnehmer!$B$3:$C$1002,2,0),\"\")","v":""},null,{"$f":"IFERROR(VLOOKUP(E328,Teilnehmer!$B$3:$C$1002,2,0),\"\")","v":""}]
[null,null,null,{"$f":"IFERROR(VLOOKUP(C329,Teilnehmer!$B$3:$C$1002,2,0),\"\")","v":""},null,{"$f":"IFERROR(VLOOKUP(E329,Teilnehmer!$B$3:$C$1002,2,0),\"\")","v":""}]
[null,null,null,{"$f":"IFERROR(VLOOKUP(C330,Teilnehmer!$B$3:$C$1002,2,0),\"\")","v":""},null,{"$f":"IFERROR(VLOOKUP(E330,Teilnehmer!$B$3:$C$1002,2,0),\"\")","v":""}]
[null,null,null,{"$f":"IFERROR(VLOOKUP(C331,Teilnehmer!$B$3:$C$1002,2,0),\"\")","v":""},null,{"$f":"IFERROR(VLOOKUP(E331,Teilnehmer!$B$3:$C$1002,2,0),\"\")","v":""}]
[null,null,null,{"$f":"IFERROR(VLOOKUP(C332,Teilnehmer!$B$3:$C$1002,2,0),\"\")","v":""},null,{"$f":"IFERROR(VLOOKUP(E332,Teilnehmer!$B$3:$C$1002,2,0),\"\")","v":""}]
[null,null,null,{"$f":"IFERROR(VLOOKUP(C333,Teilnehmer!$B$3:$C$1002,2,0),\"\")","v":""},null,{"$f":"IFERROR(VLOOKUP(E333,Teilnehmer!$B$3:$C$1002,2,0),\"\")","v":""}]
[null,null,null,{"$f":"IFERROR(VLOOKUP(C334,Teilnehmer!$B$3:$C$1002,2,0),\"\")","v":""},null,{"$f":"IFERROR(VLOOKUP(E334,Teilnehmer!$B$3:$C$1002,2,0),\"\")","v":""}]
[null,null,null,{"$f":"IFERROR(VLOOKUP(C335,Teilnehmer!$B$3:$C$1002,2,0),\"\")","v":""},null,{"$f":"IFERROR(VLOOKUP(E335,Teilnehmer!$B$3:$C$1002,2,0),\"\")","v":""}]
[null,null,null,{"$f":"IFERROR(VLOOKUP(C336,Teilnehmer!$B$3:$C$1002,2,0),\"\")","v":""},null,{"$f":"IFERROR(VLOOKUP(E336,Teilnehmer!$B$3:$C$1002,2,0),\"\")","v":""}]
[null,null,null,{"$f":"IFERROR(VLOOKUP(C337,Teilnehmer!$B$3:$C$1002,2,0),\"\")","v":""},null,{"$f":"IFERROR(VLOOKUP(E337,Teilnehmer!$B$3:$C$1002,2,0),\"\")","v":""}]
[null,null,null,{"$f":"IFERROR(VLOOKUP(C338,Teilnehmer!$B$3:$C$1002,2,0),\"\")","v":""},null,{"$f":"IFERROR(VLOOKUP(E338,Teilnehmer!$B$3:$C$1002,2,0),\"\")","v":""}]
[null,null,null,{"$f":"IFERROR(VLOOKUP(C339,Teilnehmer!$B$3:$C$1002,2,0),\"\")","v":""},null,{"$f":"IFERROR(VLOOKUP(E339,Teilnehmer!$B$3:$C$1002,2,0),\"\")","v":""}]
[null,null,null,{"$f":"IFERROR(VLOOKUP(C340,Teilnehmer!$B$3:$C$1002,2,0),\"\")","v":""},null,{"$f":"IFERROR(VLOOKUP(E340,Teilnehmer!$B$3:$C$1002,2,0),\"\")","v":""}]
[null,null,null,{"$f":"IFERROR(VLOOKUP(C341,Teilnehmer!$B$3:$C$1002,2,0),\"\")","v":""},null,{"$f":"IFERROR(VLOOKUP(E341,Teilnehmer!$B$3:$C$1002,2,0),\"\")","v":""}]
[null,null,null,{"$f":"IFERROR(VLOOKUP(C342,Teilnehmer!$B$3:$C$1002,2,0),\"\")","v":""},null,{"$f":"IFERROR(VLOOKUP(E342,Teilnehmer!$B$3:$C$1002,2,0),\"\")","v":""}]
[null,null,null,{"$f":"IFERROR(VLOOKUP(C343,Teilnehmer!$B$3:$C$1002,2,0),\"\")","v":""},null,{"$f":"IFERROR(VLOOKUP(E343,Teilnehmer!$B$3:$C$1002,2,0),\"\")","v":""}]
[null,null,null,{"$f":"IFERROR(VLOOKUP(C344,Teilnehmer!$B$3:$C$1002,2,0),\"\")","v":""},null,{"$f":"IFERROR(VLOOKUP(E344,Teilnehmer!$B$3:$C$1002,2,0),\"\")","v":""}]
[null,null,null,{"$f":"IFERROR(VLOOKUP(C345,Teilnehmer!$B$3:$C$1002,2,0),\"\")","v":""},null,{"$f":"IFERROR(VLOOKUP(E345,Teilnehmer!$B$3:$C$1002,2,0),\"\")","v":""}]
[null,null,null,{"$f":"IFERROR(VLOOKUP(C346,Teilnehmer!$B$3:$C$1002,2,0),\"\")","v":""},null,{"$f":"IFERROR(VLOOKUP(E346,Teilnehmer!$B$3:$C$1002,2,0),\"\")","v":""}]
[null,null,null,{"$f":"IFERROR(VLOOKUP(C347,Teilnehmer!$B$3:$C$1002,2,0),\"\")","v":""},null,{"$f":"IFERROR(VLOOKUP(E347,Teilnehmer!$B$3:$C$1002,2,0),\"\")","v":""}]
[null,null,null,{"$f":"IFERROR(VLOOKUP(C348,Teilnehmer!$B$3:$C$1002,2,0),\"\")","v":""},null,{"$f":"IFERROR(VLOOKUP(E348,Teilnehmer!$B$3:$C$1002,2,0),\"\")","v":""}]
[null,null,null,{"$f":"IFERROR(VLOOKUP(C349,Teilnehmer!$B$3:$C$1002,2,0),\"\")","v":""},null,{"$f":"IFERROR(VLOOKUP(E349,Teilnehmer!$B$3:$C$1002,2,0),\"\")","v":""}]
[null,null,null,{"$f":"IFERROR(VLOOKUP(C350,Teilnehmer!$B$3:$C$1002,2,0),\"\")","v":""},null,{"$f":"IFERROR(VLOOKUP(E350,Teilnehmer!$B$3:$C$1002,2,0),\"\")","v":""}]
[null,null,null,{"$f":"IFERROR(VLOOKUP(C351,Teilnehmer!$B$3:$C$1002,2,0),\"\")","v":""},null,{"$f":"IFERROR(VLOOKUP(E351,Teilnehmer!$B$3:$C$1002,2,0),\"\")","v":""}]
[null,null,null,{"$f":"IFERROR(VLOOKUP(C352,Teilnehmer!$B$3:$C$1002,2,0),\"\")","v":""},null,{"$f":"IFERROR(VLOOKUP(E352,Teilnehmer!$B$3:$C$1002,2,0),\"\")","v":""}]
[null,null,null,{"$f":"IFERROR(VLOOKUP(C353,Teilnehmer!$B$3:$C$1002,2,0),\"\")","v":""},null,{"$f":"IFERROR(VLOOKUP(E353,Teilnehmer!$B$3:$C$1002,2,0),\"\")","v":""}]
[null,null,null,{"$f":"IFERROR(VLOOKUP(C354,Teilnehmer!$B$3:$C$1002,2,0),\"\")","v":""},null,{"$f":"IFERROR(VLOOKUP(E354,Teilnehmer!$B$3:$C$1002,2,0),\"\")","v":""}]
[null,null,null,{"$f":"IFERROR(VLOOKUP(C355,Teilnehmer!$B$3:$C$1002,2,0),\"\")","v":""},null,{"$f":"IFERROR(VLOOKUP(E355,Teilnehmer!$B$3:$C$1002,2,0),\"\")","v":""}]
[null,null,null,{"$f":"IFERROR(VLOOKUP(C356,Teilnehmer!$B$3:$C$1002,2,0),\"\")","v":""},null,{"$f":"IFERROR(VLOOKUP(E356,Teilnehmer!$B$3:$C$1002,2,0),\"\")","v":""}]
[null,null,null,{"$f":"IFERROR(VLOOKUP(C357,Teilnehmer!$B$3:$C$1002,2,0),\"\")","v":""},null,{"$f":"IFERROR(VLOOKUP(E357,Teilnehmer!$B$3:$C$1002,2,0),\"\")","v":""}]
[null,null,null,{"$f":"IFERROR(VLOOKUP(C358,Teilnehmer!$B$3:$C$1002,2,0),\"\")","v":""},null,{"$f":"IFERROR(VLOOKUP(E358,Teilnehmer!$B$3:$C$1002,2,0),\"\")","v":""}]
[null,null,null,{"$f":"IFERROR(VLOOKUP(C359,Teilnehmer!$B$3:$C$1002,2,0),\"\")","v":""},null,{"$f":"IFERROR(VLOOKUP(E359,Teilnehmer!$B$3:$C$1002,2,0),\"\")","v":""}]
[null,null,null,{"$f":"IFERROR(VLOOKUP(C360,Teilnehmer!$B$3:$C$1002,2,0),\"\")","v":""},null,{"$f":"IFERROR(VLOOKUP(E360,Teilnehmer!$B$3:$C$1002,2,0),\"\")","v":""}]
[null,null,null,{"$f":"IFERROR(VLOOKUP(C361,Teilnehmer!$B$3:$C$1002,2,0),\"\")","v":""},null,{"$f":"IFERROR(VLOOKUP(E361,Teilnehmer!$B$3:$C$1002,2,0),\"\")","v":""}]
[null,null,null,{"$f":"IFERROR(VLOOKUP(C362,Teilnehmer!$B$3:$C$1002,2,0),\"\")","v":""},null,{"$f":"IFERROR(VLOOKUP(E362,Teilnehmer!$B$3:$C$1002,2,0),\"\")","v":""}]
[null,null,null,{"$f":"IFERROR(VLOOKUP(C363,Teilnehmer!$B$3:$C$1002,2,0),\"\")","v":""},null,{"$f":"IFERROR(VLOOKUP(E363,Teilnehmer!$B$3:$C$1002,2,0),\"\")","v":""}]
[null,null,null,{"$f":"IFERROR(VLOOKUP(C364,Teilnehmer!$B$3:$C$1002,2,0),\"\")","v":""},null,{"$f":"IFERROR(VLOOKUP(E364,Teilnehmer!$B$3:$C$1002,2,0),\"\")","v":""}]
[null,null,null,{"$f":"IFERROR(VLOOKUP(C365,Teilnehmer!$B$3:$C$1002,2,0),\"\")","v":""},null,{"$f":"IFERROR(VLOOKUP(E365,Teilnehmer!$B$3:$C$1002,2,0),\"\")","v":""}]
[null,null,null,{"$f":"IFERROR(VLOOKUP(C366,Teilnehmer!$B$3:$C$1002,2,0),\"\")","v":""},null,{"$f":"IFERROR(VLOOKUP(E366,Teilnehmer!$B$3:$C$1002,2,0),\"\")","v":""}]
[null,null,null,{"$f":"IFERROR(VLOOKUP(C367,Teilnehmer!$B$3:$C$1002,2,0),\"\")","v":""},null,{"$f":"IFERROR(VLOOKUP(E367,Teilnehmer!$B$3:$C$1002,2,0),\"\")","v":""}]
[null,null,null,{"$f":"IFERROR(VLOOKUP(C368,Teilnehmer!$B$3:$C$1002,2,0),\"\")","v":""},null,{"$f":"IFERROR(VLOOKUP(E368,Teilnehmer!$B$3:$C$1002,2,0),\"\")","v":""}]
[null,null,null,{"$f":"IFERROR(VLOOKUP(C369,Teilnehmer!$B$3:$C$1002,2,0),\"\")","v":""},null,{"$f":"IFERROR(VLOOKUP(E369,Teilnehmer!$B$3:$C$1002,2,0),\"\")","v":""}]
[null,null,null,{"$f":"IFERROR(VLOOKUP(C370,Teilnehmer!$B$3:$C$1002,2,0),\"\")","v":""},null,{"$f":"IFERROR(VLOOKUP(E370,Teilnehmer!$B$3:$C$1002,2,0),\"\")","v":""}]
[null,null,null,{"$f":"IFERROR(VLOOKUP(C371,Teilnehmer!$B$3:$C$1002,2,0),\"\")","v":""},null,{"$f":"IFERROR(VLOOKUP(E371,Teilnehmer!$B$3:$C$1002,2,0),\"\")","v":""}]
[null,null,null,{"$f":"IFERROR(VLOOKUP(C372,Teilnehmer!$B$3:$C$1002,2,0),\"\")","v":""},null,{"$f":"IFERROR(VLOOKUP(E372,Teilnehmer!$B$3:$C$1002,2,0),\"\")","v":""}]
[null,null,null,{"$f":"IFERROR(VLOOKUP(C373,Teilnehmer!$B$3:$C$1002,2,0),\"\")","v":""},null,{"$f":"IFERROR(VLOOKUP(E373,Teilnehmer!$B$3:$C$1002,2,0),\"\")","v":""}]
[null,null,null,{"$f":"IFERROR(VLOOKUP(C374,Teilnehmer!$B$3:$C$1002,2,0),\"\")","v":""},null,{"$f":"IFERROR(VLOOKUP(E374,Teilnehmer!$B$3:$C$1002,2,0),\"\")","v":""}]
[null,null,null,{"$f":"IFERROR(VLOOKUP(C375,Teilnehmer!$B$3:$C$1002,2,0),\"\")","v":""},null,{"$f":"IFERROR(VLOOKUP(E375,Teilnehmer!$B$3:$C$1002,2,0),\"\")","v":""}]
[null,null,null,{"$f":"IFERROR(VLOOKUP(C376,Teilnehmer!$B$3:$C$1002,2,0),\"\")","v":""},null,{"$f":"IFERROR(VLOOKUP(E376,Teilnehmer!$B$3:$C$1002,2,0),\"\")","v":""}]
[null,null,null,{"$f":"IFERROR(VLOOKUP(C377,Teilnehmer!$B$3:$C$1002,2,0),\"\")","v":""},null,{"$f":"IFERROR(VLOOKUP(E377,Teilnehmer!$B$3:$C$1002,2,0),\"\")","v":""}]
[null,null,null,{"$f":"IFERROR(VLOOKUP(C378,Teilnehmer!$B$3:$C$1002,2,0),\"\")","v":""},null,{"$f":"IFERROR(VLOOKUP(E378,Teilnehmer!$B$3:$C$1002,2,0),\"\")","v":""}]
[null,null,null,{"$f":"IFERROR(VLOOKUP(C379,Teilnehmer!$B$3:$C$1002,2,0),\"\")","v":""},null,{"$f":"IFERROR(VLOOKUP(E379,Teilnehmer!$B$3:$C$1002,2,0),\"\")","v":""}]
[null,null,null,{"$f":"IFERROR(VLOOKUP(C380,Teilnehmer!$B$3:$C$1002,2,0),\"\")","v":""},null,{"$f":"IFERROR(VLOOKUP(E380,Teilnehmer!$B$3:$C$1002,2,0),\"\")","v":""}]
[null,null,null,{"$f":"IFERROR(VLOOKUP(C381,Teilnehmer!$B$3:$C$1002,2,0),\"\")","v":""},null,{"$f":"IFERROR(VLOOKUP(E381,Teilnehmer!$B$3:$C$1002,2,0),\"\")","v":""}]
[null,null,null,{"$f":"IFERROR(VLOOKUP(C382,Teilnehmer!$B$3:$C$1002,2,0),\"\")","v":""},null,{"$f":"IFERROR(VLOOKUP(E382,Teilnehmer!$B$3:$C$1002,2,0),\"\")","v":""}]
[null,null,null,{"$f":"IFERROR(VLOOKUP(C383,Teilnehmer!$B$3:$C$1002,2,0),\"\")","v":""},null,{"$f":"IFERROR(VLOOKUP(E383,Teilnehmer!$B$3:$C$1002,2,0),\"\")","v":""}]
[null,null,null,{"$f":"IFERROR(VLOOKUP(C384,Teilnehmer!$B$3:$C$1002,2,0),\"\")","v":""},null,{"$f":"IFERROR(VLOOKUP(E384,Teilnehmer!$B$3:$C$1002,2,0),\"\")","v":""}]
[null,null,null,{"$f":"IFERROR(VLOOKUP(C385,Teilnehmer!$B$3:$C$1002,2,0),\"\")","v":""},null,{"$f":"IFERROR(VLOOKUP(E385,Teilnehmer!$B$3:$C$1002,2,0),\"\")","v":""}]
[null,null,null,{"$f":"IFERROR(VLOOKUP(C386,Teilnehmer!$B$3:$C$1002,2,0),\"\")","v":""},null,{"$f":"IFERROR(VLOOKUP(E386,Teilnehmer!$B$3:$C$1002,2,0),\"\")","v":""}]
[null,null,null,{"$f":"IFERROR(VLOOKUP(C387,Teilnehmer!$B$3:$C$1002,2,0),\"\")","v":""},null,{"$f":"IFERROR(VLOOKUP(E387,Teilnehmer!$B$3:$C$1002,2,0),\"\")","v":""}]
[null,null,null,{"$f":"IFERROR(VLOOKUP(C388,Teilnehmer!$B$3:$C$1002,2,0),\"\")","v":""},null,{"$f":"IFERROR(VLOOKUP(E388,Teilnehmer!$B$3:$C$1002,2,0),\"\")","v":""}]
[null,null,null,{"$f":"IFERROR(VLOOKUP(C389,Teilnehmer!$B$3:$C$1002,2,0),\"\")","v":""},null,{"$f":"IFERROR(VLOOKUP(E389,Teilnehmer!$B$3:$C$1002,2,0),\"\")","v":""}]
[null,null,null,{"$f":"IFERROR(VLOOKUP(C390,Teilnehmer!$B$3:$C$1002,2,0),\"\")","v":""},null,{"$f":"IFERROR(VLOOKUP(E390,Teilnehmer!$B$3:$C$1002,2,0),\"\")","v":""}]
[null,null,null,{"$f":"IFERROR(VLOOKUP(C391,Teilnehmer!$B$3:$C$1002,2,0),\"\")","v":""},null,{"$f":"IFERROR(VLOOKUP(E391,Teilnehmer!$B$3:$C$1002,2,0),\"\")","v":""}]
[null,null,null,{"$f":"IFERROR(VLOOKUP(C392,Teilnehmer!$B$3:$C$1002,2,0),\"\")","v":""},null,{"$f":"IFERROR(VLOOKUP(E392,Teilnehmer!$B$3:$C$1002,2,0),\"\")","v":""}]
[null,null,null,{"$f":"IFERROR(VLOOKUP(C393,Teilnehmer!$B$3:$C$1002,2,0),\"\")","v":""},null,{"$f":"IFERROR(VLOOKUP(E393,Teilnehmer!$B$3:$C$1002,2,0),\"\")","v":""}]
[null,null,null,{"$f":"IFERROR(VLOOKUP(C394,Teilnehmer!$B$3:$C$1002,2,0),\"\")","v":""},null,{"$f":"IFERROR(VLOOKUP(E394,Teilnehmer!$B$3:$C$1002,2,0),\"\")","v":""}]
[null,null,null,{"$f":"IFERROR(VLOOKUP(C395,Teilnehmer!$B$3:$C$1002,2,0),\"\")","v":""},null,{"$f":"IFERROR(VLOOKUP(E395,Teilnehmer!$B$3:$C$1002,2,0),\"\")","v":""}]
[null,null,null,{"$f":"IFERROR(VLOOKUP(C396,Teilnehmer!$B$3:$C$1002,2,0),\"\")","v":""},null,{"$f":"IFERROR(VLOOKUP(E396,Teilnehmer!$B$3:$C$1002,2,0),\"\")","v":""}]
[null,null,null,{"$f":"IFERROR(VLOOKUP(C397,Teilnehmer!$B$3:$C$1002,2,0),\"\")","v":""},null,{"$f":"IFERROR(VLOOKUP(E397,Teilnehmer!$B$3:$C$1002,2,0),\"\")","v":""}]
[null,null,null,{"$f":"IFERROR(VLOOKUP(C398,Teilnehmer!$B$3:$C$1002,2,0),\"\")","v":""},null,{"$f":"IFERROR(VLOOKUP(E398,Teilnehmer!$B$3:$C$1002,2,0),\"\")","v":""}]
[null,null,null,{"$f":"IFERROR(VLOOKUP(C399,Teilnehmer!$B$3:$C$1002,2,0),\"\")","v":""},null,{"$f":"IFERROR(VLOOKUP(E399,Teilnehmer!$B$3:$C$1002,2,0),\"\")","v":""}]
[null,null,null,{"$f":"IFERROR(VLOOKUP(C400,Teilnehmer!$B$3:$C$1002,2,0),\"\")","v":""},null,{"$f":"IFERROR(VLOOKUP(E400,Teilnehmer!$B$3:$C$1002,2,0),\"\")","v":""}]
[null,null,null,{"$f":"IFERROR(VLOOKUP(C401,Teilnehmer!$B$3:$C$1002,2,0),\"\")","v":""},null,{"$f":"IFERROR(VLOOKUP(E401,Teilnehmer!$B$3:$C$1002,2,0),\"\")","v":""}]
[null,null,null,{"$f":"IFERROR(VLOOKUP(C402,Teilnehmer!$B$3:$C$1002,2,0),\"\")","v":""},null,{"$f":"IFERROR(VLOOKUP(E402,Teilnehmer!$B$3:$C$1002,2,0),\"\")","v":""}]
[null,null,null,{"$f":"IFERROR(VLOOKUP(C403,Teilnehmer!$B$3:$C$1002,2,0),\"\")","v":""},null,{"$f":"IFERROR(VLOOKUP(E403,Teilnehmer!$B$3:$C$1002,2,0),\"\")","v":""}]
[null,null,null,{"$f":"IFERROR(VLOOKUP(C404,Teilnehmer!$B$3:$C$1002,2,0),\"\")","v":""},null,{"$f":"IFERROR(VLOOKUP(E404,Teilnehmer!$B$3:$C$1002,2,0),\"\")","v":""}]
[null,null,null,{"$f":"IFERROR(VLOOKUP(C405,Teilnehmer!$B$3:$C$1002,2,0),\"\")","v":""},null,{"$f":"IFERROR(VLOOKUP(E405,Teilnehmer!$B$3:$C$1002,2,0),\"\")","v":""}]
[null,null,null,{"$f":"IFERROR(VLOOKUP(C406,Teilnehmer!$B$3:$C$1002,2,0),\"\")","v":""},null,{"$f":"IFERROR(VLOOKUP(E406,Teilnehmer!$B$3:$C$1002,2,0),\"\")","v":""}]
[null,null,null,{"$f":"IFERROR(VLOOKUP(C407,Teilnehmer!$B$3:$C$1002,2,0),\"\")","v":""},null,{"$f":"IFERROR(VLOOKUP(E407,Teilnehmer!$B$3:$C$1002,2,0),\"\")","v":""}]
[null,null,null,{"$f":"IFERROR(VLOOKUP(C408,Teilnehmer!$B$3:$C$1002,2,0),\"\")","v":""},null,{"$f":"IFERROR(VLOOKUP(E408,Teilnehmer!$B$3:$C$1002,2,0),\"\")","v":""}]
[null,null,null,{"$f":"IFERROR(VLOOKUP(C409,Teilnehmer!$B$3:$C$1002,2,0),\"\")","v":""},null,{"$f":"IFERROR(VLOOKUP(E409,Teilnehmer!$B$3:$C$1002,2,0),\"\")","v":""}]
[null,null,null,{"$f":"IFERROR(VLOOKUP(C410,Teilnehmer!$B$3:$C$1002,2,0),\"\")","v":""},null,{"$f":"IFERROR(VLOOKUP(E410,Teilnehmer!$B$3:$C$1002,2,0),\"\")","v":""}]
[null,null,null,{"$f":"IFERROR(VLOOKUP(C411,Teilnehmer!$B$3:$C$1002,2,0),\"\")","v":""},null,{"$f":"IFERROR(VLOOKUP(E411,Teilnehmer!$B$3:$C$1002,2,0),\"\")","v":""}]
[null,null,null,{"$f":"IFERROR(VLOOKUP(C412,Teilnehmer!$B$3:$C$1002,2,0),\"\")","v":""},null,{"$f":"IFERROR(VLOOKUP(E412,Teilnehmer!$B$3:$C$1002,2,0),\"\")","v":""}]
[null,null,null,{"$f":"IFERROR(VLOOKUP(C413,Teilnehmer!$B$3:$C$1002,2,0),\"\")","v":""},null,{"$f":"IFERROR(VLOOKUP(E413,Teilnehmer!$B$3:$C$1002,2,0),\"\")","v":""}]
[null,null,null,{"$f":"IFERROR(VLOOKUP(C414,Teilnehmer!$B$3:$C$1002,2,0),\"\")","v":""},null,{"$f":"IFERROR(VLOOKUP(E414,Teilnehmer!$B$3:$C$1002,2,0),\"\")","v":""}]
[null,null,null,{"$f":"IFERROR(VLOOKUP(C415,Teilnehmer!$B$3:$C$1002,2,0),\"\")","v":""},null,{"$f":"IFERROR(VLOOKUP(E415,Teilnehmer!$B$3:$C$1002,2,0),\"\")","v":""}]
[null,null,null,{"$f":"IFERROR(VLOOKUP(C416,Teilnehmer!$B$3:$C$1002,2,0),\"\")","v":""},null,{"$f":"IFERROR(VLOOKUP(E416,Teilnehmer!$B$3:$C$1002,2,0),\"\")","v":""}]
[null,null,null,{"$f":"IFERROR(VLOOKUP(C417,Teilnehmer!$B$3:$C$1002,2,0),\"\")","v":""},null,{"$f":"IFERROR(VLOOKUP(E417,Teilnehmer!$B$3:$C$1002,2,0),\"\")","v":""}]
[null,null,null,{"$f":"IFERROR(VLOOKUP(C418,Teilnehmer!$B$3:$C$1002,2,0),\"\")","v":""},null,{"$f":"IFERROR(VLOOKUP(E418,Teilnehmer!$B$3:$C$1002,2,0),\"\")","v":""}]
[null,null,null,{"$f":"IFERROR(VLOOKUP(C419,Teilnehmer!$B$3:$C$1002,2,0),\"\")","v":""},null,{"$f":"IFERROR(VLOOKUP(E419,Teilnehmer!$B$3:$C$1002,2,0),\"\")","v":""}]
[null,null,null,{"$f":"IFERROR(VLOOKUP(C420,Teilnehmer!$B$3:$C$1002,2,0),\"\")","v":""},null,{"$f":"IFERROR(VLOOKUP(E420,Teilnehmer!$B$3:$C$1002,2,0),\"\")","v":""}]
[null,null,null,{"$f":"IFERROR(VLOOKUP(C421,Teilnehmer!$B$3:$C$1002,2,0),\"\")","v":""},null,{"$f":"IFERROR(VLOOKUP(E421,Teilnehmer!$B$3:$C$1002,2,0),\"\")","v":""}]
[null,null,null,{"$f":"IFERROR(VLOOKUP(C422,Teilnehmer!$B$3:$C$1002,2,0),\"\")","v":""},null,{"$f":"IFERROR(VLOOKUP(E422,Teilnehmer!$B$3:$C$1002,2,0),\"\")","v":""}]
[null,null,null,{"$f":"IFERROR(VLOOKUP(C423,Teilnehmer!$B$3:$C$1002,2,0),\"\")","v":""},null,{"$f":"IFERROR(VLOOKUP(E423,Teilnehmer!$B$3:$C$1002,2,0),\"\")","v":""}]
[null,null,null,{"$f":"IFERROR(VLOOKUP(C424,Teilnehmer!$B$3:$C$1002,2,0),\"\")","v":""},null,{"$f":"IFERROR(VLOOKUP(E424,Teilnehmer!$B$3:$C$1002,2,0),\"\")","v":""}]
[null,null,null,{"$f":"IFERROR(VLOOKUP(C425,Teilnehmer!$B$3:$C$1002,2,0),\"\")","v":""},null,{"$f":"IFERROR(VLOOKUP(E425,Teilnehmer!$B$3:$C$1002,2,0),\"\")","v":""}]
[null,null,null,{"$f":"IFERROR(VLOOKUP(C426,Teilnehmer!$B$3:$C$1002,2,0),\"\")","v":""},null,{"$f":"IFERROR(VLOOKUP(E426,Teilnehmer!$B$3:$C$1002,2,0),\"\")","v":""}]
[null,null,null,{"$f":"IFERROR(VLOOKUP(C427,Teilnehmer!$B$3:$C$1002,2,0),\"\")","v":""},null,{"$f":"IFERROR(VLOOKUP(E427,Teilnehmer!$B$3:$C$1002,2,0),\"\")","v":""}]
[null,null,null,{"$f":"IFERROR(VLOOKUP(C428,Teilnehmer!$B$3:$C$1002,2,0),\"\")","v":""},null,{"$f":"IFERROR(VLOOKUP(E428,Teilnehmer!$B$3:$C$1002,2,0),\"\")","v":""}]
[null,null,null,{"$f":"IFERROR(VLOOKUP(C429,Teilnehmer!$B$3:$C$1002,2,0),\"\")","v":""},null,{"$f":"IFERROR(VLOOKUP(E429,Teilnehmer!$B$3:$C$1002,2,0),\"\")","v":""}]
[null,null,null,{"$f":"IFERROR(VLOOKUP(C430,Teilnehmer!$B$3:$C$1002,2,0),\"\")","v":""},null,{"$f":"IFERROR(VLOOKUP(E430,Teilnehmer!$B$3:$C$1002,2,0),\"\")","v":""}]
[null,null,null,{"$f":"IFERROR(VLOOKUP(C431,Teilnehmer!$B$3:$C$1002,2,0),\"\")","v":""},null,{"$f":"IFERROR(VLOOKUP(E431,Teilnehmer!$B$3:$C$1002,2,0),\"\")","v":""}]
[null,null,null,{"$f":"IFERROR(VLOOKUP(C432,Teilnehmer!$B$3:$C$1002,2,0),\"\")","v":""},null,{"$f":"IFERROR(VLOOKUP(E432,Teilnehmer!$B$3:$C$1002,2,0),\"\")","v":""}]
[null,null,null,{"$f":"IFERROR(VLOOKUP(C433,Teilnehmer!$B$3:$C$1002,2,0),\"\")","v":""},null,{"$f":"IFERROR(VLOOKUP(E433,Teilnehmer!$B$3:$C$1002,2,0),\"\")","v":""}]
[null,null,null,{"$f":"IFERROR(VLOOKUP(C434,Teilnehmer!$B$3:$C$1002,2,0),\"\")","v":""},null,{"$f":"IFERROR(VLOOKUP(E434,Teilnehmer!$B$3:$C$1002,2,0),\"\")","v":""}]
[null,null,null,{"$f":"IFERROR(VLOOKUP(C435,Teilnehmer!$B$3:$C$1002,2,0),\"\")","v":""},null,{"$f":"IFERROR(VLOOKUP(E435,Teilnehmer!$B$3:$C$1002,2,0),\"\")","v":""}]
[null,null,null,{"$f":"IFERROR(VLOOKUP(C436,Teilnehmer!$B$3:$C$1002,2,0),\"\")","v":""},null,{"$f":"IFERROR(VLOOKUP(E436,Teilnehmer!$B$3:$C$1002,2,0),\"\")","v":""}]
[null,null,null,{"$f":"IFERROR(VLOOKUP(C437,Teilnehmer!$B$3:$C$1002,2,0),\"\")","v":""},null,{"$f":"IFERROR(VLOOKUP(E437,Teilnehmer!$B$3:$C$1002,2,0),\"\")","v":""}]
[null,null,null,{"$f":"IFERROR(VLOOKUP(C438,Teilnehmer!$B$3:$C$1002,2,0),\"\")","v":""},null,{"$f":"IFERROR(VLOOKUP(E438,Teilnehmer!$B$3:$C$1002,2,0),\"\")","v":""}]
[null,null,null,{"$f":"IFERROR(VLOOKUP(C439,Teilnehmer!$B$3:$C$1002,2,0),\"\")","v":""},null,{"$f":"IFERROR(VLOOKUP(E439,Teilnehmer!$B$3:$C$1002,2,0),\"\")","v":""}]
[null,null,null,{"$f":"IFERROR(VLOOKUP(C440,Teilnehmer!$B$3:$C$1002,2,0),\"\")","v":""},null,{"$f":"IFERROR(VLOOKUP(E440,Teilnehmer!$B$3:$C$1002,2,0),\"\")","v":""}]
[null,null,null,{"$f":"IFERROR(VLOOKUP(C441,Teilnehmer!$B$3:$C$1002,2,0),\"\")","v":""},null,{"$f":"IFERROR(VLOOKUP(E441,Teilnehmer!$B$3:$C$1002,2,0),\"\")","v":""}]
[null,null,null,{"$f":"IFERROR(VLOOKUP(C442,Teilnehmer!$B$3:$C$1002,2,0),\"\")","v":""},null,{"$f":"IFERROR(VLOOKUP(E442,Teilnehmer!$B$3:$C$1002,2,0),\"\")","v":""}]
[null,null,null,{"$f":"IFERROR(VLOOKUP(C443,Teilnehmer!$B$3:$C$1002,2,0),\"\")","v":""},null,{"$f":"IFERROR(VLOOKUP(E443,Teilnehmer!$B$3:$C$1002,2,0),\"\")","v":""}]
[null,null,null,{"$f":"IFERROR(VLOOKUP(C444,Teilnehmer!$B$3:$C$1002,2,0),\"\")","v":""},null,{"$f":"IFERROR(VLOOKUP(E444,Teilnehmer!$B$3:$C$1002,2,0),\"\")","v":""}]
[null,null,null,{"$f":"IFERROR(VLOOKUP(C445,Teilnehmer!$B$3:$C$1002,2,0),\"\")","v":""},null,{"$f":"IFERROR(VLOOKUP(E445,Teilnehmer!$B$3:$C$1002,2,0),\"\")","v":""}]
[null,null,null,{"$f":"IFERROR(VLOOKUP(C446,Teilnehmer!$B$3:$C$1002,2,0),\"\")","v":""},null,{"$f":"IFERROR(VLOOKUP(E446,Teilnehmer!$B$3:$C$1002,2,0),\"\")","v":""}]
[null,null,null,{"$f":"IFERROR(VLOOKUP(C447,Teilnehmer!$B$3:$C$1002,2,0),\"\")","v":""},null,{"$f":"IFERROR(VLOOKUP(E447,Teilnehmer!$B$3:$C$1002,2,0),\"\")","v":""}]
[null,null,null,{"$f":"IFERROR(VLOOKUP(C448,Teilnehmer!$B$3:$C$1002,2,0),\"\")","v":""},null,{"$f":"IFERROR(VLOOKUP(E448,Teilnehmer!$B$3:$C$1002,2,0),\"\")","v":""}]
[null,null,null,{"$f":"IFERROR(VLOOKUP(C449,Teilnehmer!$B$3:$C$1002,2,0),\"\")","v":""},null,{"$f":"IFERROR(VLOOKUP(E449,Teilnehmer!$B$3:$C$1002,2,0),\"\")","v":""}]
[null,null,null,{"$f":"IFERROR(VLOOKUP(C450,Teilnehmer!$B$3:$C$1002,2,0),\"\")","v":""},null,{"$f":"IFERROR(VLOOKUP(E450,Teilnehmer!$B$3:$C$1002,2,0),\"\")","v":""}]
[null,null,null,{"$f":"IFERROR(VLOOKUP(C451,Teilnehmer!$B$3:$C$1002,2,0),\"\")","v":""},null,{"$f":"IFERROR(VLOOKUP(E451,Teilnehmer!$B$3:$C$1002,2,0),\"\")","v":""}]
[null,null,null,{"$f":"IFERROR(VLOOKUP(C452,Teilnehmer!$B$3:$C$1002,2,0),\"\")","v":""},null,{"$f":"IFERROR(VLOOKUP(E452,Teilnehmer!$B$3:$C$1002,2,0),\"\")","v":""}]
[null,null,null,{"$f":"IFERROR(VLOOKUP(C453,Teilnehmer!$B$3:$C$1002,2,0),\"\")","v":""},null,{"$f":"IFERROR(VLOOKUP(E453,Teilnehmer!$B$3:$C$1002,2,0),\"\")","v":""}]
[null,null,null,{"$f":"IFERROR(VLOOKUP(C454,Teilnehmer!$B$3:$C$1002,2,0),\"\")","v":""},null,{"$f":"IFERROR(VLOOKUP(E454,Teilnehmer!$B$3:$C$1002,2,0),\"\")","v":""}]
[null,null,null,{"$f":"IFERROR(VLOOKUP(C455,Teilnehmer!$B$3:$C$1002,2,0),\"\")","v":""},null,{"$f":"IFERROR(VLOOKUP(E455,Teilnehmer!$B$3:$C$1002,2,0),\"\")","v":""}]
[null,null,null,{"$f":"IFERROR(VLOOKUP(C456,Teilnehmer!$B$3:$C$1002,2,0),\"\")","v":""},null,{"$f":"IFERROR(VLOOKUP(E456,Teilnehmer!$B$3:$C$1002,2,0),\"\")","v":""}]
[null,null,null,{"$f":"IFERROR(VLOOKUP(C457,Teilnehmer!$B$3:$C$1002,2,0),\"\")","v":""},null,{"$f":"IFERROR(VLOOKUP(E457,Teilnehmer!$B$3:$C$1002,2,0),\"\")","v":""}]
[null,null,null,{"$f":"IFERROR(VLOOKUP(C458,Teilnehmer!$B$3:$C$1002,2,0),\"\")","v":""},null,{"$f":"IFERROR(VLOOKUP(E458,Teilnehmer!$B$3:$C$1002,2,0),\"\")","v":""}]
[null,null,null,{"$f":"IFERROR(VLOOKUP(C459,Teilnehmer!$B$3:$C$1002,2,0),\"\")","v":""},null,{"$f":"IFERROR(VLOOKUP(E459,Teilnehmer!$B$3:$C$1002,2,0),\"\")","v":""}]
[null,null,null,{"$f":"IFERROR(VLOOKUP(C460,Teilnehmer!$B$3:$C$1002,2,0),\"\")","v":""},null,{"$f":"IFERROR(VLOOKUP(E460,Teilnehmer!$B$3:$C$1002,2,0),\"\")","v":""}]
[null,null,null,{"$f":"IFERROR(VLOOKUP(C461,Teilnehmer!$B$3:$C$1002,2,0),\"\")","v":""},null,{"$f":"IFERROR(VLOOKUP(E461,Teilnehmer!$B$3:$C$1002,2,0),\"\")","v":""}]
[null,null,null,{"$f":"IFERROR(VLOOKUP(C462,Teilnehmer!$B$3:$C$1002,2,0),\"\")","v":""},null,{"$f":"IFERROR(VLOOKUP(E462,Teilnehmer!$B$3:$C$1002,2,0),\"\")","v":""}]
[null,null,null,{"$f":"IFERROR(VLOOKUP(C463,Teilnehmer!$B$3:$C$1002,2,0),\"\")","v":""},null,{"$f":"IFERROR(VLOOKUP(E463,Teilnehmer!$B$3:$C$1002,2,0),\"\")","v":""}]
[null,null,null,{"$f":"IFERROR(VLOOKUP(C464,Teilnehmer!$B$3:$C$1002,2,0),\"\")","v":""},null,{"$f":"IFERROR(VLOOKUP(E464,Teilnehmer!$B$3:$C$1002,2,0),\"\")","v":""}]
[null,null,null,{"$f":"IFERROR(VLOOKUP(C465,Teilnehmer!$B$3:$C$1002,2,0),\"\")","v":""},null,{"$f":"IFERROR(VLOOKUP(E465,Teilnehmer!$B$3:$C$1002,2,0),\"\")","v":""}]
[null,null,null,{"$f":"IFERROR(VLOOKUP(C466,Teilnehmer!$B$3:$C$1002,2,0),\"\")","v":""},null,{"$f":"IFERROR(VLOOKUP(E466,Teilnehmer!$B$3:$C$1002,2,0),\"\")","v":""}]
[null,null,null,{"$f":"IFERROR(VLOOKUP(C467,Teilnehmer!$B$3:$C$1002,2,0),\"\")","v":""},null,{"$f":"IFERROR(VLOOKUP(E467,Teilnehmer!$B$3:$C$1002,2,0),\"\")","v":""}]
[null,null,null,{"$f":"IFERROR(VLOOKUP(C468,Teilnehmer!$B$3:$C$1002,2,0),\"\")","v":""},null,{"$f":"IFERROR(VLOOKUP(E468,Teilnehmer!$B$3:$C$1002,2,0),\"\")","v":""}]
[null,null,null,{"$f":"IFERROR(VLOOKUP(C469,Teilnehmer!$B$3:$C$1002,2,0),\"\")","v":""},null,{"$f":"IFERROR(VLOOKUP(E469,Teilnehmer!$B$3:$C$1002,2,0),\"\")","v":""}]
[null,null,null,{"$f":"IFERROR(VLOOKUP(C470,Teilnehmer!$B$3:$C$1002,2,0),\"\")","v":""},null,{"$f":"IFERROR(VLOOKUP(E470,Teilnehmer!$B$3:$C$1002,2,0),\"\")","v":""}]
[null,null,null,{"$f":"IFERROR(VLOOKUP(C471,Teilnehmer!$B$3:$C$1002,2,0),\"\")","v":""},null,{"$f":"IFERROR(VLOOKUP(E471,Teilnehmer!$B$3:$C$1002,2,0),\"\")","v":""}]
[null,null,null,{"$f":"IFERROR(VLOOKUP(C472,Teilnehmer!$B$3:$C$1002,2,0),\"\")","v":""},null,{"$f":"IFERROR(VLOOKUP(E472,Teilnehmer!$B$3:$C$1002,2,0),\"\")","v":""}]
[null,null,null,{"$f":"IFERROR(VLOOKUP(C473,Teilnehmer!$B$3:$C$1002,2,0),\"\")","v":""},null,{"$f":"IFERROR(VLOOKUP(E473,Teilnehmer!$B$3:$C$1002,2,0),\"\")","v":""}]
[null,null,null,{"$f":"IFERROR(VLOOKUP(C474,Teilnehmer!$B$3:$C$1002,2,0),\"\")","v":""},null,{"$f":"IFERROR(VLOOKUP(E474,Teilnehmer!$B$3:$C$1002,2,0),\"\")","v":""}]
[null,null,null,{"$f":"IFERROR(VLOOKUP(C475,Teilnehmer!$B$3:$C$1002,2,0),\"\")","v":""},null,{"$f":"IFERROR(VLOOKUP(E475,Teilnehmer!$B$3:$C$1002,2,0),\"\")","v":""}]
[null,null,null,{"$f":"IFERROR(VLOOKUP(C476,Teilnehmer!$B$3:$C$1002,2,0),\"\")","v":""},null,{"$f":"IFERROR(VLOOKUP(E476,Teilnehmer!$B$3:$C$1002,2,0),\"\")","v":""}]
[null,null,null,{"$f":"IFERROR(VLOOKUP(C477,Teilnehmer!$B$3:$C$1002,2,0),\"\")","v":""},null,{"$f":"IFERROR(VLOOKUP(E477,Teilnehmer!$B$3:$C$1002,2,0),\"\")","v":""}]
[null,null,null,{"$f":"IFERROR(VLOOKUP(C478,Teilnehmer!$B$3:$C$1002,2,0),\"\")","v":""},null,{"$f":"IFERROR(VLOOKUP(E478,Teilnehmer!$B$3:$C$1002,2,0),\"\")","v":""}]
[null,null,null,{"$f":"IFERROR(VLOOKUP(C479,Teilnehmer!$B$3:$C$1002,2,0),\"\")","v":""},null,{"$f":"IFERROR(VLOOKUP(E479,Teilnehmer!$B$3:$C$1002,2,0),\"\")","v":""}]
[null,null,null,{"$f":"IFERROR(VLOOKUP(C480,Teilnehmer!$B$3:$C$1002,2,0),\"\")","v":""},null,{"$f":"IFERROR(VLOOKUP(E480,Teilnehmer!$B$3:$C$1002,2,0),\"\")","v":""}]
[null,null,null,{"$f":"IFERROR(VLOOKUP(C481,Teilnehmer!$B$3:$C$1002,2,0),\"\")","v":""},null,{"$f":"IFERROR(VLOOKUP(E481,Teilnehmer!$B$3:$C$1002,2,0),\"\")","v":""}]
[null,null,null,{"$f":"IFERROR(VLOOKUP(C482,Teilnehmer!$B$3:$C$1002,2,0),\"\")","v":""},null,{"$f":"IFERROR(VLOOKUP(E482,Teilnehmer!$B$3:$C$1002,2,0),\"\")","v":""}]
[null,null,null,{"$f":"IFERROR(VLOOKUP(C483,Teilnehmer!$B$3:$C$1002,2,0),\"\")","v":""},null,{"$f":"IFERROR(VLOOKUP(E483,Teilnehmer!$B$3:$C$1002,2,0),\"\")","v":""}]
[null,null,null,{"$f":"IFERROR(VLOOKUP(C484,Teilnehmer!$B$3:$C$1002,2,0),\"\")","v":""},null,{"$f":"IFERROR(VLOOKUP(E484,Teilnehmer!$B$3:$C$1002,2,0),\"\")","v":""}]
[null,null,null,{"$f":"IFERROR(VLOOKUP(C485,Teilnehmer!$B$3:$C$1002,2,0),\"\")","v":""},null,{"$f":"IFERROR(VLOOKUP(E485,Teilnehmer!$B$3:$C$1002,2,0),\"\")","v":""}]
[null,null,null,{"$f":"IFERROR(VLOOKUP(C486,Teilnehmer!$B$3:$C$1002,2,0),\"\")","v":""},null,{"$f":"IFERROR(VLOOKUP(E486,Teilnehmer!$B$3:$C$1002,2,0),\"\")","v":""}]
[null,null,null,{"$f":"IFERROR(VLOOKUP(C487,Teilnehmer!$B$3:$C$1002,2,0),\"\")","v":""},null,{"$f":"IFERROR(VLOOKUP(E487,Teilnehmer!$B$3:$C$1002,2,0),\"\")","v":""}]
[null,null,null,{"$f":"IFERROR(VLOOKUP(C488,Teilnehmer!$B$3:$C$1002,2,0),\"\")","v":""},null,{"$f":"IFERROR(VLOOKUP(E488,Teilnehmer!$B$3:$C$1002,2,0),\"\")","v":""}]
[null,null,null,{"$f":"IFERROR(VLOOKUP(C489,Teilnehmer!$B$3:$C$1002,2,0),\"\")","v":""},null,{"$f":"IFERROR(VLOOKUP(E489,Teilnehmer!$B$3:$C$1002,2,0),\"\")","v":""}]
[null,null,null,{"$f":"IFERROR(VLOOKUP(C490,Teilnehmer!$B$3:$C$1002,2,0),\"\")","v":""},null,{"$f":"IFERROR(VLOOKUP(E490,Teilnehmer!$B$3:$C$1002,2,0),\"\")","v":""}]
[null,null,null,{"$f":"IFERROR(VLOOKUP(C491,Teilnehmer!$B$3:$C$1002,2,0),\"\")","v":""},null,{"$f":"IFERROR(VLOOKUP(E491,Teilnehmer!$B$3:$C$1002,2,0),\"\")","v":""}]
[null,null,null,{"$f":"IFERROR(VLOOKUP(C492,Teilnehmer!$B$3:$C$1002,2,0),\"\")","v":""},null,{"$f":"IFERROR(VLOOKUP(E492,Teilnehmer!$B$3:$C$1002,2,0),\"\")","v":""}]
[null,null,null,{"$f":"IFERROR(VLOOKUP(C493,Teilnehmer!$B$3:$C$1002,2,0),\"\")","v":""},null,{"$f":"IFERROR(VLOOKUP(E493,Teilnehmer!$B$3:$C$1002,2,0),\"\")","v":""}]
[null,null,null,{"$f":"IFERROR(VLOOKUP(C494,Teilnehmer!$B$3:$C$1002,2,0),\"\")","v":""},null,{"$f":"IFERROR(VLOOKUP(E494,Teilnehmer!$B$3:$C$1002,2,0),\"\")","v":""}]
[null,null,null,{"$f":"IFERROR(VLOOKUP(C495,Teilnehmer!$B$3:$C$1002,2,0),\"\")","v":""},null,{"$f":"IFERROR(VLOOKUP(E495,Teilnehmer!$B$3:$C$1002,2,0),\"\")","v":""}]
[null,null,null,{"$f":"IFERROR(VLOOKUP(C496,Teilnehmer!$B$3:$C$1002,2,0),\"\")","v":""},null,{"$f":"IFERROR(VLOOKUP(E496,Teilnehmer!$B$3:$C$1002,2,0),\"\")","v":""}]
[null,null,null,{"$f":"IFERROR(VLOOKUP(C497,Teilnehmer!$B$3:$C$1002,2,0),\"\")","v":""},null,{"$f":"IFERROR(VLOOKUP(E497,Teilnehmer!$B$3:$C$1002,2,0),\"\")","v":""}]
[null,null,null,{"$f":"IFERROR(VLOOKUP(C498,Teilnehmer!$B$3:$C$1002,2,0),\"\")","v":""},null,{"$f":"IFERROR(VLOOKUP(E498,Teilnehmer!$B$3:$C$1002,2,0),\"\")","v":""}]
[null,null,null,{"$f":"IFERROR(VLOOKUP(C499,Teilnehmer!$B$3:$C$1002,2,0),\"\")","v":""},null,{"$f":"IFERROR(VLOOKUP(E499,Teilnehmer!$B$3:$C$1002,2,0),\"\")","v":""}]
[null,null,null,{"$f":"IFERROR(VLOOKUP(C500,Teilnehmer!$B$3:$C$1002,2,0),\"\")","v":""},null,{"$f":"IFERROR(VLOOKUP(E500,Teilnehmer!$B$3:$C$1002,2,0),\"\")","v":""}]
[null,null,null,{"$f":"IFERROR(VLOOKUP(C501,Teilnehmer!$B$3:$C$1002,2,0),\"\")","v":""},null,{"$f":"IFERROR(VLOOKUP(E501,Teilnehmer!$B$3:$C$1002,2,0),\"\")","v":""}]
[null,null,null,{"$f":"IFERROR(VLOOKUP(C502,Teilnehmer!$B$3:$C$1002,2,0),\"\")","v":""},null,{"$f":"IFERROR(VLOOKUP(E502,Teilnehmer!$B$3:$C$1002,2,0),\"\")","v":""}]
[null,null,null,{"$f":"IFERROR(VLOOKUP(C503,Teilnehmer!$B$3:$C$1002,2,0),\"\")","v":""},null,{"$f":"IFERROR(VLOOKUP(E503,Teilnehmer!$B$3:$C$1002,2,0),\"\")","v":""}]
[null,null,null,{"$f":"IFERROR(VLOOKUP(C504,Teilnehmer!$B$3:$C$1002,2,0),\"\")","v":""},null,{"$f":"IFERROR(VLOOKUP(E504,Teilnehmer!$B$3:$C$1002,2,0),\"\")","v":""}]
[null,null,null,{"$f":"IFERROR(VLOOKUP(C505,Teilnehmer!$B$3:$C$1002,2,0),\"\")","v":""},null,{"$f":"IFERROR(VLOOKUP(E505,Teilnehmer!$B$3:$C$1002,2,0),\"\")","v":""}]
[null,null,null,{"$f":"IFERROR(VLOOKUP(C506,Teilnehmer!$B$3:$C$1002,2,0),\"\")","v":""},null,{"$f":"IFERROR(VLOOKUP(E506,Teilnehmer!$B$3:$C$1002,2,0),\"\")","v":""}]
[null,null,null,{"$f":"IFERROR(VLOOKUP(C507,Teilnehmer!$B$3:$C$1002,2,0),\"\")","v":""},null,{"$f":"IFERROR(VLOOKUP(E507,Teilnehmer!$B$3:$C$1002,2,0),\"\")","v":""}]
[null,null,null,{"$f":"IFERROR(VLOOKUP(C508,Teilnehmer!$B$3:$C$1002,2,0),\"\")","v":""},null,{"$f":"IFERROR(VLOOKUP(E508,Teilnehmer!$B$3:$C$1002,2,0),\"\")","v":""}]
[null,null,null,{"$f":"IFERROR(VLOOKUP(C509,Teilnehmer!$B$3:$C$1002,2,0),\"\")","v":""},null,{"$f":"IFERROR(VLOOKUP(E509,Teilnehmer!$B$3:$C$1002,2,0),\"\")","v":""}]
[null,null,null,{"$f":"IFERROR(VLOOKUP(C510,Teilnehmer!$B$3:$C$1002,2,0),\"\")","v":""},null,{"$f":"IFERROR(VLOOKUP(E510,Teilnehmer!$B$3:$C$1002,2,0),\"\")","v":""}]
[null,null,null,{"$f":"IFERROR(VLOOKUP(C511,Teilnehmer!$B$3:$C$1002,2,0),\"\")","v":""},null,{"$f":"IFERROR(VLOOKUP(E511,Teilnehmer!$B$3:$C$1002,2,0),\"\")","v":""}]
[null,null,null,{"$f":"IFERROR(VLOOKUP(C512,Teilnehmer!$B$3:$C$1002,2,0),\"\")","v":""},null,{"$f":"IFERROR(VLOOKUP(E512,Teilnehmer!$B$3:$C$1002,2,0),\"\")","v":""}]
[null,null,null,{"$f":"IFERROR(VLOOKUP(C513,Teilnehmer!$B$3:$C$1002,2,0),\"\")","v":""},null,{"$f":"IFERROR(VLOOKUP(E513,Teilnehmer!$B$3:$C$1002,2,0),\"\")","v":""}]
[null,null,null,{"$f":"IFERROR(VLOOKUP(C514,Teilnehmer!$B$3:$C$1002,2,0),\"\")","v":""},null,{"$f":"IFERROR(VLOOKUP(E514,Teilnehmer!$B$3:$C$1002,2,0),\"\")","v":""}]
[null,null,null,{"$f":"IFERROR(VLOOKUP(C515,Teilnehmer!$B$3:$C$1002,2,0),\"\")","v":""},null,{"$f":"IFERROR(VLOOKUP(E515,Teilnehmer!$B$3:$C$1002,2,0),\"\")","v":""}]
[null,null,null,{"$f":"IFERROR(VLOOKUP(C516,Teilnehmer!$B$3:$C$1002,2,0),\"\")","v":""},null,{"$f":"IFERROR(VLOOKUP(E516,Teilnehmer!$B$3:$C$1002,2,0),\"\")","v":""}]
[null,null,null,{"$f":"IFERROR(VLOOKUP(C517,Teilnehmer!$B$3:$C$1002,2,0),\"\")","v":""},null,{"$f":"IFERROR(VLOOKUP(E517,Teilnehmer!$B$3:$C$1002,2,0),\"\")","v":""}]
[null,null,null,{"$f":"IFERROR(VLOOKUP(C518,Teilnehmer!$B$3:$C$1002,2,0),\"\")","v":""},null,{"$f":"IFERROR(VLOOKUP(E518,Teilnehmer!$B$3:$C$1002,2,0),\"\")","v":""}]
[null,null,null,{"$f":"IFERROR(VLOOKUP(C519,Teilnehmer!$B$3:$C$1002,2,0),\"\")","v":""},null,{"$f":"IFERROR(VLOOKUP(E519,Teilnehmer!$B$3:$C$1002,2,0),\"\")","v":""}]
[null,null,null,{"$f":"IFERROR(VLOOKUP(C520,Teilnehmer!$B$3:$C$1002,2,0),\"\")","v":""},null,{"$f":"IFERROR(VLOOKUP(E520,Teilnehmer!$B$3:$C$1002,2,0),\"\")","v":""}]
[null,null,null,{"$f":"IFERROR(VLOOKUP(C521,Teilnehmer!$B$3:$C$1002,2,0),\"\")","v":""},null,{"$f":"IFERROR(VLOOKUP(E521,Teilnehmer!$B$3:$C$1002,2,0),\"\")","v":""}]
[null,null,null,{"$f":"IFERROR(VLOOKUP(C522,Teilnehmer!$B$3:$C$1002,2,0),\"\")","v":""},null,{"$f":"IFERROR(VLOOKUP(E522,Teilnehmer!$B$3:$C$1002,2,0),\"\")","v":""}]
[null,null,null,{"$f":"IFERROR(VLOOKUP(C523,Teilnehmer!$B$3:$C$1002,2,0),\"\")","v":""},null,{"$f":"IFERROR(VLOOKUP(E523,Teilnehmer!$B$3:$C$1002,2,0),\"\")","v":""}]
[null,null,null,{"$f":"IFERROR(VLOOKUP(C524,Teilnehmer!$B$3:$C$1002,2,0),\"\")","v":""},null,{"$f":"IFERROR(VLOOKUP(E524,Teilnehmer!$B$3:$C$1002,2,0),\"\")","v":""}]
[null,null,null,{"$f":"IFERROR(VLOOKUP(C525,Teilnehmer!$B$3:$C$1002,2,0),\"\")","v":""},null,{"$f":"IFERROR(VLOOKUP(E525,Teilnehmer!$B$3:$C$1002,2,0),\"\")","v":""}]
[null,null,null,{"$f":"IFERROR(VLOOKUP(C526,Teilnehmer!$B$3:$C$1002,2,0),\"\")","v":""},null,{"$f":"IFERROR(VLOOKUP(E526,Teilnehmer!$B$3:$C$1002,2,0),\"\")","v":""}]
[null,null,null,{"$f":"IFERROR(VLOOKUP(C527,Teilnehmer!$B$3:$C$1002,2,0),\"\")","v":""},null,{"$f":"IFERROR(VLOOKUP(E527,Teilnehmer!$B$3:$C$1002,2,0),\"\")","v":""}]
[null,null,null,{"$f":"IFERROR(VLOOKUP(C528,Teilnehmer!$B$3:$C$1002,2,0),\"\")","v":""},null,{"$f":"IFERROR(VLOOKUP(E528,Teilnehmer!$B$3:$C$1002,2,0),\"\")","v":""}]
[null,null,null,{"$f":"IFERROR(VLOOKUP(C529,Teilnehmer!$B$3:$C$1002,2,0),\"\")","v":""},null,{"$f":"IFERROR(VLOOKUP(E529,Teilnehmer!$B$3:$C$1002,2,0),\"\")","v":""}]
[null,null,null,{"$f":"IFERROR(VLOOKUP(C530,Teilnehmer!$B$3:$C$1002,2,0),\"\")","v":""},null,{"$f":"IFERROR(VLOOKUP(E530,Teilnehmer!$B$3:$C$1002,2,0),\"\")","v":""}]
[null,null,null,{"$f":"IFERROR(VLOOKUP(C531,Teilnehmer!$B$3:$C$1002,2,0),\"\")","v":""},null,{"$f":"IFERROR(VLOOKUP(E531,Teilnehmer!$B$3:$C$1002,2,0),\"\")","v":""}]
[null,null,null,{"$f":"IFERROR(VLOOKUP(C532,Teilnehmer!$B$3:$C$1002,2,0),\"\")","v":""},null,{"$f":"IFERROR(VLOOKUP(E532,Teilnehmer!$B$3:$C$1002,2,0),\"\")","v":""}]
[null,null,null,{"$f":"IFERROR(VLOOKUP(C533,Teilnehmer!$B$3:$C$1002,2,0),\"\")","v":""},null,{"$f":"IFERROR(VLOOKUP(E533,Teilnehmer!$B$3:$C$1002,2,0),\"\")","v":""}]
[null,null,null,{"$f":"IFERROR(VLOOKUP(C534,Teilnehmer!$B$3:$C$1002,2,0),\"\")","v":""},null,{"$f":"IFERROR(VLOOKUP(E534,Teilnehmer!$B$3:$C$1002,2,0),\"\")","v":""}]
[null,null,null,{"$f":"IFERROR(VLOOKUP(C535,Teilnehmer!$B$3:$C$1002,2,0),\"\")","v":""},null,{"$f":"IFERROR(VLOOKUP(E535,Teilnehmer!$B$3:$C$1002,2,0),\"\")","v":""}]
[null,null,null,{"$f":"IFERROR(VLOOKUP(C536,Teilnehmer!$B$3:$C$1002,2,0),\"\")","v":""},null,{"$f":"IFERROR(VLOOKUP(E536,Teilnehmer!$B$3:$C$1002,2,0),\"\")","v":""}]
[null,null,null,{"$f":"IFERROR(VLOOKUP(C537,Teilnehmer!$B$3:$C$1002,2,0),\"\")","v":""},null,{"$f":"IFERROR(VLOOKUP(E537,Teilnehmer!$B$3:$C$1002,2,0),\"\")","v":""}]
[null,null,null,{"$f":"IFERROR(VLOOKUP(C538,Teilnehmer!$B$3:$C$1002,2,0),\"\")","v":""},null,{"$f":"IFERROR(VLOOKUP(E538,Teilnehmer!$B$3:$C$1002,2,0),\"\")","v":""}]
[null,null,null,{"$f":"IFERROR(VLOOKUP(C539,Teilnehmer!$B$3:$C$1002,2,0),\"\")","v":""},null,{"$f":"IFERROR(VLOOKUP(E539,Teilnehmer!$B$3:$C$1002,2,0),\"\")","v":""}]
[null,null,null,{"$f":"IFERROR(VLOOKUP(C540,Teilnehmer!$B$3:$C$1002,2,0),\"\")","v":""},null,{"$f":"IFERROR(VLOOKUP(E540,Teilnehmer!$B$3:$C$1002,2,0),\"\")","v":""}]
[null,null,null,{"$f":"IFERROR(VLOOKUP(C541,Teilnehmer!$B$3:$C$1002,2,0),\"\")","v":""},null,{"$f":"IFERROR(VLOOKUP(E541,Teilnehmer!$B$3:$C$1002,2,0),\"\")","v":""}]
[null,null,null,{"$f":"IFERROR(VLOOKUP(C542,Teilnehmer!$B$3:$C$1002,2,0),\"\")","v":""},null,{"$f":"IFERROR(VLOOKUP(E542,Teilnehmer!$B$3:$C$1002,2,0),\"\")","v":""}]
[null,null,null,{"$f":"IFERROR(VLOOKUP(C543,Teilnehmer!$B$3:$C$1002,2,0),\"\")","v":""},null,{"$f":"IFERROR(VLOOKUP(E543,Teilnehmer!$B$3:$C$1002,2,0),\"\")","v":""}]
[null,null,null,{"$f":"IFERROR(VLOOKUP(C544,Teilnehmer!$B$3:$C$1002,2,0),\"\")","v":""},null,{"$f":"IFERROR(VLOOKUP(E544,Teilnehmer!$B$3:$C$1002,2,0),\"\")","v":""}]
[null,null,null,{"$f":"IFERROR(VLOOKUP(C545,Teilnehmer!$B$3:$C$1002,2,0),\"\")","v":""},null,{"$f":"IFERROR(VLOOKUP(E545,Teilnehmer!$B$3:$C$1002,2,0),\"\")","v":""}]
[null,null,null,{"$f":"IFERROR(VLOOKUP(C546,Teilnehmer!$B$3:$C$1002,2,0),\"\")","v":""},null,{"$f":"IFERROR(VLOOKUP(E546,Teilnehmer!$B$3:$C$1002,2,0),\"\")","v":""}]
[null,null,null,{"$f":"IFERROR(VLOOKUP(C547,Teilnehmer!$B$3:$C$1002,2,0),\"\")","v":""},null,{"$f":"IFERROR(VLOOKUP(E547,Teilnehmer!$B$3:$C$1002,2,0),\"\")","v":""}]
[null,null,null,{"$f":"IFERROR(VLOOKUP(C548,Teilnehmer!$B$3:$C$1002,2,0),\"\")","v":""},null,{"$f":"IFERROR(VLOOKUP(E548,Teilnehmer!$B$3:$C$1002,2,0),\"\")","v":""}]
[null,null,null,{"$f":"IFERROR(VLOOKUP(C549,Teilnehmer!$B$3:$C$1002,2,0),\"\")","v":""},null,{"$f":"IFERROR(VLOOKUP(E549,Teilnehmer!$B$3:$C$1002,2,0),\"\")","v":""}]
[null,null,null,{"$f":"IFERROR(VLOOKUP(C550,Teilnehmer!$B$3:$C$1002,2,0),\"\")","v":""},null,{"$f":"IFERROR(VLOOKUP(E550,Teilnehmer!$B$3:$C$1002,2,0),\"\")","v":""}]
[null,null,null,{"$f":"IFERROR(VLOOKUP(C551,Teilnehmer!$B$3:$C$1002,2,0),\"\")","v":""},null,{"$f":"IFERROR(VLOOKUP(E551,Teilnehmer!$B$3:$C$1002,2,0),\"\")","v":""}]
[null,null,null,{"$f":"IFERROR(VLOOKUP(C552,Teilnehmer!$B$3:$C$1002,2,0),\"\")","v":""},null,{"$f":"IFERROR(VLOOKUP(E552,Teilnehmer!$B$3:$C$1002,2,0),\"\")","v":""}]
[null,null,null,{"$f":"IFERROR(VLOOKUP(C553,Teilnehmer!$B$3:$C$1002,2,0),\"\")","v":""},null,{"$f":"IFERROR(VLOOKUP(E553,Teilnehmer!$B$3:$C$1002,2,0),\"\")","v":""}]
[null,null,null,{"$f":"IFERROR(VLOOKUP(C554,Teilnehmer!$B$3:$C$1002,2,0),\"\")","v":""},null,{"$f":"IFERROR(VLOOKUP(E554,Teilnehmer!$B$3:$C$1002,2,0),\"\")","v":""}]
[null,null,null,{"$f":"IFERROR(VLOOKUP(C555,Teilnehmer!$B$3:$C$1002,2,0),\"\")","v":""},null,{"$f":"IFERROR(VLOOKUP(E555,Teilnehmer!$B$3:$C$1002,2,0),\"\")","v":""}]
[null,null,null,{"$f":"IFERROR(VLOOKUP(C556,Teilnehmer!$B$3:$C$1002,2,0),\"\")","v":""},null,{"$f":"IFERROR(VLOOKUP(E556,Teilnehmer!$B$3:$C$1002,2,0),\"\")","v":""}]
[null,null,null,{"$f":"IFERROR(VLOOKUP(C557,Teilnehmer!$B$3:$C$1002,2,0),\"\")","v":""},null,{"$f":"IFERROR(VLOOKUP(E557,Teilnehmer!$B$3:$C$1002,2,0),\"\")","v":""}]
[null,null,null,{"$f":"IFERROR(VLOOKUP(C558,Teilnehmer!$B$3:$C$1002,2,0),\"\")","v":""},null,{"$f":"IFERROR(VLOOKUP(E558,Teilnehmer!$B$3:$C$1002,2,0),\"\")","v":""}]
[null,null,null,{"$f":"IFERROR(VLOOKUP(C559,Teilnehmer!$B$3:$C$1002,2,0),\"\")","v":""},null,{"$f":"IFERROR(VLOOKUP(E559,Teilnehmer!$B$3:$C$1002,2,0),\"\")","v":""}]
[null,null,null,{"$f":"IFERROR(VLOOKUP(C560,Teilnehmer!$B$3:$C$1002,2,0),\"\")","v":""},null,{"$f":"IFERROR(VLOOKUP(E560,Teilnehmer!$B$3:$C$1002,2,0),\"\")","v":""}]
[null,null,null,{"$f":"IFERROR(VLOOKUP(C561,Teilnehmer!$B$3:$C$1002,2,0),\"\")","v":""},null,{"$f":"IFERROR(VLOOKUP(E561,Teilnehmer!$B$3:$C$1002,2,0),\"\")","v":""}]
[null,null,null,{"$f":"IFERROR(VLOOKUP(C562,Teilnehmer!$B$3:$C$1002,2,0),\"\")","v":""},null,{"$f":"IFERROR(VLOOKUP(E562,Teilnehmer!$B$3:$C$1002,2,0),\"\")","v":""}]
[null,null,null,{"$f":"IFERROR(VLOOKUP(C563,Teilnehmer!$B$3:$C$1002,2,0),\"\")","v":""},null,{"$f":"IFERROR(VLOOKUP(E563,Teilnehmer!$B$3:$C$1002,2,0),\"\")","v":""}]
[null,null,null,{"$f":"IFERROR(VLOOKUP(C564,Teilnehmer!$B$3:$C$1002,2,0),\"\")","v":""},null,{"$f":"IFERROR(VLOOKUP(E564,Teilnehmer!$B$3:$C$1002,2,0),\"\")","v":""}]
[null,null,null,{"$f":"IFERROR(VLOOKUP(C565,Teilnehmer!$B$3:$C$1002,2,0),\"\")","v":""},null,{"$f":"IFERROR(VLOOKUP(E565,Teilnehmer!$B$3:$C$1002,2,0),\"\")","v":""}]
[null,null,null,{"$f":"IFERROR(VLOOKUP(C566,Teilnehmer!$B$3:$C$1002,2,0),\"\")","v":""},null,{"$f":"IFERROR(VLOOKUP(E566,Teilnehmer!$B$3:$C$1002,2,0),\"\")","v":""}]
[null,null,null,{"$f":"IFERROR(VLOOKUP(C567,Teilnehmer!$B$3:$C$1002,2,0),\"\")","v":""},null,{"$f":"IFERROR(VLOOKUP(E567,Teilnehmer!$B$3:$C$1002,2,0),\"\")","v":""}]
[null,null,null,{"$f":"IFERROR(VLOOKUP(C568,Teilnehmer!$B$3:$C$1002,2,0),\"\")","v":""},null,{"$f":"IFERROR(VLOOKUP(E568,Teilnehmer!$B$3:$C$1002,2,0),\"\")","v":""}]
[null,null,null,{"$f":"IFERROR(VLOOKUP(C569,Teilnehmer!$B$3:$C$1002,2,0),\"\")","v":""},null,{"$f":"IFERROR(VLOOKUP(E569,Teilnehmer!$B$3:$C$1002,2,0),\"\")","v":""}]
[null,null,null,{"$f":"IFERROR(VLOOKUP(C570,Teilnehmer!$B$3:$C$1002,2,0),\"\")","v":""},null,{"$f":"IFERROR(VLOOKUP(E570,Teilnehmer!$B$3:$C$1002,2,0),\"\")","v":""}]
[null,null,null,{"$f":"IFERROR(VLOOKUP(C571,Teilnehmer!$B$3:$C$1002,2,0),\"\")","v":""},null,{"$f":"IFERROR(VLOOKUP(E571,Teilnehmer!$B$3:$C$1002,2,0),\"\")","v":""}]
[null,null,null,{"$f":"IFERROR(VLOOKUP(C572,Teilnehmer!$B$3:$C$1002,2,0),\"\")","v":""},null,{"$f":"IFERROR(VLOOKUP(E572,Teilnehmer!$B$3:$C$1002,2,0),\"\")","v":""}]
[null,null,null,{"$f":"IFERROR(VLOOKUP(C573,Teilnehmer!$B$3:$C$1002,2,0),\"\")","v":""},null,{"$f":"IFERROR(VLOOKUP(E573,Teilnehmer!$B$3:$C$1002,2,0),\"\")","v":""}]
[null,null,null,{"$f":"IFERROR(VLOOKUP(C574,Teilnehmer!$B$3:$C$1002,2,0),\"\")","v":""},null,{"$f":"IFERROR(VLOOKUP(E574,Teilnehmer!$B$3:$C$1002,2,0),\"\")","v":""}]
[null,null,null,{"$f":"IFERROR(VLOOKUP(C575,Teilnehmer!$B$3:$C$1002,2,0),\"\")","v":""},null,{"$f":"IFERROR(VLOOKUP(E575,Teilnehmer!$B$3:$C$1002,2,0),\"\")","v":""}]
[null,null,null,{"$f":"IFERROR(VLOOKUP(C576,Teilnehmer!$B$3:$C$1002,2,0),\"\")","v":""},null,{"$f":"IFERROR(VLOOKUP(E576,Teilnehmer!$B$3:$C$1002,2,0),\"\")","v":""}]
[null,null,null,{"$f":"IFERROR(VLOOKUP(C577,Teilnehmer!$B$3:$C$1002,2,0),\"\")","v":""},null,{"$f":"IFERROR(VLOOKUP(E577,Teilnehmer!$B$3:$C$1002,2,0),\"\")","v":""}]
[null,null,null,{"$f":"IFERROR(VLOOKUP(C578,Teilnehmer!$B$3:$C$1002,2,0),\"\")","v":""},null,{"$f":"IFERROR(VLOOKUP(E578,Teilnehmer!$B$3:$C$1002,2,0),\"\")","v":""}]
[null,null,null,{"$f":"IFERROR(VLOOKUP(C579,Teilnehmer!$B$3:$C$1002,2,0),\"\")","v":""},null,{"$f":"IFERROR(VLOOKUP(E579,Teilnehmer!$B$3:$C$1002,2,0),\"\")","v":""}]
[null,null,null,{"$f":"IFERROR(VLOOKUP(C580,Teilnehmer!$B$3:$C$1002,2,0),\"\")","v":""},null,{"$f":"IFERROR(VLOOKUP(E580,Teilnehmer!$B$3:$C$1002,2,0),\"\")","v":""}]
[null,null,null,{"$f":"IFERROR(VLOOKUP(C581,Teilnehmer!$B$3:$C$1002,2,0),\"\")","v":""},null,{"$f":"IFERROR(VLOOKUP(E581,Teilnehmer!$B$3:$C$1002,2,0),\"\")","v":""}]
[null,null,null,{"$f":"IFERROR(VLOOKUP(C582,Teilnehmer!$B$3:$C$1002,2,0),\"\")","v":""},null,{"$f":"IFERROR(VLOOKUP(E582,Teilnehmer!$B$3:$C$1002,2,0),\"\")","v":""}]
[null,null,null,{"$f":"IFERROR(VLOOKUP(C583,Teilnehmer!$B$3:$C$1002,2,0),\"\")","v":""},null,{"$f":"IFERROR(VLOOKUP(E583,Teilnehmer!$B$3:$C$1002,2,0),\"\")","v":""}]
[null,null,null,{"$f":"IFERROR(VLOOKUP(C584,Teilnehmer!$B$3:$C$1002,2,0),\"\")","v":""},null,{"$f":"IFERROR(VLOOKUP(E584,Teilnehmer!$B$3:$C$1002,2,0),\"\")","v":""}]
[null,null,null,{"$f":"IFERROR(VLOOKUP(C585,Teilnehmer!$B$3:$C$1002,2,0),\"\")","v":""},null,{"$f":"IFERROR(VLOOKUP(E585,Teilnehmer!$B$3:$C$1002,2,0),\"\")","v":""}]
[null,null,null,{"$f":"IFERROR(VLOOKUP(C586,Teilnehmer!$B$3:$C$1002,2,0),\"\")","v":""},null,{"$f":"IFERROR(VLOOKUP(E586,Teilnehmer!$B$3:$C$1002,2,0),\"\")","v":""}]
[null,null,null,{"$f":"IFERROR(VLOOKUP(C587,Teilnehmer!$B$3:$C$1002,2,0),\"\")","v":""},null,{"$f":"IFERROR(VLOOKUP(E587,Teilnehmer!$B$3:$C$1002,2,0),\"\")","v":""}]
[null,null,null,{"$f":"IFERROR(VLOOKUP(C588,Teilnehmer!$B$3:$C$1002,2,0),\"\")","v":""},null,{"$f":"IFERROR(VLOOKUP(E588,Teilnehmer!$B$3:$C$1002,2,0),\"\")","v":""}]
[null,null,null,{"$f":"IFERROR(VLOOKUP(C589,Teilnehmer!$B$3:$C$1002,2,0),\"\")","v":""},null,{"$f":"IFERROR(VLOOKUP(E589,Teilnehmer!$B$3:$C$1002,2,0),\"\")","v":""}]
[null,null,null,{"$f":"IFERROR(VLOOKUP(C590,Teilnehmer!$B$3:$C$1002,2,0),\"\")","v":""},null,{"$f":"IFERROR(VLOOKUP(E590,Teilnehmer!$B$3:$C$1002,2,0),\"\")","v":""}]
[null,null,null,{"$f":"IFERROR(VLOOKUP(C591,Teilnehmer!$B$3:$C$1002,2,0),\"\")","v":""},null,{"$f":"IFERROR(VLOOKUP(E591,Teilnehmer!$B$3:$C$1002,2,0),\"\")","v":""}]
[null,null,null,{"$f":"IFERROR(VLOOKUP(C592,Teilnehmer!$B$3:$C$1002,2,0),\"\")","v":""},null,{"$f":"IFERROR(VLOOKUP(E592,Teilnehmer!$B$3:$C$1002,2,0),\"\")","v":""}]
[null,null,null,{"$f":"IFERROR(VLOOKUP(C593,Teilnehmer!$B$3:$C$1002,2,0),\"\")","v":""},null,{"$f":"IFERROR(VLOOKUP(E593,Teilnehmer!$B$3:$C$1002,2,0),\"\")","v":""}]
[null,null,null,{"$f":"IFERROR(VLOOKUP(C594,Teilnehmer!$B$3:$C$1002,2,0),\"\")","v":""},null,{"$f":"IFERROR(VLOOKUP(E594,Teilnehmer!$B$3:$C$1002,2,0),\"\")","v":""}]
[null,null,null,{"$f":"IFERROR(VLOOKUP(C595,Teilnehmer!$B$3:$C$1002,2,0),\"\")","v":""},null,{"$f":"IFERROR(VLOOKUP(E595,Teilnehmer!$B$3:$C$1002,2,0),\"\")","v":""}]
[null,null,null,{"$f":"IFERROR(VLOOKUP(C596,Teilnehmer!$B$3:$C$1002,2,0),\"\")","v":""},null,{"$f":"IFERROR(VLOOKUP(E596,Teilnehmer!$B$3:$C$1002,2,0),\"\")","v":""}]
[null,null,null,{"$f":"IFERROR(VLOOKUP(C597,Teilnehmer!$B$3:$C$1002,2,0),\"\")","v":""},null,{"$f":"IFERROR(VLOOKUP(E597,Teilnehmer!$B$3:$C$1002,2,0),\"\")","v":""}]
[null,null,null,{"$f":"IFERROR(VLOOKUP(C598,Teilnehmer!$B$3:$C$1002,2,0),\"\")","v":""},null,{"$f":"IFERROR(VLOOKUP(E598,Teilnehmer!$B$3:$C$1002,2,0),\"\")","v":""}]
[null,null,null,{"$f":"IFERROR(VLOOKUP(C599,Teilnehmer!$B$3:$C$1002,2,0),\"\")","v":""},null,{"$f":"IFERROR(VLOOKUP(E599,Teilnehmer!$B$3:$C$1002,2,0),\"\")","v":""}]
[null,null,null,{"$f":"IFERROR(VLOOKUP(C600,Teilnehmer!$B$3:$C$1002,2,0),\"\")","v":""},null,{"$f":"IFERROR(VLOOKUP(E600,Teilnehmer!$B$3:$C$1002,2,0),\"\")","v":""}]
[null,null,null,{"$f":"IFERROR(VLOOKUP(C601,Teilnehmer!$B$3:$C$1002,2,0),\"\")","v":""},null,{"$f":"IFERROR(VLOOKUP(E601,Teilnehmer!$B$3:$C$1002,2,0),\"\")","v":""}]
[null,null,null,{"$f":"IFERROR(VLOOKUP(C602,Teilnehmer!$B$3:$C$1002,2,0),\"\")","v":""},null,{"$f":"IFERROR(VLOOKUP(E602,Teilnehmer!$B$3:$C$1002,2,0),\"\")","v":""}]
[null,null,null,{"$f":"IFERROR(VLOOKUP(C603,Teilnehmer!$B$3:$C$1002,2,0),\"\")","v":""},null,{"$f":"IFERROR(VLOOKUP(E603,Teilnehmer!$B$3:$C$1002,2,0),\"\")","v":""}]
[null,null,null,{"$f":"IFERROR(VLOOKUP(C604,Teilnehmer!$B$3:$C$1002,2,0),\"\")","v":""},null,{"$f":"IFERROR(VLOOKUP(E604,Teilnehmer!$B$3:$C$1002,2,0),\"\")","v":""}]
[null,null,null,{"$f":"IFERROR(VLOOKUP(C605,Teilnehmer!$B$3:$C$1002,2,0),\"\")","v":""},null,{"$f":"IFERROR(VLOOKUP(E605,Teilnehmer!$B$3:$C$1002,2,0),\"\")","v":""}]
[null,null,null,{"$f":"IFERROR(VLOOKUP(C606,Teilnehmer!$B$3:$C$1002,2,0),\"\")","v":""},null,{"$f":"IFERROR(VLOOKUP(E606,Teilnehmer!$B$3:$C$1002,2,0),\"\")","v":""}]
[null,null,null,{"$f":"IFERROR(VLOOKUP(C607,Teilnehmer!$B$3:$C$1002,2,0),\"\")","v":""},null,{"$f":"IFERROR(VLOOKUP(E607,Teilnehmer!$B$3:$C$1002,2,0),\"\")","v":""}]
[null,null,null,{"$f":"IFERROR(VLOOKUP(C608,Teilnehmer!$B$3:$C$1002,2,0),\"\")","v":""},null,{"$f":"IFERROR(VLOOKUP(E608,Teilnehmer!$B$3:$C$1002,2,0),\"\")","v":""}]
[null,null,null,{"$f":"IFERROR(VLOOKUP(C609,Teilnehmer!$B$3:$C$1002,2,0),\"\")","v":""},null,{"$f":"IFERROR(VLOOKUP(E609,Teilnehmer!$B$3:$C$1002,2,0),\"\")","v":""}]
[null,null,null,{"$f":"IFERROR(VLOOKUP(C610,Teilnehmer!$B$3:$C$1002,2,0),\"\")","v":""},null,{"$f":"IFERROR(VLOOKUP(E610,Teilnehmer!$B$3:$C$1002,2,0),\"\")","v":""}]
[null,null,null,{"$f":"IFERROR(VLOOKUP(C611,Teilnehmer!$B$3:$C$1002,2,0),\"\")","v":""},null,{"$f":"IFERROR(VLOOKUP(E611,Teilnehmer!$B$3:$C$1002,2,0),\"\")","v":""}]
[null,null,null,{"$f":"IFERROR(VLOOKUP(C612,Teilnehmer!$B$3:$C$1002,2,0),\"\")","v":""},null,{"$f":"IFERROR(VLOOKUP(E612,Teilnehmer!$B$3:$C$1002,2,0),\"\")","v":""}]
[null,null,null,{"$f":"IFERROR(VLOOKUP(C613,Teilnehmer!$B$3:$C$1002,2,0),\"\")","v":""},null,{"$f":"IFERROR(VLOOKUP(E613,Teilnehmer!$B$3:$C$1002,2,0),\"\")","v":""}]
[null,null,null,{"$f":"IFERROR(VLOOKUP(C614,Teilnehmer!$B$3:$C$1002,2,0),\"\")","v":""},null,{"$f":"IFERROR(VLOOKUP(E614,Teilnehmer!$B$3:$C$1002,2,0),\"\")","v":""}]
[null,null,null,{"$f":"IFERROR(VLOOKUP(C615,Teilnehmer!$B$3:$C$1002,2,0),\"\")","v":""},null,{"$f":"IFERROR(VLOOKUP(E615,Teilnehmer!$B$3:$C$1002,2,0),\"\")","v":""}]
[null,null,null,{"$f":"IFERROR(VLOOKUP(C616,Teilnehmer!$B$3:$C$1002,2,0),\"\")","v":""},null,{"$f":"IFERROR(VLOOKUP(E616,Teilnehmer!$B$3:$C$1002,2,0),\"\")","v":""}]
[null,null,null,{"$f":"IFERROR(VLOOKUP(C617,Teilnehmer!$B$3:$C$1002,2,0),\"\")","v":""},null,{"$f":"IFERROR(VLOOKUP(E617,Teilnehmer!$B$3:$C$1002,2,0),\"\")","v":""}]
[null,null,null,{"$f":"IFERROR(VLOOKUP(C618,Teilnehmer!$B$3:$C$1002,2,0),\"\")","v":""},null,{"$f":"IFERROR(VLOOKUP(E618,Teilnehmer!$B$3:$C$1002,2,0),\"\")","v":""}]
[null,null,null,{"$f":"IFERROR(VLOOKUP(C619,Teilnehmer!$B$3:$C$1002,2,0),\"\")","v":""},null,{"$f":"IFERROR(VLOOKUP(E619,Teilnehmer!$B$3:$C$1002,2,0),\"\")","v":""}]
[null,null,null,{"$f":"IFERROR(VLOOKUP(C620,Teilnehmer!$B$3:$C$1002,2,0),\"\")","v":""},null,{"$f":"IFERROR(VLOOKUP(E620,Teilnehmer!$B$3:$C$1002,2,0),\"\")","v":""}]
[null,null,null,{"$f":"IFERROR(VLOOKUP(C621,Teilnehmer!$B$3:$C$1002,2,0),\"\")","v":""},null,{"$f":"IFERROR(VLOOKUP(E621,Teilnehmer!$B$3:$C$1002,2,0),\"\")","v":""}]
[null,null,null,{"$f":"IFERROR(VLOOKUP(C622,Teilnehmer!$B$3:$C$1002,2,0),\"\")","v":""},null,{"$f":"IFERROR(VLOOKUP(E622,Teilnehmer!$B$3:$C$1002,2,0),\"\")","v":""}]
[null,null,null,{"$f":"IFERROR(VLOOKUP(C623,Teilnehmer!$B$3:$C$1002,2,0),\"\")","v":""},null,{"$f":"IFERROR(VLOOKUP(E623,Teilnehmer!$B$3:$C$1002,2,0),\"\")","v":""}]
[null,null,null,{"$f":"IFERROR(VLOOKUP(C624,Teilnehmer!$B$3:$C$1002,2,0),\"\")","v":""},null,{"$f":"IFERROR(VLOOKUP(E624,Teilnehmer!$B$3:$C$1002,2,0),\"\")","v":""}]
[null,null,null,{"$f":"IFERROR(VLOOKUP(C625,Teilnehmer!$B$3:$C$1002,2,0),\"\")","v":""},null,{"$f":"IFERROR(VLOOKUP(E625,Teilnehmer!$B$3:$C$1002,2,0),\"\")","v":""}]
[null,null,null,{"$f":"IFERROR(VLOOKUP(C626,Teilnehmer!$B$3:$C$1002,2,0),\"\")","v":""},null,{"$f":"IFERROR(VLOOKUP(E626,Teilnehmer!$B$3:$C$1002,2,0),\"\")","v":""}]
[null,null,null,{"$f":"IFERROR(VLOOKUP(C627,Teilnehmer!$B$3:$C$1002,2,0),\"\")","v":""},null,{"$f":"IFERROR(VLOOKUP(E627,Teilnehmer!$B$3:$C$1002,2,0),\"\")","v":""}]
[null,null,null,{"$f":"IFERROR(VLOOKUP(C628,Teilnehmer!$B$3:$C$1002,2,0),\"\")","v":""},null,{"$f":"IFERROR(VLOOKUP(E628,Teilnehmer!$B$3:$C$1002,2,0),\"\")","v":""}]
[null,null,null,{"$f":"IFERROR(VLOOKUP(C629,Teilnehmer!$B$3:$C$1002,2,0),\"\")","v":""},null,{"$f":"IFERROR(VLOOKUP(E629,Teilnehmer!$B$3:$C$1002,2,0),\"\")","v":""}]
[null,null,null,{"$f":"IFERROR(VLOOKUP(C630,Teilnehmer!$B$3:$C$1002,2,0),\"\")","v":""},null,{"$f":"IFERROR(VLOOKUP(E630,Teilnehmer!$B$3:$C$1002,2,0),\"\")","v":""}]
[null,null,null,{"$f":"IFERROR(VLOOKUP(C631,Teilnehmer!$B$3:$C$1002,2,0),\"\")","v":""},null,{"$f":"IFERROR(VLOOKUP(E631,Teilnehmer!$B$3:$C$1002,2,0),\"\")","v":""}]
[null,null,null,{"$f":"IFERROR(VLOOKUP(C632,Teilnehmer!$B$3:$C$1002,2,0),\"\")","v":""},null,{"$f":"IFERROR(VLOOKUP(E632,Teilnehmer!$B$3:$C$1002,2,0),\"\")","v":""}]
[null,null,null,{"$f":"IFERROR(VLOOKUP(C633,Teilnehmer!$B$3:$C$1002,2,0),\"\")","v":""},null,{"$f":"IFERROR(VLOOKUP(E633,Teilnehmer!$B$3:$C$1002,2,0),\"\")","v":""}]
[null,null,null,{"$f":"IFERROR(VLOOKUP(C634,Teilnehmer!$B$3:$C$1002,2,0),\"\")","v":""},null,{"$f":"IFERROR(VLOOKUP(E634,Teilnehmer!$B$3:$C$1002,2,0),\"\")","v":""}]
[null,null,null,{"$f":"IFERROR(VLOOKUP(C635,Teilnehmer!$B$3:$C$1002,2,0),\"\")","v":""},null,{"$f":"IFERROR(VLOOKUP(E635,Teilnehmer!$B$3:$C$1002,2,0),\"\")","v":""}]
[null,null,null,{"$f":"IFERROR(VLOOKUP(C636,Teilnehmer!$B$3:$C$1002,2,0),\"\")","v":""},null,{"$f":"IFERROR(VLOOKUP(E636,Teilnehmer!$B$3:$C$1002,2,0),\"\")","v":""}]
[null,null,null,{"$f":"IFERROR(VLOOKUP(C637,Teilnehmer!$B$3:$C$1002,2,0),\"\")","v":""},null,{"$f":"IFERROR(VLOOKUP(E637,Teilnehmer!$B$3:$C$1002,2,0),\"\")","v":""}]
[null,null,null,{"$f":"IFERROR(VLOOKUP(C638,Teilnehmer!$B$3:$C$1002,2,0),\"\")","v":""},null,{"$f":"IFERROR(VLOOKUP(E638,Teilnehmer!$B$3:$C$1002,2,0),\"\")","v":""}]
[null,null,null,{"$f":"IFERROR(VLOOKUP(C639,Teilnehmer!$B$3:$C$1002,2,0),\"\")","v":""},null,{"$f":"IFERROR(VLOOKUP(E639,Teilnehmer!$B$3:$C$1002,2,0),\"\")","v":""}]
[null,null,null,{"$f":"IFERROR(VLOOKUP(C640,Teilnehmer!$B$3:$C$1002,2,0),\"\")","v":""},null,{"$f":"IFERROR(VLOOKUP(E640,Teilnehmer!$B$3:$C$1002,2,0),\"\")","v":""}]
[null,null,null,{"$f":"IFERROR(VLOOKUP(C641,Teilnehmer!$B$3:$C$1002,2,0),\"\")","v":""},null,{"$f":"IFERROR(VLOOKUP(E641,Teilnehmer!$B$3:$C$1002,2,0),\"\")","v":""}]
[null,null,null,{"$f":"IFERROR(VLOOKUP(C642,Teilnehmer!$B$3:$C$1002,2,0),\"\")","v":""},null,{"$f":"IFERROR(VLOOKUP(E642,Teilnehmer!$B$3:$C$1002,2,0),\"\")","v":""}]
[null,null,null,{"$f":"IFERROR(VLOOKUP(C643,Teilnehmer!$B$3:$C$1002,2,0),\"\")","v":""},null,{"$f":"IFERROR(VLOOKUP(E643,Teilnehmer!$B$3:$C$1002,2,0),\"\")","v":""}]
[null,null,null,{"$f":"IFERROR(VLOOKUP(C644,Teilnehmer!$B$3:$C$1002,2,0),\"\")","v":""},null,{"$f":"IFERROR(VLOOKUP(E644,Teilnehmer!$B$3:$C$1002,2,0),\"\")","v":""}]
[null,null,null,{"$f":"IFERROR(VLOOKUP(C645,Teilnehmer!$B$3:$C$1002,2,0),\"\")","v":""},null,{"$f":"IFERROR(VLOOKUP(E645,Teilnehmer!$B$3:$C$1002,2,0),\"\")","v":""}]
[null,null,null,{"$f":"IFERROR(VLOOKUP(C646,Teilnehmer!$B$3:$C$1002,2,0),\"\")","v":""},null,{"$f":"IFERROR(VLOOKUP(E646,Teilnehmer!$B$3:$C$1002,2,0),\"\")","v":""}]
[null,null,null,{"$f":"IFERROR(VLOOKUP(C647,Teilnehmer!$B$3:$C$1002,2,0),\"\")","v":""},null,{"$f":"IFERROR(VLOOKUP(E647,Teilnehmer!$B$3:$C$1002,2,0),\"\")","v":""}]
[null,null,null,{"$f":"IFERROR(VLOOKUP(C648,Teilnehmer!$B$3:$C$1002,2,0),\"\")","v":""},null,{"$f":"IFERROR(VLOOKUP(E648,Teilnehmer!$B$3:$C$1002,2,0),\"\")","v":""}]
[null,null,null,{"$f":"IFERROR(VLOOKUP(C649,Teilnehmer!$B$3:$C$1002,2,0),\"\")","v":""},null,{"$f":"IFERROR(VLOOKUP(E649,Teilnehmer!$B$3:$C$1002,2,0),\"\")","v":""}]
[null,null,null,{"$f":"IFERROR(VLOOKUP(C650,Teilnehmer!$B$3:$C$1002,2,0),\"\")","v":""},null,{"$f":"IFERROR(VLOOKUP(E650,Teilnehmer!$B$3:$C$1002,2,0),\"\")","v":""}]
[null,null,null,{"$f":"IFERROR(VLOOKUP(C651,Teilnehmer!$B$3:$C$1002,2,0),\"\")","v":""},null,{"$f":"IFERROR(VLOOKUP(E651,Teilnehmer!$B$3:$C$1002,2,0),\"\")","v":""}]
[null,null,null,{"$f":"IFERROR(VLOOKUP(C652,Teilnehmer!$B$3:$C$1002,2,0),\"\")","v":""},null,{"$f":"IFERROR(VLOOKUP(E652,Teilnehmer!$B$3:$C$1002,2,0),\"\")","v":""}]
[null,null,null,{"$f":"IFERROR(VLOOKUP(C653,Teilnehmer!$B$3:$C$1002,2,0),\"\")","v":""},null,{"$f":"IFERROR(VLOOKUP(E653,Teilnehmer!$B$3:$C$1002,2,0),\"\")","v":""}]
[null,null,null,{"$f":"IFERROR(VLOOKUP(C654,Teilnehmer!$B$3:$C$1002,2,0),\"\")","v":""},null,{"$f":"IFERROR(VLOOKUP(E654,Teilnehmer!$B$3:$C$1002,2,0),\"\")","v":""}]
[null,null,null,{"$f":"IFERROR(VLOOKUP(C655,Teilnehmer!$B$3:$C$1002,2,0),\"\")","v":""},null,{"$f":"IFERROR(VLOOKUP(E655,Teilnehmer!$B$3:$C$1002,2,0),\"\")","v":""}]
[null,null,null,{"$f":"IFERROR(VLOOKUP(C656,Teilnehmer!$B$3:$C$1002,2,0),\"\")","v":""},null,{"$f":"IFERROR(VLOOKUP(E656,Teilnehmer!$B$3:$C$1002,2,0),\"\")","v":""}]
[null,null,null,{"$f":"IFERROR(VLOOKUP(C657,Teilnehmer!$B$3:$C$1002,2,0),\"\")","v":""},null,{"$f":"IFERROR(VLOOKUP(E657,Teilnehmer!$B$3:$C$1002,2,0),\"\")","v":""}]
[null,null,null,{"$f":"IFERROR(VLOOKUP(C658,Teilnehmer!$B$3:$C$1002,2,0),\"\")","v":""},null,{"$f":"IFERROR(VLOOKUP(E658,Teilnehmer!$B$3:$C$1002,2,0),\"\")","v":""}]
[null,null,null,{"$f":"IFERROR(VLOOKUP(C659,Teilnehmer!$B$3:$C$1002,2,0),\"\")","v":""},null,{"$f":"IFERROR(VLOOKUP(E659,Teilnehmer!$B$3:$C$1002,2,0),\"\")","v":""}]
[null,null,null,{"$f":"IFERROR(VLOOKUP(C660,Teilnehmer!$B$3:$C$1002,2,0),\"\")","v":""},null,{"$f":"IFERROR(VLOOKUP(E660,Teilnehmer!$B$3:$C$1002,2,0),\"\")","v":""}]
[null,null,null,{"$f":"IFERROR(VLOOKUP(C661,Teilnehmer!$B$3:$C$1002,2,0),\"\")","v":""},null,{"$f":"IFERROR(VLOOKUP(E661,Teilnehmer!$B$3:$C$1002,2,0),\"\")","v":""}]
[null,null,null,{"$f":"IFERROR(VLOOKUP(C662,Teilnehmer!$B$3:$C$1002,2,0),\"\")","v":""},null,{"$f":"IFERROR(VLOOKUP(E662,Teilnehmer!$B$3:$C$1002,2,0),\"\")","v":""}]
[null,null,null,{"$f":"IFERROR(VLOOKUP(C663,Teilnehmer!$B$3:$C$1002,2,0),\"\")","v":""},null,{"$f":"IFERROR(VLOOKUP(E663,Teilnehmer!$B$3:$C$1002,2,0),\"\")","v":""}]
[null,null,null,{"$f":"IFERROR(VLOOKUP(C664,Teilnehmer!$B$3:$C$1002,2,0),\"\")","v":""},null,{"$f":"IFERROR(VLOOKUP(E664,Teilnehmer!$B$3:$C$1002,2,0),\"\")","v":""}]
[null,null,null,{"$f":"IFERROR(VLOOKUP(C665,Teilnehmer!$B$3:$C$1002,2,0),\"\")","v":""},null,{"$f":"IFERROR(VLOOKUP(E665,Teilnehmer!$B$3:$C$1002,2,0),\"\")","v":""}]
[null,null,null,{"$f":"IFERROR(VLOOKUP(C666,Teilnehmer!$B$3:$C$1002,2,0),\"\")","v":""},null,{"$f":"IFERROR(VLOOKUP(E666,Teilnehmer!$B$3:$C$1002,2,0),\"\")","v":""}]
[null,null,null,{"$f":"IFERROR(VLOOKUP(C667,Teilnehmer!$B$3:$C$1002,2,0),\"\")","v":""},null,{"$f":"IFERROR(VLOOKUP(E667,Teilnehmer!$B$3:$C$1002,2,0),\"\")","v":""}]
[null,null,null,{"$f":"IFERROR(VLOOKUP(C668,Teilnehmer!$B$3:$C$1002,2,0),\"\")","v":""},null,{"$f":"IFERROR(VLOOKUP(E668,Teilnehmer!$B$3:$C$1002,2,0),\"\")","v":""}]
[null,null,null,{"$f":"IFERROR(VLOOKUP(C669,Teilnehmer!$B$3:$C$1002,2,0),\"\")","v":""},null,{"$f":"IFERROR(VLOOKUP(E669,Teilnehmer!$B$3:$C$1002,2,0),\"\")","v":""}]
[null,null,null,{"$f":"IFERROR(VLOOKUP(C670,Teilnehmer!$B$3:$C$1002,2,0),\"\")","v":""},null,{"$f":"IFERROR(VLOOKUP(E670,Teilnehmer!$B$3:$C$1002,2,0),\"\")","v":""}]
[null,null,null,{"$f":"IFERROR(VLOOKUP(C671,Teilnehmer!$B$3:$C$1002,2,0),\"\")","v":""},null,{"$f":"IFERROR(VLOOKUP(E671,Teilnehmer!$B$3:$C$1002,2,0),\"\")","v":""}]
[null,null,null,{"$f":"IFERROR(VLOOKUP(C672,Teilnehmer!$B$3:$C$1002,2,0),\"\")","v":""},null,{"$f":"IFERROR(VLOOKUP(E672,Teilnehmer!$B$3:$C$1002,2,0),\"\")","v":""}]
[null,null,null,{"$f":"IFERROR(VLOOKUP(C673,Teilnehmer!$B$3:$C$1002,2,0),\"\")","v":""},null,{"$f":"IFERROR(VLOOKUP(E673,Teilnehmer!$B$3:$C$1002,2,0),\"\")","v":""}]
[null,null,null,{"$f":"IFERROR(VLOOKUP(C674,Teilnehmer!$B$3:$C$1002,2,0),\"\")","v":""},null,{"$f":"IFERROR(VLOOKUP(E674,Teilnehmer!$B$3:$C$1002,2,0),\"\")","v":""}]
[null,null,null,{"$f":"IFERROR(VLOOKUP(C675,Teilnehmer!$B$3:$C$1002,2,0),\"\")","v":""},null,{"$f":"IFERROR(VLOOKUP(E675,Teilnehmer!$B$3:$C$1002,2,0),\"\")","v":""}]
[null,null,null,{"$f":"IFERROR(VLOOKUP(C676,Teilnehmer!$B$3:$C$1002,2,0),\"\")","v":""},null,{"$f":"IFERROR(VLOOKUP(E676,Teilnehmer!$B$3:$C$1002,2,0),\"\")","v":""}]
[null,null,null,{"$f":"IFERROR(VLOOKUP(C677,Teilnehmer!$B$3:$C$1002,2,0),\"\")","v":""},null,{"$f":"IFERROR(VLOOKUP(E677,Teilnehmer!$B$3:$C$1002,2,0),\"\")","v":""}]
[null,null,null,{"$f":"IFERROR(VLOOKUP(C678,Teilnehmer!$B$3:$C$1002,2,0),\"\")","v":""},null,{"$f":"IFERROR(VLOOKUP(E678,Teilnehmer!$B$3:$C$1002,2,0),\"\")","v":""}]
[null,null,null,{"$f":"IFERROR(VLOOKUP(C679,Teilnehmer!$B$3:$C$1002,2,0),\"\")","v":""},null,{"$f":"IFERROR(VLOOKUP(E679,Teilnehmer!$B$3:$C$1002,2,0),\"\")","v":""}]
[null,null,null,{"$f":"IFERROR(VLOOKUP(C680,Teilnehmer!$B$3:$C$1002,2,0),\"\")","v":""},null,{"$f":"IFERROR(VLOOKUP(E680,Teilnehmer!$B$3:$C$1002,2,0),\"\")","v":""}]
[null,null,null,{"$f":"IFERROR(VLOOKUP(C681,Teilnehmer!$B$3:$C$1002,2,0),\"\")","v":""},null,{"$f":"IFERROR(VLOOKUP(E681,Teilnehmer!$B$3:$C$1002,2,0),\"\")","v":""}]
[null,null,null,{"$f":"IFERROR(VLOOKUP(C682,Teilnehmer!$B$3:$C$1002,2,0),\"\")","v":""},null,{"$f":"IFERROR(VLOOKUP(E682,Teilnehmer!$B$3:$C$1002,2,0),\"\")","v":""}]
[null,null,null,{"$f":"IFERROR(VLOOKUP(C683,Teilnehmer!$B$3:$C$1002,2,0),\"\")","v":""},null,{"$f":"IFERROR(VLOOKUP(E683,Teilnehmer!$B$3:$C$1002,2,0),\"\")","v":""}]
[null,null,null,{"$f":"IFERROR(VLOOKUP(C684,Teilnehmer!$B$3:$C$1002,2,0),\"\")","v":""},null,{"$f":"IFERROR(VLOOKUP(E684,Teilnehmer!$B$3:$C$1002,2,0),\"\")","v":""}]
[null,null,null,{"$f":"IFERROR(VLOOKUP(C685,Teilnehmer!$B$3:$C$1002,2,0),\"\")","v":""},null,{"$f":"IFERROR(VLOOKUP(E685,Teilnehmer!$B$3:$C$1002,2,0),\"\")","v":""}]
[null,null,null,{"$f":"IFERROR(VLOOKUP(C686,Teilnehmer!$B$3:$C$1002,2,0),\"\")","v":""},null,{"$f":"IFERROR(VLOOKUP(E686,Teilnehmer!$B$3:$C$1002,2,0),\"\")","v":""}]
[null,null,null,{"$f":"IFERROR(VLOOKUP(C687,Teilnehmer!$B$3:$C$1002,2,0),\"\")","v":""},null,{"$f":"IFERROR(VLOOKUP(E687,Teilnehmer!$B$3:$C$1002,2,0),\"\")","v":""}]
[null,null,null,{"$f":"IFERROR(VLOOKUP(C688,Teilnehmer!$B$3:$C$1002,2,0),\"\")","v":""},null,{"$f":"IFERROR(VLOOKUP(E688,Teilnehmer!$B$3:$C$1002,2,0),\"\")","v":""}]
[null,null,null,{"$f":"IFERROR(VLOOKUP(C689,Teilnehmer!$B$3:$C$1002,2,0),\"\")","v":""},null,{"$f":"IFERROR(VLOOKUP(E689,Teilnehmer!$B$3:$C$1002,2,0),\"\")","v":""}]
[null,null,null,{"$f":"IFERROR(VLOOKUP(C690,Teilnehmer!$B$3:$C$1002,2,0),\"\")","v":""},null,{"$f":"IFERROR(VLOOKUP(E690,Teilnehmer!$B$3:$C$1002,2,0),\"\")","v":""}]
[null,null,null,{"$f":"IFERROR(VLOOKUP(C691,Teilnehmer!$B$3:$C$1002,2,0),\"\")","v":""},null,{"$f":"IFERROR(VLOOKUP(E691,Teilnehmer!$B$3:$C$1002,2,0),\"\")","v":""}]
[null,null,null,{"$f":"IFERROR(VLOOKUP(C692,Teilnehmer!$B$3:$C$1002,2,0),\"\")","v":""},null,{"$f":"IFERROR(VLOOKUP(E692,Teilnehmer!$B$3:$C$1002,2,0),\"\")","v":""}]
[null,null,null,{"$f":"IFERROR(VLOOKUP(C693,Teilnehmer!$B$3:$C$1002,2,0),\"\")","v":""},null,{"$f":"IFERROR(VLOOKUP(E693,Teilnehmer!$B$3:$C$1002,2,0),\"\")","v":""}]
[null,null,null,{"$f":"IFERROR(VLOOKUP(C694,Teilnehmer!$B$3:$C$1002,2,0),\"\")","v":""},null,{"$f":"IFERROR(VLOOKUP(E694,Teilnehmer!$B$3:$C$1002,2,0),\"\")","v":""}]
[null,null,null,{"$f":"IFERROR(VLOOKUP(C695,Teilnehmer!$B$3:$C$1002,2,0),\"\")","v":""},null,{"$f":"IFERROR(VLOOKUP(E695,Teilnehmer!$B$3:$C$1002,2,0),\"\")","v":""}]
[null,null,null,{"$f":"IFERROR(VLOOKUP(C696,Teilnehmer!$B$3:$C$1002,2,0),\"\")","v":""},null,{"$f":"IFERROR(VLOOKUP(E696,Teilnehmer!$B$3:$C$1002,2,0),\"\")","v":""}]
[null,null,null,{"$f":"IFERROR(VLOOKUP(C697,Teilnehmer!$B$3:$C$1002,2,0),\"\")","v":""},null,{"$f":"IFERROR(VLOOKUP(E697,Teilnehmer!$B$3:$C$1002,2,0),\"\")","v":""}]
[null,null,null,{"$f":"IFERROR(VLOOKUP(C698,Teilnehmer!$B$3:$C$1002,2,0),\"\")","v":""},null,{"$f":"IFERROR(VLOOKUP(E698,Teilnehmer!$B$3:$C$1002,2,0),\"\")","v":""}]
[null,null,null,{"$f":"IFERROR(VLOOKUP(C699,Teilnehmer!$B$3:$C$1002,2,0),\"\")","v":""},null,{"$f":"IFERROR(VLOOKUP(E699,Teilnehmer!$B$3:$C$1002,2,0),\"\")","v":""}]
[null,null,null,{"$f":"IFERROR(VLOOKUP(C700,Teilnehmer!$B$3:$C$1002,2,0),\"\")","v":""},null,{"$f":"IFERROR(VLOOKUP(E700,Teilnehmer!$B$3:$C$1002,2,0),\"\")","v":""}]
[null,null,null,{"$f":"IFERROR(VLOOKUP(C701,Teilnehmer!$B$3:$C$1002,2,0),\"\")","v":""},null,{"$f":"IFERROR(VLOOKUP(E701,Teilnehmer!$B$3:$C$1002,2,0),\"\")","v":""}]
[null,null,null,{"$f":"IFERROR(VLOOKUP(C702,Teilnehmer!$B$3:$C$1002,2,0),\"\")","v":""},null,{"$f":"IFERROR(VLOOKUP(E702,Teilnehmer!$B$3:$C$1002,2,0),\"\")","v":""}]
[null,null,null,{"$f":"IFERROR(VLOOKUP(C703,Teilnehmer!$B$3:$C$1002,2,0),\"\")","v":""},null,{"$f":"IFERROR(VLOOKUP(E703,Teilnehmer!$B$3:$C$1002,2,0),\"\")","v":""}]
[null,null,null,{"$f":"IFERROR(VLOOKUP(C704,Teilnehmer!$B$3:$C$1002,2,0),\"\")","v":""},null,{"$f":"IFERROR(VLOOKUP(E704,Teilnehmer!$B$3:$C$1002,2,0),\"\")","v":""}]
[null,null,null,{"$f":"IFERROR(VLOOKUP(C705,Teilnehmer!$B$3:$C$1002,2,0),\"\")","v":""},null,{"$f":"IFERROR(VLOOKUP(E705,Teilnehmer!$B$3:$C$1002,2,0),\"\")","v":""}]
[null,null,null,{"$f":"IFERROR(VLOOKUP(C706,Teilnehmer!$B$3:$C$1002,2,0),\"\")","v":""},null,{"$f":"IFERROR(VLOOKUP(E706,Teilnehmer!$B$3:$C$1002,2,0),\"\")","v":""}]
[null,null,null,{"$f":"IFERROR(VLOOKUP(C707,Teilnehmer!$B$3:$C$1002,2,0),\"\")","v":""},null,{"$f":"IFERROR(VLOOKUP(E707,Teilnehmer!$B$3:$C$1002,2,0),\"\")","v":""}]
[null,null,null,{"$f":"IFERROR(VLOOKUP(C708,Teilnehmer!$B$3:$C$1002,2,0),\"\")","v":""},null,{"$f":"IFERROR(VLOOKUP(E708,Teilnehmer!$B$3:$C$1002,2,0),\"\")","v":""}]
[null,null,null,{"$f":"IFERROR(VLOOKUP(C709,Teilnehmer!$B$3:$C$1002,2,0),\"\")","v":""},null,{"$f":"IFERROR(VLOOKUP(E709,Teilnehmer!$B$3:$C$1002,2,0),\"\")","v":""}]
[null,null,null,{"$f":"IFERROR(VLOOKUP(C710,Teilnehmer!$B$3:$C$1002,2,0),\"\")","v":""},null,{"$f":"IFERROR(VLOOKUP(E710,Teilnehmer!$B$3:$C$1002,2,0),\"\")","v":""}]
[null,null,null,{"$f":"IFERROR(VLOOKUP(C711,Teilnehmer!$B$3:$C$1002,2,0),\"\")","v":""},null,{"$f":"IFERROR(VLOOKUP(E711,Teilnehmer!$B$3:$C$1002,2,0),\"\")","v":""}]
[null,null,null,{"$f":"IFERROR(VLOOKUP(C712,Teilnehmer!$B$3:$C$1002,2,0),\"\")","v":""},null,{"$f":"IFERROR(VLOOKUP(E712,Teilnehmer!$B$3:$C$1002,2,0),\"\")","v":""}]
[null,null,null,{"$f":"IFERROR(VLOOKUP(C713,Teilnehmer!$B$3:$C$1002,2,0),\"\")","v":""},null,{"$f":"IFERROR(VLOOKUP(E713,Teilnehmer!$B$3:$C$1002,2,0),\"\")","v":""}]
[null,null,null,{"$f":"IFERROR(VLOOKUP(C714,Teilnehmer!$B$3:$C$1002,2,0),\"\")","v":""},null,{"$f":"IFERROR(VLOOKUP(E714,Teilnehmer!$B$3:$C$1002,2,0),\"\")","v":""}]
[null,null,null,{"$f":"IFERROR(VLOOKUP(C715,Teilnehmer!$B$3:$C$1002,2,0),\"\")","v":""},null,{"$f":"IFERROR(VLOOKUP(E715,Teilnehmer!$B$3:$C$1002,2,0),\"\")","v":""}]
[null,null,null,{"$f":"IFERROR(VLOOKUP(C716,Teilnehmer!$B$3:$C$1002,2,0),\"\")","v":""},null,{"$f":"IFERROR(VLOOKUP(E716,Teilnehmer!$B$3:$C$1002,2,0),\"\")","v":""}]
[null,null,null,{"$f":"IFERROR(VLOOKUP(C717,Teilnehmer!$B$3:$C$1002,2,0),\"\")","v":""},null,{"$f":"IFERROR(VLOOKUP(E717,Teilnehmer!$B$3:$C$1002,2,0),\"\")","v":""}]
[null,null,null,{"$f":"IFERROR(VLOOKUP(C718,Teilnehmer!$B$3:$C$1002,2,0),\"\")","v":""},null,{"$f":"IFERROR(VLOOKUP(E718,Teilnehmer!$B$3:$C$1002,2,0),\"\")","v":""}]
[null,null,null,{"$f":"IFERROR(VLOOKUP(C719,Teilnehmer!$B$3:$C$1002,2,0),\"\")","v":""},null,{"$f":"IFERROR(VLOOKUP(E719,Teilnehmer!$B$3:$C$1002,2,0),\"\")","v":""}]
[null,null,null,{"$f":"IFERROR(VLOOKUP(C720,Teilnehmer!$B$3:$C$1002,2,0),\"\")","v":""},null,{"$f":"IFERROR(VLOOKUP(E720,Teilnehmer!$B$3:$C$1002,2,0),\"\")","v":""}]
[null,null,null,{"$f":"IFERROR(VLOOKUP(C721,Teilnehmer!$B$3:$C$1002,2,0),\"\")","v":""},null,{"$f":"IFERROR(VLOOKUP(E721,Teilnehmer!$B$3:$C$1002,2,0),\"\")","v":""}]
[null,null,null,{"$f":"IFERROR(VLOOKUP(C722,Teilnehmer!$B$3:$C$1002,2,0),\"\")","v":""},null,{"$f":"IFERROR(VLOOKUP(E722,Teilnehmer!$B$3:$C$1002,2,0),\"\")","v":""}]
[null,null,null,{"$f":"IFERROR(VLOOKUP(C723,Teilnehmer!$B$3:$C$1002,2,0),\"\")","v":""},null,{"$f":"IFERROR(VLOOKUP(E723,Teilnehmer!$B$3:$C$1002,2,0),\"\")","v":""}]
[null,null,null,{"$f":"IFERROR(VLOOKUP(C724,Teilnehmer!$B$3:$C$1002,2,0),\"\")","v":""},null,{"$f":"IFERROR(VLOOKUP(E724,Teilnehmer!$B$3:$C$1002,2,0),\"\")","v":""}]
[null,null,null,{"$f":"IFERROR(VLOOKUP(C725,Teilnehmer!$B$3:$C$1002,2,0),\"\")","v":""},null,{"$f":"IFERROR(VLOOKUP(E725,Teilnehmer!$B$3:$C$1002,2,0),\"\")","v":""}]
[null,null,null,{"$f":"IFERROR(VLOOKUP(C726,Teilnehmer!$B$3:$C$1002,2,0),\"\")","v":""},null,{"$f":"IFERROR(VLOOKUP(E726,Teilnehmer!$B$3:$C$1002,2,0),\"\")","v":""}]
[null,null,null,{"$f":"IFERROR(VLOOKUP(C727,Teilnehmer!$B$3:$C$1002,2,0),\"\")","v":""},null,{"$f":"IFERROR(VLOOKUP(E727,Teilnehmer!$B$3:$C$1002,2,0),\"\")","v":""}]
[null,null,null,{"$f":"IFERROR(VLOOKUP(C728,Teilnehmer!$B$3:$C$1002,2,0),\"\")","v":""},null,{"$f":"IFERROR(VLOOKUP(E728,Teilnehmer!$B$3:$C$1002,2,0),\"\")","v":""}]
[null,null,null,{"$f":"IFERROR(VLOOKUP(C729,Teilnehmer!$B$3:$C$1002,2,0),\"\")","v":""},null,{"$f":"IFERROR(VLOOKUP(E729,Teilnehmer!$B$3:$C$1002,2,0),\"\")","v":""}]
[null,null,null,{"$f":"IFERROR(VLOOKUP(C730,Teilnehmer!$B$3:$C$1002,2,0),\"\")","v":""},null,{"$f":"IFERROR(VLOOKUP(E730,Teilnehmer!$B$3:$C$1002,2,0),\"\")","v":""}]
[null,null,null,{"$f":"IFERROR(VLOOKUP(C731,Teilnehmer!$B$3:$C$1002,2,0),\"\")","v":""},null,{"$f":"IFERROR(VLOOKUP(E731,Teilnehmer!$B$3:$C$1002,2,0),\"\")","v":""}]
[null,null,null,{"$f":"IFERROR(VLOOKUP(C732,Teilnehmer!$B$3:$C$1002,2,0),\"\")","v":""},null,{"$f":"IFERROR(VLOOKUP(E732,Teilnehmer!$B$3:$C$1002,2,0),\"\")","v":""}]
[null,null,null,{"$f":"IFERROR(VLOOKUP(C733,Teilnehmer!$B$3:$C$1002,2,0),\"\")","v":""},null,{"$f":"IFERROR(VLOOKUP(E733,Teilnehmer!$B$3:$C$1002,2,0),\"\")","v":""}]
[null,null,null,{"$f":"IFERROR(VLOOKUP(C734,Teilnehmer!$B$3:$C$1002,2,0),\"\")","v":""},null,{"$f":"IFERROR(VLOOKUP(E734,Teilnehmer!$B$3:$C$1002,2,0),\"\")","v":""}]
[null,null,null,{"$f":"IFERROR(VLOOKUP(C735,Teilnehmer!$B$3:$C$1002,2,0),\"\")","v":""},null,{"$f":"IFERROR(VLOOKUP(E735,Teilnehmer!$B$3:$C$1002,2,0),\"\")","v":""}]
[null,null,null,{"$f":"IFERROR(VLOOKUP(C736,Teilnehmer!$B$3:$C$1002,2,0),\"\")","v":""},null,{"$f":"IFERROR(VLOOKUP(E736,Teilnehmer!$B$3:$C$1002,2,0),\"\")","v":""}]
[null,null,null,{"$f":"IFERROR(VLOOKUP(C737,Teilnehmer!$B$3:$C$1002,2,0),\"\")","v":""},null,{"$f":"IFERROR(VLOOKUP(E737,Teilnehmer!$B$3:$C$1002,2,0),\"\")","v":""}]
[null,null,null,{"$f":"IFERROR(VLOOKUP(C738,Teilnehmer!$B$3:$C$1002,2,0),\"\")","v":""},null,{"$f":"IFERROR(VLOOKUP(E738,Teilnehmer!$B$3:$C$1002,2,0),\"\")","v":""}]
[null,null,null,{"$f":"IFERROR(VLOOKUP(C739,Teilnehmer!$B$3:$C$1002,2,0),\"\")","v":""},null,{"$f":"IFERROR(VLOOKUP(E739,Teilnehmer!$B$3:$C$1002,2,0),\"\")","v":""}]
[null,null,null,{"$f":"IFERROR(VLOOKUP(C740,Teilnehmer!$B$3:$C$1002,2,0),\"\")","v":""},null,{"$f":"IFERROR(VLOOKUP(E740,Teilnehmer!$B$3:$C$1002,2,0),\"\")","v":""}]
[null,null,null,{"$f":"IFERROR(VLOOKUP(C741,Teilnehmer!$B$3:$C$1002,2,0),\"\")","v":""},null,{"$f":"IFERROR(VLOOKUP(E741,Teilnehmer!$B$3:$C$1002,2,0),\"\")","v":""}]
[null,null,null,{"$f":"IFERROR(VLOOKUP(C742,Teilnehmer!$B$3:$C$1002,2,0),\"\")","v":""},null,{"$f":"IFERROR(VLOOKUP(E742,Teilnehmer!$B$3:$C$1002,2,0),\"\")","v":""}]
[null,null,null,{"$f":"IFERROR(VLOOKUP(C743,Teilnehmer!$B$3:$C$1002,2,0),\"\")","v":""},null,{"$f":"IFERROR(VLOOKUP(E743,Teilnehmer!$B$3:$C$1002,2,0),\"\")","v":""}]
[null,null,null,{"$f":"IFERROR(VLOOKUP(C744,Teilnehmer!$B$3:$C$1002,2,0),\"\")","v":""},null,{"$f":"IFERROR(VLOOKUP(E744,Teilnehmer!$B$3:$C$1002,2,0),\"\")","v":""}]
[null,null,null,{"$f":"IFERROR(VLOOKUP(C745,Teilnehmer!$B$3:$C$1002,2,0),\"\")","v":""},null,{"$f":"IFERROR(VLOOKUP(E745,Teilnehmer!$B$3:$C$1002,2,0),\"\")","v":""}]
[null,null,null,{"$f":"IFERROR(VLOOKUP(C746,Teilnehmer!$B$3:$C$1002,2,0),\"\")","v":""},null,{"$f":"IFERROR(VLOOKUP(E746,Teilnehmer!$B$3:$C$1002,2,0),\"\")","v":""}]
[null,null,null,{"$f":"IFERROR(VLOOKUP(C747,Teilnehmer!$B$3:$C$1002,2,0),\"\")","v":""},null,{"$f":"IFERROR(VLOOKUP(E747,Teilnehmer!$B$3:$C$1002,2,0),\"\")","v":""}]
[null,null,null,{"$f":"IFERROR(VLOOKUP(C748,Teilnehmer!$B$3:$C$1002,2,0),\"\")","v":""},null,{"$f":"IFERROR(VLOOKUP(E748,Teilnehmer!$B$3:$C$1002,2,0),\"\")","v":""}]
[null,null,null,{"$f":"IFERROR(VLOOKUP(C749,Teilnehmer!$B$3:$C$1002,2,0),\"\")","v":""},null,{"$f":"IFERROR(VLOOKUP(E749,Teilnehmer!$B$3:$C$1002,2,0),\"\")","v":""}]
[null,null,null,{"$f":"IFERROR(VLOOKUP(C750,Teilnehmer!$B$3:$C$1002,2,0),\"\")","v":""},null,{"$f":"IFERROR(VLOOKUP(E750,Teilnehmer!$B$3:$C$1002,2,0),\"\")","v":""}]
[null,null,null,{"$f":"IFERROR(VLOOKUP(C751,Teilnehmer!$B$3:$C$1002,2,0),\"\")","v":""},null,{"$f":"IFERROR(VLOOKUP(E751,Teilnehmer!$B$3:$C$1002,2,0),\"\")","v":""}]
[null,null,null,{"$f":"IFERROR(VLOOKUP(C752,Teilnehmer!$B$3:$C$1002,2,0),\"\")","v":""},null,{"$f":"IFERROR(VLOOKUP(E752,Teilnehmer!$B$3:$C$1002,2,0),\"\")","v":""}]
[null,null,null,{"$f":"IFERROR(VLOOKUP(C753,Teilnehmer!$B$3:$C$1002,2,0),\"\")","v":""},null,{"$f":"IFERROR(VLOOKUP(E753,Teilnehmer!$B$3:$C$1002,2,0),\"\")","v":""}]
[null,null,null,{"$f":"IFERROR(VLOOKUP(C754,Teilnehmer!$B$3:$C$1002,2,0),\"\")","v":""},null,{"$f":"IFERROR(VLOOKUP(E754,Teilnehmer!$B$3:$C$1002,2,0),\"\")","v":""}]
[null,null,null,{"$f":"IFERROR(VLOOKUP(C755,Teilnehmer!$B$3:$C$1002,2,0),\"\")","v":""},null,{"$f":"IFERROR(VLOOKUP(E755,Teilnehmer!$B$3:$C$1002,2,0),\"\")","v":""}]
[null,null,null,{"$f":"IFERROR(VLOOKUP(C756,Teilnehmer!$B$3:$C$1002,2,0),\"\")","v":""},null,{"$f":"IFERROR(VLOOKUP(E756,Teilnehmer!$B$3:$C$1002,2,0),\"\")","v":""}]
[null,null,null,{"$f":"IFERROR(VLOOKUP(C757,Teilnehmer!$B$3:$C$1002,2,0),\"\")","v":""},null,{"$f":"IFERROR(VLOOKUP(E757,Teilnehmer!$B$3:$C$1002,2,0),\"\")","v":""}]
[null,null,null,{"$f":"IFERROR(VLOOKUP(C758,Teilnehmer!$B$3:$C$1002,2,0),\"\")","v":""},null,{"$f":"IFERROR(VLOOKUP(E758,Teilnehmer!$B$3:$C$1002,2,0),\"\")","v":""}]
[null,null,null,{"$f":"IFERROR(VLOOKUP(C759,Teilnehmer!$B$3:$C$1002,2,0),\"\")","v":""},null,{"$f":"IFERROR(VLOOKUP(E759,Teilnehmer!$B$3:$C$1002,2,0),\"\")","v":""}]
[null,null,null,{"$f":"IFERROR(VLOOKUP(C760,Teilnehmer!$B$3:$C$1002,2,0),\"\")","v":""},null,{"$f":"IFERROR(VLOOKUP(E760,Teilnehmer!$B$3:$C$1002,2,0),\"\")","v":""}]
[null,null,null,{"$f":"IFERROR(VLOOKUP(C761,Teilnehmer!$B$3:$C$1002,2,0),\"\")","v":""},null,{"$f":"IFERROR(VLOOKUP(E761,Teilnehmer!$B$3:$C$1002,2,0),\"\")","v":""}]
[null,null,null,{"$f":"IFERROR(VLOOKUP(C762,Teilnehmer!$B$3:$C$1002,2,0),\"\")","v":""},null,{"$f":"IFERROR(VLOOKUP(E762,Teilnehmer!$B$3:$C$1002,2,0),\"\")","v":""}]
[null,null,null,{"$f":"IFERROR(VLOOKUP(C763,Teilnehmer!$B$3:$C$1002,2,0),\"\")","v":""},null,{"$f":"IFERROR(VLOOKUP(E763,Teilnehmer!$B$3:$C$1002,2,0),\"\")","v":""}]
[null,null,null,{"$f":"IFERROR(VLOOKUP(C764,Teilnehmer!$B$3:$C$1002,2,0),\"\")","v":""},null,{"$f":"IFERROR(VLOOKUP(E764,Teilnehmer!$B$3:$C$1002,2,0),\"\")","v":""}]
[null,null,null,{"$f":"IFERROR(VLOOKUP(C765,Teilnehmer!$B$3:$C$1002,2,0),\"\")","v":""},null,{"$f":"IFERROR(VLOOKUP(E765,Teilnehmer!$B$3:$C$1002,2,0),\"\")","v":""}]
[null,null,null,{"$f":"IFERROR(VLOOKUP(C766,Teilnehmer!$B$3:$C$1002,2,0),\"\")","v":""},null,{"$f":"IFERROR(VLOOKUP(E766,Teilnehmer!$B$3:$C$1002,2,0),\"\")","v":""}]
[null,null,null,{"$f":"IFERROR(VLOOKUP(C767,Teilnehmer!$B$3:$C$1002,2,0),\"\")","v":""},null,{"$f":"IFERROR(VLOOKUP(E767,Teilnehmer!$B$3:$C$1002,2,0),\"\")","v":""}]
[null,null,null,{"$f":"IFERROR(VLOOKUP(C768,Teilnehmer!$B$3:$C$1002,2,0),\"\")","v":""},null,{"$f":"IFERROR(VLOOKUP(E768,Teilnehmer!$B$3:$C$1002,2,0),\"\")","v":""}]
[null,null,null,{"$f":"IFERROR(VLOOKUP(C769,Teilnehmer!$B$3:$C$1002,2,0),\"\")","v":""},null,{"$f":"IFERROR(VLOOKUP(E769,Teilnehmer!$B$3:$C$1002,2,0),\"\")","v":""}]
[null,null,null,{"$f":"IFERROR(VLOOKUP(C770,Teilnehmer!$B$3:$C$1002,2,0),\"\")","v":""},null,{"$f":"IFERROR(VLOOKUP(E770,Teilnehmer!$B$3:$C$1002,2,0),\"\")","v":""}]
[null,null,null,{"$f":"IFERROR(VLOOKUP(C771,Teilnehmer!$B$3:$C$1002,2,0),\"\")","v":""},null,{"$f":"IFERROR(VLOOKUP(E771,Teilnehmer!$B$3:$C$1002,2,0),\"\")","v":""}]
[null,null,null,{"$f":"IFERROR(VLOOKUP(C772,Teilnehmer!$B$3:$C$1002,2,0),\"\")","v":""},null,{"$f":"IFERROR(VLOOKUP(E772,Teilnehmer!$B$3:$C$1002,2,0),\"\")","v":""}]
[null,null,null,{"$f":"IFERROR(VLOOKUP(C773,Teilnehmer!$B$3:$C$1002,2,0),\"\")","v":""},null,{"$f":"IFERROR(VLOOKUP(E773,Teilnehmer!$B$3:$C$1002,2,0),\"\")","v":""}]
[null,null,null,{"$f":"IFERROR(VLOOKUP(C774,Teilnehmer!$B$3:$C$1002,2,0),\"\")","v":""},null,{"$f":"IFERROR(VLOOKUP(E774,Teilnehmer!$B$3:$C$1002,2,0),\"\")","v":""}]
[null,null,null,{"$f":"IFERROR(VLOOKUP(C775,Teilnehmer!$B$3:$C$1002,2,0),\"\")","v":""},null,{"$f":"IFERROR(VLOOKUP(E775,Teilnehmer!$B$3:$C$1002,2,0),\"\")","v":""}]
[null,null,null,{"$f":"IFERROR(VLOOKUP(C776,Teilnehmer!$B$3:$C$1002,2,0),\"\")","v":""},null,{"$f":"IFERROR(VLOOKUP(E776,Teilnehmer!$B$3:$C$1002,2,0),\"\")","v":""}]
[null,null,null,{"$f":"IFERROR(VLOOKUP(C777,Teilnehmer!$B$3:$C$1002,2,0),\"\")","v":""},null,{"$f":"IFERROR(VLOOKUP(E777,Teilnehmer!$B$3:$C$1002,2,0),\"\")","v":""}]
[null,null,null,{"$f":"IFERROR(VLOOKUP(C778,Teilnehmer!$B$3:$C$1002,2,0),\"\")","v":""},null,{"$f":"IFERROR(VLOOKUP(E778,Teilnehmer!$B$3:$C$1002,2,0),\"\")","v":""}]
[null,null,null,{"$f":"IFERROR(VLOOKUP(C779,Teilnehmer!$B$3:$C$1002,2,0),\"\")","v":""},null,{"$f":"IFERROR(VLOOKUP(E779,Teilnehmer!$B$3:$C$1002,2,0),\"\")","v":""}]
[null,null,null,{"$f":"IFERROR(VLOOKUP(C780,Teilnehmer!$B$3:$C$1002,2,0),\"\")","v":""},null,{"$f":"IFERROR(VLOOKUP(E780,Teilnehmer!$B$3:$C$1002,2,0),\"\")","v":""}]
[null,null,null,{"$f":"IFERROR(VLOOKUP(C781,Teilnehmer!$B$3:$C$1002,2,0),\"\")","v":""},null,{"$f":"IFERROR(VLOOKUP(E781,Teilnehmer!$B$3:$C$1002,2,0),\"\")","v":""}]
[null,null,null,{"$f":"IFERROR(VLOOKUP(C782,Teilnehmer!$B$3:$C$1002,2,0),\"\")","v":""},null,{"$f":"IFERROR(VLOOKUP(E782,Teilnehmer!$B$3:$C$1002,2,0),\"\")","v":""}]
[null,null,null,{"$f":"IFERROR(VLOOKUP(C783,Teilnehmer!$B$3:$C$1002,2,0),\"\")","v":""},null,{"$f":"IFERROR(VLOOKUP(E783,Teilnehmer!$B$3:$C$1002,2,0),\"\")","v":""}]
[null,null,null,{"$f":"IFERROR(VLOOKUP(C784,Teilnehmer!$B$3:$C$1002,2,0),\"\")","v":""},null,{"$f":"IFERROR(VLOOKUP(E784,Teilnehmer!$B$3:$C$1002,2,0),\"\")","v":""}]
[null,null,null,{"$f":"IFERROR(VLOOKUP(C785,Teilnehmer!$B$3:$C$1002,2,0),\"\")","v":""},null,{"$f":"IFERROR(VLOOKUP(E785,Teilnehmer!$B$3:$C$1002,2,0),\"\")","v":""}]
[null,null,null,{"$f":"IFERROR(VLOOKUP(C786,Teilnehmer!$B$3:$C$1002,2,0),\"\")","v":""},null,{"$f":"IFERROR(VLOOKUP(E786,Teilnehmer!$B$3:$C$1002,2,0),\"\")","v":""}]
[null,null,null,{"$f":"IFERROR(VLOOKUP(C787,Teilnehmer!$B$3:$C$1002,2,0),\"\")","v":""},null,{"$f":"IFERROR(VLOOKUP(E787,Teilnehmer!$B$3:$C$1002,2,0),\"\")","v":""}]
[null,null,null,{"$f":"IFERROR(VLOOKUP(C788,Teilnehmer!$B$3:$C$1002,2,0),\"\")","v":""},null,{"$f":"IFERROR(VLOOKUP(E788,Teilnehmer!$B$3:$C$1002,2,0),\"\")","v":""}]
[null,null,null,{"$f":"IFERROR(VLOOKUP(C789,Teilnehmer!$B$3:$C$1002,2,0),\"\")","v":""},null,{"$f":"IFERROR(VLOOKUP(E789,Teilnehmer!$B$3:$C$1002,2,0),\"\")","v":""}]
[null,null,null,{"$f":"IFERROR(VLOOKUP(C790,Teilnehmer!$B$3:$C$1002,2,0),\"\")","v":""},null,{"$f":"IFERROR(VLOOKUP(E790,Teilnehmer!$B$3:$C$1002,2,0),\"\")","v":""}]
[null,null,null,{"$f":"IFERROR(VLOOKUP(C791,Teilnehmer!$B$3:$C$1002,2,0),\"\")","v":""},null,{"$f":"IFERROR(VLOOKUP(E791,Teilnehmer!$B$3:$C$1002,2,0),\"\")","v":""}]
[null,null,null,{"$f":"IFERROR(VLOOKUP(C792,Teilnehmer!$B$3:$C$1002,2,0),\"\")","v":""},null,{"$f":"IFERROR(VLOOKUP(E792,Teilnehmer!$B$3:$C$1002,2,0),\"\")","v":""}]
[null,null,null,{"$f":"IFERROR(VLOOKUP(C793,Teilnehmer!$B$3:$C$1002,2,0),\"\")","v":""},null,{"$f":"IFERROR(VLOOKUP(E793,Teilnehmer!$B$3:$C$1002,2,0),\"\")","v":""}]
[null,null,null,{"$f":"IFERROR(VLOOKUP(C794,Teilnehmer!$B$3:$C$1002,2,0),\"\")","v":""},null,{"$f":"IFERROR(VLOOKUP(E794,Teilnehmer!$B$3:$C$1002,2,0),\"\")","v":""}]
[null,null,null,{"$f":"IFERROR(VLOOKUP(C795,Teilnehmer!$B$3:$C$1002,2,0),\"\")","v":""},null,{"$f":"IFERROR(VLOOKUP(E795,Teilnehmer!$B$3:$C$1002,2,0),\"\")","v":""}]
[null,null,null,{"$f":"IFERROR(VLOOKUP(C796,Teilnehmer!$B$3:$C$1002,2,0),\"\")","v":""},null,{"$f":"IFERROR(VLOOKUP(E796,Teilnehmer!$B$3:$C$1002,2,0),\"\")","v":""}]
[null,null,null,{"$f":"IFERROR(VLOOKUP(C797,Teilnehmer!$B$3:$C$1002,2,0),\"\")","v":""},null,{"$f":"IFERROR(VLOOKUP(E797,Teilnehmer!$B$3:$C$1002,2,0),\"\")","v":""}]
[null,null,null,{"$f":"IFERROR(VLOOKUP(C798,Teilnehmer!$B$3:$C$1002,2,0),\"\")","v":""},null,{"$f":"IFERROR(VLOOKUP(E798,Teilnehmer!$B$3:$C$1002,2,0),\"\")","v":""}]
[null,null,null,{"$f":"IFERROR(VLOOKUP(C799,Teilnehmer!$B$3:$C$1002,2,0),\"\")","v":""},null,{"$f":"IFERROR(VLOOKUP(E799,Teilnehmer!$B$3:$C$1002,2,0),\"\")","v":""}]
[null,null,null,{"$f":"IFERROR(VLOOKUP(C800,Teilnehmer!$B$3:$C$1002,2,0),\"\")","v":""},null,{"$f":"IFERROR(VLOOKUP(E800,Teilnehmer!$B$3:$C$1002,2,0),\"\")","v":""}]
[null,null,null,{"$f":"IFERROR(VLOOKUP(C801,Teilnehmer!$B$3:$C$1002,2,0),\"\")","v":""},null,{"$f":"IFERROR(VLOOKUP(E801,Teilnehmer!$B$3:$C$1002,2,0),\"\")","v":""}]
[null,null,null,{"$f":"IFERROR(VLOOKUP(C802,Teilnehmer!$B$3:$C$1002,2,0),\"\")","v":""},null,{"$f":"IFERROR(VLOOKUP(E802,Teilnehmer!$B$3:$C$1002,2,0),\"\")","v":""}]
[null,null,null,{"$f":"IFERROR(VLOOKUP(C803,Teilnehmer!$B$3:$C$1002,2,0),\"\")","v":""},null,{"$f":"IFERROR(VLOOKUP(E803,Teilnehmer!$B$3:$C$1002,2,0),\"\")","v":""}]
[null,null,null,{"$f":"IFERROR(VLOOKUP(C804,Teilnehmer!$B$3:$C$1002,2,0),\"\")","v":""},null,{"$f":"IFERROR(VLOOKUP(E804,Teilnehmer!$B$3:$C$1002,2,0),\"\")","v":""}]
[null,null,null,{"$f":"IFERROR(VLOOKUP(C805,Teilnehmer!$B$3:$C$1002,2,0),\"\")","v":""},null,{"$f":"IFERROR(VLOOKUP(E805,Teilnehmer!$B$3:$C$1002,2,0),\"\")","v":""}]
[null,null,null,{"$f":"IFERROR(VLOOKUP(C806,Teilnehmer!$B$3:$C$1002,2,0),\"\")","v":""},null,{"$f":"IFERROR(VLOOKUP(E806,Teilnehmer!$B$3:$C$1002,2,0),\"\")","v":""}]
[null,null,null,{"$f":"IFERROR(VLOOKUP(C807,Teilnehmer!$B$3:$C$1002,2,0),\"\")","v":""},null,{"$f":"IFERROR(VLOOKUP(E807,Teilnehmer!$B$3:$C$1002,2,0),\"\")","v":""}]
[null,null,null,{"$f":"IFERROR(VLOOKUP(C808,Teilnehmer!$B$3:$C$1002,2,0),\"\")","v":""},null,{"$f":"IFERROR(VLOOKUP(E808,Teilnehmer!$B$3:$C$1002,2,0),\"\")","v":""}]
[null,null,null,{"$f":"IFERROR(VLOOKUP(C809,Teilnehmer!$B$3:$C$1002,2,0),\"\")","v":""},null,{"$f":"IFERROR(VLOOKUP(E809,Teilnehmer!$B$3:$C$1002,2,0),\"\")","v":""}]
[null,null,null,{"$f":"IFERROR(VLOOKUP(C810,Teilnehmer!$B$3:$C$1002,2,0),\"\")","v":""},null,{"$f":"IFERROR(VLOOKUP(E810,Teilnehmer!$B$3:$C$1002,2,0),\"\")","v":""}]
[null,null,null,{"$f":"IFERROR(VLOOKUP(C811,Teilnehmer!$B$3:$C$1002,2,0),\"\")","v":""},null,{"$f":"IFERROR(VLOOKUP(E811,Teilnehmer!$B$3:$C$1002,2,0),\"\")","v":""}]
[null,null,null,{"$f":"IFERROR(VLOOKUP(C812,Teilnehmer!$B$3:$C$1002,2,0),\"\")","v":""},null,{"$f":"IFERROR(VLOOKUP(E812,Teilnehmer!$B$3:$C$1002,2,0),\"\")","v":""}]
[null,null,null,{"$f":"IFERROR(VLOOKUP(C813,Teilnehmer!$B$3:$C$1002,2,0),\"\")","v":""},null,{"$f":"IFERROR(VLOOKUP(E813,Teilnehmer!$B$3:$C$1002,2,0),\"\")","v":""}]
[null,null,null,{"$f":"IFERROR(VLOOKUP(C814,Teilnehmer!$B$3:$C$1002,2,0),\"\")","v":""},null,{"$f":"IFERROR(VLOOKUP(E814,Teilnehmer!$B$3:$C$1002,2,0),\"\")","v":""}]
[null,null,null,{"$f":"IFERROR(VLOOKUP(C815,Teilnehmer!$B$3:$C$1002,2,0),\"\")","v":""},null,{"$f":"IFERROR(VLOOKUP(E815,Teilnehmer!$B$3:$C$1002,2,0),\"\")","v":""}]
[null,null,null,{"$f":"IFERROR(VLOOKUP(C816,Teilnehmer!$B$3:$C$1002,2,0),\"\")","v":""},null,{"$f":"IFERROR(VLOOKUP(E816,Teilnehmer!$B$3:$C$1002,2,0),\"\")","v":""}]
[null,null,null,{"$f":"IFERROR(VLOOKUP(C817,Teilnehmer!$B$3:$C$1002,2,0),\"\")","v":""},null,{"$f":"IFERROR(VLOOKUP(E817,Teilnehmer!$B$3:$C$1002,2,0),\"\")","v":""}]
[null,null,null,{"$f":"IFERROR(VLOOKUP(C818,Teilnehmer!$B$3:$C$1002,2,0),\"\")","v":""},null,{"$f":"IFERROR(VLOOKUP(E818,Teilnehmer!$B$3:$C$1002,2,0),\"\")","v":""}]
[null,null,null,{"$f":"IFERROR(VLOOKUP(C819,Teilnehmer!$B$3:$C$1002,2,0),\"\")","v":""},null,{"$f":"IFERROR(VLOOKUP(E819,Teilnehmer!$B$3:$C$1002,2,0),\"\")","v":""}]
[null,null,null,{"$f":"IFERROR(VLOOKUP(C820,Teilnehmer!$B$3:$C$1002,2,0),\"\")","v":""},null,{"$f":"IFERROR(VLOOKUP(E820,Teilnehmer!$B$3:$C$1002,2,0),\"\")","v":""}]
[null,null,null,{"$f":"IFERROR(VLOOKUP(C821,Teilnehmer!$B$3:$C$1002,2,0),\"\")","v":""},null,{"$f":"IFERROR(VLOOKUP(E821,Teilnehmer!$B$3:$C$1002,2,0),\"\")","v":""}]
[null,null,null,{"$f":"IFERROR(VLOOKUP(C822,Teilnehmer!$B$3:$C$1002,2,0),\"\")","v":""},null,{"$f":"IFERROR(VLOOKUP(E822,Teilnehmer!$B$3:$C$1002,2,0),\"\")","v":""}]
[null,null,null,{"$f":"IFERROR(VLOOKUP(C823,Teilnehmer!$B$3:$C$1002,2,0),\"\")","v":""},null,{"$f":"IFERROR(VLOOKUP(E823,Teilnehmer!$B$3:$C$1002,2,0),\"\")","v":""}]
[null,null,null,{"$f":"IFERROR(VLOOKUP(C824,Teilnehmer!$B$3:$C$1002,2,0),\"\")","v":""},null,{"$f":"IFERROR(VLOOKUP(E824,Teilnehmer!$B$3:$C$1002,2,0),\"\")","v":""}]
[null,null,null,{"$f":"IFERROR(VLOOKUP(C825,Teilnehmer!$B$3:$C$1002,2,0),\"\")","v":""},null,{"$f":"IFERROR(VLOOKUP(E825,Teilnehmer!$B$3:$C$1002,2,0),\"\")","v":""}]
[null,null,null,{"$f":"IFERROR(VLOOKUP(C826,Teilnehmer!$B$3:$C$1002,2,0),\"\")","v":""},null,{"$f":"IFERROR(VLOOKUP(E826,Teilnehmer!$B$3:$C$1002,2,0),\"\")","v":""}]
[null,null,null,{"$f":"IFERROR(VLOOKUP(C827,Teilnehmer!$B$3:$C$1002,2,0),\"\")","v":""},null,{"$f":"IFERROR(VLOOKUP(E827,Teilnehmer!$B$3:$C$1002,2,0),\"\")","v":""}]
[null,null,null,{"$f":"IFERROR(VLOOKUP(C828,Teilnehmer!$B$3:$C$1002,2,0),\"\")","v":""},null,{"$f":"IFERROR(VLOOKUP(E828,Teilnehmer!$B$3:$C$1002,2,0),\"\")","v":""}]
[null,null,null,{"$f":"IFERROR(VLOOKUP(C829,Teilnehmer!$B$3:$C$1002,2,0),\"\")","v":""},null,{"$f":"IFERROR(VLOOKUP(E829,Teilnehmer!$B$3:$C$1002,2,0),\"\")","v":""}]
[null,null,null,{"$f":"IFERROR(VLOOKUP(C830,Teilnehmer!$B$3:$C$1002,2,0),\"\")","v":""},null,{"$f":"IFERROR(VLOOKUP(E830,Teilnehmer!$B$3:$C$1002,2,0),\"\")","v":""}]
[null,null,null,{"$f":"IFERROR(VLOOKUP(C831,Teilnehmer!$B$3:$C$1002,2,0),\"\")","v":""},null,{"$f":"IFERROR(VLOOKUP(E831,Teilnehmer!$B$3:$C$1002,2,0),\"\")","v":""}]
[null,null,null,{"$f":"IFERROR(VLOOKUP(C832,Teilnehmer!$B$3:$C$1002,2,0),\"\")","v":""},null,{"$f":"IFERROR(VLOOKUP(E832,Teilnehmer!$B$3:$C$1002,2,0),\"\")","v":""}]
[null,null,null,{"$f":"IFERROR(VLOOKUP(C833,Teilnehmer!$B$3:$C$1002,2,0),\"\")","v":""},null,{"$f":"IFERROR(VLOOKUP(E833,Teilnehmer!$B$3:$C$1002,2,0),\"\")","v":""}]
[null,null,null,{"$f":"IFERROR(VLOOKUP(C834,Teilnehmer!$B$3:$C$1002,2,0),\"\")","v":""},null,{"$f":"IFERROR(VLOOKUP(E834,Teilnehmer!$B$3:$C$1002,2,0),\"\")","v":""}]
[null,null,null,{"$f":"IFERROR(VLOOKUP(C835,Teilnehmer!$B$3:$C$1002,2,0),\"\")","v":""},null,{"$f":"IFERROR(VLOOKUP(E835,Teilnehmer!$B$3:$C$1002,2,0),\"\")","v":""}]
[null,null,null,{"$f":"IFERROR(VLOOKUP(C836,Teilnehmer!$B$3:$C$1002,2,0),\"\")","v":""},null,{"$f":"IFERROR(VLOOKUP(E836,Teilnehmer!$B$3:$C$1002,2,0),\"\")","v":""}]
[null,null,null,{"$f":"IFERROR(VLOOKUP(C837,Teilnehmer!$B$3:$C$1002,2,0),\"\")","v":""},null,{"$f":"IFERROR(VLOOKUP(E837,Teilnehmer!$B$3:$C$1002,2,0),\"\")","v":""}]
[null,null,null,{"$f":"IFERROR(VLOOKUP(C838,Teilnehmer!$B$3:$C$1002,2,0),\"\")","v":""},null,{"$f":"IFERROR(VLOOKUP(E838,Teilnehmer!$B$3:$C$1002,2,0),\"\")","v":""}]
[null,null,null,{"$f":"IFERROR(VLOOKUP(C839,Teilnehmer!$B$3:$C$1002,2,0),\"\")","v":""},null,{"$f":"IFERROR(VLOOKUP(E839,Teilnehmer!$B$3:$C$1002,2,0),\"\")","v":""}]
[null,null,null,{"$f":"IFERROR(VLOOKUP(C840,Teilnehmer!$B$3:$C$1002,2,0),\"\")","v":""},null,{"$f":"IFERROR(VLOOKUP(E840,Teilnehmer!$B$3:$C$1002,2,0),\"\")","v":""}]
[null,null,null,{"$f":"IFERROR(VLOOKUP(C841,Teilnehmer!$B$3:$C$1002,2,0),\"\")","v":""},null,{"$f":"IFERROR(VLOOKUP(E841,Teilnehmer!$B$3:$C$1002,2,0),\"\")","v":""}]
[null,null,null,{"$f":"IFERROR(VLOOKUP(C842,Teilnehmer!$B$3:$C$1002,2,0),\"\")","v":""},null,{"$f":"IFERROR(VLOOKUP(E842,Teilnehmer!$B$3:$C$1002,2,0),\"\")","v":""}]
[null,null,null,{"$f":"IFERROR(VLOOKUP(C843,Teilnehmer!$B$3:$C$1002,2,0),\"\")","v":""},null,{"$f":"IFERROR(VLOOKUP(E843,Teilnehmer!$B$3:$C$1002,2,0),\"\")","v":""}]
[null,null,null,{"$f":"IFERROR(VLOOKUP(C844,Teilnehmer!$B$3:$C$1002,2,0),\"\")","v":""},null,{"$f":"IFERROR(VLOOKUP(E844,Teilnehmer!$B$3:$C$1002,2,0),\"\")","v":""}]
[null,null,null,{"$f":"IFERROR(VLOOKUP(C845,Teilnehmer!$B$3:$C$1002,2,0),\"\")","v":""},null,{"$f":"IFERROR(VLOOKUP(E845,Teilnehmer!$B$3:$C$1002,2,0),\"\")","v":""}]
[null,null,null,{"$f":"IFERROR(VLOOKUP(C846,Teilnehmer!$B$3:$C$1002,2,0),\"\")","v":""},null,{"$f":"IFERROR(VLOOKUP(E846,Teilnehmer!$B$3:$C$1002,2,0),\"\")","v":""}]
[null,null,null,{"$f":"IFERROR(VLOOKUP(C847,Teilnehmer!$B$3:$C$1002,2,0),\"\")","v":""},null,{"$f":"IFERROR(VLOOKUP(E847,Teilnehmer!$B$3:$C$1002,2,0),\"\")","v":""}]
[null,null,null,{"$f":"IFERROR(VLOOKUP(C848,Teilnehmer!$B$3:$C$1002,2,0),\"\")","v":""},null,{"$f":"IFERROR(VLOOKUP(E848,Teilnehmer!$B$3:$C$1002,2,0),\"\")","v":""}]
[null,null,null,{"$f":"IFERROR(VLOOKUP(C849,Teilnehmer!$B$3:$C$1002,2,0),\"\")","v":""},null,{"$f":"IFERROR(VLOOKUP(E849,Teilnehmer!$B$3:$C$1002,2,0),\"\")","v":""}]
[null,null,null,{"$f":"IFERROR(VLOOKUP(C850,Teilnehmer!$B$3:$C$1002,2,0),\"\")","v":""},null,{"$f":"IFERROR(VLOOKUP(E850,Teilnehmer!$B$3:$C$1002,2,0),\"\")","v":""}]
[null,null,null,{"$f":"IFERROR(VLOOKUP(C851,Teilnehmer!$B$3:$C$1002,2,0),\"\")","v":""},null,{"$f":"IFERROR(VLOOKUP(E851,Teilnehmer!$B$3:$C$1002,2,0),\"\")","v":""}]
[null,null,null,{"$f":"IFERROR(VLOOKUP(C852,Teilnehmer!$B$3:$C$1002,2,0),\"\")","v":""},null,{"$f":"IFERROR(VLOOKUP(E852,Teilnehmer!$B$3:$C$1002,2,0),\"\")","v":""}]
[null,null,null,{"$f":"IFERROR(VLOOKUP(C853,Teilnehmer!$B$3:$C$1002,2,0),\"\")","v":""},null,{"$f":"IFERROR(VLOOKUP(E853,Teilnehmer!$B$3:$C$1002,2,0),\"\")","v":""}]
[null,null,null,{"$f":"IFERROR(VLOOKUP(C854,Teilnehmer!$B$3:$C$1002,2,0),\"\")","v":""},null,{"$f":"IFERROR(VLOOKUP(E854,Teilnehmer!$B$3:$C$1002,2,0),\"\")","v":""}]
[null,null,null,{"$f":"IFERROR(VLOOKUP(C855,Teilnehmer!$B$3:$C$1002,2,0),\"\")","v":""},null,{"$f":"IFERROR(VLOOKUP(E855,Teilnehmer!$B$3:$C$1002,2,0),\"\")","v":""}]
[null,null,null,{"$f":"IFERROR(VLOOKUP(C856,Teilnehmer!$B$3:$C$1002,2,0),\"\")","v":""},null,{"$f":"IFERROR(VLOOKUP(E856,Teilnehmer!$B$3:$C$1002,2,0),\"\")","v":""}]
[null,null,null,{"$f":"IFERROR(VLOOKUP(C857,Teilnehmer!$B$3:$C$1002,2,0),\"\")","v":""},null,{"$f":"IFERROR(VLOOKUP(E857,Teilnehmer!$B$3:$C$1002,2,0),\"\")","v":""}]
[null,null,null,{"$f":"IFERROR(VLOOKUP(C858,Teilnehmer!$B$3:$C$1002,2,0),\"\")","v":""},null,{"$f":"IFERROR(VLOOKUP(E858,Teilnehmer!$B$3:$C$1002,2,0),\"\")","v":""}]
[null,null,null,{"$f":"IFERROR(VLOOKUP(C859,Teilnehmer!$B$3:$C$1002,2,0),\"\")","v":""},null,{"$f":"IFERROR(VLOOKUP(E859,Teilnehmer!$B$3:$C$1002,2,0),\"\")","v":""}]
[null,null,null,{"$f":"IFERROR(VLOOKUP(C860,Teilnehmer!$B$3:$C$1002,2,0),\"\")","v":""},null,{"$f":"IFERROR(VLOOKUP(E860,Teilnehmer!$B$3:$C$1002,2,0),\"\")","v":""}]
[null,null,null,{"$f":"IFERROR(VLOOKUP(C861,Teilnehmer!$B$3:$C$1002,2,0),\"\")","v":""},null,{"$f":"IFERROR(VLOOKUP(E861,Teilnehmer!$B$3:$C$1002,2,0),\"\")","v":""}]
[null,null,null,{"$f":"IFERROR(VLOOKUP(C862,Teilnehmer!$B$3:$C$1002,2,0),\"\")","v":""},null,{"$f":"IFERROR(VLOOKUP(E862,Teilnehmer!$B$3:$C$1002,2,0),\"\")","v":""}]
[null,null,null,{"$f":"IFERROR(VLOOKUP(C863,Teilnehmer!$B$3:$C$1002,2,0),\"\")","v":""},null,{"$f":"IFERROR(VLOOKUP(E863,Teilnehmer!$B$3:$C$1002,2,0),\"\")","v":""}]
[null,null,null,{"$f":"IFERROR(VLOOKUP(C864,Teilnehmer!$B$3:$C$1002,2,0),\"\")","v":""},null,{"$f":"IFERROR(VLOOKUP(E864,Teilnehmer!$B$3:$C$1002,2,0),\"\")","v":""}]
[null,null,null,{"$f":"IFERROR(VLOOKUP(C865,Teilnehmer!$B$3:$C$1002,2,0),\"\")","v":""},null,{"$f":"IFERROR(VLOOKUP(E865,Teilnehmer!$B$3:$C$1002,2,0),\"\")","v":""}]
[null,null,null,{"$f":"IFERROR(VLOOKUP(C866,Teilnehmer!$B$3:$C$1002,2,0),\"\")","v":""},null,{"$f":"IFERROR(VLOOKUP(E866,Teilnehmer!$B$3:$C$1002,2,0),\"\")","v":""}]
[null,null,null,{"$f":"IFERROR(VLOOKUP(C867,Teilnehmer!$B$3:$C$1002,2,0),\"\")","v":""},null,{"$f":"IFERROR(VLOOKUP(E867,Teilnehmer!$B$3:$C$1002,2,0),\"\")","v":""}]
[null,null,null,{"$f":"IFERROR(VLOOKUP(C868,Teilnehmer!$B$3:$C$1002,2,0),\"\")","v":""},null,{"$f":"IFERROR(VLOOKUP(E868,Teilnehmer!$B$3:$C$1002,2,0),\"\")","v":""}]
[null,null,null,{"$f":"IFERROR(VLOOKUP(C869,Teilnehmer!$B$3:$C$1002,2,0),\"\")","v":""},null,{"$f":"IFERROR(VLOOKUP(E869,Teilnehmer!$B$3:$C$1002,2,0),\"\")","v":""}]
[null,null,null,{"$f":"IFERROR(VLOOKUP(C870,Teilnehmer!$B$3:$C$1002,2,0),\"\")","v":""},null,{"$f":"IFERROR(VLOOKUP(E870,Teilnehmer!$B$3:$C$1002,2,0),\"\")","v":""}]
[null,null,null,{"$f":"IFERROR(VLOOKUP(C871,Teilnehmer!$B$3:$C$1002,2,0),\"\")","v":""},null,{"$f":"IFERROR(VLOOKUP(E871,Teilnehmer!$B$3:$C$1002,2,0),\"\")","v":""}]
[null,null,null,{"$f":"IFERROR(VLOOKUP(C872,Teilnehmer!$B$3:$C$1002,2,0),\"\")","v":""},null,{"$f":"IFERROR(VLOOKUP(E872,Teilnehmer!$B$3:$C$1002,2,0),\"\")","v":""}]
[null,null,null,{"$f":"IFERROR(VLOOKUP(C873,Teilnehmer!$B$3:$C$1002,2,0),\"\")","v":""},null,{"$f":"IFERROR(VLOOKUP(E873,Teilnehmer!$B$3:$C$1002,2,0),\"\")","v":""}]
[null,null,null,{"$f":"IFERROR(VLOOKUP(C874,Teilnehmer!$B$3:$C$1002,2,0),\"\")","v":""},null,{"$f":"IFERROR(VLOOKUP(E874,Teilnehmer!$B$3:$C$1002,2,0),\"\")","v":""}]
[null,null,null,{"$f":"IFERROR(VLOOKUP(C875,Teilnehmer!$B$3:$C$1002,2,0),\"\")","v":""},null,{"$f":"IFERROR(VLOOKUP(E875,Teilnehmer!$B$3:$C$1002,2,0),\"\")","v":""}]
[null,null,null,{"$f":"IFERROR(VLOOKUP(C876,Teilnehmer!$B$3:$C$1002,2,0),\"\")","v":""},null,{"$f":"IFERROR(VLOOKUP(E876,Teilnehmer!$B$3:$C$1002,2,0),\"\")","v":""}]
[null,null,null,{"$f":"IFERROR(VLOOKUP(C877,Teilnehmer!$B$3:$C$1002,2,0),\"\")","v":""},null,{"$f":"IFERROR(VLOOKUP(E877,Teilnehmer!$B$3:$C$1002,2,0),\"\")","v":""}]
[null,null,null,{"$f":"IFERROR(VLOOKUP(C878,Teilnehmer!$B$3:$C$1002,2,0),\"\")","v":""},null,{"$f":"IFERROR(VLOOKUP(E878,Teilnehmer!$B$3:$C$1002,2,0),\"\")","v":""}]
[null,null,null,{"$f":"IFERROR(VLOOKUP(C879,Teilnehmer!$B$3:$C$1002,2,0),\"\")","v":""},null,{"$f":"IFERROR(VLOOKUP(E879,Teilnehmer!$B$3:$C$1002,2,0),\"\")","v":""}]
[null,null,null,{"$f":"IFERROR(VLOOKUP(C880,Teilnehmer!$B$3:$C$1002,2,0),\"\")","v":""},null,{"$f":"IFERROR(VLOOKUP(E880,Teilnehmer!$B$3:$C$1002,2,0),\"\")","v":""}]
[null,null,null,{"$f":"IFERROR(VLOOKUP(C881,Teilnehmer!$B$3:$C$1002,2,0),\"\")","v":""},null,{"$f":"IFERROR(VLOOKUP(E881,Teilnehmer!$B$3:$C$1002,2,0),\"\")","v":""}]
[null,null,null,{"$f":"IFERROR(VLOOKUP(C882,Teilnehmer!$B$3:$C$1002,2,0),\"\")","v":""},null,{"$f":"IFERROR(VLOOKUP(E882,Teilnehmer!$B$3:$C$1002,2,0),\"\")","v":""}]
[null,null,null,{"$f":"IFERROR(VLOOKUP(C883,Teilnehmer!$B$3:$C$1002,2,0),\"\")","v":""},null,{"$f":"IFERROR(VLOOKUP(E883,Teilnehmer!$B$3:$C$1002,2,0),\"\")","v":""}]
[null,null,null,{"$f":"IFERROR(VLOOKUP(C884,Teilnehmer!$B$3:$C$1002,2,0),\"\")","v":""},null,{"$f":"IFERROR(VLOOKUP(E884,Teilnehmer!$B$3:$C$1002,2,0),\"\")","v":""}]
[null,null,null,{"$f":"IFERROR(VLOOKUP(C885,Teilnehmer!$B$3:$C$1002,2,0),\"\")","v":""},null,{"$f":"IFERROR(VLOOKUP(E885,Teilnehmer!$B$3:$C$1002,2,0),\"\")","v":""}]
[null,null,null,{"$f":"IFERROR(VLOOKUP(C886,Teilnehmer!$B$3:$C$1002,2,0),\"\")","v":""},null,{"$f":"IFERROR(VLOOKUP(E886,Teilnehmer!$B$3:$C$1002,2,0),\"\")","v":""}]
[null,null,null,{"$f":"IFERROR(VLOOKUP(C887,Teilnehmer!$B$3:$C$1002,2,0),\"\")","v":""},null,{"$f":"IFERROR(VLOOKUP(E887,Teilnehmer!$B$3:$C$1002,2,0),\"\")","v":""}]
[null,null,null,{"$f":"IFERROR(VLOOKUP(C888,Teilnehmer!$B$3:$C$1002,2,0),\"\")","v":""},null,{"$f":"IFERROR(VLOOKUP(E888,Teilnehmer!$B$3:$C$1002,2,0),\"\")","v":""}]
[null,null,null,{"$f":"IFERROR(VLOOKUP(C889,Teilnehmer!$B$3:$C$1002,2,0),\"\")","v":""},null,{"$f":"IFERROR(VLOOKUP(E889,Teilnehmer!$B$3:$C$1002,2,0),\"\")","v":""}]
[null,null,null,{"$f":"IFERROR(VLOOKUP(C890,Teilnehmer!$B$3:$C$1002,2,0),\"\")","v":""},null,{"$f":"IFERROR(VLOOKUP(E890,Teilnehmer!$B$3:$C$1002,2,0),\"\")","v":""}]
[null,null,null,{"$f":"IFERROR(VLOOKUP(C891,Teilnehmer!$B$3:$C$1002,2,0),\"\")","v":""},null,{"$f":"IFERROR(VLOOKUP(E891,Teilnehmer!$B$3:$C$1002,2,0),\"\")","v":""}]
[null,null,null,{"$f":"IFERROR(VLOOKUP(C892,Teilnehmer!$B$3:$C$1002,2,0),\"\")","v":""},null,{"$f":"IFERROR(VLOOKUP(E892,Teilnehmer!$B$3:$C$1002,2,0),\"\")","v":""}]
[null,null,null,{"$f":"IFERROR(VLOOKUP(C893,Teilnehmer!$B$3:$C$1002,2,0),\"\")","v":""},null,{"$f":"IFERROR(VLOOKUP(E893,Teilnehmer!$B$3:$C$1002,2,0),\"\")","v":""}]
[null,null,null,{"$f":"IFERROR(VLOOKUP(C894,Teilnehmer!$B$3:$C$1002,2,0),\"\")","v":""},null,{"$f":"IFERROR(VLOOKUP(E894,Teilnehmer!$B$3:$C$1002,2,0),\"\")","v":""}]
[null,null,null,{"$f":"IFERROR(VLOOKUP(C895,Teilnehmer!$B$3:$C$1002,2,0),\"\")","v":""},null,{"$f":"IFERROR(VLOOKUP(E895,Teilnehmer!$B$3:$C$1002,2,0),\"\")","v":""}]
[null,null,null,{"$f":"IFERROR(VLOOKUP(C896,Teilnehmer!$B$3:$C$1002,2,0),\"\")","v":""},null,{"$f":"IFERROR(VLOOKUP(E896,Teilnehmer!$B$3:$C$1002,2,0),\"\")","v":""}]
[null,null,null,{"$f":"IFERROR(VLOOKUP(C897,Teilnehmer!$B$3:$C$1002,2,0),\"\")","v":""},null,{"$f":"IFERROR(VLOOKUP(E897,Teilnehmer!$B$3:$C$1002,2,0),\"\")","v":""}]
[null,null,null,{"$f":"IFERROR(VLOOKUP(C898,Teilnehmer!$B$3:$C$1002,2,0),\"\")","v":""},null,{"$f":"IFERROR(VLOOKUP(E898,Teilnehmer!$B$3:$C$1002,2,0),\"\")","v":""}]
[null,null,null,{"$f":"IFERROR(VLOOKUP(C899,Teilnehmer!$B$3:$C$1002,2,0),\"\")","v":""},null,{"$f":"IFERROR(VLOOKUP(E899,Teilnehmer!$B$3:$C$1002,2,0),\"\")","v":""}]
[null,null,null,{"$f":"IFERROR(VLOOKUP(C900,Teilnehmer!$B$3:$C$1002,2,0),\"\")","v":""},null,{"$f":"IFERROR(VLOOKUP(E900,Teilnehmer!$B$3:$C$1002,2,0),\"\")","v":""}]
[null,null,null,{"$f":"IFERROR(VLOOKUP(C901,Teilnehmer!$B$3:$C$1002,2,0),\"\")","v":""},null,{"$f":"IFERROR(VLOOKUP(E901,Teilnehmer!$B$3:$C$1002,2,0),\"\")","v":""}]
[null,null,null,{"$f":"IFERROR(VLOOKUP(C902,Teilnehmer!$B$3:$C$1002,2,0),\"\")","v":""},null,{"$f":"IFERROR(VLOOKUP(E902,Teilnehmer!$B$3:$C$1002,2,0),\"\")","v":""}]
[null,null,null,{"$f":"IFERROR(VLOOKUP(C903,Teilnehmer!$B$3:$C$1002,2,0),\"\")","v":""},null,{"$f":"IFERROR(VLOOKUP(E903,Teilnehmer!$B$3:$C$1002,2,0),\"\")","v":""}]
[null,null,null,{"$f":"IFERROR(VLOOKUP(C904,Teilnehmer!$B$3:$C$1002,2,0),\"\")","v":""},null,{"$f":"IFERROR(VLOOKUP(E904,Teilnehmer!$B$3:$C$1002,2,0),\"\")","v":""}]
[null,null,null,{"$f":"IFERROR(VLOOKUP(C905,Teilnehmer!$B$3:$C$1002,2,0),\"\")","v":""},null,{"$f":"IFERROR(VLOOKUP(E905,Teilnehmer!$B$3:$C$1002,2,0),\"\")","v":""}]
[null,null,null,{"$f":"IFERROR(VLOOKUP(C906,Teilnehmer!$B$3:$C$1002,2,0),\"\")","v":""},null,{"$f":"IFERROR(VLOOKUP(E906,Teilnehmer!$B$3:$C$1002,2,0),\"\")","v":""}]
[null,null,null,{"$f":"IFERROR(VLOOKUP(C907,Teilnehmer!$B$3:$C$1002,2,0),\"\")","v":""},null,{"$f":"IFERROR(VLOOKUP(E907,Teilnehmer!$B$3:$C$1002,2,0),\"\")","v":""}]
[null,null,null,{"$f":"IFERROR(VLOOKUP(C908,Teilnehmer!$B$3:$C$1002,2,0),\"\")","v":""},null,{"$f":"IFERROR(VLOOKUP(E908,Teilnehmer!$B$3:$C$1002,2,0),\"\")","v":""}]
[null,null,null,{"$f":"IFERROR(VLOOKUP(C909,Teilnehmer!$B$3:$C$1002,2,0),\"\")","v":""},null,{"$f":"IFERROR(VLOOKUP(E909,Teilnehmer!$B$3:$C$1002,2,0),\"\")","v":""}]
[null,null,null,{"$f":"IFERROR(VLOOKUP(C910,Teilnehmer!$B$3:$C$1002,2,0),\"\")","v":""},null,{"$f":"IFERROR(VLOOKUP(E910,Teilnehmer!$B$3:$C$1002,2,0),\"\")","v":""}]
[null,null,null,{"$f":"IFERROR(VLOOKUP(C911,Teilnehmer!$B$3:$C$1002,2,0),\"\")","v":""},null,{"$f":"IFERROR(VLOOKUP(E911,Teilnehmer!$B$3:$C$1002,2,0),\"\")","v":""}]
[null,null,null,{"$f":"IFERROR(VLOOKUP(C912,Teilnehmer!$B$3:$C$1002,2,0),\"\")","v":""},null,{"$f":"IFERROR(VLOOKUP(E912,Teilnehmer!$B$3:$C$1002,2,0),\"\")","v":""}]
[null,null,null,{"$f":"IFERROR(VLOOKUP(C913,Teilnehmer!$B$3:$C$1002,2,0),\"\")","v":""},null,{"$f":"IFERROR(VLOOKUP(E913,Teilnehmer!$B$3:$C$1002,2,0),\"\")","v":""}]
[null,null,null,{"$f":"IFERROR(VLOOKUP(C914,Teilnehmer!$B$3:$C$1002,2,0),\"\")","v":""},null,{"$f":"IFERROR(VLOOKUP(E914,Teilnehmer!$B$3:$C$1002,2,0),\"\")","v":""}]
[null,null,null,{"$f":"IFERROR(VLOOKUP(C915,Teilnehmer!$B$3:$C$1002,2,0),\"\")","v":""},null,{"$f":"IFERROR(VLOOKUP(E915,Teilnehmer!$B$3:$C$1002,2,0),\"\")","v":""}]
[null,null,null,{"$f":"IFERROR(VLOOKUP(C916,Teilnehmer!$B$3:$C$1002,2,0),\"\")","v":""},null,{"$f":"IFERROR(VLOOKUP(E916,Teilnehmer!$B$3:$C$1002,2,0),\"\")","v":""}]
[null,null,null,{"$f":"IFERROR(VLOOKUP(C917,Teilnehmer!$B$3:$C$1002,2,0),\"\")","v":""},null,{"$f":"IFERROR(VLOOKUP(E917,Teilnehmer!$B$3:$C$1002,2,0),\"\")","v":""}]
[null,null,null,{"$f":"IFERROR(VLOOKUP(C918,Teilnehmer!$B$3:$C$1002,2,0),\"\")","v":""},null,{"$f":"IFERROR(VLOOKUP(E918,Teilnehmer!$B$3:$C$1002,2,0),\"\")","v":""}]
[null,null,null,{"$f":"IFERROR(VLOOKUP(C919,Teilnehmer!$B$3:$C$1002,2,0),\"\")","v":""},null,{"$f":"IFERROR(VLOOKUP(E919,Teilnehmer!$B$3:$C$1002,2,0),\"\")","v":""}]
[null,null,null,{"$f":"IFERROR(VLOOKUP(C920,Teilnehmer!$B$3:$C$1002,2,0),\"\")","v":""},null,{"$f":"IFERROR(VLOOKUP(E920,Teilnehmer!$B$3:$C$1002,2,0),\"\")","v":""}]
[null,null,null,{"$f":"IFERROR(VLOOKUP(C921,Teilnehmer!$B$3:$C$1002,2,0),\"\")","v":""},null,{"$f":"IFERROR(VLOOKUP(E921,Teilnehmer!$B$3:$C$1002,2,0),\"\")","v":""}]
[null,null,null,{"$f":"IFERROR(VLOOKUP(C922,Teilnehmer!$B$3:$C$1002,2,0),\"\")","v":""},null,{"$f":"IFERROR(VLOOKUP(E922,Teilnehmer!$B$3:$C$1002,2,0),\"\")","v":""}]
[null,null,null,{"$f":"IFERROR(VLOOKUP(C923,Teilnehmer!$B$3:$C$1002,2,0),\"\")","v":""},null,{"$f":"IFERROR(VLOOKUP(E923,Teilnehmer!$B$3:$C$1002,2,0),\"\")","v":""}]
[null,null,null,{"$f":"IFERROR(VLOOKUP(C924,Teilnehmer!$B$3:$C$1002,2,0),\"\")","v":""},null,{"$f":"IFERROR(VLOOKUP(E924,Teilnehmer!$B$3:$C$1002,2,0),\"\")","v":""}]
[null,null,null,{"$f":"IFERROR(VLOOKUP(C925,Teilnehmer!$B$3:$C$1002,2,0),\"\")","v":""},null,{"$f":"IFERROR(VLOOKUP(E925,Teilnehmer!$B$3:$C$1002,2,0),\"\")","v":""}]
[null,null,null,{"$f":"IFERROR(VLOOKUP(C926,Teilnehmer!$B$3:$C$1002,2,0),\"\")","v":""},null,{"$f":"IFERROR(VLOOKUP(E926,Teilnehmer!$B$3:$C$1002,2,0),\"\")","v":""}]
[null,null,null,{"$f":"IFERROR(VLOOKUP(C927,Teilnehmer!$B$3:$C$1002,2,0),\"\")","v":""},null,{"$f":"IFERROR(VLOOKUP(E927,Teilnehmer!$B$3:$C$1002,2,0),\"\")","v":""}]
[null,null,null,{"$f":"IFERROR(VLOOKUP(C928,Teilnehmer!$B$3:$C$1002,2,0),\"\")","v":""},null,{"$f":"IFERROR(VLOOKUP(E928,Teilnehmer!$B$3:$C$1002,2,0),\"\")","v":""}]
[null,null,null,{"$f":"IFERROR(VLOOKUP(C929,Teilnehmer!$B$3:$C$1002,2,0),\"\")","v":""},null,{"$f":"IFERROR(VLOOKUP(E929,Teilnehmer!$B$3:$C$1002,2,0),\"\")","v":""}]
[null,null,null,{"$f":"IFERROR(VLOOKUP(C930,Teilnehmer!$B$3:$C$1002,2,0),\"\")","v":""},null,{"$f":"IFERROR(VLOOKUP(E930,Teilnehmer!$B$3:$C$1002,2,0),\"\")","v":""}]
[null,null,null,{"$f":"IFERROR(VLOOKUP(C931,Teilnehmer!$B$3:$C$1002,2,0),\"\")","v":""},null,{"$f":"IFERROR(VLOOKUP(E931,Teilnehmer!$B$3:$C$1002,2,0),\"\")","v":""}]
[null,null,null,{"$f":"IFERROR(VLOOKUP(C932,Teilnehmer!$B$3:$C$1002,2,0),\"\")","v":""},null,{"$f":"IFERROR(VLOOKUP(E932,Teilnehmer!$B$3:$C$1002,2,0),\"\")","v":""}]
[null,null,null,{"$f":"IFERROR(VLOOKUP(C933,Teilnehmer!$B$3:$C$1002,2,0),\"\")","v":""},null,{"$f":"IFERROR(VLOOKUP(E933,Teilnehmer!$B$3:$C$1002,2,0),\"\")","v":""}]
[null,null,null,{"$f":"IFERROR(VLOOKUP(C934,Teilnehmer!$B$3:$C$1002,2,0),\"\")","v":""},null,{"$f":"IFERROR(VLOOKUP(E934,Teilnehmer!$B$3:$C$1002,2,0),\"\")","v":""}]
[null,null,null,{"$f":"IFERROR(VLOOKUP(C935,Teilnehmer!$B$3:$C$1002,2,0),\"\")","v":""},null,{"$f":"IFERROR(VLOOKUP(E935,Teilnehmer!$B$3:$C$1002,2,0),\"\")","v":""}]
[null,null,null,{"$f":"IFERROR(VLOOKUP(C936,Teilnehmer!$B$3:$C$1002,2,0),\"\")","v":""},null,{"$f":"IFERROR(VLOOKUP(E936,Teilnehmer!$B$3:$C$1002,2,0),\"\")","v":""}]
[null,null,null,{"$f":"IFERROR(VLOOKUP(C937,Teilnehmer!$B$3:$C$1002,2,0),\"\")","v":""},null,{"$f":"IFERROR(VLOOKUP(E937,Teilnehmer!$B$3:$C$1002,2,0),\"\")","v":""}]
[null,null,null,{"$f":"IFERROR(VLOOKUP(C938,Teilnehmer!$B$3:$C$1002,2,0),\"\")","v":""},null,{"$f":"IFERROR(VLOOKUP(E938,Teilnehmer!$B$3:$C$1002,2,0),\"\")","v":""}]
[null,null,null,{"$f":"IFERROR(VLOOKUP(C939,Teilnehmer!$B$3:$C$1002,2,0),\"\")","v":""},null,{"$f":"IFERROR(VLOOKUP(E939,Teilnehmer!$B$3:$C$1002,2,0),\"\")","v":""}]
[null,null,null,{"$f":"IFERROR(VLOOKUP(C940,Teilnehmer!$B$3:$C$1002,2,0),\"\")","v":""},null,{"$f":"IFERROR(VLOOKUP(E940,Teilnehmer!$B$3:$C$1002,2,0),\"\")","v":""}]
[null,null,null,{"$f":"IFERROR(VLOOKUP(C941,Teilnehmer!$B$3:$C$1002,2,0),\"\")","v":""},null,{"$f":"IFERROR(VLOOKUP(E941,Teilnehmer!$B$3:$C$1002,2,0),\"\")","v":""}]
[null,null,null,{"$f":"IFERROR(VLOOKUP(C942,Teilnehmer!$B$3:$C$1002,2,0),\"\")","v":""},null,{"$f":"IFERROR(VLOOKUP(E942,Teilnehmer!$B$3:$C$1002,2,0),\"\")","v":""}]
[null,null,null,{"$f":"IFERROR(VLOOKUP(C943,Teilnehmer!$B$3:$C$1002,2,0),\"\")","v":""},null,{"$f":"IFERROR(VLOOKUP(E943,Teilnehmer!$B$3:$C$1002,2,0),\"\")","v":""}]
[null,null,null,{"$f":"IFERROR(VLOOKUP(C944,Teilnehmer!$B$3:$C$1002,2,0),\"\")","v":""},null,{"$f":"IFERROR(VLOOKUP(E944,Teilnehmer!$B$3:$C$1002,2,0),\"\")","v":""}]
[null,null,null,{"$f":"IFERROR(VLOOKUP(C945,Teilnehmer!$B$3:$C$1002,2,0),\"\")","v":""},null,{"$f":"IFERROR(VLOOKUP(E945,Teilnehmer!$B$3:$C$1002,2,0),\"\")","v":""}]
[null,null,null,{"$f":"IFERROR(VLOOKUP(C946,Teilnehmer!$B$3:$C$1002,2,0),\"\")","v":""},null,{"$f":"IFERROR(VLOOKUP(E946,Teilnehmer!$B$3:$C$1002,2,0),\"\")","v":""}]
[null,null,null,{"$f":"IFERROR(VLOOKUP(C947,Teilnehmer!$B$3:$C$1002,2,0),\"\")","v":""},null,{"$f":"IFERROR(VLOOKUP(E947,Teilnehmer!$B$3:$C$1002,2,0),\"\")","v":""}]
[null,null,null,{"$f":"IFERROR(VLOOKUP(C948,Teilnehmer!$B$3:$C$1002,2,0),\"\")","v":""},null,{"$f":"IFERROR(VLOOKUP(E948,Teilnehmer!$B$3:$C$1002,2,0),\"\")","v":""}]
[null,null,null,{"$f":"IFERROR(VLOOKUP(C949,Teilnehmer!$B$3:$C$1002,2,0),\"\")","v":""},null,{"$f":"IFERROR(VLOOKUP(E949,Teilnehmer!$B$3:$C$1002,2,0),\"\")","v":""}]
[null,null,null,{"$f":"IFERROR(VLOOKUP(C950,Teilnehmer!$B$3:$C$1002,2,0),\"\")","v":""},null,{"$f":"IFERROR(VLOOKUP(E950,Teilnehmer!$B$3:$C$1002,2,0),\"\")","v":""}]
[null,null,null,{"$f":"IFERROR(VLOOKUP(C951,Teilnehmer!$B$3:$C$1002,2,0),\"\")","v":""},null,{"$f":"IFERROR(VLOOKUP(E951,Teilnehmer!$B$3:$C$1002,2,0),\"\")","v":""}]
[null,null,null,{"$f":"IFERROR(VLOOKUP(C952,Teilnehmer!$B$3:$C$1002,2,0),\"\")","v":""},null,{"$f":"IFERROR(VLOOKUP(E952,Teilnehmer!$B$3:$C$1002,2,0),\"\")","v":""}]
[null,null,null,{"$f":"IFERROR(VLOOKUP(C953,Teilnehmer!$B$3:$C$1002,2,0),\"\")","v":""},null,{"$f":"IFERROR(VLOOKUP(E953,Teilnehmer!$B$3:$C$1002,2,0),\"\")","v":""}]
[null,null,null,{"$f":"IFERROR(VLOOKUP(C954,Teilnehmer!$B$3:$C$1002,2,0),\"\")","v":""},null,{"$f":"IFERROR(VLOOKUP(E954,Teilnehmer!$B$3:$C$1002,2,0),\"\")","v":""}]
[null,null,null,{"$f":"IFERROR(VLOOKUP(C955,Teilnehmer!$B$3:$C$1002,2,0),\"\")","v":""},null,{"$f":"IFERROR(VLOOKUP(E955,Teilnehmer!$B$3:$C$1002,2,0),\"\")","v":""}]
[null,null,null,{"$f":"IFERROR(VLOOKUP(C956,Teilnehmer!$B$3:$C$1002,2,0),\"\")","v":""},null,{"$f":"IFERROR(VLOOKUP(E956,Teilnehmer!$B$3:$C$1002,2,0),\"\")","v":""}]
[null,null,null,{"$f":"IFERROR(VLOOKUP(C957,Teilnehmer!$B$3:$C$1002,2,0),\"\")","v":""},null,{"$f":"IFERROR(VLOOKUP(E957,Teilnehmer!$B$3:$C$1002,2,0),\"\")","v":""}]
[null,null,null,{"$f":"IFERROR(VLOOKUP(C958,Teilnehmer!$B$3:$C$1002,2,0),\"\")","v":""},null,{"$f":"IFERROR(VLOOKUP(E958,Teilnehmer!$B$3:$C$1002,2,0),\"\")","v":""}]
[null,null,null,{"$f":"IFERROR(VLOOKUP(C959,Teilnehmer!$B$3:$C$1002,2,0),\"\")","v":""},null,{"$f":"IFERROR(VLOOKUP(E959,Teilnehmer!$B$3:$C$1002,2,0),\"\")","v":""}]
[null,null,null,{"$f":"IFERROR(VLOOKUP(C960,Teilnehmer!$B$3:$C$1002,2,0),\"\")","v":""},null,{"$f":"IFERROR(VLOOKUP(E960,Teilnehmer!$B$3:$C$1002,2,0),\"\")","v":""}]
[null,null,null,{"$f":"IFERROR(VLOOKUP(C961,Teilnehmer!$B$3:$C$1002,2,0),\"\")","v":""},null,{"$f":"IFERROR(VLOOKUP(E961,Teilnehmer!$B$3:$C$1002,2,0),\"\")","v":""}]
[null,null,null,{"$f":"IFERROR(VLOOKUP(C962,Teilnehmer!$B$3:$C$1002,2,0),\"\")","v":""},null,{"$f":"IFERROR(VLOOKUP(E962,Teilnehmer!$B$3:$C$1002,2,0),\"\")","v":""}]
[null,null,null,{"$f":"IFERROR(VLOOKUP(C963,Teilnehmer!$B$3:$C$1002,2,0),\"\")","v":""},null,{"$f":"IFERROR(VLOOKUP(E963,Teilnehmer!$B$3:$C$1002,2,0),\"\")","v":""}]
[null,null,null,{"$f":"IFERROR(VLOOKUP(C964,Teilnehmer!$B$3:$C$1002,2,0),\"\")","v":""},null,{"$f":"IFERROR(VLOOKUP(E964,Teilnehmer!$B$3:$C$1002,2,0),\"\")","v":""}]
[null,null,null,{"$f":"IFERROR(VLOOKUP(C965,Teilnehmer!$B$3:$C$1002,2,0),\"\")","v":""},null,{"$f":"IFERROR(VLOOKUP(E965,Teilnehmer!$B$3:$C$1002,2,0),\"\")","v":""}]
[null,null,null,{"$f":"IFERROR(VLOOKUP(C966,Teilnehmer!$B$3:$C$1002,2,0),\"\")","v":""},null,{"$f":"IFERROR(VLOOKUP(E966,Teilnehmer!$B$3:$C$1002,2,0),\"\")","v":""}]
[null,null,null,{"$f":"IFERROR(VLOOKUP(C967,Teilnehmer!$B$3:$C$1002,2,0),\"\")","v":""},null,{"$f":"IFERROR(VLOOKUP(E967,Teilnehmer!$B$3:$C$1002,2,0),\"\")","v":""}]
[null,null,null,{"$f":"IFERROR(VLOOKUP(C968,Teilnehmer!$B$3:$C$1002,2,0),\"\")","v":""},null,{"$f":"IFERROR(VLOOKUP(E968,Teilnehmer!$B$3:$C$1002,2,0),\"\")","v":""}]
[null,null,null,{"$f":"IFERROR(VLOOKUP(C969,Teilnehmer!$B$3:$C$1002,2,0),\"\")","v":""},null,{"$f":"IFERROR(VLOOKUP(E969,Teilnehmer!$B$3:$C$1002,2,0),\"\")","v":""}]
[null,null,null,{"$f":"IFERROR(VLOOKUP(C970,Teilnehmer!$B$3:$C$1002,2,0),\"\")","v":""},null,{"$f":"IFERROR(VLOOKUP(E970,Teilnehmer!$B$3:$C$1002,2,0),\"\")","v":""}]
[null,null,null,{"$f":"IFERROR(VLOOKUP(C971,Teilnehmer!$B$3:$C$1002,2,0),\"\")","v":""},null,{"$f":"IFERROR(VLOOKUP(E971,Teilnehmer!$B$3:$C$1002,2,0),\"\")","v":""}]
[null,null,null,{"$f":"IFERROR(VLOOKUP(C972,Teilnehmer!$B$3:$C$1002,2,0),\"\")","v":""},null,{"$f":"IFERROR(VLOOKUP(E972,Teilnehmer!$B$3:$C$1002,2,0),\"\")","v":""}]
[null,null,null,{"$f":"IFERROR(VLOOKUP(C973,Teilnehmer!$B$3:$C$1002,2,0),\"\")","v":""},null,{"$f":"IFERROR(VLOOKUP(E973,Teilnehmer!$B$3:$C$1002,2,0),\"\")","v":""}]
[null,null,null,{"$f":"IFERROR(VLOOKUP(C974,Teilnehmer!$B$3:$C$1002,2,0),\"\")","v":""},null,{"$f":"IFERROR(VLOOKUP(E974,Teilnehmer!$B$3:$C$1002,2,0),\"\")","v":""}]
[null,null,null,{"$f":"IFERROR(VLOOKUP(C975,Teilnehmer!$B$3:$C$1002,2,0),\"\")","v":""},null,{"$f":"IFERROR(VLOOKUP(E975,Teilnehmer!$B$3:$C$1002,2,0),\"\")","v":""}]
[null,null,null,{"$f":"IFERROR(VLOOKUP(C976,Teilnehmer!$B$3:$C$1002,2,0),\"\")","v":""},null,{"$f":"IFERROR(VLOOKUP(E976,Teilnehmer!$B$3:$C$1002,2,0),\"\")","v":""}]
[null,null,null,{"$f":"IFERROR(VLOOKUP(C977,Teilnehmer!$B$3:$C$1002,2,0),\"\")","v":""},null,{"$f":"IFERROR(VLOOKUP(E977,Teilnehmer!$B$3:$C$1002,2,0),\"\")","v":""}]
[null,null,null,{"$f":"IFERROR(VLOOKUP(C978,Teilnehmer!$B$3:$C$1002,2,0),\"\")","v":""},null,{"$f":"IFERROR(VLOOKUP(E978,Teilnehmer!$B$3:$C$1002,2,0),\"\")","v":""}]
[null,null,null,{"$f":"IFERROR(VLOOKUP(C979,Teilnehmer!$B$3:$C$1002,2,0),\"\")","v":""},null,{"$f":"IFERROR(VLOOKUP(E979,Teilnehmer!$B$3:$C$1002,2,0),\"\")","v":""}]
[null,null,null,{"$f":"IFERROR(VLOOKUP(C980,Teilnehmer!$B$3:$C$1002,2,0),\"\")","v":""},null,{"$f":"IFERROR(VLOOKUP(E980,Teilnehmer!$B$3:$C$1002,2,0),\"\")","v":""}]
[null,null,null,{"$f":"IFERROR(VLOOKUP(C981,Teilnehmer!$B$3:$C$1002,2,0),\"\")","v":""},null,{"$f":"IFERROR(VLOOKUP(E981,Teilnehmer!$B$3:$C$1002,2,0),\"\")","v":""}]
[null,null,null,{"$f":"IFERROR(VLOOKUP(C982,Teilnehmer!$B$3:$C$1002,2,0),\"\")","v":""},null,{"$f":"IFERROR(VLOOKUP(E982,Teilnehmer!$B$3:$C$1002,2,0),\"\")","v":""}]
[null,null,null,{"$f":"IFERROR(VLOOKUP(C983,Teilnehmer!$B$3:$C$1002,2,0),\"\")","v":""},null,{"$f":"IFERROR(VLOOKUP(E983,Teilnehmer!$B$3:$C$1002,2,0),\"\")","v":""}]
[null,null,null,{"$f":"IFERROR(VLOOKUP(C984,Teilnehmer!$B$3:$C$1002,2,0),\"\")","v":""},null,{"$f":"IFERROR(VLOOKUP(E984,Teilnehmer!$B$3:$C$1002,2,0),\"\")","v":""}]
[null,null,null,{"$f":"IFERROR(VLOOKUP(C985,Teilnehmer!$B$3:$C$1002,2,0),\"\")","v":""},null,{"$f":"IFERROR(VLOOKUP(E985,Teilnehmer!$B$3:$C$1002,2,0),\"\")","v":""}]
[null,null,null,{"$f":"IFERROR(VLOOKUP(C986,Teilnehmer!$B$3:$C$1002,2,0),\"\")","v":""},null,{"$f":"IFERROR(VLOOKUP(E986,Teilnehmer!$B$3:$C$1002,2,0),\"\")","v":""}]
[null,null,null,{"$f":"IFERROR(VLOOKUP(C987,Teilnehmer!$B$3:$C$1002,2,0),\"\")","v":""},null,{"$f":"IFERROR(VLOOKUP(E987,Teilnehmer!$B$3:$C$1002,2,0),\"\")","v":""}]
[null,null,null,{"$f":"IFERROR(VLOOKUP(C988,Teilnehmer!$B$3:$C$1002,2,0),\"\")","v":""},null,{"$f":"IFERROR(VLOOKUP(E988,Teilnehmer!$B$3:$C$1002,2,0),\"\")","v":""}]
[null,null,null,{"$f":"IFERROR(VLOOKUP(C989,Teilnehmer!$B$3:$C$1002,2,0),\"\")","v":""},null,{"$f":"IFERROR(VLOOKUP(E989,Teilnehmer!$B$3:$C$1002,2,0),\"\")","v":""}]
[null,null,null,{"$f":"IFERROR(VLOOKUP(C990,Teilnehmer!$B$3:$C$1002,2,0),\"\")","v":""},null,{"$f":"IFERROR(VLOOKUP(E990,Teilnehmer!$B$3:$C$1002,2,0),\"\")","v":""}]
[null,null,null,{"$f":"IFERROR(VLOOKUP(C991,Teilnehmer!$B$3:$C$1002,2,0),\"\")","v":""},null,{"$f":"IFERROR(VLOOKUP(E991,Teilnehmer!$B$3:$C$1002,2,0),\"\")","v":""}]
[null,null,null,{"$f":"IFERROR(VLOOKUP(C992,Teilnehmer!$B$3:$C$1002,2,0),\"\")","v":""},null,{"$f":"IFERROR(VLOOKUP(E992,Teilnehmer!$B$3:$C$1002,2,0),\"\")","v":""}]
[null,null,null,{"$f":"IFERROR(VLOOKUP(C993,Teilnehmer!$B$3:$C$1002,2,0),\"\")","v":""},null,{"$f":"IFERROR(VLOOKUP(E993,Teilnehmer!$B$3:$C$1002,2,0),\"\")","v":""}]
[null,null,null,{"$f":"IFERROR(VLOOKUP(C994,Teilnehmer!$B$3:$C$1002,2,0),\"\")","v":""},null,{"$f":"IFERROR(VLOOKUP(E994,Teilnehmer!$B$3:$C$1002,2,0),\"\")","v":""}]
[null,null,null,{"$f":"IFERROR(VLOOKUP(C995,Teilnehmer!$B$3:$C$1002,2,0),\"\")","v":""},null,{"$f":"IFERROR(VLOOKUP(E995,Teilnehmer!$B$3:$C$1002,2,0),\"\")","v":""}]
[null,null,null,{"$f":"IFERROR(VLOOKUP(C996,Teilnehmer!$B$3:$C$1002,2,0),\"\")","v":""},null,{"$f":"IFERROR(VLOOKUP(E996,Teilnehmer!$B$3:$C$1002,2,0),\"\")","v":""}]
[null,null,null,{"$f":"IFERROR(VLOOKUP(C997,Teilnehmer!$B$3:$C$1002,2,0),\"\")","v":""},null,{"$f":"IFERROR(VLOOKUP(E997,Teilnehmer!$B$3:$C$1002,2,0),\"\")","v":""}]
[null,null,null,{"$f":"IFERROR(VLOOKUP(C998,Teilnehmer!$B$3:$C$1002,2,0),\"\")","v":""},null,{"$f":"IFERROR(VLOOKUP(E998,Teilnehmer!$B$3:$C$1002,2,0),\"\")","v":""}]
[null,null,null,{"$f":"IFERROR(VLOOKUP(C999,Teilnehmer!$B$3:$C$1002,2,0),\"\")","v":""},null,{"$f":"IFERROR(VLOOKUP(E999,Teilnehmer!$B$3:$C$1002,2,0),\"\")","v":""}]
[null,null,null,{"$f":"IFERROR(VLOOKUP(C1000,Teilnehmer!$B$3:$C$1002,2,0),\"\")","v":""},null,{"$f":"IFERROR(VLOOKUP(E1000,Teilnehmer!$B$3:$C$1002,2,0),\"\")","v":""}]
[null,null,null,{"$f":"IFERROR(VLOOKUP(C1001,Teilnehmer!$B$3:$C$1002,2,0),\"\")","v":""},null,{"$f":"IFERROR(VLOOKUP(E1001,Teilnehmer!$B$3:$C$1002,2,0),\"\")","v":""}]
[null,null,null,{"$f":"IFERROR(VLOOKUP(C1002,Teilnehmer!$B$3:$C$1002,2,0),\"\")","v":""},null,{"$f":"IFERROR(VLOOKUP(E1002,Teilnehmer!$B$3:$C$1002,2,0),\"\")","v":""}]
[null,null,null,{"$f":"IFERROR(VLOOKUP(C1003,Teilnehmer!$B$3:$C$1002,2,0),\"\")","v":""},null,{"$f":"IFERROR(VLOOKUP(E1003,Teilnehmer!$B$3:$C$1002,2,0),\"\")","v":""}]
[null,null,null,{"$f":"IFERROR(VLOOKUP(C1004,Teilnehmer!$B$3:$C$1002,2,0),\"\")","v":""},null,{"$f":"IFERROR(VLOOKUP(E1004,Teilnehmer!$B$3:$C$1002,2,0),\"\")","v":""}]
[null,null,null,{"$f":"IFERROR(VLOOKUP(C1005,Teilnehmer!$B$3:$C$1002,2,0),\"\")","v":""},null,{"$f":"IFERROR(VLOOKUP(E1005,Teilnehmer!$B$3:$C$1002,2,0),\"\")","v":""}]
[null,null,null,{"$f":"IFERROR(VLOOKUP(C1006,Teilnehmer!$B$3:$C$1002,2,0),\"\")","v":""},null,{"$f":"IFERROR(VLOOKUP(E1006,Teilnehmer!$B$3:$C$1002,2,0),\"\")","v":""}]
[null,null,null,{"$f":"IFERROR(VLOOKUP(C1007,Teilnehmer!$B$3:$C$1002,2,0),\"\")","v":""},null,{"$f":"IFERROR(VLOOKUP(E1007,Teilnehmer!$B$3:$C$1002,2,0),\"\")","v":""}]
[null,null,null,{"$f":"IFERROR(VLOOKUP(C1008,Teilnehmer!$B$3:$C$1002,2,0),\"\")","v":""},null,{"$f":"IFERROR(VLOOKUP(E1008,Teilnehmer!$B$3:$C$1002,2,0),\"\")","v":""}]
[null,null,null,{"$f":"IFERROR(VLOOKUP(C1009,Teilnehmer!$B$3:$C$1002,2,0),\"\")","v":""},null,{"$f":"IFERROR(VLOOKUP(E1009,Teilnehmer!$B$3:$C$1002,2,0),\"\")","v":""}]
[null,null,null,{"$f":"IFERROR(VLOOKUP(C1010,Teilnehmer!$B$3:$C$1002,2,0),\"\")","v":""},null,{"$f":"IFERROR(VLOOKUP(E1010,Teilnehmer!$B$3:$C$1002,2,0),\"\")","v":""}]
[null,null,null,{"$f":"IFERROR(VLOOKUP(C1011,Teilnehmer!$B$3:$C$1002,2,0),\"\")","v":""},null,{"$f":"IFERROR(VLOOKUP(E1011,Teilnehmer!$B$3:$C$1002,2,0),\"\")","v":""}]
[null,null,null,{"$f":"IFERROR(VLOOKUP(C1012,Teilnehmer!$B$3:$C$1002,2,0),\"\")","v":""},null,{"$f":"IFERROR(VLOOKUP(E1012,Teilnehmer!$B$3:$C$1002,2,0),\"\")","v":""}]
[null,null,null,{"$f":"IFERROR(VLOOKUP(C1013,Teilnehmer!$B$3:$C$1002,2,0),\"\")","v":""},null,{"$f":"IFERROR(VLOOKUP(E1013,Teilnehmer!$B$3:$C$1002,2,0),\"\")","v":""}]
[null,null,null,{"$f":"IFERROR(VLOOKUP(C1014,Teilnehmer!$B$3:$C$1002,2,0),\"\")","v":""},null,{"$f":"IFERROR(VLOOKUP(E1014,Teilnehmer!$B$3:$C$1002,2,0),\"\")","v":""}]
[null,null,null,{"$f":"IFERROR(VLOOKUP(C1015,Teilnehmer!$B$3:$C$1002,2,0),\"\")","v":""},null,{"$f":"IFERROR(VLOOKUP(E1015,Teilnehmer!$B$3:$C$1002,2,0),\"\")","v":""}]
[null,null,null,{"$f":"IFERROR(VLOOKUP(C1016,Teilnehmer!$B$3:$C$1002,2,0),\"\")","v":""},null,{"$f":"IFERROR(VLOOKUP(E1016,Teilnehmer!$B$3:$C$1002,2,0),\"\")","v":""}]
[null,null,null,{"$f":"IFERROR(VLOOKUP(C1017,Teilnehmer!$B$3:$C$1002,2,0),\"\")","v":""},null,{"$f":"IFERROR(VLOOKUP(E1017,Teilnehmer!$B$3:$C$1002,2,0),\"\")","v":""}]
[null,null,null,{"$f":"IFERROR(VLOOKUP(C1018,Teilnehmer!$B$3:$C$1002,2,0),\"\")","v":""},null,{"$f":"IFERROR(VLOOKUP(E1018,Teilnehmer!$B$3:$C$1002,2,0),\"\")","v":""}]
[null,null,null,{"$f":"IFERROR(VLOOKUP(C1019,Teilnehmer!$B$3:$C$1002,2,0),\"\")","v":""},null,{"$f":"IFERROR(VLOOKUP(E1019,Teilnehmer!$B$3:$C$1002,2,0),\"\")","v":""}]
[null,null,null,{"$f":"IFERROR(VLOOKUP(C1020,Teilnehmer!$B$3:$C$1002,2,0),\"\")","v":""},null,{"$f":"IFERROR(VLOOKUP(E1020,Teilnehmer!$B$3:$C$1002,2,0),\"\")","v":""}]
[null,null,null,{"$f":"IFERROR(VLOOKUP(C1021,Teilnehmer!$B$3:$C$1002,2,0),\"\")","v":""},null,{"$f":"IFERROR(VLOOKUP(E1021,Teilnehmer!$B$3:$C$1002,2,0),\"\")","v":""}]
[null,null,null,{"$f":"IFERROR(VLOOKUP(C1022,Teilnehmer!$B$3:$C$1002,2,0),\"\")","v":""},null,{"$f":"IFERROR(VLOOKUP(E1022,Teilnehmer!$B$3:$C$1002,2,0),\"\")","v":""}]
[null,null,null,{"$f":"IFERROR(VLOOKUP(C1023,Teilnehmer!$B$3:$C$1002,2,0),\"\")","v":""},null,{"$f":"IFERROR(VLOOKUP(E1023,Teilnehmer!$B$3:$C$1002,2,0),\"\")","v":""}]
[null,null,null,{"$f":"IFERROR(VLOOKUP(C1024,Teilnehmer!$B$3:$C$1002,2,0),\"\")","v":""},null,{"$f":"IFERROR(VLOOKUP(E1024,Teilnehmer!$B$3:$C$1002,2,0),\"\")","v":""}]
[null,null,null,{"$f":"IFERROR(VLOOKUP(C1025,Teilnehmer!$B$3:$C$1002,2,0),\"\")","v":""},null,{"$f":"IFERROR(VLOOKUP(E1025,Teilnehmer!$B$3:$C$1002,2,0),\"\")","v":""}]
[null,null,null,{"$f":"IFERROR(VLOOKUP(C1026,Teilnehmer!$B$3:$C$1002,2,0),\"\")","v":""},null,{"$f":"IFERROR(VLOOKUP(E1026,Teilnehmer!$B$3:$C$1002,2,0),\"\")","v":""}]
[null,null,null,{"$f":"IFERROR(VLOOKUP(C1027,Teilnehmer!$B$3:$C$1002,2,0),\"\")","v":""},null,{"$f":"IFERROR(VLOOKUP(E1027,Teilnehmer!$B$3:$C$1002,2,0),\"\")","v":""}]
[null,null,null,{"$f":"IFERROR(VLOOKUP(C1028,Teilnehmer!$B$3:$C$1002,2,0),\"\")","v":""},null,{"$f":"IFERROR(VLOOKUP(E1028,Teilnehmer!$B$3:$C$1002,2,0),\"\")","v":""}]
[null,null,null,{"$f":"IFERROR(VLOOKUP(C1029,Teilnehmer!$B$3:$C$1002,2,0),\"\")","v":""},null,{"$f":"IFERROR(VLOOKUP(E1029,Teilnehmer!$B$3:$C$1002,2,0),\"\")","v":""}]
[null,null,null,{"$f":"IFERROR(VLOOKUP(C1030,Teilnehmer!$B$3:$C$1002,2,0),\"\")","v":""},null,{"$f":"IFERROR(VLOOKUP(E1030,Teilnehmer!$B$3:$C$1002,2,0),\"\")","v":""}]
[null,null,null,{"$f":"IFERROR(VLOOKUP(C1031,Teilnehmer!$B$3:$C$1002,2,0),\"\")","v":""},null,{"$f":"IFERROR(VLOOKUP(E1031,Teilnehmer!$B$3:$C$1002,2,0),\"\")","v":""}]
[null,null,null,{"$f":"IFERROR(VLOOKUP(C1032,Teilnehmer!$B$3:$C$1002,2,0),\"\")","v":""},null,{"$f":"IFERROR(VLOOKUP(E1032,Teilnehmer!$B$3:$C$1002,2,0),\"\")","v":""}]
[null,null,null,{"$f":"IFERROR(VLOOKUP(C1033,Teilnehmer!$B$3:$C$1002,2,0),\"\")","v":""},null,{"$f":"IFERROR(VLOOKUP(E1033,Teilnehmer!$B$3:$C$1002,2,0),\"\")","v":""}]
[null,null,null,{"$f":"IFERROR(VLOOKUP(C1034,Teilnehmer!$B$3:$C$1002,2,0),\"\")","v":""},null,{"$f":"IFERROR(VLOOKUP(E1034,Teilnehmer!$B$3:$C$1002,2,0),\"\")","v":""}]
[null,null,null,{"$f":"IFERROR(VLOOKUP(C1035,Teilnehmer!$B$3:$C$1002,2,0),\"\")","v":""},null,{"$f":"IFERROR(VLOOKUP(E1035,Teilnehmer!$B$3:$C$1002,2,0),\"\")","v":""}]
[null,null,null,{"$f":"IFERROR(VLOOKUP(C1036,Teilnehmer!$B$3:$C$1002,2,0),\"\")","v":""},null,{"$f":"IFERROR(VLOOKUP(E1036,Teilnehmer!$B$3:$C$1002,2,0),\"\")","v":""}]
[null,null,null,{"$f":"IFERROR(VLOOKUP(C1037,Teilnehmer!$B$3:$C$1002,2,0),\"\")","v":""},null,{"$f":"IFERROR(VLOOKUP(E1037,Teilnehmer!$B$3:$C$1002,2,0),\"\")","v":""}]
[null,null,null,{"$f":"IFERROR(VLOOKUP(C1038,Teilnehmer!$B$3:$C$1002,2,0),\"\")","v":""},null,{"$f":"IFERROR(VLOOKUP(E1038,Teilnehmer!$B$3:$C$1002,2,0),\"\")","v":""}]
[null,null,null,{"$f":"IFERROR(VLOOKUP(C1039,Teilnehmer!$B$3:$C$1002,2,0),\"\")","v":""},null,{"$f":"IFERROR(VLOOKUP(E1039,Teilnehmer!$B$3:$C$1002,2,0),\"\")","v":""}]
[null,null,null,{"$f":"IFERROR(VLOOKUP(C1040,Teilnehmer!$B$3:$C$1002,2,0),\"\")","v":""},null,{"$f":"IFERROR(VLOOKUP(E1040,Teilnehmer!$B$3:$C$1002,2,0),\"\")","v":""}]
[null,null,null,{"$f":"IFERROR(VLOOKUP(C1041,Teilnehmer!$B$3:$C$1002,2,0),\"\")","v":""},null,{"$f":"IFERROR(VLOOKUP(E1041,Teilnehmer!$B$3:$C$1002,2,0),\"\")","v":""}]
[null,null,null,{"$f":"IFERROR(VLOOKUP(C1042,Teilnehmer!$B$3:$C$1002,2,0),\"\")","v":""},null,{"$f":"IFERROR(VLOOKUP(E1042,Teilnehmer!$B$3:$C$1002,2,0),\"\")","v":""}]
[null,null,null,{"$f":"IFERROR(VLOOKUP(C1043,Teilnehmer!$B$3:$C$1002,2,0),\"\")","v":""},null,{"$f":"IFERROR(VLOOKUP(E1043,Teilnehmer!$B$3:$C$1002,2,0),\"\")","v":""}]
[null,null,null,{"$f":"IFERROR(VLOOKUP(C1044,Teilnehmer!$B$3:$C$1002,2,0),\"\")","v":""},null,{"$f":"IFERROR(VLOOKUP(E1044,Teilnehmer!$B$3:$C$1002,2,0),\"\")","v":""}]
[null,null,null,{"$f":"IFERROR(VLOOKUP(C1045,Teilnehmer!$B$3:$C$1002,2,0),\"\")","v":""},null,{"$f":"IFERROR(VLOOKUP(E1045,Teilnehmer!$B$3:$C$1002,2,0),\"\")","v":""}]
[null,null,null,{"$f":"IFERROR(VLOOKUP(C1046,Teilnehmer!$B$3:$C$1002,2,0),\"\")","v":""},null,{"$f":"IFERROR(VLOOKUP(E1046,Teilnehmer!$B$3:$C$1002,2,0),\"\")","v":""}]
[null,null,null,{"$f":"IFERROR(VLOOKUP(C1047,Teilnehmer!$B$3:$C$1002,2,0),\"\")","v":""},null,{"$f":"IFERROR(VLOOKUP(E1047,Teilnehmer!$B$3:$C$1002,2,0),\"\")","v":""}]
[null,null,null,{"$f":"IFERROR(VLOOKUP(C1048,Teilnehmer!$B$3:$C$1002,2,0),\"\")","v":""},null,{"$f":"IFERROR(VLOOKUP(E1048,Teilnehmer!$B$3:$C$1002,2,0),\"\")","v":""}]
[null,null,null,{"$f":"IFERROR(VLOOKUP(C1049,Teilnehmer!$B$3:$C$1002,2,0),\"\")","v":""},null,{"$f":"IFERROR(VLOOKUP(E1049,Teilnehmer!$B$3:$C$1002,2,0),\"\")","v":""}]
[null,null,null,{"$f":"IFERROR(VLOOKUP(C1050,Teilnehmer!$B$3:$C$1002,2,0),\"\")","v":""},null,{"$f":"IFERROR(VLOOKUP(E1050,Teilnehmer!$B$3:$C$1002,2,0),\"\")","v":""}]
[null,null,null,{"$f":"IFERROR(VLOOKUP(C1051,Teilnehmer!$B$3:$C$1002,2,0),\"\")","v":""},null,{"$f":"IFERROR(VLOOKUP(E1051,Teilnehmer!$B$3:$C$1002,2,0),\"\")","v":""}]
[null,null,null,{"$f":"IFERROR(VLOOKUP(C1052,Teilnehmer!$B$3:$C$1002,2,0),\"\")","v":""},null,{"$f":"IFERROR(VLOOKUP(E1052,Teilnehmer!$B$3:$C$1002,2,0),\"\")","v":""}]
[null,null,null,{"$f":"IFERROR(VLOOKUP(C1053,Teilnehmer!$B$3:$C$1002,2,0),\"\")","v":""},null,{"$f":"IFERROR(VLOOKUP(E1053,Teilnehmer!$B$3:$C$1002,2,0),\"\")","v":""}]
[null,null,null,{"$f":"IFERROR(VLOOKUP(C1054,Teilnehmer!$B$3:$C$1002,2,0),\"\")","v":""},null,{"$f":"IFERROR(VLOOKUP(E1054,Teilnehmer!$B$3:$C$1002,2,0),\"\")","v":""}]
[null,null,null,{"$f":"IFERROR(VLOOKUP(C1055,Teilnehmer!$B$3:$C$1002,2,0),\"\")","v":""},null,{"$f":"IFERROR(VLOOKUP(E1055,Teilnehmer!$B$3:$C$1002,2,0),\"\")","v":""}]
[null,null,null,{"$f":"IFERROR(VLOOKUP(C1056,Teilnehmer!$B$3:$C$1002,2,0),\"\")","v":""},null,{"$f":"IFERROR(VLOOKUP(E1056,Teilnehmer!$B$3:$C$1002,2,0),\"\")","v":""}]
[null,null,null,{"$f":"IFERROR(VLOOKUP(C1057,Teilnehmer!$B$3:$C$1002,2,0),\"\")","v":""},null,{"$f":"IFERROR(VLOOKUP(E1057,Teilnehmer!$B$3:$C$1002,2,0),\"\")","v":""}]
[null,null,null,{"$f":"IFERROR(VLOOKUP(C1058,Teilnehmer!$B$3:$C$1002,2,0),\"\")","v":""},null,{"$f":"IFERROR(VLOOKUP(E1058,Teilnehmer!$B$3:$C$1002,2,0),\"\")","v":""}]
[null,null,null,{"$f":"IFERROR(VLOOKUP(C1059,Teilnehmer!$B$3:$C$1002,2,0),\"\")","v":""},null,{"$f":"IFERROR(VLOOKUP(E1059,Teilnehmer!$B$3:$C$1002,2,0),\"\")","v":""}]
[null,null,null,{"$f":"IFERROR(VLOOKUP(C1060,Teilnehmer!$B$3:$C$1002,2,0),\"\")","v":""},null,{"$f":"IFERROR(VLOOKUP(E1060,Teilnehmer!$B$3:$C$1002,2,0),\"\")","v":""}]
[null,null,null,{"$f":"IFERROR(VLOOKUP(C1061,Teilnehmer!$B$3:$C$1002,2,0),\"\")","v":""},null,{"$f":"IFERROR(VLOOKUP(E1061,Teilnehmer!$B$3:$C$1002,2,0),\"\")","v":""}]
[null,null,null,{"$f":"IFERROR(VLOOKUP(C1062,Teilnehmer!$B$3:$C$1002,2,0),\"\")","v":""},null,{"$f":"IFERROR(VLOOKUP(E1062,Teilnehmer!$B$3:$C$1002,2,0),\"\")","v":""}]
[null,null,null,{"$f":"IFERROR(VLOOKUP(C1063,Teilnehmer!$B$3:$C$1002,2,0),\"\")","v":""},null,{"$f":"IFERROR(VLOOKUP(E1063,Teilnehmer!$B$3:$C$1002,2,0),\"\")","v":""}]
[null,null,null,{"$f":"IFERROR(VLOOKUP(C1064,Teilnehmer!$B$3:$C$1002,2,0),\"\")","v":""},null,{"$f":"IFERROR(VLOOKUP(E1064,Teilnehmer!$B$3:$C$1002,2,0),\"\")","v":""}]
[null,null,null,{"$f":"IFERROR(VLOOKUP(C1065,Teilnehmer!$B$3:$C$1002,2,0),\"\")","v":""},null,{"$f":"IFERROR(VLOOKUP(E1065,Teilnehmer!$B$3:$C$1002,2,0),\"\")","v":""}]
[null,null,null,{"$f":"IFERROR(VLOOKUP(C1066,Teilnehmer!$B$3:$C$1002,2,0),\"\")","v":""},null,{"$f":"IFERROR(VLOOKUP(E1066,Teilnehmer!$B$3:$C$1002,2,0),\"\")","v":""}]
[null,null,null,{"$f":"IFERROR(VLOOKUP(C1067,Teilnehmer!$B$3:$C$1002,2,0),\"\")","v":""},null,{"$f":"IFERROR(VLOOKUP(E1067,Teilnehmer!$B$3:$C$1002,2,0),\"\")","v":""}]
[null,null,null,{"$f":"IFERROR(VLOOKUP(C1068,Teilnehmer!$B$3:$C$1002,2,0),\"\")","v":""},null,{"$f":"IFERROR(VLOOKUP(E1068,Teilnehmer!$B$3:$C$1002,2,0),\"\")","v":""}]
[null,null,null,{"$f":"IFERROR(VLOOKUP(C1069,Teilnehmer!$B$3:$C$1002,2,0),\"\")","v":""},null,{"$f":"IFERROR(VLOOKUP(E1069,Teilnehmer!$B$3:$C$1002,2,0),\"\")","v":""}]
[null,null,null,{"$f":"IFERROR(VLOOKUP(C1070,Teilnehmer!$B$3:$C$1002,2,0),\"\")","v":""},null,{"$f":"IFERROR(VLOOKUP(E1070,Teilnehmer!$B$3:$C$1002,2,0),\"\")","v":""}]
[null,null,null,{"$f":"IFERROR(VLOOKUP(C1071,Teilnehmer!$B$3:$C$1002,2,0),\"\")","v":""},null,{"$f":"IFERROR(VLOOKUP(E1071,Teilnehmer!$B$3:$C$1002,2,0),\"\")","v":""}]
[null,null,null,{"$f":"IFERROR(VLOOKUP(C1072,Teilnehmer!$B$3:$C$1002,2,0),\"\")","v":""},null,{"$f":"IFERROR(VLOOKUP(E1072,Teilnehmer!$B$3:$C$1002,2,0),\"\")","v":""}]
[null,null,null,{"$f":"IFERROR(VLOOKUP(C1073,Teilnehmer!$B$3:$C$1002,2,0),\"\")","v":""},null,{"$f":"IFERROR(VLOOKUP(E1073,Teilnehmer!$B$3:$C$1002,2,0),\"\")","v":""}]
[null,null,null,{"$f":"IFERROR(VLOOKUP(C1074,Teilnehmer!$B$3:$C$1002,2,0),\"\")","v":""},null,{"$f":"IFERROR(VLOOKUP(E1074,Teilnehmer!$B$3:$C$1002,2,0),\"\")","v":""}]
[null,null,null,{"$f":"IFERROR(VLOOKUP(C1075,Teilnehmer!$B$3:$C$1002,2,0),\"\")","v":""},null,{"$f":"IFERROR(VLOOKUP(E1075,Teilnehmer!$B$3:$C$1002,2,0),\"\")","v":""}]
[null,null,null,{"$f":"IFERROR(VLOOKUP(C1076,Teilnehmer!$B$3:$C$1002,2,0),\"\")","v":""},null,{"$f":"IFERROR(VLOOKUP(E1076,Teilnehmer!$B$3:$C$1002,2,0),\"\")","v":""}]
[null,null,null,{"$f":"IFERROR(VLOOKUP(C1077,Teilnehmer!$B$3:$C$1002,2,0),\"\")","v":""},null,{"$f":"IFERROR(VLOOKUP(E1077,Teilnehmer!$B$3:$C$1002,2,0),\"\")","v":""}]
[null,null,null,{"$f":"IFERROR(VLOOKUP(C1078,Teilnehmer!$B$3:$C$1002,2,0),\"\")","v":""},null,{"$f":"IFERROR(VLOOKUP(E1078,Teilnehmer!$B$3:$C$1002,2,0),\"\")","v":""}]
[null,null,null,{"$f":"IFERROR(VLOOKUP(C1079,Teilnehmer!$B$3:$C$1002,2,0),\"\")","v":""},null,{"$f":"IFERROR(VLOOKUP(E1079,Teilnehmer!$B$3:$C$1002,2,0),\"\")","v":""}]
[null,null,null,{"$f":"IFERROR(VLOOKUP(C1080,Teilnehmer!$B$3:$C$1002,2,0),\"\")","v":""},null,{"$f":"IFERROR(VLOOKUP(E1080,Teilnehmer!$B$3:$C$1002,2,0),\"\")","v":""}]
[null,null,null,{"$f":"IFERROR(VLOOKUP(C1081,Teilnehmer!$B$3:$C$1002,2,0),\"\")","v":""},null,{"$f":"IFERROR(VLOOKUP(E1081,Teilnehmer!$B$3:$C$1002,2,0),\"\")","v":""}]
[null,null,null,{"$f":"IFERROR(VLOOKUP(C1082,Teilnehmer!$B$3:$C$1002,2,0),\"\")","v":""},null,{"$f":"IFERROR(VLOOKUP(E1082,Teilnehmer!$B$3:$C$1002,2,0),\"\")","v":""}]
[null,null,null,{"$f":"IFERROR(VLOOKUP(C1083,Teilnehmer!$B$3:$C$1002,2,0),\"\")","v":""},null,{"$f":"IFERROR(VLOOKUP(E1083,Teilnehmer!$B$3:$C$1002,2,0),\"\")","v":""}]
[null,null,null,{"$f":"IFERROR(VLOOKUP(C1084,Teilnehmer!$B$3:$C$1002,2,0),\"\")","v":""},null,{"$f":"IFERROR(VLOOKUP(E1084,Teilnehmer!$B$3:$C$1002,2,0),\"\")","v":""}]
[null,null,null,{"$f":"IFERROR(VLOOKUP(C1085,Teilnehmer!$B$3:$C$1002,2,0),\"\")","v":""},null,{"$f":"IFERROR(VLOOKUP(E1085,Teilnehmer!$B$3:$C$1002,2,0),\"\")","v":""}]
[null,null,null,{"$f":"IFERROR(VLOOKUP(C1086,Teilnehmer!$B$3:$C$1002,2,0),\"\")","v":""},null,{"$f":"IFERROR(VLOOKUP(E1086,Teilnehmer!$B$3:$C$1002,2,0),\"\")","v":""}]
[null,null,null,{"$f":"IFERROR(VLOOKUP(C1087,Teilnehmer!$B$3:$C$1002,2,0),\"\")","v":""},null,{"$f":"IFERROR(VLOOKUP(E1087,Teilnehmer!$B$3:$C$1002,2,0),\"\")","v":""}]
[null,null,null,{"$f":"IFERROR(VLOOKUP(C1088,Teilnehmer!$B$3:$C$1002,2,0),\"\")","v":""},null,{"$f":"IFERROR(VLOOKUP(E1088,Teilnehmer!$B$3:$C$1002,2,0),\"\")","v":""}]
[null,null,null,{"$f":"IFERROR(VLOOKUP(C1089,Teilnehmer!$B$3:$C$1002,2,0),\"\")","v":""},null,{"$f":"IFERROR(VLOOKUP(E1089,Teilnehmer!$B$3:$C$1002,2,0),\"\")","v":""}]
[null,null,null,{"$f":"IFERROR(VLOOKUP(C1090,Teilnehmer!$B$3:$C$1002,2,0),\"\")","v":""},null,{"$f":"IFERROR(VLOOKUP(E1090,Teilnehmer!$B$3:$C$1002,2,0),\"\")","v":""}]
[null,null,null,{"$f":"IFERROR(VLOOKUP(C1091,Teilnehmer!$B$3:$C$1002,2,0),\"\")","v":""},null,{"$f":"IFERROR(VLOOKUP(E1091,Teilnehmer!$B$3:$C$1002,2,0),\"\")","v":""}]
[null,null,null,{"$f":"IFERROR(VLOOKUP(C1092,Teilnehmer!$B$3:$C$1002,2,0),\"\")","v":""},null,{"$f":"IFERROR(VLOOKUP(E1092,Teilnehmer!$B$3:$C$1002,2,0),\"\")","v":""}]
[null,null,null,{"$f":"IFERROR(VLOOKUP(C1093,Teilnehmer!$B$3:$C$1002,2,0),\"\")","v":""},null,{"$f":"IFERROR(VLOOKUP(E1093,Teilnehmer!$B$3:$C$1002,2,0),\"\")","v":""}]
[null,null,null,{"$f":"IFERROR(VLOOKUP(C1094,Teilnehmer!$B$3:$C$1002,2,0),\"\")","v":""},null,{"$f":"IFERROR(VLOOKUP(E1094,Teilnehmer!$B$3:$C$1002,2,0),\"\")","v":""}]
[null,null,null,{"$f":"IFERROR(VLOOKUP(C1095,Teilnehmer!$B$3:$C$1002,2,0),\"\")","v":""},null,{"$f":"IFERROR(VLOOKUP(E1095,Teilnehmer!$B$3:$C$1002,2,0),\"\")","v":""}]
[null,null,null,{"$f":"IFERROR(VLOOKUP(C1096,Teilnehmer!$B$3:$C$1002,2,0),\"\")","v":""},null,{"$f":"IFERROR(VLOOKUP(E1096,Teilnehmer!$B$3:$C$1002,2,0),\"\")","v":""}]
[null,null,null,{"$f":"IFERROR(VLOOKUP(C1097,Teilnehmer!$B$3:$C$1002,2,0),\"\")","v":""},null,{"$f":"IFERROR(VLOOKUP(E1097,Teilnehmer!$B$3:$C$1002,2,0),\"\")","v":""}]
[null,null,null,{"$f":"IFERROR(VLOOKUP(C1098,Teilnehmer!$B$3:$C$1002,2,0),\"\")","v":""},null,{"$f":"IFERROR(VLOOKUP(E1098,Teilnehmer!$B$3:$C$1002,2,0),\"\")","v":""}]
[null,null,null,{"$f":"IFERROR(VLOOKUP(C1099,Teilnehmer!$B$3:$C$1002,2,0),\"\")","v":""},null,{"$f":"IFERROR(VLOOKUP(E1099,Teilnehmer!$B$3:$C$1002,2,0),\"\")","v":""}]
[null,null,null,{"$f":"IFERROR(VLOOKUP(C1100,Teilnehmer!$B$3:$C$1002,2,0),\"\")","v":""},null,{"$f":"IFERROR(VLOOKUP(E1100,Teilnehmer!$B$3:$C$1002,2,0),\"\")","v":""}]
[null,null,null,{"$f":"IFERROR(VLOOKUP(C1101,Teilnehmer!$B$3:$C$1002,2,0),\"\")","v":""},null,{"$f":"IFERROR(VLOOKUP(E1101,Teilnehmer!$B$3:$C$1002,2,0),\"\")","v":""}]
[null,null,null,{"$f":"IFERROR(VLOOKUP(C1102,Teilnehmer!$B$3:$C$1002,2,0),\"\")","v":""},null,{"$f":"IFERROR(VLOOKUP(E1102,Teilnehmer!$B$3:$C$1002,2,0),\"\")","v":""}]
[null,null,null,{"$f":"IFERROR(VLOOKUP(C1103,Teilnehmer!$B$3:$C$1002,2,0),\"\")","v":""},null,{"$f":"IFERROR(VLOOKUP(E1103,Teilnehmer!$B$3:$C$1002,2,0),\"\")","v":""}]
[null,null,null,{"$f":"IFERROR(VLOOKUP(C1104,Teilnehmer!$B$3:$C$1002,2,0),\"\")","v":""},null,{"$f":"IFERROR(VLOOKUP(E1104,Teilnehmer!$B$3:$C$1002,2,0),\"\")","v":""}]
[null,null,null,{"$f":"IFERROR(VLOOKUP(C1105,Teilnehmer!$B$3:$C$1002,2,0),\"\")","v":""},null,{"$f":"IFERROR(VLOOKUP(E1105,Teilnehmer!$B$3:$C$1002,2,0),\"\")","v":""}]
[null,null,null,{"$f":"IFERROR(VLOOKUP(C1106,Teilnehmer!$B$3:$C$1002,2,0),\"\")","v":""},null,{"$f":"IFERROR(VLOOKUP(E1106,Teilnehmer!$B$3:$C$1002,2,0),\"\")","v":""}]
[null,null,null,{"$f":"IFERROR(VLOOKUP(C1107,Teilnehmer!$B$3:$C$1002,2,0),\"\")","v":""},null,{"$f":"IFERROR(VLOOKUP(E1107,Teilnehmer!$B$3:$C$1002,2,0),\"\")","v":""}]
[null,null,null,{"$f":"IFERROR(VLOOKUP(C1108,Teilnehmer!$B$3:$C$1002,2,0),\"\")","v":""},null,{"$f":"IFERROR(VLOOKUP(E1108,Teilnehmer!$B$3:$C$1002,2,0),\"\")","v":""}]
[null,null,null,{"$f":"IFERROR(VLOOKUP(C1109,Teilnehmer!$B$3:$C$1002,2,0),\"\")","v":""},null,{"$f":"IFERROR(VLOOKUP(E1109,Teilnehmer!$B$3:$C$1002,2,0),\"\")","v":""}]
[null,null,null,{"$f":"IFERROR(VLOOKUP(C1110,Teilnehmer!$B$3:$C$1002,2,0),\"\")","v":""},null,{"$f":"IFERROR(VLOOKUP(E1110,Teilnehmer!$B$3:$C$1002,2,0),\"\")","v":""}]
[null,null,null,{"$f":"IFERROR(VLOOKUP(C1111,Teilnehmer!$B$3:$C$1002,2,0),\"\")","v":""},null,{"$f":"IFERROR(VLOOKUP(E1111,Teilnehmer!$B$3:$C$1002,2,0),\"\")","v":""}]
[null,null,null,{"$f":"IFERROR(VLOOKUP(C1112,Teilnehmer!$B$3:$C$1002,2,0),\"\")","v":""},null,{"$f":"IFERROR(VLOOKUP(E1112,Teilnehmer!$B$3:$C$1002,2,0),\"\")","v":""}]
[null,null,null,{"$f":"IFERROR(VLOOKUP(C1113,Teilnehmer!$B$3:$C$1002,2,0),\"\")","v":""},null,{"$f":"IFERROR(VLOOKUP(E1113,Teilnehmer!$B$3:$C$1002,2,0),\"\")","v":""}]
[null,null,null,{"$f":"IFERROR(VLOOKUP(C1114,Teilnehmer!$B$3:$C$1002,2,0),\"\")","v":""},null,{"$f":"IFERROR(VLOOKUP(E1114,Teilnehmer!$B$3:$C$1002,2,0),\"\")","v":""}]
[null,null,null,{"$f":"IFERROR(VLOOKUP(C1115,Teilnehmer!$B$3:$C$1002,2,0),\"\")","v":""},null,{"$f":"IFERROR(VLOOKUP(E1115,Teilnehmer!$B$3:$C$1002,2,0),\"\")","v":""}]
[null,null,null,{"$f":"IFERROR(VLOOKUP(C1116,Teilnehmer!$B$3:$C$1002,2,0),\"\")","v":""},null,{"$f":"IFERROR(VLOOKUP(E1116,Teilnehmer!$B$3:$C$1002,2,0),\"\")","v":""}]
[null,null,null,{"$f":"IFERROR(VLOOKUP(C1117,Teilnehmer!$B$3:$C$1002,2,0),\"\")","v":""},null,{"$f":"IFERROR(VLOOKUP(E1117,Teilnehmer!$B$3:$C$1002,2,0),\"\")","v":""}]
[null,null,null,{"$f":"IFERROR(VLOOKUP(C1118,Teilnehmer!$B$3:$C$1002,2,0),\"\")","v":""},null,{"$f":"IFERROR(VLOOKUP(E1118,Teilnehmer!$B$3:$C$1002,2,0),\"\")","v":""}]
[null,null,null,{"$f":"IFERROR(VLOOKUP(C1119,Teilnehmer!$B$3:$C$1002,2,0),\"\")","v":""},null,{"$f":"IFERROR(VLOOKUP(E1119,Teilnehmer!$B$3:$C$1002,2,0),\"\")","v":""}]
[null,null,null,{"$f":"IFERROR(VLOOKUP(C1120,Teilnehmer!$B$3:$C$1002,2,0),\"\")","v":""},null,{"$f":"IFERROR(VLOOKUP(E1120,Teilnehmer!$B$3:$C$1002,2,0),\"\")","v":""}]
[null,null,null,{"$f":"IFERROR(VLOOKUP(C1121,Teilnehmer!$B$3:$C$1002,2,0),\"\")","v":""},null,{"$f":"IFERROR(VLOOKUP(E1121,Teilnehmer!$B$3:$C$1002,2,0),\"\")","v":""}]
[null,null,null,{"$f":"IFERROR(VLOOKUP(C1122,Teilnehmer!$B$3:$C$1002,2,0),\"\")","v":""},null,{"$f":"IFERROR(VLOOKUP(E1122,Teilnehmer!$B$3:$C$1002,2,0),\"\")","v":""}]
[null,null,null,{"$f":"IFERROR(VLOOKUP(C1123,Teilnehmer!$B$3:$C$1002,2,0),\"\")","v":""},null,{"$f":"IFERROR(VLOOKUP(E1123,Teilnehmer!$B$3:$C$1002,2,0),\"\")","v":""}]
[null,null,null,{"$f":"IFERROR(VLOOKUP(C1124,Teilnehmer!$B$3:$C$1002,2,0),\"\")","v":""},null,{"$f":"IFERROR(VLOOKUP(E1124,Teilnehmer!$B$3:$C$1002,2,0),\"\")","v":""}]
[null,null,null,{"$f":"IFERROR(VLOOKUP(C1125,Teilnehmer!$B$3:$C$1002,2,0),\"\")","v":""},null,{"$f":"IFERROR(VLOOKUP(E1125,Teilnehmer!$B$3:$C$1002,2,0),\"\")","v":""}]
[null,null,null,{"$f":"IFERROR(VLOOKUP(C1126,Teilnehmer!$B$3:$C$1002,2,0),\"\")","v":""},null,{"$f":"IFERROR(VLOOKUP(E1126,Teilnehmer!$B$3:$C$1002,2,0),\"\")","v":""}]
[null,null,null,{"$f":"IFERROR(VLOOKUP(C1127,Teilnehmer!$B$3:$C$1002,2,0),\"\")","v":""},null,{"$f":"IFERROR(VLOOKUP(E1127,Teilnehmer!$B$3:$C$1002,2,0),\"\")","v":""}]
[null,null,null,{"$f":"IFERROR(VLOOKUP(C1128,Teilnehmer!$B$3:$C$1002,2,0),\"\")","v":""},null,{"$f":"IFERROR(VLOOKUP(E1128,Teilnehmer!$B$3:$C$1002,2,0),\"\")","v":""}]
[null,null,null,{"$f":"IFERROR(VLOOKUP(C1129,Teilnehmer!$B$3:$C$1002,2,0),\"\")","v":""},null,{"$f":"IFERROR(VLOOKUP(E1129,Teilnehmer!$B$3:$C$1002,2,0),\"\")","v":""}]
[null,null,null,{"$f":"IFERROR(VLOOKUP(C1130,Teilnehmer!$B$3:$C$1002,2,0),\"\")","v":""},null,{"$f":"IFERROR(VLOOKUP(E1130,Teilnehmer!$B$3:$C$1002,2,0),\"\")","v":""}]
[null,null,null,{"$f":"IFERROR(VLOOKUP(C1131,Teilnehmer!$B$3:$C$1002,2,0),\"\")","v":""},null,{"$f":"IFERROR(VLOOKUP(E1131,Teilnehmer!$B$3:$C$1002,2,0),\"\")","v":""}]
[null,null,null,{"$f":"IFERROR(VLOOKUP(C1132,Teilnehmer!$B$3:$C$1002,2,0),\"\")","v":""},null,{"$f":"IFERROR(VLOOKUP(E1132,Teilnehmer!$B$3:$C$1002,2,0),\"\")","v":""}]
[null,null,null,{"$f":"IFERROR(VLOOKUP(C1133,Teilnehmer!$B$3:$C$1002,2,0),\"\")","v":""},null,{"$f":"IFERROR(VLOOKUP(E1133,Teilnehmer!$B$3:$C$1002,2,0),\"\")","v":""}]
[null,null,null,{"$f":"IFERROR(VLOOKUP(C1134,Teilnehmer!$B$3:$C$1002,2,0),\"\")","v":""},null,{"$f":"IFERROR(VLOOKUP(E1134,Teilnehmer!$B$3:$C$1002,2,0),\"\")","v":""}]
[null,null,null,{"$f":"IFERROR(VLOOKUP(C1135,Teilnehmer!$B$3:$C$1002,2,0),\"\")","v":""},null,{"$f":"IFERROR(VLOOKUP(E1135,Teilnehmer!$B$3:$C$1002,2,0),\"\")","v":""}]
[null,null,null,{"$f":"IFERROR(VLOOKUP(C1136,Teilnehmer!$B$3:$C$1002,2,0),\"\")","v":""},null,{"$f":"IFERROR(VLOOKUP(E1136,Teilnehmer!$B$3:$C$1002,2,0),\"\")","v":""}]
[null,null,null,{"$f":"IFERROR(VLOOKUP(C1137,Teilnehmer!$B$3:$C$1002,2,0),\"\")","v":""},null,{"$f":"IFERROR(VLOOKUP(E1137,Teilnehmer!$B$3:$C$1002,2,0),\"\")","v":""}]
[null,null,null,{"$f":"IFERROR(VLOOKUP(C1138,Teilnehmer!$B$3:$C$1002,2,0),\"\")","v":""},null,{"$f":"IFERROR(VLOOKUP(E1138,Teilnehmer!$B$3:$C$1002,2,0),\"\")","v":""}]
[null,null,null,{"$f":"IFERROR(VLOOKUP(C1139,Teilnehmer!$B$3:$C$1002,2,0),\"\")","v":""},null,{"$f":"IFERROR(VLOOKUP(E1139,Teilnehmer!$B$3:$C$1002,2,0),\"\")","v":""}]
[null,null,null,{"$f":"IFERROR(VLOOKUP(C1140,Teilnehmer!$B$3:$C$1002,2,0),\"\")","v":""},null,{"$f":"IFERROR(VLOOKUP(E1140,Teilnehmer!$B$3:$C$1002,2,0),\"\")","v":""}]
[null,null,null,{"$f":"IFERROR(VLOOKUP(C1141,Teilnehmer!$B$3:$C$1002,2,0),\"\")","v":""},null,{"$f":"IFERROR(VLOOKUP(E1141,Teilnehmer!$B$3:$C$1002,2,0),\"\")","v":""}]
[null,null,null,{"$f":"IFERROR(VLOOKUP(C1142,Teilnehmer!$B$3:$C$1002,2,0),\"\")","v":""},null,{"$f":"IFERROR(VLOOKUP(E1142,Teilnehmer!$B$3:$C$1002,2,0),\"\")","v":""}]
[null,null,null,{"$f":"IFERROR(VLOOKUP(C1143,Teilnehmer!$B$3:$C$1002,2,0),\"\")","v":""},null,{"$f":"IFERROR(VLOOKUP(E1143,Teilnehmer!$B$3:$C$1002,2,0),\"\")","v":""}]
[null,null,null,{"$f":"IFERROR(VLOOKUP(C1144,Teilnehmer!$B$3:$C$1002,2,0),\"\")","v":""},null,{"$f":"IFERROR(VLOOKUP(E1144,Teilnehmer!$B$3:$C$1002,2,0),\"\")","v":""}]
[null,null,null,{"$f":"IFERROR(VLOOKUP(C1145,Teilnehmer!$B$3:$C$1002,2,0),\"\")","v":""},null,{"$f":"IFERROR(VLOOKUP(E1145,Teilnehmer!$B$3:$C$1002,2,0),\"\")","v":""}]
[null,null,null,{"$f":"IFERROR(VLOOKUP(C1146,Teilnehmer!$B$3:$C$1002,2,0),\"\")","v":""},null,{"$f":"IFERROR(VLOOKUP(E1146,Teilnehmer!$B$3:$C$1002,2,0),\"\")","v":""}]
[null,null,null,{"$f":"IFERROR(VLOOKUP(C1147,Teilnehmer!$B$3:$C$1002,2,0),\"\")","v":""},null,{"$f":"IFERROR(VLOOKUP(E1147,Teilnehmer!$B$3:$C$1002,2,0),\"\")","v":""}]
[null,null,null,{"$f":"IFERROR(VLOOKUP(C1148,Teilnehmer!$B$3:$C$1002,2,0),\"\")","v":""},null,{"$f":"IFERROR(VLOOKUP(E1148,Teilnehmer!$B$3:$C$1002,2,0),\"\")","v":""}]
[null,null,null,{"$f":"IFERROR(VLOOKUP(C1149,Teilnehmer!$B$3:$C$1002,2,0),\"\")","v":""},null,{"$f":"IFERROR(VLOOKUP(E1149,Teilnehmer!$B$3:$C$1002,2,0),\"\")","v":""}]
[null,null,null,{"$f":"IFERROR(VLOOKUP(C1150,Teilnehmer!$B$3:$C$1002,2,0),\"\")","v":""},null,{"$f":"IFERROR(VLOOKUP(E1150,Teilnehmer!$B$3:$C$1002,2,0),\"\")","v":""}]
[null,null,null,{"$f":"IFERROR(VLOOKUP(C1151,Teilnehmer!$B$3:$C$1002,2,0),\"\")","v":""},null,{"$f":"IFERROR(VLOOKUP(E1151,Teilnehmer!$B$3:$C$1002,2,0),\"\")","v":""}]
[null,null,null,{"$f":"IFERROR(VLOOKUP(C1152,Teilnehmer!$B$3:$C$1002,2,0),\"\")","v":""},null,{"$f":"IFERROR(VLOOKUP(E1152,Teilnehmer!$B$3:$C$1002,2,0),\"\")","v":""}]
[null,null,null,{"$f":"IFERROR(VLOOKUP(C1153,Teilnehmer!$B$3:$C$1002,2,0),\"\")","v":""},null,{"$f":"IFERROR(VLOOKUP(E1153,Teilnehmer!$B$3:$C$1002,2,0),\"\")","v":""}]
[null,null,null,{"$f":"IFERROR(VLOOKUP(C1154,Teilnehmer!$B$3:$C$1002,2,0),\"\")","v":""},null,{"$f":"IFERROR(VLOOKUP(E1154,Teilnehmer!$B$3:$C$1002,2,0),\"\")","v":""}]
[null,null,null,{"$f":"IFERROR(VLOOKUP(C1155,Teilnehmer!$B$3:$C$1002,2,0),\"\")","v":""},null,{"$f":"IFERROR(VLOOKUP(E1155,Teilnehmer!$B$3:$C$1002,2,0),\"\")","v":""}]
[null,null,null,{"$f":"IFERROR(VLOOKUP(C1156,Teilnehmer!$B$3:$C$1002,2,0),\"\")","v":""},null,{"$f":"IFERROR(VLOOKUP(E1156,Teilnehmer!$B$3:$C$1002,2,0),\"\")","v":""}]
[null,null,null,{"$f":"IFERROR(VLOOKUP(C1157,Teilnehmer!$B$3:$C$1002,2,0),\"\")","v":""},null,{"$f":"IFERROR(VLOOKUP(E1157,Teilnehmer!$B$3:$C$1002,2,0),\"\")","v":""}]
[null,null,null,{"$f":"IFERROR(VLOOKUP(C1158,Teilnehmer!$B$3:$C$1002,2,0),\"\")","v":""},null,{"$f":"IFERROR(VLOOKUP(E1158,Teilnehmer!$B$3:$C$1002,2,0),\"\")","v":""}]
[null,null,null,{"$f":"IFERROR(VLOOKUP(C1159,Teilnehmer!$B$3:$C$1002,2,0),\"\")","v":""},null,{"$f":"IFERROR(VLOOKUP(E1159,Teilnehmer!$B$3:$C$1002,2,0),\"\")","v":""}]
[null,null,null,{"$f":"IFERROR(VLOOKUP(C1160,Teilnehmer!$B$3:$C$1002,2,0),\"\")","v":""},null,{"$f":"IFERROR(VLOOKUP(E1160,Teilnehmer!$B$3:$C$1002,2,0),\"\")","v":""}]
[null,null,null,{"$f":"IFERROR(VLOOKUP(C1161,Teilnehmer!$B$3:$C$1002,2,0),\"\")","v":""},null,{"$f":"IFERROR(VLOOKUP(E1161,Teilnehmer!$B$3:$C$1002,2,0),\"\")","v":""}]
[null,null,null,{"$f":"IFERROR(VLOOKUP(C1162,Teilnehmer!$B$3:$C$1002,2,0),\"\")","v":""},null,{"$f":"IFERROR(VLOOKUP(E1162,Teilnehmer!$B$3:$C$1002,2,0),\"\")","v":""}]
[null,null,null,{"$f":"IFERROR(VLOOKUP(C1163,Teilnehmer!$B$3:$C$1002,2,0),\"\")","v":""},null,{"$f":"IFERROR(VLOOKUP(E1163,Teilnehmer!$B$3:$C$1002,2,0),\"\")","v":""}]
[null,null,null,{"$f":"IFERROR(VLOOKUP(C1164,Teilnehmer!$B$3:$C$1002,2,0),\"\")","v":""},null,{"$f":"IFERROR(VLOOKUP(E1164,Teilnehmer!$B$3:$C$1002,2,0),\"\")","v":""}]
[null,null,null,{"$f":"IFERROR(VLOOKUP(C1165,Teilnehmer!$B$3:$C$1002,2,0),\"\")","v":""},null,{"$f":"IFERROR(VLOOKUP(E1165,Teilnehmer!$B$3:$C$1002,2,0),\"\")","v":""}]
[null,null,null,{"$f":"IFERROR(VLOOKUP(C1166,Teilnehmer!$B$3:$C$1002,2,0),\"\")","v":""},null,{"$f":"IFERROR(VLOOKUP(E1166,Teilnehmer!$B$3:$C$1002,2,0),\"\")","v":""}]
[null,null,null,{"$f":"IFERROR(VLOOKUP(C1167,Teilnehmer!$B$3:$C$1002,2,0),\"\")","v":""},null,{"$f":"IFERROR(VLOOKUP(E1167,Teilnehmer!$B$3:$C$1002,2,0),\"\")","v":""}]
[null,null,null,{"$f":"IFERROR(VLOOKUP(C1168,Teilnehmer!$B$3:$C$1002,2,0),\"\")","v":""},null,{"$f":"IFERROR(VLOOKUP(E1168,Teilnehmer!$B$3:$C$1002,2,0),\"\")","v":""}]
[null,null,null,{"$f":"IFERROR(VLOOKUP(C1169,Teilnehmer!$B$3:$C$1002,2,0),\"\")","v":""},null,{"$f":"IFERROR(VLOOKUP(E1169,Teilnehmer!$B$3:$C$1002,2,0),\"\")","v":""}]
[null,null,null,{"$f":"IFERROR(VLOOKUP(C1170,Teilnehmer!$B$3:$C$1002,2,0),\"\")","v":""},null,{"$f":"IFERROR(VLOOKUP(E1170,Teilnehmer!$B$3:$C$1002,2,0),\"\")","v":""}]
[null,null,null,{"$f":"IFERROR(VLOOKUP(C1171,Teilnehmer!$B$3:$C$1002,2,0),\"\")","v":""},null,{"$f":"IFERROR(VLOOKUP(E1171,Teilnehmer!$B$3:$C$1002,2,0),\"\")","v":""}]
[null,null,null,{"$f":"IFERROR(VLOOKUP(C1172,Teilnehmer!$B$3:$C$1002,2,0),\"\")","v":""},null,{"$f":"IFERROR(VLOOKUP(E1172,Teilnehmer!$B$3:$C$1002,2,0),\"\")","v":""}]
[null,null,null,{"$f":"IFERROR(VLOOKUP(C1173,Teilnehmer!$B$3:$C$1002,2,0),\"\")","v":""},null,{"$f":"IFERROR(VLOOKUP(E1173,Teilnehmer!$B$3:$C$1002,2,0),\"\")","v":""}]
[null,null,null,{"$f":"IFERROR(VLOOKUP(C1174,Teilnehmer!$B$3:$C$1002,2,0),\"\")","v":""},null,{"$f":"IFERROR(VLOOKUP(E1174,Teilnehmer!$B$3:$C$1002,2,0),\"\")","v":""}]
[null,null,null,{"$f":"IFERROR(VLOOKUP(C1175,Teilnehmer!$B$3:$C$1002,2,0),\"\")","v":""},null,{"$f":"IFERROR(VLOOKUP(E1175,Teilnehmer!$B$3:$C$1002,2,0),\"\")","v":""}]
[null,null,null,{"$f":"IFERROR(VLOOKUP(C1176,Teilnehmer!$B$3:$C$1002,2,0),\"\")","v":""},null,{"$f":"IFERROR(VLOOKUP(E1176,Teilnehmer!$B$3:$C$1002,2,0),\"\")","v":""}]
[null,null,null,{"$f":"IFERROR(VLOOKUP(C1177,Teilnehmer!$B$3:$C$1002,2,0),\"\")","v":""},null,{"$f":"IFERROR(VLOOKUP(E1177,Teilnehmer!$B$3:$C$1002,2,0),\"\")","v":""}]
[null,null,null,{"$f":"IFERROR(VLOOKUP(C1178,Teilnehmer!$B$3:$C$1002,2,0),\"\")","v":""},null,{"$f":"IFERROR(VLOOKUP(E1178,Teilnehmer!$B$3:$C$1002,2,0),\"\")","v":""}]
[null,null,null,{"$f":"IFERROR(VLOOKUP(C1179,Teilnehmer!$B$3:$C$1002,2,0),\"\")","v":""},null,{"$f":"IFERROR(VLOOKUP(E1179,Teilnehmer!$B$3:$C$1002,2,0),\"\")","v":""}]
[null,null,null,{"$f":"IFERROR(VLOOKUP(C1180,Teilnehmer!$B$3:$C$1002,2,0),\"\")","v":""},null,{"$f":"IFERROR(VLOOKUP(E1180,Teilnehmer!$B$3:$C$1002,2,0),\"\")","v":""}]
[null,null,null,{"$f":"IFERROR(VLOOKUP(C1181,Teilnehmer!$B$3:$C$1002,2,0),\"\")","v":""},null,{"$f":"IFERROR(VLOOKUP(E1181,Teilnehmer!$B$3:$C$1002,2,0),\"\")","v":""}]
[null,null,null,{"$f":"IFERROR(VLOOKUP(C1182,Teilnehmer!$B$3:$C$1002,2,0),\"\")","v":""},null,{"$f":"IFERROR(VLOOKUP(E1182,Teilnehmer!$B$3:$C$1002,2,0),\"\")","v":""}]
[null,null,null,{"$f":"IFERROR(VLOOKUP(C1183,Teilnehmer!$B$3:$C$1002,2,0),\"\")","v":""},null,{"$f":"IFERROR(VLOOKUP(E1183,Teilnehmer!$B$3:$C$1002,2,0),\"\")","v":""}]
[null,null,null,{"$f":"IFERROR(VLOOKUP(C1184,Teilnehmer!$B$3:$C$1002,2,0),\"\")","v":""},null,{"$f":"IFERROR(VLOOKUP(E1184,Teilnehmer!$B$3:$C$1002,2,0),\"\")","v":""}]
[null,null,null,{"$f":"IFERROR(VLOOKUP(C1185,Teilnehmer!$B$3:$C$1002,2,0),\"\")","v":""},null,{"$f":"IFERROR(VLOOKUP(E1185,Teilnehmer!$B$3:$C$1002,2,0),\"\")","v":""}]
[null,null,null,{"$f":"IFERROR(VLOOKUP(C1186,Teilnehmer!$B$3:$C$1002,2,0),\"\")","v":""},null,{"$f":"IFERROR(VLOOKUP(E1186,Teilnehmer!$B$3:$C$1002,2,0),\"\")","v":""}]
[null,null,null,{"$f":"IFERROR(VLOOKUP(C1187,Teilnehmer!$B$3:$C$1002,2,0),\"\")","v":""},null,{"$f":"IFERROR(VLOOKUP(E1187,Teilnehmer!$B$3:$C$1002,2,0),\"\")","v":""}]
[null,null,null,{"$f":"IFERROR(VLOOKUP(C1188,Teilnehmer!$B$3:$C$1002,2,0),\"\")","v":""},null,{"$f":"IFERROR(VLOOKUP(E1188,Teilnehmer!$B$3:$C$1002,2,0),\"\")","v":""}]
[null,null,null,{"$f":"IFERROR(VLOOKUP(C1189,Teilnehmer!$B$3:$C$1002,2,0),\"\")","v":""},null,{"$f":"IFERROR(VLOOKUP(E1189,Teilnehmer!$B$3:$C$1002,2,0),\"\")","v":""}]
[null,null,null,{"$f":"IFERROR(VLOOKUP(C1190,Teilnehmer!$B$3:$C$1002,2,0),\"\")","v":""},null,{"$f":"IFERROR(VLOOKUP(E1190,Teilnehmer!$B$3:$C$1002,2,0),\"\")","v":""}]
[null,null,null,{"$f":"IFERROR(VLOOKUP(C1191,Teilnehmer!$B$3:$C$1002,2,0),\"\")","v":""},null,{"$f":"IFERROR(VLOOKUP(E1191,Teilnehmer!$B$3:$C$1002,2,0),\"\")","v":""}]
[null,null,null,{"$f":"IFERROR(VLOOKUP(C1192,Teilnehmer!$B$3:$C$1002,2,0),\"\")","v":""},null,{"$f":"IFERROR(VLOOKUP(E1192,Teilnehmer!$B$3:$C$1002,2,0),\"\")","v":""}]
[null,null,null,{"$f":"IFERROR(VLOOKUP(C1193,Teilnehmer!$B$3:$C$1002,2,0),\"\")","v":""},null,{"$f":"IFERROR(VLOOKUP(E1193,Teilnehmer!$B$3:$C$1002,2,0),\"\")","v":""}]
[null,null,null,{"$f":"IFERROR(VLOOKUP(C1194,Teilnehmer!$B$3:$C$1002,2,0),\"\")","v":""},null,{"$f":"IFERROR(VLOOKUP(E1194,Teilnehmer!$B$3:$C$1002,2,0),\"\")","v":""}]
[null,null,null,{"$f":"IFERROR(VLOOKUP(C1195,Teilnehmer!$B$3:$C$1002,2,0),\"\")","v":""},null,{"$f":"IFERROR(VLOOKUP(E1195,Teilnehmer!$B$3:$C$1002,2,0),\"\")","v":""}]
[null,null,null,{"$f":"IFERROR(VLOOKUP(C1196,Teilnehmer!$B$3:$C$1002,2,0),\"\")","v":""},null,{"$f":"IFERROR(VLOOKUP(E1196,Teilnehmer!$B$3:$C$1002,2,0),\"\")","v":""}]
[null,null,null,{"$f":"IFERROR(VLOOKUP(C1197,Teilnehmer!$B$3:$C$1002,2,0),\"\")","v":""},null,{"$f":"IFERROR(VLOOKUP(E1197,Teilnehmer!$B$3:$C$1002,2,0),\"\")","v":""}]
[null,null,null,{"$f":"IFERROR(VLOOKUP(C1198,Teilnehmer!$B$3:$C$1002,2,0),\"\")","v":""},null,{"$f":"IFERROR(VLOOKUP(E1198,Teilnehmer!$B$3:$C$1002,2,0),\"\")","v":""}]
[null,null,null,{"$f":"IFERROR(VLOOKUP(C1199,Teilnehmer!$B$3:$C$1002,2,0),\"\")","v":""},null,{"$f":"IFERROR(VLOOKUP(E1199,Teilnehmer!$B$3:$C$1002,2,0),\"\")","v":""}]
[null,null,null,{"$f":"IFERROR(VLOOKUP(C1200,Teilnehmer!$B$3:$C$1002,2,0),\"\")","v":""},null,{"$f":"IFERROR(VLOOKUP(E1200,Teilnehmer!$B$3:$C$1002,2,0),\"\")","v":""}]
[null,null,null,{"$f":"IFERROR(VLOOKUP(C1201,Teilnehmer!$B$3:$C$1002,2,0),\"\")","v":""},null,{"$f":"IFERROR(VLOOKUP(E1201,Teilnehmer!$B$3:$C$1002,2,0),\"\")","v":""}]
[null,null,null,{"$f":"IFERROR(VLOOKUP(C1202,Teilnehmer!$B$3:$C$1002,2,0),\"\")","v":""},null,{"$f":"IFERROR(VLOOKUP(E1202,Teilnehmer!$B$3:$C$1002,2,0),\"\")","v":""}]
[null,null,null,{"$f":"IFERROR(VLOOKUP(C1203,Teilnehmer!$B$3:$C$1002,2,0),\"\")","v":""},null,{"$f":"IFERROR(VLOOKUP(E1203,Teilnehmer!$B$3:$C$1002,2,0),\"\")","v":""}]
[null,null,null,{"$f":"IFERROR(VLOOKUP(C1204,Teilnehmer!$B$3:$C$1002,2,0),\"\")","v":""},null,{"$f":"IFERROR(VLOOKUP(E1204,Teilnehmer!$B$3:$C$1002,2,0),\"\")","v":""}]
[null,null,null,{"$f":"IFERROR(VLOOKUP(C1205,Teilnehmer!$B$3:$C$1002,2,0),\"\")","v":""},null,{"$f":"IFERROR(VLOOKUP(E1205,Teilnehmer!$B$3:$C$1002,2,0),\"\")","v":""}]
[null,null,null,{"$f":"IFERROR(VLOOKUP(C1206,Teilnehmer!$B$3:$C$1002,2,0),\"\")","v":""},null,{"$f":"IFERROR(VLOOKUP(E1206,Teilnehmer!$B$3:$C$1002,2,0),\"\")","v":""}]
[null,null,null,{"$f":"IFERROR(VLOOKUP(C1207,Teilnehmer!$B$3:$C$1002,2,0),\"\")","v":""},null,{"$f":"IFERROR(VLOOKUP(E1207,Teilnehmer!$B$3:$C$1002,2,0),\"\")","v":""}]
[null,null,null,{"$f":"IFERROR(VLOOKUP(C1208,Teilnehmer!$B$3:$C$1002,2,0),\"\")","v":""},null,{"$f":"IFERROR(VLOOKUP(E1208,Teilnehmer!$B$3:$C$1002,2,0),\"\")","v":""}]
[null,null,null,{"$f":"IFERROR(VLOOKUP(C1209,Teilnehmer!$B$3:$C$1002,2,0),\"\")","v":""},null,{"$f":"IFERROR(VLOOKUP(E1209,Teilnehmer!$B$3:$C$1002,2,0),\"\")","v":""}]
[null,null,null,{"$f":"IFERROR(VLOOKUP(C1210,Teilnehmer!$B$3:$C$1002,2,0),\"\")","v":""},null,{"$f":"IFERROR(VLOOKUP(E1210,Teilnehmer!$B$3:$C$1002,2,0),\"\")","v":""}]
[null,null,null,{"$f":"IFERROR(VLOOKUP(C1211,Teilnehmer!$B$3:$C$1002,2,0),\"\")","v":""},null,{"$f":"IFERROR(VLOOKUP(E1211,Teilnehmer!$B$3:$C$1002,2,0),\"\")","v":""}]
[null,null,null,{"$f":"IFERROR(VLOOKUP(C1212,Teilnehmer!$B$3:$C$1002,2,0),\"\")","v":""},null,{"$f":"IFERROR(VLOOKUP(E1212,Teilnehmer!$B$3:$C$1002,2,0),\"\")","v":""}]
[null,null,null,{"$f":"IFERROR(VLOOKUP(C1213,Teilnehmer!$B$3:$C$1002,2,0),\"\")","v":""},null,{"$f":"IFERROR(VLOOKUP(E1213,Teilnehmer!$B$3:$C$1002,2,0),\"\")","v":""}]
[null,null,null,{"$f":"IFERROR(VLOOKUP(C1214,Teilnehmer!$B$3:$C$1002,2,0),\"\")","v":""},null,{"$f":"IFERROR(VLOOKUP(E1214,Teilnehmer!$B$3:$C$1002,2,0),\"\")","v":""}]
[null,null,null,{"$f":"IFERROR(VLOOKUP(C1215,Teilnehmer!$B$3:$C$1002,2,0),\"\")","v":""},null,{"$f":"IFERROR(VLOOKUP(E1215,Teilnehmer!$B$3:$C$1002,2,0),\"\")","v":""}]
[null,null,null,{"$f":"IFERROR(VLOOKUP(C1216,Teilnehmer!$B$3:$C$1002,2,0),\"\")","v":""},null,{"$f":"IFERROR(VLOOKUP(E1216,Teilnehmer!$B$3:$C$1002,2,0),\"\")","v":""}]
[null,null,null,{"$f":"IFERROR(VLOOKUP(C1217,Teilnehmer!$B$3:$C$1002,2,0),\"\")","v":""},null,{"$f":"IFERROR(VLOOKUP(E1217,Teilnehmer!$B$3:$C$1002,2,0),\"\")","v":""}]
[null,null,null,{"$f":"IFERROR(VLOOKUP(C1218,Teilnehmer!$B$3:$C$1002,2,0),\"\")","v":""},null,{"$f":"IFERROR(VLOOKUP(E1218,Teilnehmer!$B$3:$C$1002,2,0),\"\")","v":""}]
[null,null,null,{"$f":"IFERROR(VLOOKUP(C1219,Teilnehmer!$B$3:$C$1002,2,0),\"\")","v":""},null,{"$f":"IFERROR(VLOOKUP(E1219,Teilnehmer!$B$3:$C$1002,2,0),\"\")","v":""}]
[null,null,null,{"$f":"IFERROR(VLOOKUP(C1220,Teilnehmer!$B$3:$C$1002,2,0),\"\")","v":""},null,{"$f":"IFERROR(VLOOKUP(E1220,Teilnehmer!$B$3:$C$1002,2,0),\"\")","v":""}]
[null,null,null,{"$f":"IFERROR(VLOOKUP(C1221,Teilnehmer!$B$3:$C$1002,2,0),\"\")","v":""},null,{"$f":"IFERROR(VLOOKUP(E1221,Teilnehmer!$B$3:$C$1002,2,0),\"\")","v":""}]
[null,null,null,{"$f":"IFERROR(VLOOKUP(C1222,Teilnehmer!$B$3:$C$1002,2,0),\"\")","v":""},null,{"$f":"IFERROR(VLOOKUP(E1222,Teilnehmer!$B$3:$C$1002,2,0),\"\")","v":""}]
[null,null,null,{"$f":"IFERROR(VLOOKUP(C1223,Teilnehmer!$B$3:$C$1002,2,0),\"\")","v":""},null,{"$f":"IFERROR(VLOOKUP(E1223,Teilnehmer!$B$3:$C$1002,2,0),\"\")","v":""}]
[null,null,null,{"$f":"IFERROR(VLOOKUP(C1224,Teilnehmer!$B$3:$C$1002,2,0),\"\")","v":""},null,{"$f":"IFERROR(VLOOKUP(E1224,Teilnehmer!$B$3:$C$1002,2,0),\"\")","v":""}]
[null,null,null,{"$f":"IFERROR(VLOOKUP(C1225,Teilnehmer!$B$3:$C$1002,2,0),\"\")","v":""},null,{"$f":"IFERROR(VLOOKUP(E1225,Teilnehmer!$B$3:$C$1002,2,0),\"\")","v":""}]
[null,null,null,{"$f":"IFERROR(VLOOKUP(C1226,Teilnehmer!$B$3:$C$1002,2,0),\"\")","v":""},null,{"$f":"IFERROR(VLOOKUP(E1226,Teilnehmer!$B$3:$C$1002,2,0),\"\")","v":""}]
[null,null,null,{"$f":"IFERROR(VLOOKUP(C1227,Teilnehmer!$B$3:$C$1002,2,0),\"\")","v":""},null,{"$f":"IFERROR(VLOOKUP(E1227,Teilnehmer!$B$3:$C$1002,2,0),\"\")","v":""}]
[null,null,null,{"$f":"IFERROR(VLOOKUP(C1228,Teilnehmer!$B$3:$C$1002,2,0),\"\")","v":""},null,{"$f":"IFERROR(VLOOKUP(E1228,Teilnehmer!$B$3:$C$1002,2,0),\"\")","v":""}]
[null,null,null,{"$f":"IFERROR(VLOOKUP(C1229,Teilnehmer!$B$3:$C$1002,2,0),\"\")","v":""},null,{"$f":"IFERROR(VLOOKUP(E1229,Teilnehmer!$B$3:$C$1002,2,0),\"\")","v":""}]
[null,null,null,{"$f":"IFERROR(VLOOKUP(C1230,Teilnehmer!$B$3:$C$1002,2,0),\"\")","v":""},null,{"$f":"IFERROR(VLOOKUP(E1230,Teilnehmer!$B$3:$C$1002,2,0),\"\")","v":""}]
[null,null,null,{"$f":"IFERROR(VLOOKUP(C1231,Teilnehmer!$B$3:$C$1002,2,0),\"\")","v":""},null,{"$f":"IFERROR(VLOOKUP(E1231,Teilnehmer!$B$3:$C$1002,2,0),\"\")","v":""}]
[null,null,null,{"$f":"IFERROR(VLOOKUP(C1232,Teilnehmer!$B$3:$C$1002,2,0),\"\")","v":""},null,{"$f":"IFERROR(VLOOKUP(E1232,Teilnehmer!$B$3:$C$1002,2,0),\"\")","v":""}]
[null,null,null,{"$f":"IFERROR(VLOOKUP(C1233,Teilnehmer!$B$3:$C$1002,2,0),\"\")","v":""},null,{"$f":"IFERROR(VLOOKUP(E1233,Teilnehmer!$B$3:$C$1002,2,0),\"\")","v":""}]
[null,null,null,{"$f":"IFERROR(VLOOKUP(C1234,Teilnehmer!$B$3:$C$1002,2,0),\"\")","v":""},null,{"$f":"IFERROR(VLOOKUP(E1234,Teilnehmer!$B$3:$C$1002,2,0),\"\")","v":""}]
[null,null,null,{"$f":"IFERROR(VLOOKUP(C1235,Teilnehmer!$B$3:$C$1002,2,0),\"\")","v":""},null,{"$f":"IFERROR(VLOOKUP(E1235,Teilnehmer!$B$3:$C$1002,2,0),\"\")","v":""}]
[null,null,null,{"$f":"IFERROR(VLOOKUP(C1236,Teilnehmer!$B$3:$C$1002,2,0),\"\")","v":""},null,{"$f":"IFERROR(VLOOKUP(E1236,Teilnehmer!$B$3:$C$1002,2,0),\"\")","v":""}]
[null,null,null,{"$f":"IFERROR(VLOOKUP(C1237,Teilnehmer!$B$3:$C$1002,2,0),\"\")","v":""},null,{"$f":"IFERROR(VLOOKUP(E1237,Teilnehmer!$B$3:$C$1002,2,0),\"\")","v":""}]
[null,null,null,{"$f":"IFERROR(VLOOKUP(C1238,Teilnehmer!$B$3:$C$1002,2,0),\"\")","v":""},null,{"$f":"IFERROR(VLOOKUP(E1238,Teilnehmer!$B$3:$C$1002,2,0),\"\")","v":""}]
[null,null,null,{"$f":"IFERROR(VLOOKUP(C1239,Teilnehmer!$B$3:$C$1002,2,0),\"\")","v":""},null,{"$f":"IFERROR(VLOOKUP(E1239,Teilnehmer!$B$3:$C$1002,2,0),\"\")","v":""}]
[null,null,null,{"$f":"IFERROR(VLOOKUP(C1240,Teilnehmer!$B$3:$C$1002,2,0),\"\")","v":""},null,{"$f":"IFERROR(VLOOKUP(E1240,Teilnehmer!$B$3:$C$1002,2,0),\"\")","v":""}]
[null,null,null,{"$f":"IFERROR(VLOOKUP(C1241,Teilnehmer!$B$3:$C$1002,2,0),\"\")","v":""},null,{"$f":"IFERROR(VLOOKUP(E1241,Teilnehmer!$B$3:$C$1002,2,0),\"\")","v":""}]
[null,null,null,{"$f":"IFERROR(VLOOKUP(C1242,Teilnehmer!$B$3:$C$1002,2,0),\"\")","v":""},null,{"$f":"IFERROR(VLOOKUP(E1242,Teilnehmer!$B$3:$C$1002,2,0),\"\")","v":""}]
[null,null,null,{"$f":"IFERROR(VLOOKUP(C1243,Teilnehmer!$B$3:$C$1002,2,0),\"\")","v":""},null,{"$f":"IFERROR(VLOOKUP(E1243,Teilnehmer!$B$3:$C$1002,2,0),\"\")","v":""}]
[null,null,null,{"$f":"IFERROR(VLOOKUP(C1244,Teilnehmer!$B$3:$C$1002,2,0),\"\")","v":""},null,{"$f":"IFERROR(VLOOKUP(E1244,Teilnehmer!$B$3:$C$1002,2,0),\"\")","v":""}]
[null,null,null,{"$f":"IFERROR(VLOOKUP(C1245,Teilnehmer!$B$3:$C$1002,2,0),\"\")","v":""},null,{"$f":"IFERROR(VLOOKUP(E1245,Teilnehmer!$B$3:$C$1002,2,0),\"\")","v":""}]
[null,null,null,{"$f":"IFERROR(VLOOKUP(C1246,Teilnehmer!$B$3:$C$1002,2,0),\"\")","v":""},null,{"$f":"IFERROR(VLOOKUP(E1246,Teilnehmer!$B$3:$C$1002,2,0),\"\")","v":""}]
[null,null,null,{"$f":"IFERROR(VLOOKUP(C1247,Teilnehmer!$B$3:$C$1002,2,0),\"\")","v":""},null,{"$f":"IFERROR(VLOOKUP(E1247,Teilnehmer!$B$3:$C$1002,2,0),\"\")","v":""}]
[null,null,null,{"$f":"IFERROR(VLOOKUP(C1248,Teilnehmer!$B$3:$C$1002,2,0),\"\")","v":""},null,{"$f":"IFERROR(VLOOKUP(E1248,Teilnehmer!$B$3:$C$1002,2,0),\"\")","v":""}]
[null,null,null,{"$f":"IFERROR(VLOOKUP(C1249,Teilnehmer!$B$3:$C$1002,2,0),\"\")","v":""},null,{"$f":"IFERROR(VLOOKUP(E1249,Teilnehmer!$B$3:$C$1002,2,0),\"\")","v":""}]
[null,null,null,{"$f":"IFERROR(VLOOKUP(C1250,Teilnehmer!$B$3:$C$1002,2,0),\"\")","v":""},null,{"$f":"IFERROR(VLOOKUP(E1250,Teilnehmer!$B$3:$C$1002,2,0),\"\")","v":""}]
[null,null,null,{"$f":"IFERROR(VLOOKUP(C1251,Teilnehmer!$B$3:$C$1002,2,0),\"\")","v":""},null,{"$f":"IFERROR(VLOOKUP(E1251,Teilnehmer!$B$3:$C$1002,2,0),\"\")","v":""}]
[null,null,null,{"$f":"IFERROR(VLOOKUP(C1252,Teilnehmer!$B$3:$C$1002,2,0),\"\")","v":""},null,{"$f":"IFERROR(VLOOKUP(E1252,Teilnehmer!$B$3:$C$1002,2,0),\"\")","v":""}]
[null,null,null,{"$f":"IFERROR(VLOOKUP(C1253,Teilnehmer!$B$3:$C$1002,2,0),\"\")","v":""},null,{"$f":"IFERROR(VLOOKUP(E1253,Teilnehmer!$B$3:$C$1002,2,0),\"\")","v":""}]
[null,null,null,{"$f":"IFERROR(VLOOKUP(C1254,Teilnehmer!$B$3:$C$1002,2,0),\"\")","v":""},null,{"$f":"IFERROR(VLOOKUP(E1254,Teilnehmer!$B$3:$C$1002,2,0),\"\")","v":""}]
[null,null,null,{"$f":"IFERROR(VLOOKUP(C1255,Teilnehmer!$B$3:$C$1002,2,0),\"\")","v":""},null,{"$f":"IFERROR(VLOOKUP(E1255,Teilnehmer!$B$3:$C$1002,2,0),\"\")","v":""}]
[null,null,null,{"$f":"IFERROR(VLOOKUP(C1256,Teilnehmer!$B$3:$C$1002,2,0),\"\")","v":""},null,{"$f":"IFERROR(VLOOKUP(E1256,Teilnehmer!$B$3:$C$1002,2,0),\"\")","v":""}]
[null,null,null,{"$f":"IFERROR(VLOOKUP(C1257,Teilnehmer!$B$3:$C$1002,2,0),\"\")","v":""},null,{"$f":"IFERROR(VLOOKUP(E1257,Teilnehmer!$B$3:$C$1002,2,0),\"\")","v":""}]
[null,null,null,{"$f":"IFERROR(VLOOKUP(C1258,Teilnehmer!$B$3:$C$1002,2,0),\"\")","v":""},null,{"$f":"IFERROR(VLOOKUP(E1258,Teilnehmer!$B$3:$C$1002,2,0),\"\")","v":""}]
[null,null,null,{"$f":"IFERROR(VLOOKUP(C1259,Teilnehmer!$B$3:$C$1002,2,0),\"\")","v":""},null,{"$f":"IFERROR(VLOOKUP(E1259,Teilnehmer!$B$3:$C$1002,2,0),\"\")","v":""}]
[null,null,null,{"$f":"IFERROR(VLOOKUP(C1260,Teilnehmer!$B$3:$C$1002,2,0),\"\")","v":""},null,{"$f":"IFERROR(VLOOKUP(E1260,Teilnehmer!$B$3:$C$1002,2,0),\"\")","v":""}]
[null,null,null,{"$f":"IFERROR(VLOOKUP(C1261,Teilnehmer!$B$3:$C$1002,2,0),\"\")","v":""},null,{"$f":"IFERROR(VLOOKUP(E1261,Teilnehmer!$B$3:$C$1002,2,0),\"\")","v":""}]
[null,null,null,{"$f":"IFERROR(VLOOKUP(C1262,Teilnehmer!$B$3:$C$1002,2,0),\"\")","v":""},null,{"$f":"IFERROR(VLOOKUP(E1262,Teilnehmer!$B$3:$C$1002,2,0),\"\")","v":""}]
[null,null,null,{"$f":"IFERROR(VLOOKUP(C1263,Teilnehmer!$B$3:$C$1002,2,0),\"\")","v":""},null,{"$f":"IFERROR(VLOOKUP(E1263,Teilnehmer!$B$3:$C$1002,2,0),\"\")","v":""}]
[null,null,null,{"$f":"IFERROR(VLOOKUP(C1264,Teilnehmer!$B$3:$C$1002,2,0),\"\")","v":""},null,{"$f":"IFERROR(VLOOKUP(E1264,Teilnehmer!$B$3:$C$1002,2,0),\"\")","v":""}]
[null,null,null,{"$f":"IFERROR(VLOOKUP(C1265,Teilnehmer!$B$3:$C$1002,2,0),\"\")","v":""},null,{"$f":"IFERROR(VLOOKUP(E1265,Teilnehmer!$B$3:$C$1002,2,0),\"\")","v":""}]
[null,null,null,{"$f":"IFERROR(VLOOKUP(C1266,Teilnehmer!$B$3:$C$1002,2,0),\"\")","v":""},null,{"$f":"IFERROR(VLOOKUP(E1266,Teilnehmer!$B$3:$C$1002,2,0),\"\")","v":""}]
[null,null,null,{"$f":"IFERROR(VLOOKUP(C1267,Teilnehmer!$B$3:$C$1002,2,0),\"\")","v":""},null,{"$f":"IFERROR(VLOOKUP(E1267,Teilnehmer!$B$3:$C$1002,2,0),\"\")","v":""}]
[null,null,null,{"$f":"IFERROR(VLOOKUP(C1268,Teilnehmer!$B$3:$C$1002,2,0),\"\")","v":""},null,{"$f":"IFERROR(VLOOKUP(E1268,Teilnehmer!$B$3:$C$1002,2,0),\"\")","v":""}]
[null,null,null,{"$f":"IFERROR(VLOOKUP(C1269,Teilnehmer!$B$3:$C$1002,2,0),\"\")","v":""},null,{"$f":"IFERROR(VLOOKUP(E1269,Teilnehmer!$B$3:$C$1002,2,0),\"\")","v":""}]
[null,null,null,{"$f":"IFERROR(VLOOKUP(C1270,Teilnehmer!$B$3:$C$1002,2,0),\"\")","v":""},null,{"$f":"IFERROR(VLOOKUP(E1270,Teilnehmer!$B$3:$C$1002,2,0),\"\")","v":""}]
[null,null,null,{"$f":"IFERROR(VLOOKUP(C1271,Teilnehmer!$B$3:$C$1002,2,0),\"\")","v":""},null,{"$f":"IFERROR(VLOOKUP(E1271,Teilnehmer!$B$3:$C$1002,2,0),\"\")","v":""}]
[null,null,null,{"$f":"IFERROR(VLOOKUP(C1272,Teilnehmer!$B$3:$C$1002,2,0),\"\")","v":""},null,{"$f":"IFERROR(VLOOKUP(E1272,Teilnehmer!$B$3:$C$1002,2,0),\"\")","v":""}]
[null,null,null,{"$f":"IFERROR(VLOOKUP(C1273,Teilnehmer!$B$3:$C$1002,2,0),\"\")","v":""},null,{"$f":"IFERROR(VLOOKUP(E1273,Teilnehmer!$B$3:$C$1002,2,0),\"\")","v":""}]
[null,null,null,{"$f":"IFERROR(VLOOKUP(C1274,Teilnehmer!$B$3:$C$1002,2,0),\"\")","v":""},null,{"$f":"IFERROR(VLOOKUP(E1274,Teilnehmer!$B$3:$C$1002,2,0),\"\")","v":""}]
[null,null,null,{"$f":"IFERROR(VLOOKUP(C1275,Teilnehmer!$B$3:$C$1002,2,0),\"\")","v":""},null,{"$f":"IFERROR(VLOOKUP(E1275,Teilnehmer!$B$3:$C$1002,2,0),\"\")","v":""}]
[null,null,null,{"$f":"IFERROR(VLOOKUP(C1276,Teilnehmer!$B$3:$C$1002,2,0),\"\")","v":""},null,{"$f":"IFERROR(VLOOKUP(E1276,Teilnehmer!$B$3:$C$1002,2,0),\"\")","v":""}]
[null,null,null,{"$f":"IFERROR(VLOOKUP(C1277,Teilnehmer!$B$3:$C$1002,2,0),\"\")","v":""},null,{"$f":"IFERROR(VLOOKUP(E1277,Teilnehmer!$B$3:$C$1002,2,0),\"\")","v":""}]
[null,null,null,{"$f":"IFERROR(VLOOKUP(C1278,Teilnehmer!$B$3:$C$1002,2,0),\"\")","v":""},null,{"$f":"IFERROR(VLOOKUP(E1278,Teilnehmer!$B$3:$C$1002,2,0),\"\")","v":""}]
[null,null,null,{"$f":"IFERROR(VLOOKUP(C1279,Teilnehmer!$B$3:$C$1002,2,0),\"\")","v":""},null,{"$f":"IFERROR(VLOOKUP(E1279,Teilnehmer!$B$3:$C$1002,2,0),\"\")","v":""}]
[null,null,null,{"$f":"IFERROR(VLOOKUP(C1280,Teilnehmer!$B$3:$C$1002,2,0),\"\")","v":""},null,{"$f":"IFERROR(VLOOKUP(E1280,Teilnehmer!$B$3:$C$1002,2,0),\"\")","v":""}]
[null,null,null,{"$f":"IFERROR(VLOOKUP(C1281,Teilnehmer!$B$3:$C$1002,2,0),\"\")","v":""},null,{"$f":"IFERROR(VLOOKUP(E1281,Teilnehmer!$B$3:$C$1002,2,0),\"\")","v":""}]
[null,null,null,{"$f":"IFERROR(VLOOKUP(C1282,Teilnehmer!$B$3:$C$1002,2,0),\"\")","v":""},null,{"$f":"IFERROR(VLOOKUP(E1282,Teilnehmer!$B$3:$C$1002,2,0),\"\")","v":""}]
[null,null,null,{"$f":"IFERROR(VLOOKUP(C1283,Teilnehmer!$B$3:$C$1002,2,0),\"\")","v":""},null,{"$f":"IFERROR(VLOOKUP(E1283,Teilnehmer!$B$3:$C$1002,2,0),\"\")","v":""}]
[null,null,null,{"$f":"IFERROR(VLOOKUP(C1284,Teilnehmer!$B$3:$C$1002,2,0),\"\")","v":""},null,{"$f":"IFERROR(VLOOKUP(E1284,Teilnehmer!$B$3:$C$1002,2,0),\"\")","v":""}]
[null,null,null,{"$f":"IFERROR(VLOOKUP(C1285,Teilnehmer!$B$3:$C$1002,2,0),\"\")","v":""},null,{"$f":"IFERROR(VLOOKUP(E1285,Teilnehmer!$B$3:$C$1002,2,0),\"\")","v":""}]
[null,null,null,{"$f":"IFERROR(VLOOKUP(C1286,Teilnehmer!$B$3:$C$1002,2,0),\"\")","v":""},null,{"$f":"IFERROR(VLOOKUP(E1286,Teilnehmer!$B$3:$C$1002,2,0),\"\")","v":""}]
[null,null,null,{"$f":"IFERROR(VLOOKUP(C1287,Teilnehmer!$B$3:$C$1002,2,0),\"\")","v":""},null,{"$f":"IFERROR(VLOOKUP(E1287,Teilnehmer!$B$3:$C$1002,2,0),\"\")","v":""}]
[null,null,null,{"$f":"IFERROR(VLOOKUP(C1288,Teilnehmer!$B$3:$C$1002,2,0),\"\")","v":""},null,{"$f":"IFERROR(VLOOKUP(E1288,Teilnehmer!$B$3:$C$1002,2,0),\"\")","v":""}]
[null,null,null,{"$f":"IFERROR(VLOOKUP(C1289,Teilnehmer!$B$3:$C$1002,2,0),\"\")","v":""},null,{"$f":"IFERROR(VLOOKUP(E1289,Teilnehmer!$B$3:$C$1002,2,0),\"\")","v":""}]
[null,null,null,{"$f":"IFERROR(VLOOKUP(C1290,Teilnehmer!$B$3:$C$1002,2,0),\"\")","v":""},null,{"$f":"IFERROR(VLOOKUP(E1290,Teilnehmer!$B$3:$C$1002,2,0),\"\")","v":""}]
[null,null,null,{"$f":"IFERROR(VLOOKUP(C1291,Teilnehmer!$B$3:$C$1002,2,0),\"\")","v":""},null,{"$f":"IFERROR(VLOOKUP(E1291,Teilnehmer!$B$3:$C$1002,2,0),\"\")","v":""}]
[null,null,null,{"$f":"IFERROR(VLOOKUP(C1292,Teilnehmer!$B$3:$C$1002,2,0),\"\")","v":""},null,{"$f":"IFERROR(VLOOKUP(E1292,Teilnehmer!$B$3:$C$1002,2,0),\"\")","v":""}]
[null,null,null,{"$f":"IFERROR(VLOOKUP(C1293,Teilnehmer!$B$3:$C$1002,2,0),\"\")","v":""},null,{"$f":"IFERROR(VLOOKUP(E1293,Teilnehmer!$B$3:$C$1002,2,0),\"\")","v":""}]
[null,null,null,{"$f":"IFERROR(VLOOKUP(C1294,Teilnehmer!$B$3:$C$1002,2,0),\"\")","v":""},null,{"$f":"IFERROR(VLOOKUP(E1294,Teilnehmer!$B$3:$C$1002,2,0),\"\")","v":""}]
[null,null,null,{"$f":"IFERROR(VLOOKUP(C1295,Teilnehmer!$B$3:$C$1002,2,0),\"\")","v":""},null,{"$f":"IFERROR(VLOOKUP(E1295,Teilnehmer!$B$3:$C$1002,2,0),\"\")","v":""}]
[null,null,null,{"$f":"IFERROR(VLOOKUP(C1296,Teilnehmer!$B$3:$C$1002,2,0),\"\")","v":""},null,{"$f":"IFERROR(VLOOKUP(E1296,Teilnehmer!$B$3:$C$1002,2,0),\"\")","v":""}]
[null,null,null,{"$f":"IFERROR(VLOOKUP(C1297,Teilnehmer!$B$3:$C$1002,2,0),\"\")","v":""},null,{"$f":"IFERROR(VLOOKUP(E1297,Teilnehmer!$B$3:$C$1002,2,0),\"\")","v":""}]
[null,null,null,{"$f":"IFERROR(VLOOKUP(C1298,Teilnehmer!$B$3:$C$1002,2,0),\"\")","v":""},null,{"$f":"IFERROR(VLOOKUP(E1298,Teilnehmer!$B$3:$C$1002,2,0),\"\")","v":""}]
[null,null,null,{"$f":"IFERROR(VLOOKUP(C1299,Teilnehmer!$B$3:$C$1002,2,0),\"\")","v":""},null,{"$f":"IFERROR(VLOOKUP(E1299,Teilnehmer!$B$3:$C$1002,2,0),\"\")","v":""}]
[null,null,null,{"$f":"IFERROR(VLOOKUP(C1300,Teilnehmer!$B$3:$C$1002,2,0),\"\")","v":""},null,{"$f":"IFERROR(VLOOKUP(E1300,Teilnehmer!$B$3:$C$1002,2,0),\"\")","v":""}]
[null,null,null,{"$f":"IFERROR(VLOOKUP(C1301,Teilnehmer!$B$3:$C$1002,2,0),\"\")","v":""},null,{"$f":"IFERROR(VLOOKUP(E1301,Teilnehmer!$B$3:$C$1002,2,0),\"\")","v":""}]
[null,null,null,{"$f":"IFERROR(VLOOKUP(C1302,Teilnehmer!$B$3:$C$1002,2,0),\"\")","v":""},null,{"$f":"IFERROR(VLOOKUP(E1302,Teilnehmer!$B$3:$C$1002,2,0),\"\")","v":""}]
[null,null,null,{"$f":"IFERROR(VLOOKUP(C1303,Teilnehmer!$B$3:$C$1002,2,0),\"\")","v":""},null,{"$f":"IFERROR(VLOOKUP(E1303,Teilnehmer!$B$3:$C$1002,2,0),\"\")","v":""}]
[null,null,null,{"$f":"IFERROR(VLOOKUP(C1304,Teilnehmer!$B$3:$C$1002,2,0),\"\")","v":""},null,{"$f":"IFERROR(VLOOKUP(E1304,Teilnehmer!$B$3:$C$1002,2,0),\"\")","v":""}]
[null,null,null,{"$f":"IFERROR(VLOOKUP(C1305,Teilnehmer!$B$3:$C$1002,2,0),\"\")","v":""},null,{"$f":"IFERROR(VLOOKUP(E1305,Teilnehmer!$B$3:$C$1002,2,0),\"\")","v":""}]
[null,null,null,{"$f":"IFERROR(VLOOKUP(C1306,Teilnehmer!$B$3:$C$1002,2,0),\"\")","v":""},null,{"$f":"IFERROR(VLOOKUP(E1306,Teilnehmer!$B$3:$C$1002,2,0),\"\")","v":""}]
[null,null,null,{"$f":"IFERROR(VLOOKUP(C1307,Teilnehmer!$B$3:$C$1002,2,0),\"\")","v":""},null,{"$f":"IFERROR(VLOOKUP(E1307,Teilnehmer!$B$3:$C$1002,2,0),\"\")","v":""}]
[null,null,null,{"$f":"IFERROR(VLOOKUP(C1308,Teilnehmer!$B$3:$C$1002,2,0),\"\")","v":""},null,{"$f":"IFERROR(VLOOKUP(E1308,Teilnehmer!$B$3:$C$1002,2,0),\"\")","v":""}]
[null,null,null,{"$f":"IFERROR(VLOOKUP(C1309,Teilnehmer!$B$3:$C$1002,2,0),\"\")","v":""},null,{"$f":"IFERROR(VLOOKUP(E1309,Teilnehmer!$B$3:$C$1002,2,0),\"\")","v":""}]
[null,null,null,{"$f":"IFERROR(VLOOKUP(C1310,Teilnehmer!$B$3:$C$1002,2,0),\"\")","v":""},null,{"$f":"IFERROR(VLOOKUP(E1310,Teilnehmer!$B$3:$C$1002,2,0),\"\")","v":""}]
[null,null,null,{"$f":"IFERROR(VLOOKUP(C1311,Teilnehmer!$B$3:$C$1002,2,0),\"\")","v":""},null,{"$f":"IFERROR(VLOOKUP(E1311,Teilnehmer!$B$3:$C$1002,2,0),\"\")","v":""}]
[null,null,null,{"$f":"IFERROR(VLOOKUP(C1312,Teilnehmer!$B$3:$C$1002,2,0),\"\")","v":""},null,{"$f":"IFERROR(VLOOKUP(E1312,Teilnehmer!$B$3:$C$1002,2,0),\"\")","v":""}]
[null,null,null,{"$f":"IFERROR(VLOOKUP(C1313,Teilnehmer!$B$3:$C$1002,2,0),\"\")","v":""},null,{"$f":"IFERROR(VLOOKUP(E1313,Teilnehmer!$B$3:$C$1002,2,0),\"\")","v":""}]
[null,null,null,{"$f":"IFERROR(VLOOKUP(C1314,Teilnehmer!$B$3:$C$1002,2,0),\"\")","v":""},null,{"$f":"IFERROR(VLOOKUP(E1314,Teilnehmer!$B$3:$C$1002,2,0),\"\")","v":""}]
[null,null,null,{"$f":"IFERROR(VLOOKUP(C1315,Teilnehmer!$B$3:$C$1002,2,0),\"\")","v":""},null,{"$f":"IFERROR(VLOOKUP(E1315,Teilnehmer!$B$3:$C$1002,2,0),\"\")","v":""}]
[null,null,null,{"$f":"IFERROR(VLOOKUP(C1316,Teilnehmer!$B$3:$C$1002,2,0),\"\")","v":""},null,{"$f":"IFERROR(VLOOKUP(E1316,Teilnehmer!$B$3:$C$1002,2,0),\"\")","v":""}]
[null,null,null,{"$f":"IFERROR(VLOOKUP(C1317,Teilnehmer!$B$3:$C$1002,2,0),\"\")","v":""},null,{"$f":"IFERROR(VLOOKUP(E1317,Teilnehmer!$B$3:$C$1002,2,0),\"\")","v":""}]
[null,null,null,{"$f":"IFERROR(VLOOKUP(C1318,Teilnehmer!$B$3:$C$1002,2,0),\"\")","v":""},null,{"$f":"IFERROR(VLOOKUP(E1318,Teilnehmer!$B$3:$C$1002,2,0),\"\")","v":""}]
[null,null,null,{"$f":"IFERROR(VLOOKUP(C1319,Teilnehmer!$B$3:$C$1002,2,0),\"\")","v":""},null,{"$f":"IFERROR(VLOOKUP(E1319,Teilnehmer!$B$3:$C$1002,2,0),\"\")","v":""}]
[null,null,null,{"$f":"IFERROR(VLOOKUP(C1320,Teilnehmer!$B$3:$C$1002,2,0),\"\")","v":""},null,{"$f":"IFERROR(VLOOKUP(E1320,Teilnehmer!$B$3:$C$1002,2,0),\"\")","v":""}]
[null,null,null,{"$f":"IFERROR(VLOOKUP(C1321,Teilnehmer!$B$3:$C$1002,2,0),\"\")","v":""},null,{"$f":"IFERROR(VLOOKUP(E1321,Teilnehmer!$B$3:$C$1002,2,0),\"\")","v":""}]
[null,null,null,{"$f":"IFERROR(VLOOKUP(C1322,Teilnehmer!$B$3:$C$1002,2,0),\"\")","v":""},null,{"$f":"IFERROR(VLOOKUP(E1322,Teilnehmer!$B$3:$C$1002,2,0),\"\")","v":""}]
[null,null,null,{"$f":"IFERROR(VLOOKUP(C1323,Teilnehmer!$B$3:$C$1002,2,0),\"\")","v":""},null,{"$f":"IFERROR(VLOOKUP(E1323,Teilnehmer!$B$3:$C$1002,2,0),\"\")","v":""}]
[null,null,null,{"$f":"IFERROR(VLOOKUP(C1324,Teilnehmer!$B$3:$C$1002,2,0),\"\")","v":""},null,{"$f":"IFERROR(VLOOKUP(E1324,Teilnehmer!$B$3:$C$1002,2,0),\"\")","v":""}]
[null,null,null,{"$f":"IFERROR(VLOOKUP(C1325,Teilnehmer!$B$3:$C$1002,2,0),\"\")","v":""},null,{"$f":"IFERROR(VLOOKUP(E1325,Teilnehmer!$B$3:$C$1002,2,0),\"\")","v":""}]
[null,null,null,{"$f":"IFERROR(VLOOKUP(C1326,Teilnehmer!$B$3:$C$1002,2,0),\"\")","v":""},null,{"$f":"IFERROR(VLOOKUP(E1326,Teilnehmer!$B$3:$C$1002,2,0),\"\")","v":""}]
[null,null,null,{"$f":"IFERROR(VLOOKUP(C1327,Teilnehmer!$B$3:$C$1002,2,0),\"\")","v":""},null,{"$f":"IFERROR(VLOOKUP(E1327,Teilnehmer!$B$3:$C$1002,2,0),\"\")","v":""}]
[null,null,null,{"$f":"IFERROR(VLOOKUP(C1328,Teilnehmer!$B$3:$C$1002,2,0),\"\")","v":""},null,{"$f":"IFERROR(VLOOKUP(E1328,Teilnehmer!$B$3:$C$1002,2,0),\"\")","v":""}]
[null,null,null,{"$f":"IFERROR(VLOOKUP(C1329,Teilnehmer!$B$3:$C$1002,2,0),\"\")","v":""},null,{"$f":"IFERROR(VLOOKUP(E1329,Teilnehmer!$B$3:$C$1002,2,0),\"\")","v":""}]
[null,null,null,{"$f":"IFERROR(VLOOKUP(C1330,Teilnehmer!$B$3:$C$1002,2,0),\"\")","v":""},null,{"$f":"IFERROR(VLOOKUP(E1330,Teilnehmer!$B$3:$C$1002,2,0),\"\")","v":""}]
[null,null,null,{"$f":"IFERROR(VLOOKUP(C1331,Teilnehmer!$B$3:$C$1002,2,0),\"\")","v":""},null,{"$f":"IFERROR(VLOOKUP(E1331,Teilnehmer!$B$3:$C$1002,2,0),\"\")","v":""}]
[null,null,null,{"$f":"IFERROR(VLOOKUP(C1332,Teilnehmer!$B$3:$C$1002,2,0),\"\")","v":""},null,{"$f":"IFERROR(VLOOKUP(E1332,Teilnehmer!$B$3:$C$1002,2,0),\"\")","v":""}]
[null,null,null,{"$f":"IFERROR(VLOOKUP(C1333,Teilnehmer!$B$3:$C$1002,2,0),\"\")","v":""},null,{"$f":"IFERROR(VLOOKUP(E1333,Teilnehmer!$B$3:$C$1002,2,0),\"\")","v":""}]
[null,null,null,{"$f":"IFERROR(VLOOKUP(C1334,Teilnehmer!$B$3:$C$1002,2,0),\"\")","v":""},null,{"$f":"IFERROR(VLOOKUP(E1334,Teilnehmer!$B$3:$C$1002,2,0),\"\")","v":""}]
[null,null,null,{"$f":"IFERROR(VLOOKUP(C1335,Teilnehmer!$B$3:$C$1002,2,0),\"\")","v":""},null,{"$f":"IFERROR(VLOOKUP(E1335,Teilnehmer!$B$3:$C$1002,2,0),\"\")","v":""}]
[null,null,null,{"$f":"IFERROR(VLOOKUP(C1336,Teilnehmer!$B$3:$C$1002,2,0),\"\")","v":""},null,{"$f":"IFERROR(VLOOKUP(E1336,Teilnehmer!$B$3:$C$1002,2,0),\"\")","v":""}]
[null,null,null,{"$f":"IFERROR(VLOOKUP(C1337,Teilnehmer!$B$3:$C$1002,2,0),\"\")","v":""},null,{"$f":"IFERROR(VLOOKUP(E1337,Teilnehmer!$B$3:$C$1002,2,0),\"\")","v":""}]
[null,null,null,{"$f":"IFERROR(VLOOKUP(C1338,Teilnehmer!$B$3:$C$1002,2,0),\"\")","v":""},null,{"$f":"IFERROR(VLOOKUP(E1338,Teilnehmer!$B$3:$C$1002,2,0),\"\")","v":""}]
[null,null,null,{"$f":"IFERROR(VLOOKUP(C1339,Teilnehmer!$B$3:$C$1002,2,0),\"\")","v":""},null,{"$f":"IFERROR(VLOOKUP(E1339,Teilnehmer!$B$3:$C$1002,2,0),\"\")","v":""}]
[null,null,null,{"$f":"IFERROR(VLOOKUP(C1340,Teilnehmer!$B$3:$C$1002,2,0),\"\")","v":""},null,{"$f":"IFERROR(VLOOKUP(E1340,Teilnehmer!$B$3:$C$1002,2,0),\"\")","v":""}]
[null,null,null,{"$f":"IFERROR(VLOOKUP(C1341,Teilnehmer!$B$3:$C$1002,2,0),\"\")","v":""},null,{"$f":"IFERROR(VLOOKUP(E1341,Teilnehmer!$B$3:$C$1002,2,0),\"\")","v":""}]
[null,null,null,{"$f":"IFERROR(VLOOKUP(C1342,Teilnehmer!$B$3:$C$1002,2,0),\"\")","v":""},null,{"$f":"IFERROR(VLOOKUP(E1342,Teilnehmer!$B$3:$C$1002,2,0),\"\")","v":""}]
[null,null,null,{"$f":"IFERROR(VLOOKUP(C1343,Teilnehmer!$B$3:$C$1002,2,0),\"\")","v":""},null,{"$f":"IFERROR(VLOOKUP(E1343,Teilnehmer!$B$3:$C$1002,2,0),\"\")","v":""}]
[null,null,null,{"$f":"IFERROR(VLOOKUP(C1344,Teilnehmer!$B$3:$C$1002,2,0),\"\")","v":""},null,{"$f":"IFERROR(VLOOKUP(E1344,Teilnehmer!$B$3:$C$1002,2,0),\"\")","v":""}]
[null,null,null,{"$f":"IFERROR(VLOOKUP(C1345,Teilnehmer!$B$3:$C$1002,2,0),\"\")","v":""},null,{"$f":"IFERROR(VLOOKUP(E1345,Teilnehmer!$B$3:$C$1002,2,0),\"\")","v":""}]
[null,null,null,{"$f":"IFERROR(VLOOKUP(C1346,Teilnehmer!$B$3:$C$1002,2,0),\"\")","v":""},null,{"$f":"IFERROR(VLOOKUP(E1346,Teilnehmer!$B$3:$C$1002,2,0),\"\")","v":""}]
[null,null,null,{"$f":"IFERROR(VLOOKUP(C1347,Teilnehmer!$B$3:$C$1002,2,0),\"\")","v":""},null,{"$f":"IFERROR(VLOOKUP(E1347,Teilnehmer!$B$3:$C$1002,2,0),\"\")","v":""}]
[null,null,null,{"$f":"IFERROR(VLOOKUP(C1348,Teilnehmer!$B$3:$C$1002,2,0),\"\")","v":""},null,{"$f":"IFERROR(VLOOKUP(E1348,Teilnehmer!$B$3:$C$1002,2,0),\"\")","v":""}]
[null,null,null,{"$f":"IFERROR(VLOOKUP(C1349,Teilnehmer!$B$3:$C$1002,2,0),\"\")","v":""},null,{"$f":"IFERROR(VLOOKUP(E1349,Teilnehmer!$B$3:$C$1002,2,0),\"\")","v":""}]
[null,null,null,{"$f":"IFERROR(VLOOKUP(C1350,Teilnehmer!$B$3:$C$1002,2,0),\"\")","v":""},null,{"$f":"IFERROR(VLOOKUP(E1350,Teilnehmer!$B$3:$C$1002,2,0),\"\")","v":""}]
[null,null,null,{"$f":"IFERROR(VLOOKUP(C1351,Teilnehmer!$B$3:$C$1002,2,0),\"\")","v":""},null,{"$f":"IFERROR(VLOOKUP(E1351,Teilnehmer!$B$3:$C$1002,2,0),\"\")","v":""}]
[null,null,null,{"$f":"IFERROR(VLOOKUP(C1352,Teilnehmer!$B$3:$C$1002,2,0),\"\")","v":""},null,{"$f":"IFERROR(VLOOKUP(E1352,Teilnehmer!$B$3:$C$1002,2,0),\"\")","v":""}]
[null,null,null,{"$f":"IFERROR(VLOOKUP(C1353,Teilnehmer!$B$3:$C$1002,2,0),\"\")","v":""},null,{"$f":"IFERROR(VLOOKUP(E1353,Teilnehmer!$B$3:$C$1002,2,0),\"\")","v":""}]
[null,null,null,{"$f":"IFERROR(VLOOKUP(C1354,Teilnehmer!$B$3:$C$1002,2,0),\"\")","v":""},null,{"$f":"IFERROR(VLOOKUP(E1354,Teilnehmer!$B$3:$C$1002,2,0),\"\")","v":""}]
[null,null,null,{"$f":"IFERROR(VLOOKUP(C1355,Teilnehmer!$B$3:$C$1002,2,0),\"\")","v":""},null,{"$f":"IFERROR(VLOOKUP(E1355,Teilnehmer!$B$3:$C$1002,2,0),\"\")","v":""}]
[null,null,null,{"$f":"IFERROR(VLOOKUP(C1356,Teilnehmer!$B$3:$C$1002,2,0),\"\")","v":""},null,{"$f":"IFERROR(VLOOKUP(E1356,Teilnehmer!$B$3:$C$1002,2,0),\"\")","v":""}]
[null,null,null,{"$f":"IFERROR(VLOOKUP(C1357,Teilnehmer!$B$3:$C$1002,2,0),\"\")","v":""},null,{"$f":"IFERROR(VLOOKUP(E1357,Teilnehmer!$B$3:$C$1002,2,0),\"\")","v":""}]
[null,null,null,{"$f":"IFERROR(VLOOKUP(C1358,Teilnehmer!$B$3:$C$1002,2,0),\"\")","v":""},null,{"$f":"IFERROR(VLOOKUP(E1358,Teilnehmer!$B$3:$C$1002,2,0),\"\")","v":""}]
[null,null,null,{"$f":"IFERROR(VLOOKUP(C1359,Teilnehmer!$B$3:$C$1002,2,0),\"\")","v":""},null,{"$f":"IFERROR(VLOOKUP(E1359,Teilnehmer!$B$3:$C$1002,2,0),\"\")","v":""}]
[null,null,null,{"$f":"IFERROR(VLOOKUP(C1360,Teilnehmer!$B$3:$C$1002,2,0),\"\")","v":""},null,{"$f":"IFERROR(VLOOKUP(E1360,Teilnehmer!$B$3:$C$1002,2,0),\"\")","v":""}]
[null,null,null,{"$f":"IFERROR(VLOOKUP(C1361,Teilnehmer!$B$3:$C$1002,2,0),\"\")","v":""},null,{"$f":"IFERROR(VLOOKUP(E1361,Teilnehmer!$B$3:$C$1002,2,0),\"\")","v":""}]
[null,null,null,{"$f":"IFERROR(VLOOKUP(C1362,Teilnehmer!$B$3:$C$1002,2,0),\"\")","v":""},null,{"$f":"IFERROR(VLOOKUP(E1362,Teilnehmer!$B$3:$C$1002,2,0),\"\")","v":""}]
[null,null,null,{"$f":"IFERROR(VLOOKUP(C1363,Teilnehmer!$B$3:$C$1002,2,0),\"\")","v":""},null,{"$f":"IFERROR(VLOOKUP(E1363,Teilnehmer!$B$3:$C$1002,2,0),\"\")","v":""}]
[null,null,null,{"$f":"IFERROR(VLOOKUP(C1364,Teilnehmer!$B$3:$C$1002,2,0),\"\")","v":""},null,{"$f":"IFERROR(VLOOKUP(E1364,Teilnehmer!$B$3:$C$1002,2,0),\"\")","v":""}]
[null,null,null,{"$f":"IFERROR(VLOOKUP(C1365,Teilnehmer!$B$3:$C$1002,2,0),\"\")","v":""},null,{"$f":"IFERROR(VLOOKUP(E1365,Teilnehmer!$B$3:$C$1002,2,0),\"\")","v":""}]
[null,null,null,{"$f":"IFERROR(VLOOKUP(C1366,Teilnehmer!$B$3:$C$1002,2,0),\"\")","v":""},null,{"$f":"IFERROR(VLOOKUP(E1366,Teilnehmer!$B$3:$C$1002,2,0),\"\")","v":""}]
[null,null,null,{"$f":"IFERROR(VLOOKUP(C1367,Teilnehmer!$B$3:$C$1002,2,0),\"\")","v":""},null,{"$f":"IFERROR(VLOOKUP(E1367,Teilnehmer!$B$3:$C$1002,2,0),\"\")","v":""}]
[null,null,null,{"$f":"IFERROR(VLOOKUP(C1368,Teilnehmer!$B$3:$C$1002,2,0),\"\")","v":""},null,{"$f":"IFERROR(VLOOKUP(E1368,Teilnehmer!$B$3:$C$1002,2,0),\"\")","v":""}]
[null,null,null,{"$f":"IFERROR(VLOOKUP(C1369,Teilnehmer!$B$3:$C$1002,2,0),\"\")","v":""},null,{"$f":"IFERROR(VLOOKUP(E1369,Teilnehmer!$B$3:$C$1002,2,0),\"\")","v":""}]
[null,null,null,{"$f":"IFERROR(VLOOKUP(C1370,Teilnehmer!$B$3:$C$1002,2,0),\"\")","v":""},null,{"$f":"IFERROR(VLOOKUP(E1370,Teilnehmer!$B$3:$C$1002,2,0),\"\")","v":""}]
[null,null,null,{"$f":"IFERROR(VLOOKUP(C1371,Teilnehmer!$B$3:$C$1002,2,0),\"\")","v":""},null,{"$f":"IFERROR(VLOOKUP(E1371,Teilnehmer!$B$3:$C$1002,2,0),\"\")","v":""}]
[null,null,null,{"$f":"IFERROR(VLOOKUP(C1372,Teilnehmer!$B$3:$C$1002,2,0),\"\")","v":""},null,{"$f":"IFERROR(VLOOKUP(E1372,Teilnehmer!$B$3:$C$1002,2,0),\"\")","v":""}]
[null,null,null,{"$f":"IFERROR(VLOOKUP(C1373,Teilnehmer!$B$3:$C$1002,2,0),\"\")","v":""},null,{"$f":"IFERROR(VLOOKUP(E1373,Teilnehmer!$B$3:$C$1002,2,0),\"\")","v":""}]
[null,null,null,{"$f":"IFERROR(VLOOKUP(C1374,Teilnehmer!$B$3:$C$1002,2,0),\"\")","v":""},null,{"$f":"IFERROR(VLOOKUP(E1374,Teilnehmer!$B$3:$C$1002,2,0),\"\")","v":""}]
[null,null,null,{"$f":"IFERROR(VLOOKUP(C1375,Teilnehmer!$B$3:$C$1002,2,0),\"\")","v":""},null,{"$f":"IFERROR(VLOOKUP(E1375,Teilnehmer!$B$3:$C$1002,2,0),\"\")","v":""}]
[null,null,null,{"$f":"IFERROR(VLOOKUP(C1376,Teilnehmer!$B$3:$C$1002,2,0),\"\")","v":""},null,{"$f":"IFERROR(VLOOKUP(E1376,Teilnehmer!$B$3:$C$1002,2,0),\"\")","v":""}]
[null,null,null,{"$f":"IFERROR(VLOOKUP(C1377,Teilnehmer!$B$3:$C$1002,2,0),\"\")","v":""},null,{"$f":"IFERROR(VLOOKUP(E1377,Teilnehmer!$B$3:$C$1002,2,0),\"\")","v":""}]
[null,null,null,{"$f":"IFERROR(VLOOKUP(C1378,Teilnehmer!$B$3:$C$1002,2,0),\"\")","v":""},null,{"$f":"IFERROR(VLOOKUP(E1378,Teilnehmer!$B$3:$C$1002,2,0),\"\")","v":""}]
[null,null,null,{"$f":"IFERROR(VLOOKUP(C1379,Teilnehmer!$B$3:$C$1002,2,0),\"\")","v":""},null,{"$f":"IFERROR(VLOOKUP(E1379,Teilnehmer!$B$3:$C$1002,2,0),\"\")","v":""}]
[null,null,null,{"$f":"IFERROR(VLOOKUP(C1380,Teilnehmer!$B$3:$C$1002,2,0),\"\")","v":""},null,{"$f":"IFERROR(VLOOKUP(E1380,Teilnehmer!$B$3:$C$1002,2,0),\"\")","v":""}]
[null,null,null,{"$f":"IFERROR(VLOOKUP(C1381,Teilnehmer!$B$3:$C$1002,2,0),\"\")","v":""},null,{"$f":"IFERROR(VLOOKUP(E1381,Teilnehmer!$B$3:$C$1002,2,0),\"\")","v":""}]
[null,null,null,{"$f":"IFERROR(VLOOKUP(C1382,Teilnehmer!$B$3:$C$1002,2,0),\"\")","v":""},null,{"$f":"IFERROR(VLOOKUP(E1382,Teilnehmer!$B$3:$C$1002,2,0),\"\")","v":""}]
[null,null,null,{"$f":"IFERROR(VLOOKUP(C1383,Teilnehmer!$B$3:$C$1002,2,0),\"\")","v":""},null,{"$f":"IFERROR(VLOOKUP(E1383,Teilnehmer!$B$3:$C$1002,2,0),\"\")","v":""}]
[null,null,null,{"$f":"IFERROR(VLOOKUP(C1384,Teilnehmer!$B$3:$C$1002,2,0),\"\")","v":""},null,{"$f":"IFERROR(VLOOKUP(E1384,Teilnehmer!$B$3:$C$1002,2,0),\"\")","v":""}]
[null,null,null,{"$f":"IFERROR(VLOOKUP(C1385,Teilnehmer!$B$3:$C$1002,2,0),\"\")","v":""},null,{"$f":"IFERROR(VLOOKUP(E1385,Teilnehmer!$B$3:$C$1002,2,0),\"\")","v":""}]
[null,null,null,{"$f":"IFERROR(VLOOKUP(C1386,Teilnehmer!$B$3:$C$1002,2,0),\"\")","v":""},null,{"$f":"IFERROR(VLOOKUP(E1386,Teilnehmer!$B$3:$C$1002,2,0),\"\")","v":""}]
[null,null,null,{"$f":"IFERROR(VLOOKUP(C1387,Teilnehmer!$B$3:$C$1002,2,0),\"\")","v":""},null,{"$f":"IFERROR(VLOOKUP(E1387,Teilnehmer!$B$3:$C$1002,2,0),\"\")","v":""}]
[null,null,null,{"$f":"IFERROR(VLOOKUP(C1388,Teilnehmer!$B$3:$C$1002,2,0),\"\")","v":""},null,{"$f":"IFERROR(VLOOKUP(E1388,Teilnehmer!$B$3:$C$1002,2,0),\"\")","v":""}]
[null,null,null,{"$f":"IFERROR(VLOOKUP(C1389,Teilnehmer!$B$3:$C$1002,2,0),\"\")","v":""},null,{"$f":"IFERROR(VLOOKUP(E1389,Teilnehmer!$B$3:$C$1002,2,0),\"\")","v":""}]
[null,null,null,{"$f":"IFERROR(VLOOKUP(C1390,Teilnehmer!$B$3:$C$1002,2,0),\"\")","v":""},null,{"$f":"IFERROR(VLOOKUP(E1390,Teilnehmer!$B$3:$C$1002,2,0),\"\")","v":""}]
[null,null,null,{"$f":"IFERROR(VLOOKUP(C1391,Teilnehmer!$B$3:$C$1002,2,0),\"\")","v":""},null,{"$f":"IFERROR(VLOOKUP(E1391,Teilnehmer!$B$3:$C$1002,2,0),\"\")","v":""}]
[null,null,null,{"$f":"IFERROR(VLOOKUP(C1392,Teilnehmer!$B$3:$C$1002,2,0),\"\")","v":""},null,{"$f":"IFERROR(VLOOKUP(E1392,Teilnehmer!$B$3:$C$1002,2,0),\"\")","v":""}]
[null,null,null,{"$f":"IFERROR(VLOOKUP(C1393,Teilnehmer!$B$3:$C$1002,2,0),\"\")","v":""},null,{"$f":"IFERROR(VLOOKUP(E1393,Teilnehmer!$B$3:$C$1002,2,0),\"\")","v":""}]
[null,null,null,{"$f":"IFERROR(VLOOKUP(C1394,Teilnehmer!$B$3:$C$1002,2,0),\"\")","v":""},null,{"$f":"IFERROR(VLOOKUP(E1394,Teilnehmer!$B$3:$C$1002,2,0),\"\")","v":""}]
[null,null,null,{"$f":"IFERROR(VLOOKUP(C1395,Teilnehmer!$B$3:$C$1002,2,0),\"\")","v":""},null,{"$f":"IFERROR(VLOOKUP(E1395,Teilnehmer!$B$3:$C$1002,2,0),\"\")","v":""}]
[null,null,null,{"$f":"IFERROR(VLOOKUP(C1396,Teilnehmer!$B$3:$C$1002,2,0),\"\")","v":""},null,{"$f":"IFERROR(VLOOKUP(E1396,Teilnehmer!$B$3:$C$1002,2,0),\"\")","v":""}]
[null,null,null,{"$f":"IFERROR(VLOOKUP(C1397,Teilnehmer!$B$3:$C$1002,2,0),\"\")","v":""},null,{"$f":"IFERROR(VLOOKUP(E1397,Teilnehmer!$B$3:$C$1002,2,0),\"\")","v":""}]
[null,null,null,{"$f":"IFERROR(VLOOKUP(C1398,Teilnehmer!$B$3:$C$1002,2,0),\"\")","v":""},null,{"$f":"IFERROR(VLOOKUP(E1398,Teilnehmer!$B$3:$C$1002,2,0),\"\")","v":""}]
[null,null,null,{"$f":"IFERROR(VLOOKUP(C1399,Teilnehmer!$B$3:$C$1002,2,0),\"\")","v":""},null,{"$f":"IFERROR(VLOOKUP(E1399,Teilnehmer!$B$3:$C$1002,2,0),\"\")","v":""}]
[null,null,null,{"$f":"IFERROR(VLOOKUP(C1400,Teilnehmer!$B$3:$C$1002,2,0),\"\")","v":""},null,{"$f":"IFERROR(VLOOKUP(E1400,Teilnehmer!$B$3:$C$1002,2,0),\"\")","v":""}]
[null,null,null,{"$f":"IFERROR(VLOOKUP(C1401,Teilnehmer!$B$3:$C$1002,2,0),\"\")","v":""},null,{"$f":"IFERROR(VLOOKUP(E1401,Teilnehmer!$B$3:$C$1002,2,0),\"\")","v":""}]
[null,null,null,{"$f":"IFERROR(VLOOKUP(C1402,Teilnehmer!$B$3:$C$1002,2,0),\"\")","v":""},null,{"$f":"IFERROR(VLOOKUP(E1402,Teilnehmer!$B$3:$C$1002,2,0),\"\")","v":""}]
[null,null,null,{"$f":"IFERROR(VLOOKUP(C1403,Teilnehmer!$B$3:$C$1002,2,0),\"\")","v":""},null,{"$f":"IFERROR(VLOOKUP(E1403,Teilnehmer!$B$3:$C$1002,2,0),\"\")","v":""}]
[null,null,null,{"$f":"IFERROR(VLOOKUP(C1404,Teilnehmer!$B$3:$C$1002,2,0),\"\")","v":""},null,{"$f":"IFERROR(VLOOKUP(E1404,Teilnehmer!$B$3:$C$1002,2,0),\"\")","v":""}]
[null,null,null,{"$f":"IFERROR(VLOOKUP(C1405,Teilnehmer!$B$3:$C$1002,2,0),\"\")","v":""},null,{"$f":"IFERROR(VLOOKUP(E1405,Teilnehmer!$B$3:$C$1002,2,0),\"\")","v":""}]
[null,null,null,{"$f":"IFERROR(VLOOKUP(C1406,Teilnehmer!$B$3:$C$1002,2,0),\"\")","v":""},null,{"$f":"IFERROR(VLOOKUP(E1406,Teilnehmer!$B$3:$C$1002,2,0),\"\")","v":""}]
[null,null,null,{"$f":"IFERROR(VLOOKUP(C1407,Teilnehmer!$B$3:$C$1002,2,0),\"\")","v":""},null,{"$f":"IFERROR(VLOOKUP(E1407,Teilnehmer!$B$3:$C$1002,2,0),\"\")","v":""}]
[null,null,null,{"$f":"IFERROR(VLOOKUP(C1408,Teilnehmer!$B$3:$C$1002,2,0),\"\")","v":""},null,{"$f":"IFERROR(VLOOKUP(E1408,Teilnehmer!$B$3:$C$1002,2,0),\"\")","v":""}]
[null,null,null,{"$f":"IFERROR(VLOOKUP(C1409,Teilnehmer!$B$3:$C$1002,2,0),\"\")","v":""},null,{"$f":"IFERROR(VLOOKUP(E1409,Teilnehmer!$B$3:$C$1002,2,0),\"\")","v":""}]
[null,null,null,{"$f":"IFERROR(VLOOKUP(C1410,Teilnehmer!$B$3:$C$1002,2,0),\"\")","v":""},null,{"$f":"IFERROR(VLOOKUP(E1410,Teilnehmer!$B$3:$C$1002,2,0),\"\")","v":""}]
[null,null,null,{"$f":"IFERROR(VLOOKUP(C1411,Teilnehmer!$B$3:$C$1002,2,0),\"\")","v":""},null,{"$f":"IFERROR(VLOOKUP(E1411,Teilnehmer!$B$3:$C$1002,2,0),\"\")","v":""}]
[null,null,null,{"$f":"IFERROR(VLOOKUP(C1412,Teilnehmer!$B$3:$C$1002,2,0),\"\")","v":""},null,{"$f":"IFERROR(VLOOKUP(E1412,Teilnehmer!$B$3:$C$1002,2,0),\"\")","v":""}]
[null,null,null,{"$f":"IFERROR(VLOOKUP(C1413,Teilnehmer!$B$3:$C$1002,2,0),\"\")","v":""},null,{"$f":"IFERROR(VLOOKUP(E1413,Teilnehmer!$B$3:$C$1002,2,0),\"\")","v":""}]
[null,null,null,{"$f":"IFERROR(VLOOKUP(C1414,Teilnehmer!$B$3:$C$1002,2,0),\"\")","v":""},null,{"$f":"IFERROR(VLOOKUP(E1414,Teilnehmer!$B$3:$C$1002,2,0),\"\")","v":""}]
[null,null,null,{"$f":"IFERROR(VLOOKUP(C1415,Teilnehmer!$B$3:$C$1002,2,0),\"\")","v":""},null,{"$f":"IFERROR(VLOOKUP(E1415,Teilnehmer!$B$3:$C$1002,2,0),\"\")","v":""}]
[null,null,null,{"$f":"IFERROR(VLOOKUP(C1416,Teilnehmer!$B$3:$C$1002,2,0),\"\")","v":""},null,{"$f":"IFERROR(VLOOKUP(E1416,Teilnehmer!$B$3:$C$1002,2,0),\"\")","v":""}]
[null,null,null,{"$f":"IFERROR(VLOOKUP(C1417,Teilnehmer!$B$3:$C$1002,2,0),\"\")","v":""},null,{"$f":"IFERROR(VLOOKUP(E1417,Teilnehmer!$B$3:$C$1002,2,0),\"\")","v":""}]
[null,null,null,{"$f":"IFERROR(VLOOKUP(C1418,Teilnehmer!$B$3:$C$1002,2,0),\"\")","v":""},null,{"$f":"IFERROR(VLOOKUP(E1418,Teilnehmer!$B$3:$C$1002,2,0),\"\")","v":""}]
[null,null,null,{"$f":"IFERROR(VLOOKUP(C1419,Teilnehmer!$B$3:$C$1002,2,0),\"\")","v":""},null,{"$f":"IFERROR(VLOOKUP(E1419,Teilnehmer!$B$3:$C$1002,2,0),\"\")","v":""}]
[null,null,null,{"$f":"IFERROR(VLOOKUP(C1420,Teilnehmer!$B$3:$C$1002,2,0),\"\")","v":""},null,{"$f":"IFERROR(VLOOKUP(E1420,Teilnehmer!$B$3:$C$1002,2,0),\"\")","v":""}]
[null,null,null,{"$f":"IFERROR(VLOOKUP(C1421,Teilnehmer!$B$3:$C$1002,2,0),\"\")","v":""},null,{"$f":"IFERROR(VLOOKUP(E1421,Teilnehmer!$B$3:$C$1002,2,0),\"\")","v":""}]
[null,null,null,{"$f":"IFERROR(VLOOKUP(C1422,Teilnehmer!$B$3:$C$1002,2,0),\"\")","v":""},null,{"$f":"IFERROR(VLOOKUP(E1422,Teilnehmer!$B$3:$C$1002,2,0),\"\")","v":""}]
[null,null,null,{"$f":"IFERROR(VLOOKUP(C1423,Teilnehmer!$B$3:$C$1002,2,0),\"\")","v":""},null,{"$f":"IFERROR(VLOOKUP(E1423,Teilnehmer!$B$3:$C$1002,2,0),\"\")","v":""}]
[null,null,null,{"$f":"IFERROR(VLOOKUP(C1424,Teilnehmer!$B$3:$C$1002,2,0),\"\")","v":""},null,{"$f":"IFERROR(VLOOKUP(E1424,Teilnehmer!$B$3:$C$1002,2,0),\"\")","v":""}]
[null,null,null,{"$f":"IFERROR(VLOOKUP(C1425,Teilnehmer!$B$3:$C$1002,2,0),\"\")","v":""},null,{"$f":"IFERROR(VLOOKUP(E1425,Teilnehmer!$B$3:$C$1002,2,0),\"\")","v":""}]
[null,null,null,{"$f":"IFERROR(VLOOKUP(C1426,Teilnehmer!$B$3:$C$1002,2,0),\"\")","v":""},null,{"$f":"IFERROR(VLOOKUP(E1426,Teilnehmer!$B$3:$C$1002,2,0),\"\")","v":""}]
[null,null,null,{"$f":"IFERROR(VLOOKUP(C1427,Teilnehmer!$B$3:$C$1002,2,0),\"\")","v":""},null,{"$f":"IFERROR(VLOOKUP(E1427,Teilnehmer!$B$3:$C$1002,2,0),\"\")","v":""}]
[null,null,null,{"$f":"IFERROR(VLOOKUP(C1428,Teilnehmer!$B$3:$C$1002,2,0),\"\")","v":""},null,{"$f":"IFERROR(VLOOKUP(E1428,Teilnehmer!$B$3:$C$1002,2,0),\"\")","v":""}]
[null,null,null,{"$f":"IFERROR(VLOOKUP(C1429,Teilnehmer!$B$3:$C$1002,2,0),\"\")","v":""},null,{"$f":"IFERROR(VLOOKUP(E1429,Teilnehmer!$B$3:$C$1002,2,0),\"\")","v":""}]
[null,null,null,{"$f":"IFERROR(VLOOKUP(C1430,Teilnehmer!$B$3:$C$1002,2,0),\"\")","v":""},null,{"$f":"IFERROR(VLOOKUP(E1430,Teilnehmer!$B$3:$C$1002,2,0),\"\")","v":""}]
[null,null,null,{"$f":"IFERROR(VLOOKUP(C1431,Teilnehmer!$B$3:$C$1002,2,0),\"\")","v":""},null,{"$f":"IFERROR(VLOOKUP(E1431,Teilnehmer!$B$3:$C$1002,2,0),\"\")","v":""}]
[null,null,null,{"$f":"IFERROR(VLOOKUP(C1432,Teilnehmer!$B$3:$C$1002,2,0),\"\")","v":""},null,{"$f":"IFERROR(VLOOKUP(E1432,Teilnehmer!$B$3:$C$1002,2,0),\"\")","v":""}]
[null,null,null,{"$f":"IFERROR(VLOOKUP(C1433,Teilnehmer!$B$3:$C$1002,2,0),\"\")","v":""},null,{"$f":"IFERROR(VLOOKUP(E1433,Teilnehmer!$B$3:$C$1002,2,0),\"\")","v":""}]
[null,null,null,{"$f":"IFERROR(VLOOKUP(C1434,Teilnehmer!$B$3:$C$1002,2,0),\"\")","v":""},null,{"$f":"IFERROR(VLOOKUP(E1434,Teilnehmer!$B$3:$C$1002,2,0),\"\")","v":""}]
[null,null,null,{"$f":"IFERROR(VLOOKUP(C1435,Teilnehmer!$B$3:$C$1002,2,0),\"\")","v":""},null,{"$f":"IFERROR(VLOOKUP(E1435,Teilnehmer!$B$3:$C$1002,2,0),\"\")","v":""}]
[null,null,null,{"$f":"IFERROR(VLOOKUP(C1436,Teilnehmer!$B$3:$C$1002,2,0),\"\")","v":""},null,{"$f":"IFERROR(VLOOKUP(E1436,Teilnehmer!$B$3:$C$1002,2,0),\"\")","v":""}]
[null,null,null,{"$f":"IFERROR(VLOOKUP(C1437,Teilnehmer!$B$3:$C$1002,2,0),\"\")","v":""},null,{"$f":"IFERROR(VLOOKUP(E1437,Teilnehmer!$B$3:$C$1002,2,0),\"\")","v":""}]
[null,null,null,{"$f":"IFERROR(VLOOKUP(C1438,Teilnehmer!$B$3:$C$1002,2,0),\"\")","v":""},null,{"$f":"IFERROR(VLOOKUP(E1438,Teilnehmer!$B$3:$C$1002,2,0),\"\")","v":""}]
[null,null,null,{"$f":"IFERROR(VLOOKUP(C1439,Teilnehmer!$B$3:$C$1002,2,0),\"\")","v":""},null,{"$f":"IFERROR(VLOOKUP(E1439,Teilnehmer!$B$3:$C$1002,2,0),\"\")","v":""}]
[null,null,null,{"$f":"IFERROR(VLOOKUP(C1440,Teilnehmer!$B$3:$C$1002,2,0),\"\")","v":""},null,{"$f":"IFERROR(VLOOKUP(E1440,Teilnehmer!$B$3:$C$1002,2,0),\"\")","v":""}]
[null,null,null,{"$f":"IFERROR(VLOOKUP(C1441,Teilnehmer!$B$3:$C$1002,2,0),\"\")","v":""},null,{"$f":"IFERROR(VLOOKUP(E1441,Teilnehmer!$B$3:$C$1002,2,0),\"\")","v":""}]
[null,null,null,{"$f":"IFERROR(VLOOKUP(C1442,Teilnehmer!$B$3:$C$1002,2,0),\"\")","v":""},null,{"$f":"IFERROR(VLOOKUP(E1442,Teilnehmer!$B$3:$C$1002,2,0),\"\")","v":""}]
[null,null,null,{"$f":"IFERROR(VLOOKUP(C1443,Teilnehmer!$B$3:$C$1002,2,0),\"\")","v":""},null,{"$f":"IFERROR(VLOOKUP(E1443,Teilnehmer!$B$3:$C$1002,2,0),\"\")","v":""}]
[null,null,null,{"$f":"IFERROR(VLOOKUP(C1444,Teilnehmer!$B$3:$C$1002,2,0),\"\")","v":""},null,{"$f":"IFERROR(VLOOKUP(E1444,Teilnehmer!$B$3:$C$1002,2,0),\"\")","v":""}]
[null,null,null,{"$f":"IFERROR(VLOOKUP(C1445,Teilnehmer!$B$3:$C$1002,2,0),\"\")","v":""},null,{"$f":"IFERROR(VLOOKUP(E1445,Teilnehmer!$B$3:$C$1002,2,0),\"\")","v":""}]
[null,null,null,{"$f":"IFERROR(VLOOKUP(C1446,Teilnehmer!$B$3:$C$1002,2,0),\"\")","v":""},null,{"$f":"IFERROR(VLOOKUP(E1446,Teilnehmer!$B$3:$C$1002,2,0),\"\")","v":""}]
[null,null,null,{"$f":"IFERROR(VLOOKUP(C1447,Teilnehmer!$B$3:$C$1002,2,0),\"\")","v":""},null,{"$f":"IFERROR(VLOOKUP(E1447,Teilnehmer!$B$3:$C$1002,2,0),\"\")","v":""}]
[null,null,null,{"$f":"IFERROR(VLOOKUP(C1448,Teilnehmer!$B$3:$C$1002,2,0),\"\")","v":""},null,{"$f":"IFERROR(VLOOKUP(E1448,Teilnehmer!$B$3:$C$1002,2,0),\"\")","v":""}]
[null,null,null,{"$f":"IFERROR(VLOOKUP(C1449,Teilnehmer!$B$3:$C$1002,2,0),\"\")","v":""},null,{"$f":"IFERROR(VLOOKUP(E1449,Teilnehmer!$B$3:$C$1002,2,0),\"\")","v":""}]
[null,null,null,{"$f":"IFERROR(VLOOKUP(C1450,Teilnehmer!$B$3:$C$1002,2,0),\"\")","v":""},null,{"$f":"IFERROR(VLOOKUP(E1450,Teilnehmer!$B$3:$C$1002,2,0),\"\")","v":""}]
[null,null,null,{"$f":"IFERROR(VLOOKUP(C1451,Teilnehmer!$B$3:$C$1002,2,0),\"\")","v":""},null,{"$f":"IFERROR(VLOOKUP(E1451,Teilnehmer!$B$3:$C$1002,2,0),\"\")","v":""}]
[null,null,null,{"$f":"IFERROR(VLOOKUP(C1452,Teilnehmer!$B$3:$C$1002,2,0),\"\")","v":""},null,{"$f":"IFERROR(VLOOKUP(E1452,Teilnehmer!$B$3:$C$1002,2,0),\"\")","v":""}]
[null,null,null,{"$f":"IFERROR(VLOOKUP(C1453,Teilnehmer!$B$3:$C$1002,2,0),\"\")","v":""},null,{"$f":"IFERROR(VLOOKUP(E1453,Teilnehmer!$B$3:$C$1002,2,0),\"\")","v":""}]
[null,null,null,{"$f":"IFERROR(VLOOKUP(C1454,Teilnehmer!$B$3:$C$1002,2,0),\"\")","v":""},null,{"$f":"IFERROR(VLOOKUP(E1454,Teilnehmer!$B$3:$C$1002,2,0),\"\")","v":""}]
[null,null,null,{"$f":"IFERROR(VLOOKUP(C1455,Teilnehmer!$B$3:$C$1002,2,0),\"\")","v":""},null,{"$f":"IFERROR(VLOOKUP(E1455,Teilnehmer!$B$3:$C$1002,2,0),\"\")","v":""}]
[null,null,null,{"$f":"IFERROR(VLOOKUP(C1456,Teilnehmer!$B$3:$C$1002,2,0),\"\")","v":""},null,{"$f":"IFERROR(VLOOKUP(E1456,Teilnehmer!$B$3:$C$1002,2,0),\"\")","v":""}]
[null,null,null,{"$f":"IFERROR(VLOOKUP(C1457,Teilnehmer!$B$3:$C$1002,2,0),\"\")","v":""},null,{"$f":"IFERROR(VLOOKUP(E1457,Teilnehmer!$B$3:$C$1002,2,0),\"\")","v":""}]
[null,null,null,{"$f":"IFERROR(VLOOKUP(C1458,Teilnehmer!$B$3:$C$1002,2,0),\"\")","v":""},null,{"$f":"IFERROR(VLOOKUP(E1458,Teilnehmer!$B$3:$C$1002,2,0),\"\")","v":""}]
[null,null,null,{"$f":"IFERROR(VLOOKUP(C1459,Teilnehmer!$B$3:$C$1002,2,0),\"\")","v":""},null,{"$f":"IFERROR(VLOOKUP(E1459,Teilnehmer!$B$3:$C$1002,2,0),\"\")","v":""}]
[null,null,null,{"$f":"IFERROR(VLOOKUP(C1460,Teilnehmer!$B$3:$C$1002,2,0),\"\")","v":""},null,{"$f":"IFERROR(VLOOKUP(E1460,Teilnehmer!$B$3:$C$1002,2,0),\"\")","v":""}]
[null,null,null,{"$f":"IFERROR(VLOOKUP(C1461,Teilnehmer!$B$3:$C$1002,2,0),\"\")","v":""},null,{"$f":"IFERROR(VLOOKUP(E1461,Teilnehmer!$B$3:$C$1002,2,0),\"\")","v":""}]
[null,null,null,{"$f":"IFERROR(VLOOKUP(C1462,Teilnehmer!$B$3:$C$1002,2,0),\"\")","v":""},null,{"$f":"IFERROR(VLOOKUP(E1462,Teilnehmer!$B$3:$C$1002,2,0),\"\")","v":""}]
[null,null,null,{"$f":"IFERROR(VLOOKUP(C1463,Teilnehmer!$B$3:$C$1002,2,0),\"\")","v":""},null,{"$f":"IFERROR(VLOOKUP(E1463,Teilnehmer!$B$3:$C$1002,2,0),\"\")","v":""}]
[null,null,null,{"$f":"IFERROR(VLOOKUP(C1464,Teilnehmer!$B$3:$C$1002,2,0),\"\")","v":""},null,{"$f":"IFERROR(VLOOKUP(E1464,Teilnehmer!$B$3:$C$1002,2,0),\"\")","v":""}]
[null,null,null,{"$f":"IFERROR(VLOOKUP(C1465,Teilnehmer!$B$3:$C$1002,2,0),\"\")","v":""},null,{"$f":"IFERROR(VLOOKUP(E1465,Teilnehmer!$B$3:$C$1002,2,0),\"\")","v":""}]
[null,null,null,{"$f":"IFERROR(VLOOKUP(C1466,Teilnehmer!$B$3:$C$1002,2,0),\"\")","v":""},null,{"$f":"IFERROR(VLOOKUP(E1466,Teilnehmer!$B$3:$C$1002,2,0),\"\")","v":""}]
[null,null,null,{"$f":"IFERROR(VLOOKUP(C1467,Teilnehmer!$B$3:$C$1002,2,0),\"\")","v":""},null,{"$f":"IFERROR(VLOOKUP(E1467,Teilnehmer!$B$3:$C$1002,2,0),\"\")","v":""}]
[null,null,null,{"$f":"IFERROR(VLOOKUP(C1468,Teilnehmer!$B$3:$C$1002,2,0),\"\")","v":""},null,{"$f":"IFERROR(VLOOKUP(E1468,Teilnehmer!$B$3:$C$1002,2,0),\"\")","v":""}]
[null,null,null,{"$f":"IFERROR(VLOOKUP(C1469,Teilnehmer!$B$3:$C$1002,2,0),\"\")","v":""},null,{"$f":"IFERROR(VLOOKUP(E1469,Teilnehmer!$B$3:$C$1002,2,0),\"\")","v":""}]
[null,null,null,{"$f":"IFERROR(VLOOKUP(C1470,Teilnehmer!$B$3:$C$1002,2,0),\"\")","v":""},null,{"$f":"IFERROR(VLOOKUP(E1470,Teilnehmer!$B$3:$C$1002,2,0),\"\")","v":""}]
[null,null,null,{"$f":"IFERROR(VLOOKUP(C1471,Teilnehmer!$B$3:$C$1002,2,0),\"\")","v":""},null,{"$f":"IFERROR(VLOOKUP(E1471,Teilnehmer!$B$3:$C$1002,2,0),\"\")","v":""}]
[null,null,null,{"$f":"IFERROR(VLOOKUP(C1472,Teilnehmer!$B$3:$C$1002,2,0),\"\")","v":""},null,{"$f":"IFERROR(VLOOKUP(E1472,Teilnehmer!$B$3:$C$1002,2,0),\"\")","v":""}]
[null,null,null,{"$f":"IFERROR(VLOOKUP(C1473,Teilnehmer!$B$3:$C$1002,2,0),\"\")","v":""},null,{"$f":"IFERROR(VLOOKUP(E1473,Teilnehmer!$B$3:$C$1002,2,0),\"\")","v":""}]
[null,null,null,{"$f":"IFERROR(VLOOKUP(C1474,Teilnehmer!$B$3:$C$1002,2,0),\"\")","v":""},null,{"$f":"IFERROR(VLOOKUP(E1474,Teilnehmer!$B$3:$C$1002,2,0),\"\")","v":""}]
[null,null,null,{"$f":"IFERROR(VLOOKUP(C1475,Teilnehmer!$B$3:$C$1002,2,0),\"\")","v":""},null,{"$f":"IFERROR(VLOOKUP(E1475,Teilnehmer!$B$3:$C$1002,2,0),\"\")","v":""}]
[null,null,null,{"$f":"IFERROR(VLOOKUP(C1476,Teilnehmer!$B$3:$C$1002,2,0),\"\")","v":""},null,{"$f":"IFERROR(VLOOKUP(E1476,Teilnehmer!$B$3:$C$1002,2,0),\"\")","v":""}]
[null,null,null,{"$f":"IFERROR(VLOOKUP(C1477,Teilnehmer!$B$3:$C$1002,2,0),\"\")","v":""},null,{"$f":"IFERROR(VLOOKUP(E1477,Teilnehmer!$B$3:$C$1002,2,0),\"\")","v":""}]
[null,null,null,{"$f":"IFERROR(VLOOKUP(C1478,Teilnehmer!$B$3:$C$1002,2,0),\"\")","v":""},null,{"$f":"IFERROR(VLOOKUP(E1478,Teilnehmer!$B$3:$C$1002,2,0),\"\")","v":""}]
[null,null,null,{"$f":"IFERROR(VLOOKUP(C1479,Teilnehmer!$B$3:$C$1002,2,0),\"\")","v":""},null,{"$f":"IFERROR(VLOOKUP(E1479,Teilnehmer!$B$3:$C$1002,2,0),\"\")","v":""}]
[null,null,null,{"$f":"IFERROR(VLOOKUP(C1480,Teilnehmer!$B$3:$C$1002,2,0),\"\")","v":""},null,{"$f":"IFERROR(VLOOKUP(E1480,Teilnehmer!$B$3:$C$1002,2,0),\"\")","v":""}]
[null,null,null,{"$f":"IFERROR(VLOOKUP(C1481,Teilnehmer!$B$3:$C$1002,2,0),\"\")","v":""},null,{"$f":"IFERROR(VLOOKUP(E1481,Teilnehmer!$B$3:$C$1002,2,0),\"\")","v":""}]
[null,null,null,{"$f":"IFERROR(VLOOKUP(C1482,Teilnehmer!$B$3:$C$1002,2,0),\"\")","v":""},null,{"$f":"IFERROR(VLOOKUP(E1482,Teilnehmer!$B$3:$C$1002,2,0),\"\")","v":""}]
[null,null,null,{"$f":"IFERROR(VLOOKUP(C1483,Teilnehmer!$B$3:$C$1002,2,0),\"\")","v":""},null,{"$f":"IFERROR(VLOOKUP(E1483,Teilnehmer!$B$3:$C$1002,2,0),\"\")","v":""}]
[null,null,null,{"$f":"IFERROR(VLOOKUP(C1484,Teilnehmer!$B$3:$C$1002,2,0),\"\")","v":""},null,{"$f":"IFERROR(VLOOKUP(E1484,Teilnehmer!$B$3:$C$1002,2,0),\"\")","v":""}]
[null,null,null,{"$f":"IFERROR(VLOOKUP(C1485,Teilnehmer!$B$3:$C$1002,2,0),\"\")","v":""},null,{"$f":"IFERROR(VLOOKUP(E1485,Teilnehmer!$B$3:$C$1002,2,0),\"\")","v":""}]
[null,null,null,{"$f":"IFERROR(VLOOKUP(C1486,Teilnehmer!$B$3:$C$1002,2,0),\"\")","v":""},null,{"$f":"IFERROR(VLOOKUP(E1486,Teilnehmer!$B$3:$C$1002,2,0),\"\")","v":""}]
[null,null,null,{"$f":"IFERROR(VLOOKUP(C1487,Teilnehmer!$B$3:$C$1002,2,0),\"\")","v":""},null,{"$f":"IFERROR(VLOOKUP(E1487,Teilnehmer!$B$3:$C$1002,2,0),\"\")","v":""}]
[null,null,null,{"$f":"IFERROR(VLOOKUP(C1488,Teilnehmer!$B$3:$C$1002,2,0),\"\")","v":""},null,{"$f":"IFERROR(VLOOKUP(E1488,Teilnehmer!$B$3:$C$1002,2,0),\"\")","v":""}]
[null,null,null,{"$f":"IFERROR(VLOOKUP(C1489,Teilnehmer!$B$3:$C$1002,2,0),\"\")","v":""},null,{"$f":"IFERROR(VLOOKUP(E1489,Teilnehmer!$B$3:$C$1002,2,0),\"\")","v":""}]
[null,null,null,{"$f":"IFERROR(VLOOKUP(C1490,Teilnehmer!$B$3:$C$1002,2,0),\"\")","v":""},null,{"$f":"IFERROR(VLOOKUP(E1490,Teilnehmer!$B$3:$C$1002,2,0),\"\")","v":""}]
[null,null,null,{"$f":"IFERROR(VLOOKUP(C1491,Teilnehmer!$B$3:$C$1002,2,0),\"\")","v":""},null,{"$f":"IFERROR(VLOOKUP(E1491,Teilnehmer!$B$3:$C$1002,2,0),\"\")","v":""}]
[null,null,null,{"$f":"IFERROR(VLOOKUP(C1492,Teilnehmer!$B$3:$C$1002,2,0),\"\")","v":""},null,{"$f":"IFERROR(VLOOKUP(E1492,Teilnehmer!$B$3:$C$1002,2,0),\"\")","v":""}]
[null,null,null,{"$f":"IFERROR(VLOOKUP(C1493,Teilnehmer!$B$3:$C$1002,2,0),\"\")","v":""},null,{"$f":"IFERROR(VLOOKUP(E1493,Teilnehmer!$B$3:$C$1002,2,0),\"\")","v":""}]
[null,null,null,{"$f":"IFERROR(VLOOKUP(C1494,Teilnehmer!$B$3:$C$1002,2,0),\"\")","v":""},null,{"$f":"IFERROR(VLOOKUP(E1494,Teilnehmer!$B$3:$C$1002,2,0),\"\")","v":""}]
[null,null,null,{"$f":"IFERROR(VLOOKUP(C1495,Teilnehmer!$B$3:$C$1002,2,0),\"\")","v":""},null,{"$f":"IFERROR(VLOOKUP(E1495,Teilnehmer!$B$3:$C$1002,2,0),\"\")","v":""}]
[null,null,null,{"$f":"IFERROR(VLOOKUP(C1496,Teilnehmer!$B$3:$C$1002,2,0),\"\")","v":""},null,{"$f":"IFERROR(VLOOKUP(E1496,Teilnehmer!$B$3:$C$1002,2,0),\"\")","v":""}]
[null,null,null,{"$f":"IFERROR(VLOOKUP(C1497,Teilnehmer!$B$3:$C$1002,2,0),\"\")","v":""},null,{"$f":"IFERROR(VLOOKUP(E1497,Teilnehmer!$B$3:$C$1002,2,0),\"\")","v":""}]
[null,null,null,{"$f":"IFERROR(VLOOKUP(C1498,Teilnehmer!$B$3:$C$1002,2,0),\"\")","v":""},null,{"$f":"IFERROR(VLOOKUP(E1498,Teilnehmer!$B$3:$C$1002,2,0),\"\")","v":""}]
[null,null,null,{"$f":"IFERROR(VLOOKUP(C1499,Teilnehmer!$B$3:$C$1002,2,0),\"\")","v":""},null,{"$f":"IFERROR(VLOOKUP(E1499,Teilnehmer!$B$3:$C$1002,2,0),\"\")","v":""}]
[null,null,null,{"$f":"IFERROR(VLOOKUP(C1500,Teilnehmer!$B$3:$C$1002,2,0),\"\")","v":""},null,{"$f":"IFERROR(VLOOKUP(E1500,Teilnehmer!$B$3:$C$1002,2,0),\"\")","v":""}]
[null,null,null,{"$f":"IFERROR(VLOOKUP(C1501,Teilnehmer!$B$3:$C$1002,2,0),\"\")","v":""},null,{"$f":"IFERROR(VLOOKUP(E1501,Teilnehmer!$B$3:$C$1002,2,0),\"\")","v":""}]
[null,null,null,{"$f":"IFERROR(VLOOKUP(C1502,Teilnehmer!$B$3:$C$1002,2,0),\"\")","v":""},null,{"$f":"IFERROR(VLOOKUP(E1502,Teilnehmer!$B$3:$C$1002,2,0),\"\")","v":""}]
[null,null,null,{"$f":"IFERROR(VLOOKUP(C1503,Teilnehmer!$B$3:$C$1002,2,0),\"\")","v":""},null,{"$f":"IFERROR(VLOOKUP(E1503,Teilnehmer!$B$3:$C$1002,2,0),\"\")","v":""}]
[null,null,null,{"$f":"IFERROR(VLOOKUP(C1504,Teilnehmer!$B$3:$C$1002,2,0),\"\")","v":""},null,{"$f":"IFERROR(VLOOKUP(E1504,Teilnehmer!$B$3:$C$1002,2,0),\"\")","v":""}]
[null,null,null,{"$f":"IFERROR(VLOOKUP(C1505,Teilnehmer!$B$3:$C$1002,2,0),\"\")","v":""},null,{"$f":"IFERROR(VLOOKUP(E1505,Teilnehmer!$B$3:$C$1002,2,0),\"\")","v":""}]
[null,null,null,{"$f":"IFERROR(VLOOKUP(C1506,Teilnehmer!$B$3:$C$1002,2,0),\"\")","v":""},null,{"$f":"IFERROR(VLOOKUP(E1506,Teilnehmer!$B$3:$C$1002,2,0),\"\")","v":""}]
[null,null,null,{"$f":"IFERROR(VLOOKUP(C1507,Teilnehmer!$B$3:$C$1002,2,0),\"\")","v":""},null,{"$f":"IFERROR(VLOOKUP(E1507,Teilnehmer!$B$3:$C$1002,2,0),\"\")","v":""}]
[null,null,null,{"$f":"IFERROR(VLOOKUP(C1508,Teilnehmer!$B$3:$C$1002,2,0),\"\")","v":""},null,{"$f":"IFERROR(VLOOKUP(E1508,Teilnehmer!$B$3:$C$1002,2,0),\"\")","v":""}]
[null,null,null,{"$f":"IFERROR(VLOOKUP(C1509,Teilnehmer!$B$3:$C$1002,2,0),\"\")","v":""},null,{"$f":"IFERROR(VLOOKUP(E1509,Teilnehmer!$B$3:$C$1002,2,0),\"\")","v":""}]
[null,null,null,{"$f":"IFERROR(VLOOKUP(C1510,Teilnehmer!$B$3:$C$1002,2,0),\"\")","v":""},null,{"$f":"IFERROR(VLOOKUP(E1510,Teilnehmer!$B$3:$C$1002,2,0),\"\")","v":""}]
[null,null,null,{"$f":"IFERROR(VLOOKUP(C1511,Teilnehmer!$B$3:$C$1002,2,0),\"\")","v":""},null,{"$f":"IFERROR(VLOOKUP(E1511,Teilnehmer!$B$3:$C$1002,2,0),\"\")","v":""}]
[null,null,null,{"$f":"IFERROR(VLOOKUP(C1512,Teilnehmer!$B$3:$C$1002,2,0),\"\")","v":""},null,{"$f":"IFERROR(VLOOKUP(E1512,Teilnehmer!$B$3:$C$1002,2,0),\"\")","v":""}]
[null,null,null,{"$f":"IFERROR(VLOOKUP(C1513,Teilnehmer!$B$3:$C$1002,2,0),\"\")","v":""},null,{"$f":"IFERROR(VLOOKUP(E1513,Teilnehmer!$B$3:$C$1002,2,0),\"\")","v":""}]
[null,null,null,{"$f":"IFERROR(VLOOKUP(C1514,Teilnehmer!$B$3:$C$1002,2,0),\"\")","v":""},null,{"$f":"IFERROR(VLOOKUP(E1514,Teilnehmer!$B$3:$C$1002,2,0),\"\")","v":""}]
[null,null,null,{"$f":"IFERROR(VLOOKUP(C1515,Teilnehmer!$B$3:$C$1002,2,0),\"\")","v":""},null,{"$f":"IFERROR(VLOOKUP(E1515,Teilnehmer!$B$3:$C$1002,2,0),\"\")","v":""}]
[null,null,null,{"$f":"IFERROR(VLOOKUP(C1516,Teilnehmer!$B$3:$C$1002,2,0),\"\")","v":""},null,{"$f":"IFERROR(VLOOKUP(E1516,Teilnehmer!$B$3:$C$1002,2,0),\"\")","v":""}]
[null,null,null,{"$f":"IFERROR(VLOOKUP(C1517,Teilnehmer!$B$3:$C$1002,2,0),\"\")","v":""},null,{"$f":"IFERROR(VLOOKUP(E1517,Teilnehmer!$B$3:$C$1002,2,0),\"\")","v":""}]
[null,null,null,{"$f":"IFERROR(VLOOKUP(C1518,Teilnehmer!$B$3:$C$1002,2,0),\"\")","v":""},null,{"$f":"IFERROR(VLOOKUP(E1518,Teilnehmer!$B$3:$C$1002,2,0),\"\")","v":""}]
[null,null,null,{"$f":"IFERROR(VLOOKUP(C1519,Teilnehmer!$B$3:$C$1002,2,0),\"\")","v":""},null,{"$f":"IFERROR(VLOOKUP(E1519,Teilnehmer!$B$3:$C$1002,2,0),\"\")","v":""}]
[null,null,null,{"$f":"IFERROR(VLOOKUP(C1520,Teilnehmer!$B$3:$C$1002,2,0),\"\")","v":""},null,{"$f":"IFERROR(VLOOKUP(E1520,Teilnehmer!$B$3:$C$1002,2,0),\"\")","v":""}]
[null,null,null,{"$f":"IFERROR(VLOOKUP(C1521,Teilnehmer!$B$3:$C$1002,2,0),\"\")","v":""},null,{"$f":"IFERROR(VLOOKUP(E1521,Teilnehmer!$B$3:$C$1002,2,0),\"\")","v":""}]
[null,null,null,{"$f":"IFERROR(VLOOKUP(C1522,Teilnehmer!$B$3:$C$1002,2,0),\"\")","v":""},null,{"$f":"IFERROR(VLOOKUP(E1522,Teilnehmer!$B$3:$C$1002,2,0),\"\")","v":""}]
[null,null,null,{"$f":"IFERROR(VLOOKUP(C1523,Teilnehmer!$B$3:$C$1002,2,0),\"\")","v":""},null,{"$f":"IFERROR(VLOOKUP(E1523,Teilnehmer!$B$3:$C$1002,2,0),\"\")","v":""}]
[null,null,null,{"$f":"IFERROR(VLOOKUP(C1524,Teilnehmer!$B$3:$C$1002,2,0),\"\")","v":""},null,{"$f":"IFERROR(VLOOKUP(E1524,Teilnehmer!$B$3:$C$1002,2,0),\"\")","v":""}]
[null,null,null,{"$f":"IFERROR(VLOOKUP(C1525,Teilnehmer!$B$3:$C$1002,2,0),\"\")","v":""},null,{"$f":"IFERROR(VLOOKUP(E1525,Teilnehmer!$B$3:$C$1002,2,0),\"\")","v":""}]
[null,null,null,{"$f":"IFERROR(VLOOKUP(C1526,Teilnehmer!$B$3:$C$1002,2,0),\"\")","v":""},null,{"$f":"IFERROR(VLOOKUP(E1526,Teilnehmer!$B$3:$C$1002,2,0),\"\")","v":""}]
[null,null,null,{"$f":"IFERROR(VLOOKUP(C1527,Teilnehmer!$B$3:$C$1002,2,0),\"\")","v":""},null,{"$f":"IFERROR(VLOOKUP(E1527,Teilnehmer!$B$3:$C$1002,2,0),\"\")","v":""}]
[null,null,null,{"$f":"IFERROR(VLOOKUP(C1528,Teilnehmer!$B$3:$C$1002,2,0),\"\")","v":""},null,{"$f":"IFERROR(VLOOKUP(E1528,Teilnehmer!$B$3:$C$1002,2,0),\"\")","v":""}]
[null,null,null,{"$f":"IFERROR(VLOOKUP(C1529,Teilnehmer!$B$3:$C$1002,2,0),\"\")","v":""},null,{"$f":"IFERROR(VLOOKUP(E1529,Teilnehmer!$B$3:$C$1002,2,0),\"\")","v":""}]
[null,null,null,{"$f":"IFERROR(VLOOKUP(C1530,Teilnehmer!$B$3:$C$1002,2,0),\"\")","v":""},null,{"$f":"IFERROR(VLOOKUP(E1530,Teilnehmer!$B$3:$C$1002,2,0),\"\")","v":""}]
[null,null,null,{"$f":"IFERROR(VLOOKUP(C1531,Teilnehmer!$B$3:$C$1002,2,0),\"\")","v":""},null,{"$f":"IFERROR(VLOOKUP(E1531,Teilnehmer!$B$3:$C$1002,2,0),\"\")","v":""}]
[null,null,null,{"$f":"IFERROR(VLOOKUP(C1532,Teilnehmer!$B$3:$C$1002,2,0),\"\")","v":""},null,{"$f":"IFERROR(VLOOKUP(E1532,Teilnehmer!$B$3:$C$1002,2,0),\"\")","v":""}]
[null,null,null,{"$f":"IFERROR(VLOOKUP(C1533,Teilnehmer!$B$3:$C$1002,2,0),\"\")","v":""},null,{"$f":"IFERROR(VLOOKUP(E1533,Teilnehmer!$B$3:$C$1002,2,0),\"\")","v":""}]
[null,null,null,{"$f":"IFERROR(VLOOKUP(C1534,Teilnehmer!$B$3:$C$1002,2,0),\"\")","v":""},null,{"$f":"IFERROR(VLOOKUP(E1534,Teilnehmer!$B$3:$C$1002,2,0),\"\")","v":""}]
[null,null,null,{"$f":"IFERROR(VLOOKUP(C1535,Teilnehmer!$B$3:$C$1002,2,0),\"\")","v":""},null,{"$f":"IFERROR(VLOOKUP(E1535,Teilnehmer!$B$3:$C$1002,2,0),\"\")","v":""}]
[null,null,null,{"$f":"IFERROR(VLOOKUP(C1536,Teilnehmer!$B$3:$C$1002,2,0),\"\")","v":""},null,{"$f":"IFERROR(VLOOKUP(E1536,Teilnehmer!$B$3:$C$1002,2,0),\"\")","v":""}]
[null,null,null,{"$f":"IFERROR(VLOOKUP(C1537,Teilnehmer!$B$3:$C$1002,2,0),\"\")","v":""},null,{"$f":"IFERROR(VLOOKUP(E1537,Teilnehmer!$B$3:$C$1002,2,0),\"\")","v":""}]
[null,null,null,{"$f":"IFERROR(VLOOKUP(C1538,Teilnehmer!$B$3:$C$1002,2,0),\"\")","v":""},null,{"$f":"IFERROR(VLOOKUP(E1538,Teilnehmer!$B$3:$C$1002,2,0),\"\")","v":""}]
[null,null,null,{"$f":"IFERROR(VLOOKUP(C1539,Teilnehmer!$B$3:$C$1002,2,0),\"\")","v":""},null,{"$f":"IFERROR(VLOOKUP(E1539,Teilnehmer!$B$3:$C$1002,2,0),\"\")","v":""}]
[null,null,null,{"$f":"IFERROR(VLOOKUP(C1540,Teilnehmer!$B$3:$C$1002,2,0),\"\")","v":""},null,{"$f":"IFERROR(VLOOKUP(E1540,Teilnehmer!$B$3:$C$1002,2,0),\"\")","v":""}]
[null,null,null,{"$f":"IFERROR(VLOOKUP(C1541,Teilnehmer!$B$3:$C$1002,2,0),\"\")","v":""},null,{"$f":"IFERROR(VLOOKUP(E1541,Teilnehmer!$B$3:$C$1002,2,0),\"\")","v":""}]
[null,null,null,{"$f":"IFERROR(VLOOKUP(C1542,Teilnehmer!$B$3:$C$1002,2,0),\"\")","v":""},null,{"$f":"IFERROR(VLOOKUP(E1542,Teilnehmer!$B$3:$C$1002,2,0),\"\")","v":""}]
[null,null,null,{"$f":"IFERROR(VLOOKUP(C1543,Teilnehmer!$B$3:$C$1002,2,0),\"\")","v":""},null,{"$f":"IFERROR(VLOOKUP(E1543,Teilnehmer!$B$3:$C$1002,2,0),\"\")","v":""}]
[null,null,null,{"$f":"IFERROR(VLOOKUP(C1544,Teilnehmer!$B$3:$C$1002,2,0),\"\")","v":""},null,{"$f":"IFERROR(VLOOKUP(E1544,Teilnehmer!$B$3:$C$1002,2,0),\"\")","v":""}]
[null,null,null,{"$f":"IFERROR(VLOOKUP(C1545,Teilnehmer!$B$3:$C$1002,2,0),\"\")","v":""},null,{"$f":"IFERROR(VLOOKUP(E1545,Teilnehmer!$B$3:$C$1002,2,0),\"\")","v":""}]
[null,null,null,{"$f":"IFERROR(VLOOKUP(C1546,Teilnehmer!$B$3:$C$1002,2,0),\"\")","v":""},null,{"$f":"IFERROR(VLOOKUP(E1546,Teilnehmer!$B$3:$C$1002,2,0),\"\")","v":""}]
[null,null,null,{"$f":"IFERROR(VLOOKUP(C1547,Teilnehmer!$B$3:$C$1002,2,0),\"\")","v":""},null,{"$f":"IFERROR(VLOOKUP(E1547,Teilnehmer!$B$3:$C$1002,2,0),\"\")","v":""}]
[null,null,null,{"$f":"IFERROR(VLOOKUP(C1548,Teilnehmer!$B$3:$C$1002,2,0),\"\")","v":""},null,{"$f":"IFERROR(VLOOKUP(E1548,Teilnehmer!$B$3:$C$1002,2,0),\"\")","v":""}]
[null,null,null,{"$f":"IFERROR(VLOOKUP(C1549,Teilnehmer!$B$3:$C$1002,2,0),\"\")","v":""},null,{"$f":"IFERROR(VLOOKUP(E1549,Teilnehmer!$B$3:$C$1002,2,0),\"\")","v":""}]
[null,null,null,{"$f":"IFERROR(VLOOKUP(C1550,Teilnehmer!$B$3:$C$1002,2,0),\"\")","v":""},null,{"$f":"IFERROR(VLOOKUP(E1550,Teilnehmer!$B$3:$C$1002,2,0),\"\")","v":""}]
[null,null,null,{"$f":"IFERROR(VLOOKUP(C1551,Teilnehmer!$B$3:$C$1002,2,0),\"\")","v":""},null,{"$f":"IFERROR(VLOOKUP(E1551,Teilnehmer!$B$3:$C$1002,2,0),\"\")","v":""}]
[null,null,null,{"$f":"IFERROR(VLOOKUP(C1552,Teilnehmer!$B$3:$C$1002,2,0),\"\")","v":""},null,{"$f":"IFERROR(VLOOKUP(E1552,Teilnehmer!$B$3:$C$1002,2,0),\"\")","v":""}]
[null,null,null,{"$f":"IFERROR(VLOOKUP(C1553,Teilnehmer!$B$3:$C$1002,2,0),\"\")","v":""},null,{"$f":"IFERROR(VLOOKUP(E1553,Teilnehmer!$B$3:$C$1002,2,0),\"\")","v":""}]
[null,null,null,{"$f":"IFERROR(VLOOKUP(C1554,Teilnehmer!$B$3:$C$1002,2,0),\"\")","v":""},null,{"$f":"IFERROR(VLOOKUP(E1554,Teilnehmer!$B$3:$C$1002,2,0),\"\")","v":""}]
[null,null,null,{"$f":"IFERROR(VLOOKUP(C1555,Teilnehmer!$B$3:$C$1002,2,0),\"\")","v":""},null,{"$f":"IFERROR(VLOOKUP(E1555,Teilnehmer!$B$3:$C$1002,2,0),\"\")","v":""}]
[null,null,null,{"$f":"IFERROR(VLOOKUP(C1556,Teilnehmer!$B$3:$C$1002,2,0),\"\")","v":""},null,{"$f":"IFERROR(VLOOKUP(E1556,Teilnehmer!$B$3:$C$1002,2,0),\"\")","v":""}]
[null,null,null,{"$f":"IFERROR(VLOOKUP(C1557,Teilnehmer!$B$3:$C$1002,2,0),\"\")","v":""},null,{"$f":"IFERROR(VLOOKUP(E1557,Teilnehmer!$B$3:$C$1002,2,0),\"\")","v":""}]
[null,null,null,{"$f":"IFERROR(VLOOKUP(C1558,Teilnehmer!$B$3:$C$1002,2,0),\"\")","v":""},null,{"$f":"IFERROR(VLOOKUP(E1558,Teilnehmer!$B$3:$C$1002,2,0),\"\")","v":""}]
[null,null,null,{"$f":"IFERROR(VLOOKUP(C1559,Teilnehmer!$B$3:$C$1002,2,0),\"\")","v":""},null,{"$f":"IFERROR(VLOOKUP(E1559,Teilnehmer!$B$3:$C$1002,2,0),\"\")","v":""}]
[null,null,null,{"$f":"IFERROR(VLOOKUP(C1560,Teilnehmer!$B$3:$C$1002,2,0),\"\")","v":""},null,{"$f":"IFERROR(VLOOKUP(E1560,Teilnehmer!$B$3:$C$1002,2,0),\"\")","v":""}]
[null,null,null,{"$f":"IFERROR(VLOOKUP(C1561,Teilnehmer!$B$3:$C$1002,2,0),\"\")","v":""},null,{"$f":"IFERROR(VLOOKUP(E1561,Teilnehmer!$B$3:$C$1002,2,0),\"\")","v":""}]
[null,null,null,{"$f":"IFERROR(VLOOKUP(C1562,Teilnehmer!$B$3:$C$1002,2,0),\"\")","v":""},null,{"$f":"IFERROR(VLOOKUP(E1562,Teilnehmer!$B$3:$C$1002,2,0),\"\")","v":""}]
[null,null,null,{"$f":"IFERROR(VLOOKUP(C1563,Teilnehmer!$B$3:$C$1002,2,0),\"\")","v":""},null,{"$f":"IFERROR(VLOOKUP(E1563,Teilnehmer!$B$3:$C$1002,2,0),\"\")","v":""}]
[null,null,null,{"$f":"IFERROR(VLOOKUP(C1564,Teilnehmer!$B$3:$C$1002,2,0),\"\")","v":""},null,{"$f":"IFERROR(VLOOKUP(E1564,Teilnehmer!$B$3:$C$1002,2,0),\"\")","v":""}]
[null,null,null,{"$f":"IFERROR(VLOOKUP(C1565,Teilnehmer!$B$3:$C$1002,2,0),\"\")","v":""},null,{"$f":"IFERROR(VLOOKUP(E1565,Teilnehmer!$B$3:$C$1002,2,0),\"\")","v":""}]
[null,null,null,{"$f":"IFERROR(VLOOKUP(C1566,Teilnehmer!$B$3:$C$1002,2,0),\"\")","v":""},null,{"$f":"IFERROR(VLOOKUP(E1566,Teilnehmer!$B$3:$C$1002,2,0),\"\")","v":""}]
[null,null,null,{"$f":"IFERROR(VLOOKUP(C1567,Teilnehmer!$B$3:$C$1002,2,0),\"\")","v":""},null,{"$f":"IFERROR(VLOOKUP(E1567,Teilnehmer!$B$3:$C$1002,2,0),\"\")","v":""}]
[null,null,null,{"$f":"IFERROR(VLOOKUP(C1568,Teilnehmer!$B$3:$C$1002,2,0),\"\")","v":""},null,{"$f":"IFERROR(VLOOKUP(E1568,Teilnehmer!$B$3:$C$1002,2,0),\"\")","v":""}]
[null,null,null,{"$f":"IFERROR(VLOOKUP(C1569,Teilnehmer!$B$3:$C$1002,2,0),\"\")","v":""},null,{"$f":"IFERROR(VLOOKUP(E1569,Teilnehmer!$B$3:$C$1002,2,0),\"\")","v":""}]
[null,null,null,{"$f":"IFERROR(VLOOKUP(C1570,Teilnehmer!$B$3:$C$1002,2,0),\"\")","v":""},null,{"$f":"IFERROR(VLOOKUP(E1570,Teilnehmer!$B$3:$C$1002,2,0),\"\")","v":""}]
[null,null,null,{"$f":"IFERROR(VLOOKUP(C1571,Teilnehmer!$B$3:$C$1002,2,0),\"\")","v":""},null,{"$f":"IFERROR(VLOOKUP(E1571,Teilnehmer!$B$3:$C$1002,2,0),\"\")","v":""}]
[null,null,null,{"$f":"IFERROR(VLOOKUP(C1572,Teilnehmer!$B$3:$C$1002,2,0),\"\")","v":""},null,{"$f":"IFERROR(VLOOKUP(E1572,Teilnehmer!$B$3:$C$1002,2,0),\"\")","v":""}]
[null,null,null,{"$f":"IFERROR(VLOOKUP(C1573,Teilnehmer!$B$3:$C$1002,2,0),\"\")","v":""},null,{"$f":"IFERROR(VLOOKUP(E1573,Teilnehmer!$B$3:$C$1002,2,0),\"\")","v":""}]
[null,null,null,{"$f":"IFERROR(VLOOKUP(C1574,Teilnehmer!$B$3:$C$1002,2,0),\"\")","v":""},null,{"$f":"IFERROR(VLOOKUP(E1574,Teilnehmer!$B$3:$C$1002,2,0),\"\")","v":""}]
[null,null,null,{"$f":"IFERROR(VLOOKUP(C1575,Teilnehmer!$B$3:$C$1002,2,0),\"\")","v":""},null,{"$f":"IFERROR(VLOOKUP(E1575,Teilnehmer!$B$3:$C$1002,2,0),\"\")","v":""}]
[null,null,null,{"$f":"IFERROR(VLOOKUP(C1576,Teilnehmer!$B$3:$C$1002,2,0),\"\")","v":""},null,{"$f":"IFERROR(VLOOKUP(E1576,Teilnehmer!$B$3:$C$1002,2,0),\"\")","v":""}]
[null,null,null,{"$f":"IFERROR(VLOOKUP(C1577,Teilnehmer!$B$3:$C$1002,2,0),\"\")","v":""},null,{"$f":"IFERROR(VLOOKUP(E1577,Teilnehmer!$B$3:$C$1002,2,0),\"\")","v":""}]
[null,null,null,{"$f":"IFERROR(VLOOKUP(C1578,Teilnehmer!$B$3:$C$1002,2,0),\"\")","v":""},null,{"$f":"IFERROR(VLOOKUP(E1578,Teilnehmer!$B$3:$C$1002,2,0),\"\")","v":""}]
[null,null,null,{"$f":"IFERROR(VLOOKUP(C1579,Teilnehmer!$B$3:$C$1002,2,0),\"\")","v":""},null,{"$f":"IFERROR(VLOOKUP(E1579,Teilnehmer!$B$3:$C$1002,2,0),\"\")","v":""}]
[null,null,null,{"$f":"IFERROR(VLOOKUP(C1580,Teilnehmer!$B$3:$C$1002,2,0),\"\")","v":""},null,{"$f":"IFERROR(VLOOKUP(E1580,Teilnehmer!$B$3:$C$1002,2,0),\"\")","v":""}]
[null,null,null,{"$f":"IFERROR(VLOOKUP(C1581,Teilnehmer!$B$3:$C$1002,2,0),\"\")","v":""},null,{"$f":"IFERROR(VLOOKUP(E1581,Teilnehmer!$B$3:$C$1002,2,0),\"\")","v":""}]
[null,null,null,{"$f":"IFERROR(VLOOKUP(C1582,Teilnehmer!$B$3:$C$1002,2,0),\"\")","v":""},null,{"$f":"IFERROR(VLOOKUP(E1582,Teilnehmer!$B$3:$C$1002,2,0),\"\")","v":""}]
[null,null,null,{"$f":"IFERROR(VLOOKUP(C1583,Teilnehmer!$B$3:$C$1002,2,0),\"\")","v":""},null,{"$f":"IFERROR(VLOOKUP(E1583,Teilnehmer!$B$3:$C$1002,2,0),\"\")","v":""}]
[null,null,null,{"$f":"IFERROR(VLOOKUP(C1584,Teilnehmer!$B$3:$C$1002,2,0),\"\")","v":""},null,{"$f":"IFERROR(VLOOKUP(E1584,Teilnehmer!$B$3:$C$1002,2,0),\"\")","v":""}]
[null,null,null,{"$f":"IFERROR(VLOOKUP(C1585,Teilnehmer!$B$3:$C$1002,2,0),\"\")","v":""},null,{"$f":"IFERROR(VLOOKUP(E1585,Teilnehmer!$B$3:$C$1002,2,0),\"\")","v":""}]
[null,null,null,{"$f":"IFERROR(VLOOKUP(C1586,Teilnehmer!$B$3:$C$1002,2,0),\"\")","v":""},null,{"$f":"IFERROR(VLOOKUP(E1586,Teilnehmer!$B$3:$C$1002,2,0),\"\")","v":""}]
[null,null,null,{"$f":"IFERROR(VLOOKUP(C1587,Teilnehmer!$B$3:$C$1002,2,0),\"\")","v":""},null,{"$f":"IFERROR(VLOOKUP(E1587,Teilnehmer!$B$3:$C$1002,2,0),\"\")","v":""}]
[null,null,null,{"$f":"IFERROR(VLOOKUP(C1588,Teilnehmer!$B$3:$C$1002,2,0),\"\")","v":""},null,{"$f":"IFERROR(VLOOKUP(E1588,Teilnehmer!$B$3:$C$1002,2,0),\"\")","v":""}]
[null,null,null,{"$f":"IFERROR(VLOOKUP(C1589,Teilnehmer!$B$3:$C$1002,2,0),\"\")","v":""},null,{"$f":"IFERROR(VLOOKUP(E1589,Teilnehmer!$B$3:$C$1002,2,0),\"\")","v":""}]
[null,null,null,{"$f":"IFERROR(VLOOKUP(C1590,Teilnehmer!$B$3:$C$1002,2,0),\"\")","v":""},null,{"$f":"IFERROR(VLOOKUP(E1590,Teilnehmer!$B$3:$C$1002,2,0),\"\")","v":""}]
[null,null,null,{"$f":"IFERROR(VLOOKUP(C1591,Teilnehmer!$B$3:$C$1002,2,0),\"\")","v":""},null,{"$f":"IFERROR(VLOOKUP(E1591,Teilnehmer!$B$3:$C$1002,2,0),\"\")","v":""}]
[null,null,null,{"$f":"IFERROR(VLOOKUP(C1592,Teilnehmer!$B$3:$C$1002,2,0),\"\")","v":""},null,{"$f":"IFERROR(VLOOKUP(E1592,Teilnehmer!$B$3:$C$1002,2,0),\"\")","v":""}]
[null,null,null,{"$f":"IFERROR(VLOOKUP(C1593,Teilnehmer!$B$3:$C$1002,2,0),\"\")","v":""},null,{"$f":"IFERROR(VLOOKUP(E1593,Teilnehmer!$B$3:$C$1002,2,0),\"\")","v":""}]
[null,null,null,{"$f":"IFERROR(VLOOKUP(C1594,Teilnehmer!$B$3:$C$1002,2,0),\"\")","v":""},null,{"$f":"IFERROR(VLOOKUP(E1594,Teilnehmer!$B$3:$C$1002,2,0),\"\")","v":""}]
[null,null,null,{"$f":"IFERROR(VLOOKUP(C1595,Teilnehmer!$B$3:$C$1002,2,0),\"\")","v":""},null,{"$f":"IFERROR(VLOOKUP(E1595,Teilnehmer!$B$3:$C$1002,2,0),\"\")","v":""}]
[null,null,null,{"$f":"IFERROR(VLOOKUP(C1596,Teilnehmer!$B$3:$C$1002,2,0),\"\")","v":""},null,{"$f":"IFERROR(VLOOKUP(E1596,Teilnehmer!$B$3:$C$1002,2,0),\"\")","v":""}]
[null,null,null,{"$f":"IFERROR(VLOOKUP(C1597,Teilnehmer!$B$3:$C$1002,2,0),\"\")","v":""},null,{"$f":"IFERROR(VLOOKUP(E1597,Teilnehmer!$B$3:$C$1002,2,0),\"\")","v":""}]
[null,null,null,{"$f":"IFERROR(VLOOKUP(C1598,Teilnehmer!$B$3:$C$1002,2,0),\"\")","v":""},null,{"$f":"IFERROR(VLOOKUP(E1598,Teilnehmer!$B$3:$C$1002,2,0),\"\")","v":""}]
[null,null,null,{"$f":"IFERROR(VLOOKUP(C1599,Teilnehmer!$B$3:$C$1002,2,0),\"\")","v":""},null,{"$f":"IFERROR(VLOOKUP(E1599,Teilnehmer!$B$3:$C$1002,2,0),\"\")","v":""}]
[null,null,null,{"$f":"IFERROR(VLOOKUP(C1600,Teilnehmer!$B$3:$C$1002,2,0),\"\")","v":""},null,{"$f":"IFERROR(VLOOKUP(E1600,Teilnehmer!$B$3:$C$1002,2,0),\"\")","v":""}]
[null,null,null,{"$f":"IFERROR(VLOOKUP(C1601,Teilnehmer!$B$3:$C$1002,2,0),\"\")","v":""},null,{"$f":"IFERROR(VLOOKUP(E1601,Teilnehmer!$B$3:$C$1002,2,0),\"\")","v":""}]
[null,null,null,{"$f":"IFERROR(VLOOKUP(C1602,Teilnehmer!$B$3:$C$1002,2,0),\"\")","v":""},null,{"$f":"IFERROR(VLOOKUP(E1602,Teilnehmer!$B$3:$C$1002,2,0),\"\")","v":""}]
[null,null,null,{"$f":"IFERROR(VLOOKUP(C1603,Teilnehmer!$B$3:$C$1002,2,0),\"\")","v":""},null,{"$f":"IFERROR(VLOOKUP(E1603,Teilnehmer!$B$3:$C$1002,2,0),\"\")","v":""}]
[null,null,null,{"$f":"IFERROR(VLOOKUP(C1604,Teilnehmer!$B$3:$C$1002,2,0),\"\")","v":""},null,{"$f":"IFERROR(VLOOKUP(E1604,Teilnehmer!$B$3:$C$1002,2,0),\"\")","v":""}]
[null,null,null,{"$f":"IFERROR(VLOOKUP(C1605,Teilnehmer!$B$3:$C$1002,2,0),\"\")","v":""},null,{"$f":"IFERROR(VLOOKUP(E1605,Teilnehmer!$B$3:$C$1002,2,0),\"\")","v":""}]
[null,null,null,{"$f":"IFERROR(VLOOKUP(C1606,Teilnehmer!$B$3:$C$1002,2,0),\"\")","v":""},null,{"$f":"IFERROR(VLOOKUP(E1606,Teilnehmer!$B$3:$C$1002,2,0),\"\")","v":""}]
[null,null,null,{"$f":"IFERROR(VLOOKUP(C1607,Teilnehmer!$B$3:$C$1002,2,0),\"\")","v":""},null,{"$f":"IFERROR(VLOOKUP(E1607,Teilnehmer!$B$3:$C$1002,2,0),\"\")","v":""}]
[null,null,null,{"$f":"IFERROR(VLOOKUP(C1608,Teilnehmer!$B$3:$C$1002,2,0),\"\")","v":""},null,{"$f":"IFERROR(VLOOKUP(E1608,Teilnehmer!$B$3:$C$1002,2,0),\"\")","v":""}]
[null,null,null,{"$f":"IFERROR(VLOOKUP(C1609,Teilnehmer!$B$3:$C$1002,2,0),\"\")","v":""},null,{"$f":"IFERROR(VLOOKUP(E1609,Teilnehmer!$B$3:$C$1002,2,0),\"\")","v":""}]
[null,null,null,{"$f":"IFERROR(VLOOKUP(C1610,Teilnehmer!$B$3:$C$1002,2,0),\"\")","v":""},null,{"$f":"IFERROR(VLOOKUP(E1610,Teilnehmer!$B$3:$C$1002,2,0),\"\")","v":""}]
[null,null,null,{"$f":"IFERROR(VLOOKUP(C1611,Teilnehmer!$B$3:$C$1002,2,0),\"\")","v":""},null,{"$f":"IFERROR(VLOOKUP(E1611,Teilnehmer!$B$3:$C$1002,2,0),\"\")","v":""}]
[null,null,null,{"$f":"IFERROR(VLOOKUP(C1612,Teilnehmer!$B$3:$C$1002,2,0),\"\")","v":""},null,{"$f":"IFERROR(VLOOKUP(E1612,Teilnehmer!$B$3:$C$1002,2,0),\"\")","v":""}]
[null,null,null,{"$f":"IFERROR(VLOOKUP(C1613,Teilnehmer!$B$3:$C$1002,2,0),\"\")","v":""},null,{"$f":"IFERROR(VLOOKUP(E1613,Teilnehmer!$B$3:$C$1002,2,0),\"\")","v":""}]
[null,null,null,{"$f":"IFERROR(VLOOKUP(C1614,Teilnehmer!$B$3:$C$1002,2,0),\"\")","v":""},null,{"$f":"IFERROR(VLOOKUP(E1614,Teilnehmer!$B$3:$C$1002,2,0),\"\")","v":""}]
[null,null,null,{"$f":"IFERROR(VLOOKUP(C1615,Teilnehmer!$B$3:$C$1002,2,0),\"\")","v":""},null,{"$f":"IFERROR(VLOOKUP(E1615,Teilnehmer!$B$3:$C$1002,2,0),\"\")","v":""}]
[null,null,null,{"$f":"IFERROR(VLOOKUP(C1616,Teilnehmer!$B$3:$C$1002,2,0),\"\")","v":""},null,{"$f":"IFERROR(VLOOKUP(E1616,Teilnehmer!$B$3:$C$1002,2,0),\"\")","v":""}]
[null,null,null,{"$f":"IFERROR(VLOOKUP(C1617,Teilnehmer!$B$3:$C$1002,2,0),\"\")","v":""},null,{"$f":"IFERROR(VLOOKUP(E1617,Teilnehmer!$B$3:$C$1002,2,0),\"\")","v":""}]
[null,null,null,{"$f":"IFERROR(VLOOKUP(C1618,Teilnehmer!$B$3:$C$1002,2,0),\"\")","v":""},null,{"$f":"IFERROR(VLOOKUP(E1618,Teilnehmer!$B$3:$C$1002,2,0),\"\")","v":""}]
[null,null,null,{"$f":"IFERROR(VLOOKUP(C1619,Teilnehmer!$B$3:$C$1002,2,0),\"\")","v":""},null,{"$f":"IFERROR(VLOOKUP(E1619,Teilnehmer!$B$3:$C$1002,2,0),\"\")","v":""}]
[null,null,null,{"$f":"IFERROR(VLOOKUP(C1620,Teilnehmer!$B$3:$C$1002,2,0),\"\")","v":""},null,{"$f":"IFERROR(VLOOKUP(E1620,Teilnehmer!$B$3:$C$1002,2,0),\"\")","v":""}]
[null,null,null,{"$f":"IFERROR(VLOOKUP(C1621,Teilnehmer!$B$3:$C$1002,2,0),\"\")","v":""},null,{"$f":"IFERROR(VLOOKUP(E1621,Teilnehmer!$B$3:$C$1002,2,0),\"\")","v":""}]
[null,null,null,{"$f":"IFERROR(VLOOKUP(C1622,Teilnehmer!$B$3:$C$1002,2,0),\"\")","v":""},null,{"$f":"IFERROR(VLOOKUP(E1622,Teilnehmer!$B$3:$C$1002,2,0),\"\")","v":""}]
[null,null,null,{"$f":"IFERROR(VLOOKUP(C1623,Teilnehmer!$B$3:$C$1002,2,0),\"\")","v":""},null,{"$f":"IFERROR(VLOOKUP(E1623,Teilnehmer!$B$3:$C$1002,2,0),\"\")","v":""}]
[null,null,null,{"$f":"IFERROR(VLOOKUP(C1624,Teilnehmer!$B$3:$C$1002,2,0),\"\")","v":""},null,{"$f":"IFERROR(VLOOKUP(E1624,Teilnehmer!$B$3:$C$1002,2,0),\"\")","v":""}]
[null,null,null,{"$f":"IFERROR(VLOOKUP(C1625,Teilnehmer!$B$3:$C$1002,2,0),\"\")","v":""},null,{"$f":"IFERROR(VLOOKUP(E1625,Teilnehmer!$B$3:$C$1002,2,0),\"\")","v":""}]
[null,null,null,{"$f":"IFERROR(VLOOKUP(C1626,Teilnehmer!$B$3:$C$1002,2,0),\"\")","v":""},null,{"$f":"IFERROR(VLOOKUP(E1626,Teilnehmer!$B$3:$C$1002,2,0),\"\")","v":""}]
[null,null,null,{"$f":"IFERROR(VLOOKUP(C1627,Teilnehmer!$B$3:$C$1002,2,0),\"\")","v":""},null,{"$f":"IFERROR(VLOOKUP(E1627,Teilnehmer!$B$3:$C$1002,2,0),\"\")","v":""}]
[null,null,null,{"$f":"IFERROR(VLOOKUP(C1628,Teilnehmer!$B$3:$C$1002,2,0),\"\")","v":""},null,{"$f":"IFERROR(VLOOKUP(E1628,Teilnehmer!$B$3:$C$1002,2,0),\"\")","v":""}]
[null,null,null,{"$f":"IFERROR(VLOOKUP(C1629,Teilnehmer!$B$3:$C$1002,2,0),\"\")","v":""},null,{"$f":"IFERROR(VLOOKUP(E1629,Teilnehmer!$B$3:$C$1002,2,0),\"\")","v":""}]
[null,null,null,{"$f":"IFERROR(VLOOKUP(C1630,Teilnehmer!$B$3:$C$1002,2,0),\"\")","v":""},null,{"$f":"IFERROR(VLOOKUP(E1630,Teilnehmer!$B$3:$C$1002,2,0),\"\")","v":""}]
[null,null,null,{"$f":"IFERROR(VLOOKUP(C1631,Teilnehmer!$B$3:$C$1002,2,0),\"\")","v":""},null,{"$f":"IFERROR(VLOOKUP(E1631,Teilnehmer!$B$3:$C$1002,2,0),\"\")","v":""}]
[null,null,null,{"$f":"IFERROR(VLOOKUP(C1632,Teilnehmer!$B$3:$C$1002,2,0),\"\")","v":""},null,{"$f":"IFERROR(VLOOKUP(E1632,Teilnehmer!$B$3:$C$1002,2,0),\"\")","v":""}]
[null,null,null,{"$f":"IFERROR(VLOOKUP(C1633,Teilnehmer!$B$3:$C$1002,2,0),\"\")","v":""},null,{"$f":"IFERROR(VLOOKUP(E1633,Teilnehmer!$B$3:$C$1002,2,0),\"\")","v":""}]
[null,null,null,{"$f":"IFERROR(VLOOKUP(C1634,Teilnehmer!$B$3:$C$1002,2,0),\"\")","v":""},null,{"$f":"IFERROR(VLOOKUP(E1634,Teilnehmer!$B$3:$C$1002,2,0),\"\")","v":""}]
[null,null,null,{"$f":"IFERROR(VLOOKUP(C1635,Teilnehmer!$B$3:$C$1002,2,0),\"\")","v":""},null,{"$f":"IFERROR(VLOOKUP(E1635,Teilnehmer!$B$3:$C$1002,2,0),\"\")","v":""}]
[null,null,null,{"$f":"IFERROR(VLOOKUP(C1636,Teilnehmer!$B$3:$C$1002,2,0),\"\")","v":""},null,{"$f":"IFERROR(VLOOKUP(E1636,Teilnehmer!$B$3:$C$1002,2,0),\"\")","v":""}]
[null,null,null,{"$f":"IFERROR(VLOOKUP(C1637,Teilnehmer!$B$3:$C$1002,2,0),\"\")","v":""},null,{"$f":"IFERROR(VLOOKUP(E1637,Teilnehmer!$B$3:$C$1002,2,0),\"\")","v":""}]
[null,null,null,{"$f":"IFERROR(VLOOKUP(C1638,Teilnehmer!$B$3:$C$1002,2,0),\"\")","v":""},null,{"$f":"IFERROR(VLOOKUP(E1638,Teilnehmer!$B$3:$C$1002,2,0),\"\")","v":""}]
[null,null,null,{"$f":"IFERROR(VLOOKUP(C1639,Teilnehmer!$B$3:$C$1002,2,0),\"\")","v":""},null,{"$f":"IFERROR(VLOOKUP(E1639,Teilnehmer!$B$3:$C$1002,2,0),\"\")","v":""}]
[null,null,null,{"$f":"IFERROR(VLOOKUP(C1640,Teilnehmer!$B$3:$C$1002,2,0),\"\")","v":""},null,{"$f":"IFERROR(VLOOKUP(E1640,Teilnehmer!$B$3:$C$1002,2,0),\"\")","v":""}]
[null,null,null,{"$f":"IFERROR(VLOOKUP(C1641,Teilnehmer!$B$3:$C$1002,2,0),\"\")","v":""},null,{"$f":"IFERROR(VLOOKUP(E1641,Teilnehmer!$B$3:$C$1002,2,0),\"\")","v":""}]
[null,null,null,{"$f":"IFERROR(VLOOKUP(C1642,Teilnehmer!$B$3:$C$1002,2,0),\"\")","v":""},null,{"$f":"IFERROR(VLOOKUP(E1642,Teilnehmer!$B$3:$C$1002,2,0),\"\")","v":""}]
[null,null,null,{"$f":"IFERROR(VLOOKUP(C1643,Teilnehmer!$B$3:$C$1002,2,0),\"\")","v":""},null,{"$f":"IFERROR(VLOOKUP(E1643,Teilnehmer!$B$3:$C$1002,2,0),\"\")","v":""}]
[null,null,null,{"$f":"IFERROR(VLOOKUP(C1644,Teilnehmer!$B$3:$C$1002,2,0),\"\")","v":""},null,{"$f":"IFERROR(VLOOKUP(E1644,Teilnehmer!$B$3:$C$1002,2,0),\"\")","v":""}]
[null,null,null,{"$f":"IFERROR(VLOOKUP(C1645,Teilnehmer!$B$3:$C$1002,2,0),\"\")","v":""},null,{"$f":"IFERROR(VLOOKUP(E1645,Teilnehmer!$B$3:$C$1002,2,0),\"\")","v":""}]
[null,null,null,{"$f":"IFERROR(VLOOKUP(C1646,Teilnehmer!$B$3:$C$1002,2,0),\"\")","v":""},null,{"$f":"IFERROR(VLOOKUP(E1646,Teilnehmer!$B$3:$C$1002,2,0),\"\")","v":""}]
[null,null,null,{"$f":"IFERROR(VLOOKUP(C1647,Teilnehmer!$B$3:$C$1002,2,0),\"\")","v":""},null,{"$f":"IFERROR(VLOOKUP(E1647,Teilnehmer!$B$3:$C$1002,2,0),\"\")","v":""}]
[null,null,null,{"$f":"IFERROR(VLOOKUP(C1648,Teilnehmer!$B$3:$C$1002,2,0),\"\")","v":""},null,{"$f":"IFERROR(VLOOKUP(E1648,Teilnehmer!$B$3:$C$1002,2,0),\"\")","v":""}]
[null,null,null,{"$f":"IFERROR(VLOOKUP(C1649,Teilnehmer!$B$3:$C$1002,2,0),\"\")","v":""},null,{"$f":"IFERROR(VLOOKUP(E1649,Teilnehmer!$B$3:$C$1002,2,0),\"\")","v":""}]
[null,null,null,{"$f":"IFERROR(VLOOKUP(C1650,Teilnehmer!$B$3:$C$1002,2,0),\"\")","v":""},null,{"$f":"IFERROR(VLOOKUP(E1650,Teilnehmer!$B$3:$C$1002,2,0),\"\")","v":""}]
[null,null,null,{"$f":"IFERROR(VLOOKUP(C1651,Teilnehmer!$B$3:$C$1002,2,0),\"\")","v":""},null,{"$f":"IFERROR(VLOOKUP(E1651,Teilnehmer!$B$3:$C$1002,2,0),\"\")","v":""}]
[null,null,null,{"$f":"IFERROR(VLOOKUP(C1652,Teilnehmer!$B$3:$C$1002,2,0),\"\")","v":""},null,{"$f":"IFERROR(VLOOKUP(E1652,Teilnehmer!$B$3:$C$1002,2,0),\"\")","v":""}]
[null,null,null,{"$f":"IFERROR(VLOOKUP(C1653,Teilnehmer!$B$3:$C$1002,2,0),\"\")","v":""},null,{"$f":"IFERROR(VLOOKUP(E1653,Teilnehmer!$B$3:$C$1002,2,0),\"\")","v":""}]
[null,null,null,{"$f":"IFERROR(VLOOKUP(C1654,Teilnehmer!$B$3:$C$1002,2,0),\"\")","v":""},null,{"$f":"IFERROR(VLOOKUP(E1654,Teilnehmer!$B$3:$C$1002,2,0),\"\")","v":""}]
[null,null,null,{"$f":"IFERROR(VLOOKUP(C1655,Teilnehmer!$B$3:$C$1002,2,0),\"\")","v":""},null,{"$f":"IFERROR(VLOOKUP(E1655,Teilnehmer!$B$3:$C$1002,2,0),\"\")","v":""}]
[null,null,null,{"$f":"IFERROR(VLOOKUP(C1656,Teilnehmer!$B$3:$C$1002,2,0),\"\")","v":""},null,{"$f":"IFERROR(VLOOKUP(E1656,Teilnehmer!$B$3:$C$1002,2,0),\"\")","v":""}]
[null,null,null,{"$f":"IFERROR(VLOOKUP(C1657,Teilnehmer!$B$3:$C$1002,2,0),\"\")","v":""},null,{"$f":"IFERROR(VLOOKUP(E1657,Teilnehmer!$B$3:$C$1002,2,0),\"\")","v":""}]
[null,null,null,{"$f":"IFERROR(VLOOKUP(C1658,Teilnehmer!$B$3:$C$1002,2,0),\"\")","v":""},null,{"$f":"IFERROR(VLOOKUP(E1658,Teilnehmer!$B$3:$C$1002,2,0),\"\")","v":""}]
[null,null,null,{"$f":"IFERROR(VLOOKUP(C1659,Teilnehmer!$B$3:$C$1002,2,0),\"\")","v":""},null,{"$f":"IFERROR(VLOOKUP(E1659,Teilnehmer!$B$3:$C$1002,2,0),\"\")","v":""}]
[null,null,null,{"$f":"IFERROR(VLOOKUP(C1660,Teilnehmer!$B$3:$C$1002,2,0),\"\")","v":""},null,{"$f":"IFERROR(VLOOKUP(E1660,Teilnehmer!$B$3:$C$1002,2,0),\"\")","v":""}]
[null,null,null,{"$f":"IFERROR(VLOOKUP(C1661,Teilnehmer!$B$3:$C$1002,2,0),\"\")","v":""},null,{"$f":"IFERROR(VLOOKUP(E1661,Teilnehmer!$B$3:$C$1002,2,0),\"\")","v":""}]
[null,null,null,{"$f":"IFERROR(VLOOKUP(C1662,Teilnehmer!$B$3:$C$1002,2,0),\"\")","v":""},null,{"$f":"IFERROR(VLOOKUP(E1662,Teilnehmer!$B$3:$C$1002,2,0),\"\")","v":""}]
[null,null,null,{"$f":"IFERROR(VLOOKUP(C1663,Teilnehmer!$B$3:$C$1002,2,0),\"\")","v":""},null,{"$f":"IFERROR(VLOOKUP(E1663,Teilnehmer!$B$3:$C$1002,2,0),\"\")","v":""}]
[null,null,null,{"$f":"IFERROR(VLOOKUP(C1664,Teilnehmer!$B$3:$C$1002,2,0),\"\")","v":""},null,{"$f":"IFERROR(VLOOKUP(E1664,Teilnehmer!$B$3:$C$1002,2,0),\"\")","v":""}]
[null,null,null,{"$f":"IFERROR(VLOOKUP(C1665,Teilnehmer!$B$3:$C$1002,2,0),\"\")","v":""},null,{"$f":"IFERROR(VLOOKUP(E1665,Teilnehmer!$B$3:$C$1002,2,0),\"\")","v":""}]
[null,null,null,{"$f":"IFERROR(VLOOKUP(C1666,Teilnehmer!$B$3:$C$1002,2,0),\"\")","v":""},null,{"$f":"IFERROR(VLOOKUP(E1666,Teilnehmer!$B$3:$C$1002,2,0),\"\")","v":""}]
[null,null,null,{"$f":"IFERROR(VLOOKUP(C1667,Teilnehmer!$B$3:$C$1002,2,0),\"\")","v":""},null,{"$f":"IFERROR(VLOOKUP(E1667,Teilnehmer!$B$3:$C$1002,2,0),\"\")","v":""}]
[null,null,null,{"$f":"IFERROR(VLOOKUP(C1668,Teilnehmer!$B$3:$C$1002,2,0),\"\")","v":""},null,{"$f":"IFERROR(VLOOKUP(E1668,Teilnehmer!$B$3:$C$1002,2,0),\"\")","v":""}]
[null,null,null,{"$f":"IFERROR(VLOOKUP(C1669,Teilnehmer!$B$3:$C$1002,2,0),\"\")","v":""},null,{"$f":"IFERROR(VLOOKUP(E1669,Teilnehmer!$B$3:$C$1002,2,0),\"\")","v":""}]
[null,null,null,{"$f":"IFERROR(VLOOKUP(C1670,Teilnehmer!$B$3:$C$1002,2,0),\"\")","v":""},null,{"$f":"IFERROR(VLOOKUP(E1670,Teilnehmer!$B$3:$C$1002,2,0),\"\")","v":""}]
[null,null,null,{"$f":"IFERROR(VLOOKUP(C1671,Teilnehmer!$B$3:$C$1002,2,0),\"\")","v":""},null,{"$f":"IFERROR(VLOOKUP(E1671,Teilnehmer!$B$3:$C$1002,2,0),\"\")","v":""}]
[null,null,null,{"$f":"IFERROR(VLOOKUP(C1672,Teilnehmer!$B$3:$C$1002,2,0),\"\")","v":""},null,{"$f":"IFERROR(VLOOKUP(E1672,Teilnehmer!$B$3:$C$1002,2,0),\"\")","v":""}]
[null,null,null,{"$f":"IFERROR(VLOOKUP(C1673,Teilnehmer!$B$3:$C$1002,2,0),\"\")","v":""},null,{"$f":"IFERROR(VLOOKUP(E1673,Teilnehmer!$B$3:$C$1002,2,0),\"\")","v":""}]
[null,null,null,{"$f":"IFERROR(VLOOKUP(C1674,Teilnehmer!$B$3:$C$1002,2,0),\"\")","v":""},null,{"$f":"IFERROR(VLOOKUP(E1674,Teilnehmer!$B$3:$C$1002,2,0),\"\")","v":""}]
[null,null,null,{"$f":"IFERROR(VLOOKUP(C1675,Teilnehmer!$B$3:$C$1002,2,0),\"\")","v":""},null,{"$f":"IFERROR(VLOOKUP(E1675,Teilnehmer!$B$3:$C$1002,2,0),\"\")","v":""}]
[null,null,null,{"$f":"IFERROR(VLOOKUP(C1676,Teilnehmer!$B$3:$C$1002,2,0),\"\")","v":""},null,{"$f":"IFERROR(VLOOKUP(E1676,Teilnehmer!$B$3:$C$1002,2,0),\"\")","v":""}]
[null,null,null,{"$f":"IFERROR(VLOOKUP(C1677,Teilnehmer!$B$3:$C$1002,2,0),\"\")","v":""},null,{"$f":"IFERROR(VLOOKUP(E1677,Teilnehmer!$B$3:$C$1002,2,0),\"\")","v":""}]
[null,null,null,{"$f":"IFERROR(VLOOKUP(C1678,Teilnehmer!$B$3:$C$1002,2,0),\"\")","v":""},null,{"$f":"IFERROR(VLOOKUP(E1678,Teilnehmer!$B$3:$C$1002,2,0),\"\")","v":""}]
[null,null,null,{"$f":"IFERROR(VLOOKUP(C1679,Teilnehmer!$B$3:$C$1002,2,0),\"\")","v":""},null,{"$f":"IFERROR(VLOOKUP(E1679,Teilnehmer!$B$3:$C$1002,2,0),\"\")","v":""}]
[null,null,null,{"$f":"IFERROR(VLOOKUP(C1680,Teilnehmer!$B$3:$C$1002,2,0),\"\")","v":""},null,{"$f":"IFERROR(VLOOKUP(E1680,Teilnehmer!$B$3:$C$1002,2,0),\"\")","v":""}]
[null,null,null,{"$f":"IFERROR(VLOOKUP(C1681,Teilnehmer!$B$3:$C$1002,2,0),\"\")","v":""},null,{"$f":"IFERROR(VLOOKUP(E1681,Teilnehmer!$B$3:$C$1002,2,0),\"\")","v":""}]
[null,null,null,{"$f":"IFERROR(VLOOKUP(C1682,Teilnehmer!$B$3:$C$1002,2,0),\"\")","v":""},null,{"$f":"IFERROR(VLOOKUP(E1682,Teilnehmer!$B$3:$C$1002,2,0),\"\")","v":""}]
[null,null,null,{"$f":"IFERROR(VLOOKUP(C1683,Teilnehmer!$B$3:$C$1002,2,0),\"\")","v":""},null,{"$f":"IFERROR(VLOOKUP(E1683,Teilnehmer!$B$3:$C$1002,2,0),\"\")","v":""}]
[null,null,null,{"$f":"IFERROR(VLOOKUP(C1684,Teilnehmer!$B$3:$C$1002,2,0),\"\")","v":""},null,{"$f":"IFERROR(VLOOKUP(E1684,Teilnehmer!$B$3:$C$1002,2,0),\"\")","v":""}]
[null,null,null,{"$f":"IFERROR(VLOOKUP(C1685,Teilnehmer!$B$3:$C$1002,2,0),\"\")","v":""},null,{"$f":"IFERROR(VLOOKUP(E1685,Teilnehmer!$B$3:$C$1002,2,0),\"\")","v":""}]
[null,null,null,{"$f":"IFERROR(VLOOKUP(C1686,Teilnehmer!$B$3:$C$1002,2,0),\"\")","v":""},null,{"$f":"IFERROR(VLOOKUP(E1686,Teilnehmer!$B$3:$C$1002,2,0),\"\")","v":""}]
[null,null,null,{"$f":"IFERROR(VLOOKUP(C1687,Teilnehmer!$B$3:$C$1002,2,0),\"\")","v":""},null,{"$f":"IFERROR(VLOOKUP(E1687,Teilnehmer!$B$3:$C$1002,2,0),\"\")","v":""}]
[null,null,null,{"$f":"IFERROR(VLOOKUP(C1688,Teilnehmer!$B$3:$C$1002,2,0),\"\")","v":""},null,{"$f":"IFERROR(VLOOKUP(E1688,Teilnehmer!$B$3:$C$1002,2,0),\"\")","v":""}]
[null,null,null,{"$f":"IFERROR(VLOOKUP(C1689,Teilnehmer!$B$3:$C$1002,2,0),\"\")","v":""},null,{"$f":"IFERROR(VLOOKUP(E1689,Teilnehmer!$B$3:$C$1002,2,0),\"\")","v":""}]
[null,null,null,{"$f":"IFERROR(VLOOKUP(C1690,Teilnehmer!$B$3:$C$1002,2,0),\"\")","v":""},null,{"$f":"IFERROR(VLOOKUP(E1690,Teilnehmer!$B$3:$C$1002,2,0),\"\")","v":""}]
[null,null,null,{"$f":"IFERROR(VLOOKUP(C1691,Teilnehmer!$B$3:$C$1002,2,0),\"\")","v":""},null,{"$f":"IFERROR(VLOOKUP(E1691,Teilnehmer!$B$3:$C$1002,2,0),\"\")","v":""}]
[null,null,null,{"$f":"IFERROR(VLOOKUP(C1692,Teilnehmer!$B$3:$C$1002,2,0),\"\")","v":""},null,{"$f":"IFERROR(VLOOKUP(E1692,Teilnehmer!$B$3:$C$1002,2,0),\"\")","v":""}]
[null,null,null,{"$f":"IFERROR(VLOOKUP(C1693,Teilnehmer!$B$3:$C$1002,2,0),\"\")","v":""},null,{"$f":"IFERROR(VLOOKUP(E1693,Teilnehmer!$B$3:$C$1002,2,0),\"\")","v":""}]
[null,null,null,{"$f":"IFERROR(VLOOKUP(C1694,Teilnehmer!$B$3:$C$1002,2,0),\"\")","v":""},null,{"$f":"IFERROR(VLOOKUP(E1694,Teilnehmer!$B$3:$C$1002,2,0),\"\")","v":""}]
[null,null,null,{"$f":"IFERROR(VLOOKUP(C1695,Teilnehmer!$B$3:$C$1002,2,0),\"\")","v":""},null,{"$f":"IFERROR(VLOOKUP(E1695,Teilnehmer!$B$3:$C$1002,2,0),\"\")","v":""}]
[null,null,null,{"$f":"IFERROR(VLOOKUP(C1696,Teilnehmer!$B$3:$C$1002,2,0),\"\")","v":""},null,{"$f":"IFERROR(VLOOKUP(E1696,Teilnehmer!$B$3:$C$1002,2,0),\"\")","v":""}]
[null,null,null,{"$f":"IFERROR(VLOOKUP(C1697,Teilnehmer!$B$3:$C$1002,2,0),\"\")","v":""},null,{"$f":"IFERROR(VLOOKUP(E1697,Teilnehmer!$B$3:$C$1002,2,0),\"\")","v":""}]
[null,null,null,{"$f":"IFERROR(VLOOKUP(C1698,Teilnehmer!$B$3:$C$1002,2,0),\"\")","v":""},null,{"$f":"IFERROR(VLOOKUP(E1698,Teilnehmer!$B$3:$C$1002,2,0),\"\")","v":""}]
[null,null,null,{"$f":"IFERROR(VLOOKUP(C1699,Teilnehmer!$B$3:$C$1002,2,0),\"\")","v":""},null,{"$f":"IFERROR(VLOOKUP(E1699,Teilnehmer!$B$3:$C$1002,2,0),\"\")","v":""}]
[null,null,null,{"$f":"IFERROR(VLOOKUP(C1700,Teilnehmer!$B$3:$C$1002,2,0),\"\")","v":""},null,{"$f":"IFERROR(VLOOKUP(E1700,Teilnehmer!$B$3:$C$1002,2,0),\"\")","v":""}]
[null,null,null,{"$f":"IFERROR(VLOOKUP(C1701,Teilnehmer!$B$3:$C$1002,2,0),\"\")","v":""},null,{"$f":"IFERROR(VLOOKUP(E1701,Teilnehmer!$B$3:$C$1002,2,0),\"\")","v":""}]
[null,null,null,{"$f":"IFERROR(VLOOKUP(C1702,Teilnehmer!$B$3:$C$1002,2,0),\"\")","v":""},null,{"$f":"IFERROR(VLOOKUP(E1702,Teilnehmer!$B$3:$C$1002,2,0),\"\")","v":""}]
[null,null,null,{"$f":"IFERROR(VLOOKUP(C1703,Teilnehmer!$B$3:$C$1002,2,0),\"\")","v":""},null,{"$f":"IFERROR(VLOOKUP(E1703,Teilnehmer!$B$3:$C$1002,2,0),\"\")","v":""}]
[null,null,null,{"$f":"IFERROR(VLOOKUP(C1704,Teilnehmer!$B$3:$C$1002,2,0),\"\")","v":""},null,{"$f":"IFERROR(VLOOKUP(E1704,Teilnehmer!$B$3:$C$1002,2,0),\"\")","v":""}]
[null,null,null,{"$f":"IFERROR(VLOOKUP(C1705,Teilnehmer!$B$3:$C$1002,2,0),\"\")","v":""},null,{"$f":"IFERROR(VLOOKUP(E1705,Teilnehmer!$B$3:$C$1002,2,0),\"\")","v":""}]
[null,null,null,{"$f":"IFERROR(VLOOKUP(C1706,Teilnehmer!$B$3:$C$1002,2,0),\"\")","v":""},null,{"$f":"IFERROR(VLOOKUP(E1706,Teilnehmer!$B$3:$C$1002,2,0),\"\")","v":""}]
[null,null,null,{"$f":"IFERROR(VLOOKUP(C1707,Teilnehmer!$B$3:$C$1002,2,0),\"\")","v":""},null,{"$f":"IFERROR(VLOOKUP(E1707,Teilnehmer!$B$3:$C$1002,2,0),\"\")","v":""}]
[null,null,null,{"$f":"IFERROR(VLOOKUP(C1708,Teilnehmer!$B$3:$C$1002,2,0),\"\")","v":""},null,{"$f":"IFERROR(VLOOKUP(E1708,Teilnehmer!$B$3:$C$1002,2,0),\"\")","v":""}]
[null,null,null,{"$f":"IFERROR(VLOOKUP(C1709,Teilnehmer!$B$3:$C$1002,2,0),\"\")","v":""},null,{"$f":"IFERROR(VLOOKUP(E1709,Teilnehmer!$B$3:$C$1002,2,0),\"\")","v":""}]
[null,null,null,{"$f":"IFERROR(VLOOKUP(C1710,Teilnehmer!$B$3:$C$1002,2,0),\"\")","v":""},null,{"$f":"IFERROR(VLOOKUP(E1710,Teilnehmer!$B$3:$C$1002,2,0),\"\")","v":""}]
[null,null,null,{"$f":"IFERROR(VLOOKUP(C1711,Teilnehmer!$B$3:$C$1002,2,0),\"\")","v":""},null,{"$f":"IFERROR(VLOOKUP(E1711,Teilnehmer!$B$3:$C$1002,2,0),\"\")","v":""}]
[null,null,null,{"$f":"IFERROR(VLOOKUP(C1712,Teilnehmer!$B$3:$C$1002,2,0),\"\")","v":""},null,{"$f":"IFERROR(VLOOKUP(E1712,Teilnehmer!$B$3:$C$1002,2,0),\"\")","v":""}]
[null,null,null,{"$f":"IFERROR(VLOOKUP(C1713,Teilnehmer!$B$3:$C$1002,2,0),\"\")","v":""},null,{"$f":"IFERROR(VLOOKUP(E1713,Teilnehmer!$B$3:$C$1002,2,0),\"\")","v":""}]
[null,null,null,{"$f":"IFERROR(VLOOKUP(C1714,Teilnehmer!$B$3:$C$1002,2,0),\"\")","v":""},null,{"$f":"IFERROR(VLOOKUP(E1714,Teilnehmer!$B$3:$C$1002,2,0),\"\")","v":""}]
[null,null,null,{"$f":"IFERROR(VLOOKUP(C1715,Teilnehmer!$B$3:$C$1002,2,0),\"\")","v":""},null,{"$f":"IFERROR(VLOOKUP(E1715,Teilnehmer!$B$3:$C$1002,2,0),\"\")","v":""}]
[null,null,null,{"$f":"IFERROR(VLOOKUP(C1716,Teilnehmer!$B$3:$C$1002,2,0),\"\")","v":""},null,{"$f":"IFERROR(VLOOKUP(E1716,Teilnehmer!$B$3:$C$1002,2,0),\"\")","v":""}]
[null,null,null,{"$f":"IFERROR(VLOOKUP(C1717,Teilnehmer!$B$3:$C$1002,2,0),\"\")","v":""},null,{"$f":"IFERROR(VLOOKUP(E1717,Teilnehmer!$B$3:$C$1002,2,0),\"\")","v":""}]
[null,null,null,{"$f":"IFERROR(VLOOKUP(C1718,Teilnehmer!$B$3:$C$1002,2,0),\"\")","v":""},null,{"$f":"IFERROR(VLOOKUP(E1718,Teilnehmer!$B$3:$C$1002,2,0),\"\")","v":""}]
[null,null,null,{"$f":"IFERROR(VLOOKUP(C1719,Teilnehmer!$B$3:$C$1002,2,0),\"\")","v":""},null,{"$f":"IFERROR(VLOOKUP(E1719,Teilnehmer!$B$3:$C$1002,2,0),\"\")","v":""}]
[null,null,null,{"$f":"IFERROR(VLOOKUP(C1720,Teilnehmer!$B$3:$C$1002,2,0),\"\")","v":""},null,{"$f":"IFERROR(VLOOKUP(E1720,Teilnehmer!$B$3:$C$1002,2,0),\"\")","v":""}]
[null,null,null,{"$f":"IFERROR(VLOOKUP(C1721,Teilnehmer!$B$3:$C$1002,2,0),\"\")","v":""},null,{"$f":"IFERROR(VLOOKUP(E1721,Teilnehmer!$B$3:$C$1002,2,0),\"\")","v":""}]
[null,null,null,{"$f":"IFERROR(VLOOKUP(C1722,Teilnehmer!$B$3:$C$1002,2,0),\"\")","v":""},null,{"$f":"IFERROR(VLOOKUP(E1722,Teilnehmer!$B$3:$C$1002,2,0),\"\")","v":""}]
[null,null,null,{"$f":"IFERROR(VLOOKUP(C1723,Teilnehmer!$B$3:$C$1002,2,0),\"\")","v":""},null,{"$f":"IFERROR(VLOOKUP(E1723,Teilnehmer!$B$3:$C$1002,2,0),\"\")","v":""}]
[null,null,null,{"$f":"IFERROR(VLOOKUP(C1724,Teilnehmer!$B$3:$C$1002,2,0),\"\")","v":""},null,{"$f":"IFERROR(VLOOKUP(E1724,Teilnehmer!$B$3:$C$1002,2,0),\"\")","v":""}]
[null,null,null,{"$f":"IFERROR(VLOOKUP(C1725,Teilnehmer!$B$3:$C$1002,2,0),\"\")","v":""},null,{"$f":"IFERROR(VLOOKUP(E1725,Teilnehmer!$B$3:$C$1002,2,0),\"\")","v":""}]
[null,null,null,{"$f":"IFERROR(VLOOKUP(C1726,Teilnehmer!$B$3:$C$1002,2,0),\"\")","v":""},null,{"$f":"IFERROR(VLOOKUP(E1726,Teilnehmer!$B$3:$C$1002,2,0),\"\")","v":""}]
[null,null,null,{"$f":"IFERROR(VLOOKUP(C1727,Teilnehmer!$B$3:$C$1002,2,0),\"\")","v":""},null,{"$f":"IFERROR(VLOOKUP(E1727,Teilnehmer!$B$3:$C$1002,2,0),\"\")","v":""}]
[null,null,null,{"$f":"IFERROR(VLOOKUP(C1728,Teilnehmer!$B$3:$C$1002,2,0),\"\")","v":""},null,{"$f":"IFERROR(VLOOKUP(E1728,Teilnehmer!$B$3:$C$1002,2,0),\"\")","v":""}]
[null,null,null,{"$f":"IFERROR(VLOOKUP(C1729,Teilnehmer!$B$3:$C$1002,2,0),\"\")","v":""},null,{"$f":"IFERROR(VLOOKUP(E1729,Teilnehmer!$B$3:$C$1002,2,0),\"\")","v":""}]
[null,null,null,{"$f":"IFERROR(VLOOKUP(C1730,Teilnehmer!$B$3:$C$1002,2,0),\"\")","v":""},null,{"$f":"IFERROR(VLOOKUP(E1730,Teilnehmer!$B$3:$C$1002,2,0),\"\")","v":""}]
[null,null,null,{"$f":"IFERROR(VLOOKUP(C1731,Teilnehmer!$B$3:$C$1002,2,0),\"\")","v":""},null,{"$f":"IFERROR(VLOOKUP(E1731,Teilnehmer!$B$3:$C$1002,2,0),\"\")","v":""}]
[null,null,null,{"$f":"IFERROR(VLOOKUP(C1732,Teilnehmer!$B$3:$C$1002,2,0),\"\")","v":""},null,{"$f":"IFERROR(VLOOKUP(E1732,Teilnehmer!$B$3:$C$1002,2,0),\"\")","v":""}]
[null,null,null,{"$f":"IFERROR(VLOOKUP(C1733,Teilnehmer!$B$3:$C$1002,2,0),\"\")","v":""},null,{"$f":"IFERROR(VLOOKUP(E1733,Teilnehmer!$B$3:$C$1002,2,0),\"\")","v":""}]
[null,null,null,{"$f":"IFERROR(VLOOKUP(C1734,Teilnehmer!$B$3:$C$1002,2,0),\"\")","v":""},null,{"$f":"IFERROR(VLOOKUP(E1734,Teilnehmer!$B$3:$C$1002,2,0),\"\")","v":""}]
[null,null,null,{"$f":"IFERROR(VLOOKUP(C1735,Teilnehmer!$B$3:$C$1002,2,0),\"\")","v":""},null,{"$f":"IFERROR(VLOOKUP(E1735,Teilnehmer!$B$3:$C$1002,2,0),\"\")","v":""}]
[null,null,null,{"$f":"IFERROR(VLOOKUP(C1736,Teilnehmer!$B$3:$C$1002,2,0),\"\")","v":""},null,{"$f":"IFERROR(VLOOKUP(E1736,Teilnehmer!$B$3:$C$1002,2,0),\"\")","v":""}]
[null,null,null,{"$f":"IFERROR(VLOOKUP(C1737,Teilnehmer!$B$3:$C$1002,2,0),\"\")","v":""},null,{"$f":"IFERROR(VLOOKUP(E1737,Teilnehmer!$B$3:$C$1002,2,0),\"\")","v":""}]
[null,null,null,{"$f":"IFERROR(VLOOKUP(C1738,Teilnehmer!$B$3:$C$1002,2,0),\"\")","v":""},null,{"$f":"IFERROR(VLOOKUP(E1738,Teilnehmer!$B$3:$C$1002,2,0),\"\")","v":""}]
[null,null,null,{"$f":"IFERROR(VLOOKUP(C1739,Teilnehmer!$B$3:$C$1002,2,0),\"\")","v":""},null,{"$f":"IFERROR(VLOOKUP(E1739,Teilnehmer!$B$3:$C$1002,2,0),\"\")","v":""}]
[null,null,null,{"$f":"IFERROR(VLOOKUP(C1740,Teilnehmer!$B$3:$C$1002,2,0),\"\")","v":""},null,{"$f":"IFERROR(VLOOKUP(E1740,Teilnehmer!$B$3:$C$1002,2,0),\"\")","v":""}]
[null,null,null,{"$f":"IFERROR(VLOOKUP(C1741,Teilnehmer!$B$3:$C$1002,2,0),\"\")","v":""},null,{"$f":"IFERROR(VLOOKUP(E1741,Teilnehmer!$B$3:$C$1002,2,0),\"\")","v":""}]
[null,null,null,{"$f":"IFERROR(VLOOKUP(C1742,Teilnehmer!$B$3:$C$1002,2,0),\"\")","v":""},null,{"$f":"IFERROR(VLOOKUP(E1742,Teilnehmer!$B$3:$C$1002,2,0),\"\")","v":""}]
[null,null,null,{"$f":"IFERROR(VLOOKUP(C1743,Teilnehmer!$B$3:$C$1002,2,0),\"\")","v":""},null,{"$f":"IFERROR(VLOOKUP(E1743,Teilnehmer!$B$3:$C$1002,2,0),\"\")","v":""}]
[null,null,null,{"$f":"IFERROR(VLOOKUP(C1744,Teilnehmer!$B$3:$C$1002,2,0),\"\")","v":""},null,{"$f":"IFERROR(VLOOKUP(E1744,Teilnehmer!$B$3:$C$1002,2,0),\"\")","v":""}]
[null,null,null,{"$f":"IFERROR(VLOOKUP(C1745,Teilnehmer!$B$3:$C$1002,2,0),\"\")","v":""},null,{"$f":"IFERROR(VLOOKUP(E1745,Teilnehmer!$B$3:$C$1002,2,0),\"\")","v":""}]
[null,null,null,{"$f":"IFERROR(VLOOKUP(C1746,Teilnehmer!$B$3:$C$1002,2,0),\"\")","v":""},null,{"$f":"IFERROR(VLOOKUP(E1746,Teilnehmer!$B$3:$C$1002,2,0),\"\")","v":""}]
[null,null,null,{"$f":"IFERROR(VLOOKUP(C1747,Teilnehmer!$B$3:$C$1002,2,0),\"\")","v":""},null,{"$f":"IFERROR(VLOOKUP(E1747,Teilnehmer!$B$3:$C$1002,2,0),\"\")","v":""}]
[null,null,null,{"$f":"IFERROR(VLOOKUP(C1748,Teilnehmer!$B$3:$C$1002,2,0),\"\")","v":""},null,{"$f":"IFERROR(VLOOKUP(E1748,Teilnehmer!$B$3:$C$1002,2,0),\"\")","v":""}]
[null,null,null,{"$f":"IFERROR(VLOOKUP(C1749,Teilnehmer!$B$3:$C$1002,2,0),\"\")","v":""},null,{"$f":"IFERROR(VLOOKUP(E1749,Teilnehmer!$B$3:$C$1002,2,0),\"\")","v":""}]
[null,null,null,{"$f":"IFERROR(VLOOKUP(C1750,Teilnehmer!$B$3:$C$1002,2,0),\"\")","v":""},null,{"$f":"IFERROR(VLOOKUP(E1750,Teilnehmer!$B$3:$C$1002,2,0),\"\")","v":""}]
[null,null,null,{"$f":"IFERROR(VLOOKUP(C1751,Teilnehmer!$B$3:$C$1002,2,0),\"\")","v":""},null,{"$f":"IFERROR(VLOOKUP(E1751,Teilnehmer!$B$3:$C$1002,2,0),\"\")","v":""}]
[null,null,null,{"$f":"IFERROR(VLOOKUP(C1752,Teilnehmer!$B$3:$C$1002,2,0),\"\")","v":""},null,{"$f":"IFERROR(VLOOKUP(E1752,Teilnehmer!$B$3:$C$1002,2,0),\"\")","v":""}]
[null,null,null,{"$f":"IFERROR(VLOOKUP(C1753,Teilnehmer!$B$3:$C$1002,2,0),\"\")","v":""},null,{"$f":"IFERROR(VLOOKUP(E1753,Teilnehmer!$B$3:$C$1002,2,0),\"\")","v":""}]
[null,null,null,{"$f":"IFERROR(VLOOKUP(C1754,Teilnehmer!$B$3:$C$1002,2,0),\"\")","v":""},null,{"$f":"IFERROR(VLOOKUP(E1754,Teilnehmer!$B$3:$C$1002,2,0),\"\")","v":""}]
[null,null,null,{"$f":"IFERROR(VLOOKUP(C1755,Teilnehmer!$B$3:$C$1002,2,0),\"\")","v":""},null,{"$f":"IFERROR(VLOOKUP(E1755,Teilnehmer!$B$3:$C$1002,2,0),\"\")","v":""}]
[null,null,null,{"$f":"IFERROR(VLOOKUP(C1756,Teilnehmer!$B$3:$C$1002,2,0),\"\")","v":""},null,{"$f":"IFERROR(VLOOKUP(E1756,Teilnehmer!$B$3:$C$1002,2,0),\"\")","v":""}]
[null,null,null,{"$f":"IFERROR(VLOOKUP(C1757,Teilnehmer!$B$3:$C$1002,2,0),\"\")","v":""},null,{"$f":"IFERROR(VLOOKUP(E1757,Teilnehmer!$B$3:$C$1002,2,0),\"\")","v":""}]
[null,null,null,{"$f":"IFERROR(VLOOKUP(C1758,Teilnehmer!$B$3:$C$1002,2,0),\"\")","v":""},null,{"$f":"IFERROR(VLOOKUP(E1758,Teilnehmer!$B$3:$C$1002,2,0),\"\")","v":""}]
[null,null,null,{"$f":"IFERROR(VLOOKUP(C1759,Teilnehmer!$B$3:$C$1002,2,0),\"\")","v":""},null,{"$f":"IFERROR(VLOOKUP(E1759,Teilnehmer!$B$3:$C$1002,2,0),\"\")","v":""}]
[null,null,null,{"$f":"IFERROR(VLOOKUP(C1760,Teilnehmer!$B$3:$C$1002,2,0),\"\")","v":""},null,{"$f":"IFERROR(VLOOKUP(E1760,Teilnehmer!$B$3:$C$1002,2,0),\"\")","v":""}]
[null,null,null,{"$f":"IFERROR(VLOOKUP(C1761,Teilnehmer!$B$3:$C$1002,2,0),\"\")","v":""},null,{"$f":"IFERROR(VLOOKUP(E1761,Teilnehmer!$B$3:$C$1002,2,0),\"\")","v":""}]
[null,null,null,{"$f":"IFERROR(VLOOKUP(C1762,Teilnehmer!$B$3:$C$1002,2,0),\"\")","v":""},null,{"$f":"IFERROR(VLOOKUP(E1762,Teilnehmer!$B$3:$C$1002,2,0),\"\")","v":""}]
[null,null,null,{"$f":"IFERROR(VLOOKUP(C1763,Teilnehmer!$B$3:$C$1002,2,0),\"\")","v":""},null,{"$f":"IFERROR(VLOOKUP(E1763,Teilnehmer!$B$3:$C$1002,2,0),\"\")","v":""}]
[null,null,null,{"$f":"IFERROR(VLOOKUP(C1764,Teilnehmer!$B$3:$C$1002,2,0),\"\")","v":""},null,{"$f":"IFERROR(VLOOKUP(E1764,Teilnehmer!$B$3:$C$1002,2,0),\"\")","v":""}]
[null,null,null,{"$f":"IFERROR(VLOOKUP(C1765,Teilnehmer!$B$3:$C$1002,2,0),\"\")","v":""},null,{"$f":"IFERROR(VLOOKUP(E1765,Teilnehmer!$B$3:$C$1002,2,0),\"\")","v":""}]
[null,null,null,{"$f":"IFERROR(VLOOKUP(C1766,Teilnehmer!$B$3:$C$1002,2,0),\"\")","v":""},null,{"$f":"IFERROR(VLOOKUP(E1766,Teilnehmer!$B$3:$C$1002,2,0),\"\")","v":""}]
[null,null,null,{"$f":"IFERROR(VLOOKUP(C1767,Teilnehmer!$B$3:$C$1002,2,0),\"\")","v":""},null,{"$f":"IFERROR(VLOOKUP(E1767,Teilnehmer!$B$3:$C$1002,2,0),\"\")","v":""}]
[null,null,null,{"$f":"IFERROR(VLOOKUP(C1768,Teilnehmer!$B$3:$C$1002,2,0),\"\")","v":""},null,{"$f":"IFERROR(VLOOKUP(E1768,Teilnehmer!$B$3:$C$1002,2,0),\"\")","v":""}]
[null,null,null,{"$f":"IFERROR(VLOOKUP(C1769,Teilnehmer!$B$3:$C$1002,2,0),\"\")","v":""},null,{"$f":"IFERROR(VLOOKUP(E1769,Teilnehmer!$B$3:$C$1002,2,0),\"\")","v":""}]
[null,null,null,{"$f":"IFERROR(VLOOKUP(C1770,Teilnehmer!$B$3:$C$1002,2,0),\"\")","v":""},null,{"$f":"IFERROR(VLOOKUP(E1770,Teilnehmer!$B$3:$C$1002,2,0),\"\")","v":""}]
[null,null,null,{"$f":"IFERROR(VLOOKUP(C1771,Teilnehmer!$B$3:$C$1002,2,0),\"\")","v":""},null,{"$f":"IFERROR(VLOOKUP(E1771,Teilnehmer!$B$3:$C$1002,2,0),\"\")","v":""}]
[null,null,null,{"$f":"IFERROR(VLOOKUP(C1772,Teilnehmer!$B$3:$C$1002,2,0),\"\")","v":""},null,{"$f":"IFERROR(VLOOKUP(E1772,Teilnehmer!$B$3:$C$1002,2,0),\"\")","v":""}]
[null,null,null,{"$f":"IFERROR(VLOOKUP(C1773,Teilnehmer!$B$3:$C$1002,2,0),\"\")","v":""},null,{"$f":"IFERROR(VLOOKUP(E1773,Teilnehmer!$B$3:$C$1002,2,0),\"\")","v":""}]
[null,null,null,{"$f":"IFERROR(VLOOKUP(C1774,Teilnehmer!$B$3:$C$1002,2,0),\"\")","v":""},null,{"$f":"IFERROR(VLOOKUP(E1774,Teilnehmer!$B$3:$C$1002,2,0),\"\")","v":""}]
[null,null,null,{"$f":"IFERROR(VLOOKUP(C1775,Teilnehmer!$B$3:$C$1002,2,0),\"\")","v":""},null,{"$f":"IFERROR(VLOOKUP(E1775,Teilnehmer!$B$3:$C$1002,2,0),\"\")","v":""}]
[null,null,null,{"$f":"IFERROR(VLOOKUP(C1776,Teilnehmer!$B$3:$C$1002,2,0),\"\")","v":""},null,{"$f":"IFERROR(VLOOKUP(E1776,Teilnehmer!$B$3:$C$1002,2,0),\"\")","v":""}]
[null,null,null,{"$f":"IFERROR(VLOOKUP(C1777,Teilnehmer!$B$3:$C$1002,2,0),\"\")","v":""},null,{"$f":"IFERROR(VLOOKUP(E1777,Teilnehmer!$B$3:$C$1002,2,0),\"\")","v":""}]
[null,null,null,{"$f":"IFERROR(VLOOKUP(C1778,Teilnehmer!$B$3:$C$1002,2,0),\"\")","v":""},null,{"$f":"IFERROR(VLOOKUP(E1778,Teilnehmer!$B$3:$C$1002,2,0),\"\")","v":""}]
[null,null,null,{"$f":"IFERROR(VLOOKUP(C1779,Teilnehmer!$B$3:$C$1002,2,0),\"\")","v":""},null,{"$f":"IFERROR(VLOOKUP(E1779,Teilnehmer!$B$3:$C$1002,2,0),\"\")","v":""}]
[null,null,null,{"$f":"IFERROR(VLOOKUP(C1780,Teilnehmer!$B$3:$C$1002,2,0),\"\")","v":""},null,{"$f":"IFERROR(VLOOKUP(E1780,Teilnehmer!$B$3:$C$1002,2,0),\"\")","v":""}]
[null,null,null,{"$f":"IFERROR(VLOOKUP(C1781,Teilnehmer!$B$3:$C$1002,2,0),\"\")","v":""},null,{"$f":"IFERROR(VLOOKUP(E1781,Teilnehmer!$B$3:$C$1002,2,0),\"\")","v":""}]
[null,null,null,{"$f":"IFERROR(VLOOKUP(C1782,Teilnehmer!$B$3:$C$1002,2,0),\"\")","v":""},null,{"$f":"IFERROR(VLOOKUP(E1782,Teilnehmer!$B$3:$C$1002,2,0),\"\")","v":""}]
[null,null,null,{"$f":"IFERROR(VLOOKUP(C1783,Teilnehmer!$B$3:$C$1002,2,0),\"\")","v":""},null,{"$f":"IFERROR(VLOOKUP(E1783,Teilnehmer!$B$3:$C$1002,2,0),\"\")","v":""}]
[null,null,null,{"$f":"IFERROR(VLOOKUP(C1784,Teilnehmer!$B$3:$C$1002,2,0),\"\")","v":""},null,{"$f":"IFERROR(VLOOKUP(E1784,Teilnehmer!$B$3:$C$1002,2,0),\"\")","v":""}]
[null,null,null,{"$f":"IFERROR(VLOOKUP(C1785,Teilnehmer!$B$3:$C$1002,2,0),\"\")","v":""},null,{"$f":"IFERROR(VLOOKUP(E1785,Teilnehmer!$B$3:$C$1002,2,0),\"\")","v":""}]
[null,null,null,{"$f":"IFERROR(VLOOKUP(C1786,Teilnehmer!$B$3:$C$1002,2,0),\"\")","v":""},null,{"$f":"IFERROR(VLOOKUP(E1786,Teilnehmer!$B$3:$C$1002,2,0),\"\")","v":""}]
[null,null,null,{"$f":"IFERROR(VLOOKUP(C1787,Teilnehmer!$B$3:$C$1002,2,0),\"\")","v":""},null,{"$f":"IFERROR(VLOOKUP(E1787,Teilnehmer!$B$3:$C$1002,2,0),\"\")","v":""}]
[null,null,null,{"$f":"IFERROR(VLOOKUP(C1788,Teilnehmer!$B$3:$C$1002,2,0),\"\")","v":""},null,{"$f":"IFERROR(VLOOKUP(E1788,Teilnehmer!$B$3:$C$1002,2,0),\"\")","v":""}]
[null,null,null,{"$f":"IFERROR(VLOOKUP(C1789,Teilnehmer!$B$3:$C$1002,2,0),\"\")","v":""},null,{"$f":"IFERROR(VLOOKUP(E1789,Teilnehmer!$B$3:$C$1002,2,0),\"\")","v":""}]
[null,null,null,{"$f":"IFERROR(VLOOKUP(C1790,Teilnehmer!$B$3:$C$1002,2,0),\"\")","v":""},null,{"$f":"IFERROR(VLOOKUP(E1790,Teilnehmer!$B$3:$C$1002,2,0),\"\")","v":""}]
[null,null,null,{"$f":"IFERROR(VLOOKUP(C1791,Teilnehmer!$B$3:$C$1002,2,0),\"\")","v":""},null,{"$f":"IFERROR(VLOOKUP(E1791,Teilnehmer!$B$3:$C$1002,2,0),\"\")","v":""}]
[null,null,null,{"$f":"IFERROR(VLOOKUP(C1792,Teilnehmer!$B$3:$C$1002,2,0),\"\")","v":""},null,{"$f":"IFERROR(VLOOKUP(E1792,Teilnehmer!$B$3:$C$1002,2,0),\"\")","v":""}]
[null,null,null,{"$f":"IFERROR(VLOOKUP(C1793,Teilnehmer!$B$3:$C$1002,2,0),\"\")","v":""},null,{"$f":"IFERROR(VLOOKUP(E1793,Teilnehmer!$B$3:$C$1002,2,0),\"\")","v":""}]
[null,null,null,{"$f":"IFERROR(VLOOKUP(C1794,Teilnehmer!$B$3:$C$1002,2,0),\"\")","v":""},null,{"$f":"IFERROR(VLOOKUP(E1794,Teilnehmer!$B$3:$C$1002,2,0),\"\")","v":""}]
[null,null,null,{"$f":"IFERROR(VLOOKUP(C1795,Teilnehmer!$B$3:$C$1002,2,0),\"\")","v":""},null,{"$f":"IFERROR(VLOOKUP(E1795,Teilnehmer!$B$3:$C$1002,2,0),\"\")","v":""}]
[null,null,null,{"$f":"IFERROR(VLOOKUP(C1796,Teilnehmer!$B$3:$C$1002,2,0),\"\")","v":""},null,{"$f":"IFERROR(VLOOKUP(E1796,Teilnehmer!$B$3:$C$1002,2,0),\"\")","v":""}]
[null,null,null,{"$f":"IFERROR(VLOOKUP(C1797,Teilnehmer!$B$3:$C$1002,2,0),\"\")","v":""},null,{"$f":"IFERROR(VLOOKUP(E1797,Teilnehmer!$B$3:$C$1002,2,0),\"\")","v":""}]
[null,null,null,{"$f":"IFERROR(VLOOKUP(C1798,Teilnehmer!$B$3:$C$1002,2,0),\"\")","v":""},null,{"$f":"IFERROR(VLOOKUP(E1798,Teilnehmer!$B$3:$C$1002,2,0),\"\")","v":""}]
[null,null,null,{"$f":"IFERROR(VLOOKUP(C1799,Teilnehmer!$B$3:$C$1002,2,0),\"\")","v":""},null,{"$f":"IFERROR(VLOOKUP(E1799,Teilnehmer!$B$3:$C$1002,2,0),\"\")","v":""}]
[null,null,null,{"$f":"IFERROR(VLOOKUP(C1800,Teilnehmer!$B$3:$C$1002,2,0),\"\")","v":""},null,{"$f":"IFERROR(VLOOKUP(E1800,Teilnehmer!$B$3:$C$1002,2,0),\"\")","v":""}]
[null,null,null,{"$f":"IFERROR(VLOOKUP(C1801,Teilnehmer!$B$3:$C$1002,2,0),\"\")","v":""},null,{"$f":"IFERROR(VLOOKUP(E1801,Teilnehmer!$B$3:$C$1002,2,0),\"\")","v":""}]
[null,null,null,{"$f":"IFERROR(VLOOKUP(C1802,Teilnehmer!$B$3:$C$1002,2,0),\"\")","v":""},null,{"$f":"IFERROR(VLOOKUP(E1802,Teilnehmer!$B$3:$C$1002,2,0),\"\")","v":""}]
[null,null,null,{"$f":"IFERROR(VLOOKUP(C1803,Teilnehmer!$B$3:$C$1002,2,0),\"\")","v":""},null,{"$f":"IFERROR(VLOOKUP(E1803,Teilnehmer!$B$3:$C$1002,2,0),\"\")","v":""}]
[null,null,null,{"$f":"IFERROR(VLOOKUP(C1804,Teilnehmer!$B$3:$C$1002,2,0),\"\")","v":""},null,{"$f":"IFERROR(VLOOKUP(E1804,Teilnehmer!$B$3:$C$1002,2,0),\"\")","v":""}]
[null,null,null,{"$f":"IFERROR(VLOOKUP(C1805,Teilnehmer!$B$3:$C$1002,2,0),\"\")","v":""},null,{"$f":"IFERROR(VLOOKUP(E1805,Teilnehmer!$B$3:$C$1002,2,0),\"\")","v":""}]
[null,null,null,{"$f":"IFERROR(VLOOKUP(C1806,Teilnehmer!$B$3:$C$1002,2,0),\"\")","v":""},null,{"$f":"IFERROR(VLOOKUP(E1806,Teilnehmer!$B$3:$C$1002,2,0),\"\")","v":""}]
[null,null,null,{"$f":"IFERROR(VLOOKUP(C1807,Teilnehmer!$B$3:$C$1002,2,0),\"\")","v":""},null,{"$f":"IFERROR(VLOOKUP(E1807,Teilnehmer!$B$3:$C$1002,2,0),\"\")","v":""}]
[null,null,null,{"$f":"IFERROR(VLOOKUP(C1808,Teilnehmer!$B$3:$C$1002,2,0),\"\")","v":""},null,{"$f":"IFERROR(VLOOKUP(E1808,Teilnehmer!$B$3:$C$1002,2,0),\"\")","v":""}]
[null,null,null,{"$f":"IFERROR(VLOOKUP(C1809,Teilnehmer!$B$3:$C$1002,2,0),\"\")","v":""},null,{"$f":"IFERROR(VLOOKUP(E1809,Teilnehmer!$B$3:$C$1002,2,0),\"\")","v":""}]
[null,null,null,{"$f":"IFERROR(VLOOKUP(C1810,Teilnehmer!$B$3:$C$1002,2,0),\"\")","v":""},null,{"$f":"IFERROR(VLOOKUP(E1810,Teilnehmer!$B$3:$C$1002,2,0),\"\")","v":""}]
[null,null,null,{"$f":"IFERROR(VLOOKUP(C1811,Teilnehmer!$B$3:$C$1002,2,0),\"\")","v":""},null,{"$f":"IFERROR(VLOOKUP(E1811,Teilnehmer!$B$3:$C$1002,2,0),\"\")","v":""}]
[null,null,null,{"$f":"IFERROR(VLOOKUP(C1812,Teilnehmer!$B$3:$C$1002,2,0),\"\")","v":""},null,{"$f":"IFERROR(VLOOKUP(E1812,Teilnehmer!$B$3:$C$1002,2,0),\"\")","v":""}]
[null,null,null,{"$f":"IFERROR(VLOOKUP(C1813,Teilnehmer!$B$3:$C$1002,2,0),\"\")","v":""},null,{"$f":"IFERROR(VLOOKUP(E1813,Teilnehmer!$B$3:$C$1002,2,0),\"\")","v":""}]
[null,null,null,{"$f":"IFERROR(VLOOKUP(C1814,Teilnehmer!$B$3:$C$1002,2,0),\"\")","v":""},null,{"$f":"IFERROR(VLOOKUP(E1814,Teilnehmer!$B$3:$C$1002,2,0),\"\")","v":""}]
[null,null,null,{"$f":"IFERROR(VLOOKUP(C1815,Teilnehmer!$B$3:$C$1002,2,0),\"\")","v":""},null,{"$f":"IFERROR(VLOOKUP(E1815,Teilnehmer!$B$3:$C$1002,2,0),\"\")","v":""}]
[null,null,null,{"$f":"IFERROR(VLOOKUP(C1816,Teilnehmer!$B$3:$C$1002,2,0),\"\")","v":""},null,{"$f":"IFERROR(VLOOKUP(E1816,Teilnehmer!$B$3:$C$1002,2,0),\"\")","v":""}]
[null,null,null,{"$f":"IFERROR(VLOOKUP(C1817,Teilnehmer!$B$3:$C$1002,2,0),\"\")","v":""},null,{"$f":"IFERROR(VLOOKUP(E1817,Teilnehmer!$B$3:$C$1002,2,0),\"\")","v":""}]
[null,null,null,{"$f":"IFERROR(VLOOKUP(C1818,Teilnehmer!$B$3:$C$1002,2,0),\"\")","v":""},null,{"$f":"IFERROR(VLOOKUP(E1818,Teilnehmer!$B$3:$C$1002,2,0),\"\")","v":""}]
[null,null,null,{"$f":"IFERROR(VLOOKUP(C1819,Teilnehmer!$B$3:$C$1002,2,0),\"\")","v":""},null,{"$f":"IFERROR(VLOOKUP(E1819,Teilnehmer!$B$3:$C$1002,2,0),\"\")","v":""}]
[null,null,null,{"$f":"IFERROR(VLOOKUP(C1820,Teilnehmer!$B$3:$C$1002,2,0),\"\")","v":""},null,{"$f":"IFERROR(VLOOKUP(E1820,Teilnehmer!$B$3:$C$1002,2,0),\"\")","v":""}]
[null,null,null,{"$f":"IFERROR(VLOOKUP(C1821,Teilnehmer!$B$3:$C$1002,2,0),\"\")","v":""},null,{"$f":"IFERROR(VLOOKUP(E1821,Teilnehmer!$B$3:$C$1002,2,0),\"\")","v":""}]
[null,null,null,{"$f":"IFERROR(VLOOKUP(C1822,Teilnehmer!$B$3:$C$1002,2,0),\"\")","v":""},null,{"$f":"IFERROR(VLOOKUP(E1822,Teilnehmer!$B$3:$C$1002,2,0),\"\")","v":""}]
[null,null,null,{"$f":"IFERROR(VLOOKUP(C1823,Teilnehmer!$B$3:$C$1002,2,0),\"\")","v":""},null,{"$f":"IFERROR(VLOOKUP(E1823,Teilnehmer!$B$3:$C$1002,2,0),\"\")","v":""}]
[null,null,null,{"$f":"IFERROR(VLOOKUP(C1824,Teilnehmer!$B$3:$C$1002,2,0),\"\")","v":""},null,{"$f":"IFERROR(VLOOKUP(E1824,Teilnehmer!$B$3:$C$1002,2,0),\"\")","v":""}]
[null,null,null,{"$f":"IFERROR(VLOOKUP(C1825,Teilnehmer!$B$3:$C$1002,2,0),\"\")","v":""},null,{"$f":"IFERROR(VLOOKUP(E1825,Teilnehmer!$B$3:$C$1002,2,0),\"\")","v":""}]
[null,null,null,{"$f":"IFERROR(VLOOKUP(C1826,Teilnehmer!$B$3:$C$1002,2,0),\"\")","v":""},null,{"$f":"IFERROR(VLOOKUP(E1826,Teilnehmer!$B$3:$C$1002,2,0),\"\")","v":""}]
[null,null,null,{"$f":"IFERROR(VLOOKUP(C1827,Teilnehmer!$B$3:$C$1002,2,0),\"\")","v":""},null,{"$f":"IFERROR(VLOOKUP(E1827,Teilnehmer!$B$3:$C$1002,2,0),\"\")","v":""}]
[null,null,null,{"$f":"IFERROR(VLOOKUP(C1828,Teilnehmer!$B$3:$C$1002,2,0),\"\")","v":""},null,{"$f":"IFERROR(VLOOKUP(E1828,Teilnehmer!$B$3:$C$1002,2,0),\"\")","v":""}]
[null,null,null,{"$f":"IFERROR(VLOOKUP(C1829,Teilnehmer!$B$3:$C$1002,2,0),\"\")","v":""},null,{"$f":"IFERROR(VLOOKUP(E1829,Teilnehmer!$B$3:$C$1002,2,0),\"\")","v":""}]
[null,null,null,{"$f":"IFERROR(VLOOKUP(C1830,Teilnehmer!$B$3:$C$1002,2,0),\"\")","v":""},null,{"$f":"IFERROR(VLOOKUP(E1830,Teilnehmer!$B$3:$C$1002,2,0),\"\")","v":""}]
[null,null,null,{"$f":"IFERROR(VLOOKUP(C1831,Teilnehmer!$B$3:$C$1002,2,0),\"\")","v":""},null,{"$f":"IFERROR(VLOOKUP(E1831,Teilnehmer!$B$3:$C$1002,2,0),\"\")","v":""}]
[null,null,null,{"$f":"IFERROR(VLOOKUP(C1832,Teilnehmer!$B$3:$C$1002,2,0),\"\")","v":""},null,{"$f":"IFERROR(VLOOKUP(E1832,Teilnehmer!$B$3:$C$1002,2,0),\"\")","v":""}]
[null,null,null,{"$f":"IFERROR(VLOOKUP(C1833,Teilnehmer!$B$3:$C$1002,2,0),\"\")","v":""},null,{"$f":"IFERROR(VLOOKUP(E1833,Teilnehmer!$B$3:$C$1002,2,0),\"\")","v":""}]
[null,null,null,{"$f":"IFERROR(VLOOKUP(C1834,Teilnehmer!$B$3:$C$1002,2,0),\"\")","v":""},null,{"$f":"IFERROR(VLOOKUP(E1834,Teilnehmer!$B$3:$C$1002,2,0),\"\")","v":""}]
[null,null,null,{"$f":"IFERROR(VLOOKUP(C1835,Teilnehmer!$B$3:$C$1002,2,0),\"\")","v":""},null,{"$f":"IFERROR(VLOOKUP(E1835,Teilnehmer!$B$3:$C$1002,2,0),\"\")","v":""}]
[null,null,null,{"$f":"IFERROR(VLOOKUP(C1836,Teilnehmer!$B$3:$C$1002,2,0),\"\")","v":""},null,{"$f":"IFERROR(VLOOKUP(E1836,Teilnehmer!$B$3:$C$1002,2,0),\"\")","v":""}]
[null,null,null,{"$f":"IFERROR(VLOOKUP(C1837,Teilnehmer!$B$3:$C$1002,2,0),\"\")","v":""},null,{"$f":"IFERROR(VLOOKUP(E1837,Teilnehmer!$B$3:$C$1002,2,0),\"\")","v":""}]
[null,null,null,{"$f":"IFERROR(VLOOKUP(C1838,Teilnehmer!$B$3:$C$1002,2,0),\"\")","v":""},null,{"$f":"IFERROR(VLOOKUP(E1838,Teilnehmer!$B$3:$C$1002,2,0),\"\")","v":""}]
[null,null,null,{"$f":"IFERROR(VLOOKUP(C1839,Teilnehmer!$B$3:$C$1002,2,0),\"\")","v":""},null,{"$f":"IFERROR(VLOOKUP(E1839,Teilnehmer!$B$3:$C$1002,2,0),\"\")","v":""}]
[null,null,null,{"$f":"IFERROR(VLOOKUP(C1840,Teilnehmer!$B$3:$C$1002,2,0),\"\")","v":""},null,{"$f":"IFERROR(VLOOKUP(E1840,Teilnehmer!$B$3:$C$1002,2,0),\"\")","v":""}]
[null,null,null,{"$f":"IFERROR(VLOOKUP(C1841,Teilnehmer!$B$3:$C$1002,2,0),\"\")","v":""},null,{"$f":"IFERROR(VLOOKUP(E1841,Teilnehmer!$B$3:$C$1002,2,0),\"\")","v":""}]
[null,null,null,{"$f":"IFERROR(VLOOKUP(C1842,Teilnehmer!$B$3:$C$1002,2,0),\"\")","v":""},null,{"$f":"IFERROR(VLOOKUP(E1842,Teilnehmer!$B$3:$C$1002,2,0),\"\")","v":""}]
[null,null,null,{"$f":"IFERROR(VLOOKUP(C1843,Teilnehmer!$B$3:$C$1002,2,0),\"\")","v":""},null,{"$f":"IFERROR(VLOOKUP(E1843,Teilnehmer!$B$3:$C$1002,2,0),\"\")","v":""}]
[null,null,null,{"$f":"IFERROR(VLOOKUP(C1844,Teilnehmer!$B$3:$C$1002,2,0),\"\")","v":""},null,{"$f":"IFERROR(VLOOKUP(E1844,Teilnehmer!$B$3:$C$1002,2,0),\"\")","v":""}]
[null,null,null,{"$f":"IFERROR(VLOOKUP(C1845,Teilnehmer!$B$3:$C$1002,2,0),\"\")","v":""},null,{"$f":"IFERROR(VLOOKUP(E1845,Teilnehmer!$B$3:$C$1002,2,0),\"\")","v":""}]
[null,null,null,{"$f":"IFERROR(VLOOKUP(C1846,Teilnehmer!$B$3:$C$1002,2,0),\"\")","v":""},null,{"$f":"IFERROR(VLOOKUP(E1846,Teilnehmer!$B$3:$C$1002,2,0),\"\")","v":""}]
[null,null,null,{"$f":"IFERROR(VLOOKUP(C1847,Teilnehmer!$B$3:$C$1002,2,0),\"\")","v":""},null,{"$f":"IFERROR(VLOOKUP(E1847,Teilnehmer!$B$3:$C$1002,2,0),\"\")","v":""}]
[null,null,null,{"$f":"IFERROR(VLOOKUP(C1848,Teilnehmer!$B$3:$C$1002,2,0),\"\")","v":""},null,{"$f":"IFERROR(VLOOKUP(E1848,Teilnehmer!$B$3:$C$1002,2,0),\"\")","v":""}]
[null,null,null,{"$f":"IFERROR(VLOOKUP(C1849,Teilnehmer!$B$3:$C$1002,2,0),\"\")","v":""},null,{"$f":"IFERROR(VLOOKUP(E1849,Teilnehmer!$B$3:$C$1002,2,0),\"\")","v":""}]
[null,null,null,{"$f":"IFERROR(VLOOKUP(C1850,Teilnehmer!$B$3:$C$1002,2,0),\"\")","v":""},null,{"$f":"IFERROR(VLOOKUP(E1850,Teilnehmer!$B$3:$C$1002,2,0),\"\")","v":""}]
[null,null,null,{"$f":"IFERROR(VLOOKUP(C1851,Teilnehmer!$B$3:$C$1002,2,0),\"\")","v":""},null,{"$f":"IFERROR(VLOOKUP(E1851,Teilnehmer!$B$3:$C$1002,2,0),\"\")","v":""}]
[null,null,null,{"$f":"IFERROR(VLOOKUP(C1852,Teilnehmer!$B$3:$C$1002,2,0),\"\")","v":""},null,{"$f":"IFERROR(VLOOKUP(E1852,Teilnehmer!$B$3:$C$1002,2,0),\"\")","v":""}]
[null,null,null,{"$f":"IFERROR(VLOOKUP(C1853,Teilnehmer!$B$3:$C$1002,2,0),\"\")","v":""},null,{"$f":"IFERROR(VLOOKUP(E1853,Teilnehmer!$B$3:$C$1002,2,0),\"\")","v":""}]
[null,null,null,{"$f":"IFERROR(VLOOKUP(C1854,Teilnehmer!$B$3:$C$1002,2,0),\"\")","v":""},null,{"$f":"IFERROR(VLOOKUP(E1854,Teilnehmer!$B$3:$C$1002,2,0),\"\")","v":""}]
[null,null,null,{"$f":"IFERROR(VLOOKUP(C1855,Teilnehmer!$B$3:$C$1002,2,0),\"\")","v":""},null,{"$f":"IFERROR(VLOOKUP(E1855,Teilnehmer!$B$3:$C$1002,2,0),\"\")","v":""}]
[null,null,null,{"$f":"IFERROR(VLOOKUP(C1856,Teilnehmer!$B$3:$C$1002,2,0),\"\")","v":""},null,{"$f":"IFERROR(VLOOKUP(E1856,Teilnehmer!$B$3:$C$1002,2,0),\"\")","v":""}]
[null,null,null,{"$f":"IFERROR(VLOOKUP(C1857,Teilnehmer!$B$3:$C$1002,2,0),\"\")","v":""},null,{"$f":"IFERROR(VLOOKUP(E1857,Teilnehmer!$B$3:$C$1002,2,0),\"\")","v":""}]
[null,null,null,{"$f":"IFERROR(VLOOKUP(C1858,Teilnehmer!$B$3:$C$1002,2,0),\"\")","v":""},null,{"$f":"IFERROR(VLOOKUP(E1858,Teilnehmer!$B$3:$C$1002,2,0),\"\")","v":""}]
[null,null,null,{"$f":"IFERROR(VLOOKUP(C1859,Teilnehmer!$B$3:$C$1002,2,0),\"\")","v":""},null,{"$f":"IFERROR(VLOOKUP(E1859,Teilnehmer!$B$3:$C$1002,2,0),\"\")","v":""}]
[null,null,null,{"$f":"IFERROR(VLOOKUP(C1860,Teilnehmer!$B$3:$C$1002,2,0),\"\")","v":""},null,{"$f":"IFERROR(VLOOKUP(E1860,Teilnehmer!$B$3:$C$1002,2,0),\"\")","v":""}]
[null,null,null,{"$f":"IFERROR(VLOOKUP(C1861,Teilnehmer!$B$3:$C$1002,2,0),\"\")","v":""},null,{"$f":"IFERROR(VLOOKUP(E1861,Teilnehmer!$B$3:$C$1002,2,0),\"\")","v":""}]
[null,null,null,{"$f":"IFERROR(VLOOKUP(C1862,Teilnehmer!$B$3:$C$1002,2,0),\"\")","v":""},null,{"$f":"IFERROR(VLOOKUP(E1862,Teilnehmer!$B$3:$C$1002,2,0),\"\")","v":""}]
[null,null,null,{"$f":"IFERROR(VLOOKUP(C1863,Teilnehmer!$B$3:$C$1002,2,0),\"\")","v":""},null,{"$f":"IFERROR(VLOOKUP(E1863,Teilnehmer!$B$3:$C$1002,2,0),\"\")","v":""}]
[null,null,null,{"$f":"IFERROR(VLOOKUP(C1864,Teilnehmer!$B$3:$C$1002,2,0),\"\")","v":""},null,{"$f":"IFERROR(VLOOKUP(E1864,Teilnehmer!$B$3:$C$1002,2,0),\"\")","v":""}]
[null,null,null,{"$f":"IFERROR(VLOOKUP(C1865,Teilnehmer!$B$3:$C$1002,2,0),\"\")","v":""},null,{"$f":"IFERROR(VLOOKUP(E1865,Teilnehmer!$B$3:$C$1002,2,0),\"\")","v":""}]
[null,null,null,{"$f":"IFERROR(VLOOKUP(C1866,Teilnehmer!$B$3:$C$1002,2,0),\"\")","v":""},null,{"$f":"IFERROR(VLOOKUP(E1866,Teilnehmer!$B$3:$C$1002,2,0),\"\")","v":""}]
[null,null,null,{"$f":"IFERROR(VLOOKUP(C1867,Teilnehmer!$B$3:$C$1002,2,0),\"\")","v":""},null,{"$f":"IFERROR(VLOOKUP(E1867,Teilnehmer!$B$3:$C$1002,2,0),\"\")","v":""}]
[null,null,null,{"$f":"IFERROR(VLOOKUP(C1868,Teilnehmer!$B$3:$C$1002,2,0),\"\")","v":""},null,{"$f":"IFERROR(VLOOKUP(E1868,Teilnehmer!$B$3:$C$1002,2,0),\"\")","v":""}]
[null,null,null,{"$f":"IFERROR(VLOOKUP(C1869,Teilnehmer!$B$3:$C$1002,2,0),\"\")","v":""},null,{"$f":"IFERROR(VLOOKUP(E1869,Teilnehmer!$B$3:$C$1002,2,0),\"\")","v":""}]
[null,null,null,{"$f":"IFERROR(VLOOKUP(C1870,Teilnehmer!$B$3:$C$1002,2,0),\"\")","v":""},null,{"$f":"IFERROR(VLOOKUP(E1870,Teilnehmer!$B$3:$C$1002,2,0),\"\")","v":""}]
[null,null,null,{"$f":"IFERROR(VLOOKUP(C1871,Teilnehmer!$B$3:$C$1002,2,0),\"\")","v":""},null,{"$f":"IFERROR(VLOOKUP(E1871,Teilnehmer!$B$3:$C$1002,2,0),\"\")","v":""}]
[null,null,null,{"$f":"IFERROR(VLOOKUP(C1872,Teilnehmer!$B$3:$C$1002,2,0),\"\")","v":""},null,{"$f":"IFERROR(VLOOKUP(E1872,Teilnehmer!$B$3:$C$1002,2,0),\"\")","v":""}]
[null,null,null,{"$f":"IFERROR(VLOOKUP(C1873,Teilnehmer!$B$3:$C$1002,2,0),\"\")","v":""},null,{"$f":"IFERROR(VLOOKUP(E1873,Teilnehmer!$B$3:$C$1002,2,0),\"\")","v":""}]
[null,null,null,{"$f":"IFERROR(VLOOKUP(C1874,Teilnehmer!$B$3:$C$1002,2,0),\"\")","v":""},null,{"$f":"IFERROR(VLOOKUP(E1874,Teilnehmer!$B$3:$C$1002,2,0),\"\")","v":""}]
[null,null,null,{"$f":"IFERROR(VLOOKUP(C1875,Teilnehmer!$B$3:$C$1002,2,0),\"\")","v":""},null,{"$f":"IFERROR(VLOOKUP(E1875,Teilnehmer!$B$3:$C$1002,2,0),\"\")","v":""}]
[null,null,null,{"$f":"IFERROR(VLOOKUP(C1876,Teilnehmer!$B$3:$C$1002,2,0),\"\")","v":""},null,{"$f":"IFERROR(VLOOKUP(E1876,Teilnehmer!$B$3:$C$1002,2,0),\"\")","v":""}]
[null,null,null,{"$f":"IFERROR(VLOOKUP(C1877,Teilnehmer!$B$3:$C$1002,2,0),\"\")","v":""},null,{"$f":"IFERROR(VLOOKUP(E1877,Teilnehmer!$B$3:$C$1002,2,0),\"\")","v":""}]
[null,null,null,{"$f":"IFERROR(VLOOKUP(C1878,Teilnehmer!$B$3:$C$1002,2,0),\"\")","v":""},null,{"$f":"IFERROR(VLOOKUP(E1878,Teilnehmer!$B$3:$C$1002,2,0),\"\")","v":""}]
[null,null,null,{"$f":"IFERROR(VLOOKUP(C1879,Teilnehmer!$B$3:$C$1002,2,0),\"\")","v":""},null,{"$f":"IFERROR(VLOOKUP(E1879,Teilnehmer!$B$3:$C$1002,2,0),\"\")","v":""}]
[null,null,null,{"$f":"IFERROR(VLOOKUP(C1880,Teilnehmer!$B$3:$C$1002,2,0),\"\")","v":""},null,{"$f":"IFERROR(VLOOKUP(E1880,Teilnehmer!$B$3:$C$1002,2,0),\"\")","v":""}]
[null,null,null,{"$f":"IFERROR(VLOOKUP(C1881,Teilnehmer!$B$3:$C$1002,2,0),\"\")","v":""},null,{"$f":"IFERROR(VLOOKUP(E1881,Teilnehmer!$B$3:$C$1002,2,0),\"\")","v":""}]
[null,null,null,{"$f":"IFERROR(VLOOKUP(C1882,Teilnehmer!$B$3:$C$1002,2,0),\"\")","v":""},null,{"$f":"IFERROR(VLOOKUP(E1882,Teilnehmer!$B$3:$C$1002,2,0),\"\")","v":""}]
[null,null,null,{"$f":"IFERROR(VLOOKUP(C1883,Teilnehmer!$B$3:$C$1002,2,0),\"\")","v":""},null,{"$f":"IFERROR(VLOOKUP(E1883,Teilnehmer!$B$3:$C$1002,2,0),\"\")","v":""}]
[null,null,null,{"$f":"IFERROR(VLOOKUP(C1884,Teilnehmer!$B$3:$C$1002,2,0),\"\")","v":""},null,{"$f":"IFERROR(VLOOKUP(E1884,Teilnehmer!$B$3:$C$1002,2,0),\"\")","v":""}]
[null,null,null,{"$f":"IFERROR(VLOOKUP(C1885,Teilnehmer!$B$3:$C$1002,2,0),\"\")","v":""},null,{"$f":"IFERROR(VLOOKUP(E1885,Teilnehmer!$B$3:$C$1002,2,0),\"\")","v":""}]
[null,null,null,{"$f":"IFERROR(VLOOKUP(C1886,Teilnehmer!$B$3:$C$1002,2,0),\"\")","v":""},null,{"$f":"IFERROR(VLOOKUP(E1886,Teilnehmer!$B$3:$C$1002,2,0),\"\")","v":""}]
[null,null,null,{"$f":"IFERROR(VLOOKUP(C1887,Teilnehmer!$B$3:$C$1002,2,0),\"\")","v":""},null,{"$f":"IFERROR(VLOOKUP(E1887,Teilnehmer!$B$3:$C$1002,2,0),\"\")","v":""}]
[null,null,null,{"$f":"IFERROR(VLOOKUP(C1888,Teilnehmer!$B$3:$C$1002,2,0),\"\")","v":""},null,{"$f":"IFERROR(VLOOKUP(E1888,Teilnehmer!$B$3:$C$1002,2,0),\"\")","v":""}]
[null,null,null,{"$f":"IFERROR(VLOOKUP(C1889,Teilnehmer!$B$3:$C$1002,2,0),\"\")","v":""},null,{"$f":"IFERROR(VLOOKUP(E1889,Teilnehmer!$B$3:$C$1002,2,0),\"\")","v":""}]
[null,null,null,{"$f":"IFERROR(VLOOKUP(C1890,Teilnehmer!$B$3:$C$1002,2,0),\"\")","v":""},null,{"$f":"IFERROR(VLOOKUP(E1890,Teilnehmer!$B$3:$C$1002,2,0),\"\")","v":""}]
[null,null,null,{"$f":"IFERROR(VLOOKUP(C1891,Teilnehmer!$B$3:$C$1002,2,0),\"\")","v":""},null,{"$f":"IFERROR(VLOOKUP(E1891,Teilnehmer!$B$3:$C$1002,2,0),\"\")","v":""}]
[null,null,null,{"$f":"IFERROR(VLOOKUP(C1892,Teilnehmer!$B$3:$C$1002,2,0),\"\")","v":""},null,{"$f":"IFERROR(VLOOKUP(E1892,Teilnehmer!$B$3:$C$1002,2,0),\"\")","v":""}]
[null,null,null,{"$f":"IFERROR(VLOOKUP(C1893,Teilnehmer!$B$3:$C$1002,2,0),\"\")","v":""},null,{"$f":"IFERROR(VLOOKUP(E1893,Teilnehmer!$B$3:$C$1002,2,0),\"\")","v":""}]
[null,null,null,{"$f":"IFERROR(VLOOKUP(C1894,Teilnehmer!$B$3:$C$1002,2,0),\"\")","v":""},null,{"$f":"IFERROR(VLOOKUP(E1894,Teilnehmer!$B$3:$C$1002,2,0),\"\")","v":""}]
[null,null,null,{"$f":"IFERROR(VLOOKUP(C1895,Teilnehmer!$B$3:$C$1002,2,0),\"\")","v":""},null,{"$f":"IFERROR(VLOOKUP(E1895,Teilnehmer!$B$3:$C$1002,2,0),\"\")","v":""}]
[null,null,null,{"$f":"IFERROR(VLOOKUP(C1896,Teilnehmer!$B$3:$C$1002,2,0),\"\")","v":""},null,{"$f":"IFERROR(VLOOKUP(E1896,Teilnehmer!$B$3:$C$1002,2,0),\"\")","v":""}]
[null,null,null,{"$f":"IFERROR(VLOOKUP(C1897,Teilnehmer!$B$3:$C$1002,2,0),\"\")","v":""},null,{"$f":"IFERROR(VLOOKUP(E1897,Teilnehmer!$B$3:$C$1002,2,0),\"\")","v":""}]
[null,null,null,{"$f":"IFERROR(VLOOKUP(C1898,Teilnehmer!$B$3:$C$1002,2,0),\"\")","v":""},null,{"$f":"IFERROR(VLOOKUP(E1898,Teilnehmer!$B$3:$C$1002,2,0),\"\")","v":""}]
[null,null,null,{"$f":"IFERROR(VLOOKUP(C1899,Teilnehmer!$B$3:$C$1002,2,0),\"\")","v":""},null,{"$f":"IFERROR(VLOOKUP(E1899,Teilnehmer!$B$3:$C$1002,2,0),\"\")","v":""}]
[null,null,null,{"$f":"IFERROR(VLOOKUP(C1900,Teilnehmer!$B$3:$C$1002,2,0),\"\")","v":""},null,{"$f":"IFERROR(VLOOKUP(E1900,Teilnehmer!$B$3:$C$1002,2,0),\"\")","v":""}]
[null,null,null,{"$f":"IFERROR(VLOOKUP(C1901,Teilnehmer!$B$3:$C$1002,2,0),\"\")","v":""},null,{"$f":"IFERROR(VLOOKUP(E1901,Teilnehmer!$B$3:$C$1002,2,0),\"\")","v":""}]
[null,null,null,{"$f":"IFERROR(VLOOKUP(C1902,Teilnehmer!$B$3:$C$1002,2,0),\"\")","v":""},null,{"$f":"IFERROR(VLOOKUP(E1902,Teilnehmer!$B$3:$C$1002,2,0),\"\")","v":""}]
[null,null,null,{"$f":"IFERROR(VLOOKUP(C1903,Teilnehmer!$B$3:$C$1002,2,0),\"\")","v":""},null,{"$f":"IFERROR(VLOOKUP(E1903,Teilnehmer!$B$3:$C$1002,2,0),\"\")","v":""}]
[null,null,null,{"$f":"IFERROR(VLOOKUP(C1904,Teilnehmer!$B$3:$C$1002,2,0),\"\")","v":""},null,{"$f":"IFERROR(VLOOKUP(E1904,Teilnehmer!$B$3:$C$1002,2,0),\"\")","v":""}]
[null,null,null,{"$f":"IFERROR(VLOOKUP(C1905,Teilnehmer!$B$3:$C$1002,2,0),\"\")","v":""},null,{"$f":"IFERROR(VLOOKUP(E1905,Teilnehmer!$B$3:$C$1002,2,0),\"\")","v":""}]
[null,null,null,{"$f":"IFERROR(VLOOKUP(C1906,Teilnehmer!$B$3:$C$1002,2,0),\"\")","v":""},null,{"$f":"IFERROR(VLOOKUP(E1906,Teilnehmer!$B$3:$C$1002,2,0),\"\")","v":""}]
[null,null,null,{"$f":"IFERROR(VLOOKUP(C1907,Teilnehmer!$B$3:$C$1002,2,0),\"\")","v":""},null,{"$f":"IFERROR(VLOOKUP(E1907,Teilnehmer!$B$3:$C$1002,2,0),\"\")","v":""}]
[null,null,null,{"$f":"IFERROR(VLOOKUP(C1908,Teilnehmer!$B$3:$C$1002,2,0),\"\")","v":""},null,{"$f":"IFERROR(VLOOKUP(E1908,Teilnehmer!$B$3:$C$1002,2,0),\"\")","v":""}]
[null,null,null,{"$f":"IFERROR(VLOOKUP(C1909,Teilnehmer!$B$3:$C$1002,2,0),\"\")","v":""},null,{"$f":"IFERROR(VLOOKUP(E1909,Teilnehmer!$B$3:$C$1002,2,0),\"\")","v":""}]
[null,null,null,{"$f":"IFERROR(VLOOKUP(C1910,Teilnehmer!$B$3:$C$1002,2,0),\"\")","v":""},null,{"$f":"IFERROR(VLOOKUP(E1910,Teilnehmer!$B$3:$C$1002,2,0),\"\")","v":""}]
[null,null,null,{"$f":"IFERROR(VLOOKUP(C1911,Teilnehmer!$B$3:$C$1002,2,0),\"\")","v":""},null,{"$f":"IFERROR(VLOOKUP(E1911,Teilnehmer!$B$3:$C$1002,2,0),\"\")","v":""}]
[null,null,null,{"$f":"IFERROR(VLOOKUP(C1912,Teilnehmer!$B$3:$C$1002,2,0),\"\")","v":""},null,{"$f":"IFERROR(VLOOKUP(E1912,Teilnehmer!$B$3:$C$1002,2,0),\"\")","v":""}]
[null,null,null,{"$f":"IFERROR(VLOOKUP(C1913,Teilnehmer!$B$3:$C$1002,2,0),\"\")","v":""},null,{"$f":"IFERROR(VLOOKUP(E1913,Teilnehmer!$B$3:$C$1002,2,0),\"\")","v":""}]
[null,null,null,{"$f":"IFERROR(VLOOKUP(C1914,Teilnehmer!$B$3:$C$1002,2,0),\"\")","v":""},null,{"$f":"IFERROR(VLOOKUP(E1914,Teilnehmer!$B$3:$C$1002,2,0),\"\")","v":""}]
[null,null,null,{"$f":"IFERROR(VLOOKUP(C1915,Teilnehmer!$B$3:$C$1002,2,0),\"\")","v":""},null,{"$f":"IFERROR(VLOOKUP(E1915,Teilnehmer!$B$3:$C$1002,2,0),\"\")","v":""}]
[null,null,null,{"$f":"IFERROR(VLOOKUP(C1916,Teilnehmer!$B$3:$C$1002,2,0),\"\")","v":""},null,{"$f":"IFERROR(VLOOKUP(E1916,Teilnehmer!$B$3:$C$1002,2,0),\"\")","v":""}]
[null,null,null,{"$f":"IFERROR(VLOOKUP(C1917,Teilnehmer!$B$3:$C$1002,2,0),\"\")","v":""},null,{"$f":"IFERROR(VLOOKUP(E1917,Teilnehmer!$B$3:$C$1002,2,0),\"\")","v":""}]
[null,null,null,{"$f":"IFERROR(VLOOKUP(C1918,Teilnehmer!$B$3:$C$1002,2,0),\"\")","v":""},null,{"$f":"IFERROR(VLOOKUP(E1918,Teilnehmer!$B$3:$C$1002,2,0),\"\")","v":""}]
[null,null,null,{"$f":"IFERROR(VLOOKUP(C1919,Teilnehmer!$B$3:$C$1002,2,0),\"\")","v":""},null,{"$f":"IFERROR(VLOOKUP(E1919,Teilnehmer!$B$3:$C$1002,2,0),\"\")","v":""}]
[null,null,null,{"$f":"IFERROR(VLOOKUP(C1920,Teilnehmer!$B$3:$C$1002,2,0),\"\")","v":""},null,{"$f":"IFERROR(VLOOKUP(E1920,Teilnehmer!$B$3:$C$1002,2,0),\"\")","v":""}]
[null,null,null,{"$f":"IFERROR(VLOOKUP(C1921,Teilnehmer!$B$3:$C$1002,2,0),\"\")","v":""},null,{"$f":"IFERROR(VLOOKUP(E1921,Teilnehmer!$B$3:$C$1002,2,0),\"\")","v":""}]
[null,null,null,{"$f":"IFERROR(VLOOKUP(C1922,Teilnehmer!$B$3:$C$1002,2,0),\"\")","v":""},null,{"$f":"IFERROR(VLOOKUP(E1922,Teilnehmer!$B$3:$C$1002,2,0),\"\")","v":""}]
[null,null,null,{"$f":"IFERROR(VLOOKUP(C1923,Teilnehmer!$B$3:$C$1002,2,0),\"\")","v":""},null,{"$f":"IFERROR(VLOOKUP(E1923,Teilnehmer!$B$3:$C$1002,2,0),\"\")","v":""}]
[null,null,null,{"$f":"IFERROR(VLOOKUP(C1924,Teilnehmer!$B$3:$C$1002,2,0),\"\")","v":""},null,{"$f":"IFERROR(VLOOKUP(E1924,Teilnehmer!$B$3:$C$1002,2,0),\"\")","v":""}]
[null,null,null,{"$f":"IFERROR(VLOOKUP(C1925,Teilnehmer!$B$3:$C$1002,2,0),\"\")","v":""},null,{"$f":"IFERROR(VLOOKUP(E1925,Teilnehmer!$B$3:$C$1002,2,0),\"\")","v":""}]
[null,null,null,{"$f":"IFERROR(VLOOKUP(C1926,Teilnehmer!$B$3:$C$1002,2,0),\"\")","v":""},null,{"$f":"IFERROR(VLOOKUP(E1926,Teilnehmer!$B$3:$C$1002,2,0),\"\")","v":""}]
[null,null,null,{"$f":"IFERROR(VLOOKUP(C1927,Teilnehmer!$B$3:$C$1002,2,0),\"\")","v":""},null,{"$f":"IFERROR(VLOOKUP(E1927,Teilnehmer!$B$3:$C$1002,2,0),\"\")","v":""}]
[null,null,null,{"$f":"IFERROR(VLOOKUP(C1928,Teilnehmer!$B$3:$C$1002,2,0),\"\")","v":""},null,{"$f":"IFERROR(VLOOKUP(E1928,Teilnehmer!$B$3:$C$1002,2,0),\"\")","v":""}]
[null,null,null,{"$f":"IFERROR(VLOOKUP(C1929,Teilnehmer!$B$3:$C$1002,2,0),\"\")","v":""},null,{"$f":"IFERROR(VLOOKUP(E1929,Teilnehmer!$B$3:$C$1002,2,0),\"\")","v":""}]
[null,null,null,{"$f":"IFERROR(VLOOKUP(C1930,Teilnehmer!$B$3:$C$1002,2,0),\"\")","v":""},null,{"$f":"IFERROR(VLOOKUP(E1930,Teilnehmer!$B$3:$C$1002,2,0),\"\")","v":""}]
[null,null,null,{"$f":"IFERROR(VLOOKUP(C1931,Teilnehmer!$B$3:$C$1002,2,0),\"\")","v":""},null,{"$f":"IFERROR(VLOOKUP(E1931,Teilnehmer!$B$3:$C$1002,2,0),\"\")","v":""}]
[null,null,null,{"$f":"IFERROR(VLOOKUP(C1932,Teilnehmer!$B$3:$C$1002,2,0),\"\")","v":""},null,{"$f":"IFERROR(VLOOKUP(E1932,Teilnehmer!$B$3:$C$1002,2,0),\"\")","v":""}]
[null,null,null,{"$f":"IFERROR(VLOOKUP(C1933,Teilnehmer!$B$3:$C$1002,2,0),\"\")","v":""},null,{"$f":"IFERROR(VLOOKUP(E1933,Teilnehmer!$B$3:$C$1002,2,0),\"\")","v":""}]
[null,null,null,{"$f":"IFERROR(VLOOKUP(C1934,Teilnehmer!$B$3:$C$1002,2,0),\"\")","v":""},null,{"$f":"IFERROR(VLOOKUP(E1934,Teilnehmer!$B$3:$C$1002,2,0),\"\")","v":""}]
[null,null,null,{"$f":"IFERROR(VLOOKUP(C1935,Teilnehmer!$B$3:$C$1002,2,0),\"\")","v":""},null,{"$f":"IFERROR(VLOOKUP(E1935,Teilnehmer!$B$3:$C$1002,2,0),\"\")","v":""}]
[null,null,null,{"$f":"IFERROR(VLOOKUP(C1936,Teilnehmer!$B$3:$C$1002,2,0),\"\")","v":""},null,{"$f":"IFERROR(VLOOKUP(E1936,Teilnehmer!$B$3:$C$1002,2,0),\"\")","v":""}]
[null,null,null,{"$f":"IFERROR(VLOOKUP(C1937,Teilnehmer!$B$3:$C$1002,2,0),\"\")","v":""},null,{"$f":"IFERROR(VLOOKUP(E1937,Teilnehmer!$B$3:$C$1002,2,0),\"\")","v":""}]
[null,null,null,{"$f":"IFERROR(VLOOKUP(C1938,Teilnehmer!$B$3:$C$1002,2,0),\"\")","v":""},null,{"$f":"IFERROR(VLOOKUP(E1938,Teilnehmer!$B$3:$C$1002,2,0),\"\")","v":""}]
[null,null,null,{"$f":"IFERROR(VLOOKUP(C1939,Teilnehmer!$B$3:$C$1002,2,0),\"\")","v":""},null,{"$f":"IFERROR(VLOOKUP(E1939,Teilnehmer!$B$3:$C$1002,2,0),\"\")","v":""}]
[null,null,null,{"$f":"IFERROR(VLOOKUP(C1940,Teilnehmer!$B$3:$C$1002,2,0),\"\")","v":""},null,{"$f":"IFERROR(VLOOKUP(E1940,Teilnehmer!$B$3:$C$1002,2,0),\"\")","v":""}]
[null,null,null,{"$f":"IFERROR(VLOOKUP(C1941,Teilnehmer!$B$3:$C$1002,2,0),\"\")","v":""},null,{"$f":"IFERROR(VLOOKUP(E1941,Teilnehmer!$B$3:$C$1002,2,0),\"\")","v":""}]
[null,null,null,{"$f":"IFERROR(VLOOKUP(C1942,Teilnehmer!$B$3:$C$1002,2,0),\"\")","v":""},null,{"$f":"IFERROR(VLOOKUP(E1942,Teilnehmer!$B$3:$C$1002,2,0),\"\")","v":""}]
[null,null,null,{"$f":"IFERROR(VLOOKUP(C1943,Teilnehmer!$B$3:$C$1002,2,0),\"\")","v":""},null,{"$f":"IFERROR(VLOOKUP(E1943,Teilnehmer!$B$3:$C$1002,2,0),\"\")","v":""}]
[null,null,null,{"$f":"IFERROR(VLOOKUP(C1944,Teilnehmer!$B$3:$C$1002,2,0),\"\")","v":""},null,{"$f":"IFERROR(VLOOKUP(E1944,Teilnehmer!$B$3:$C$1002,2,0),\"\")","v":""}]
[null,null,null,{"$f":"IFERROR(VLOOKUP(C1945,Teilnehmer!$B$3:$C$1002,2,0),\"\")","v":""},null,{"$f":"IFERROR(VLOOKUP(E1945,Teilnehmer!$B$3:$C$1002,2,0),\"\")","v":""}]
[null,null,null,{"$f":"IFERROR(VLOOKUP(C1946,Teilnehmer!$B$3:$C$1002,2,0),\"\")","v":""},null,{"$f":"IFERROR(VLOOKUP(E1946,Teilnehmer!$B$3:$C$1002,2,0),\"\")","v":""}]
[null,null,null,{"$f":"IFERROR(VLOOKUP(C1947,Teilnehmer!$B$3:$C$1002,2,0),\"\")","v":""},null,{"$f":"IFERROR(VLOOKUP(E1947,Teilnehmer!$B$3:$C$1002,2,0),\"\")","v":""}]
[null,null,null,{"$f":"IFERROR(VLOOKUP(C1948,Teilnehmer!$B$3:$C$1002,2,0),\"\")","v":""},null,{"$f":"IFERROR(VLOOKUP(E1948,Teilnehmer!$B$3:$C$1002,2,0),\"\")","v":""}]
[null,null,null,{"$f":"IFERROR(VLOOKUP(C1949,Teilnehmer!$B$3:$C$1002,2,0),\"\")","v":""},null,{"$f":"IFERROR(VLOOKUP(E1949,Teilnehmer!$B$3:$C$1002,2,0),\"\")","v":""}]
[null,null,null,{"$f":"IFERROR(VLOOKUP(C1950,Teilnehmer!$B$3:$C$1002,2,0),\"\")","v":""},null,{"$f":"IFERROR(VLOOKUP(E1950,Teilnehmer!$B$3:$C$1002,2,0),\"\")","v":""}]
[null,null,null,{"$f":"IFERROR(VLOOKUP(C1951,Teilnehmer!$B$3:$C$1002,2,0),\"\")","v":""},null,{"$f":"IFERROR(VLOOKUP(E1951,Teilnehmer!$B$3:$C$1002,2,0),\"\")","v":""}]
[null,null,null,{"$f":"IFERROR(VLOOKUP(C1952,Teilnehmer!$B$3:$C$1002,2,0),\"\")","v":""},null,{"$f":"IFERROR(VLOOKUP(E1952,Teilnehmer!$B$3:$C$1002,2,0),\"\")","v":""}]
[null,null,null,{"$f":"IFERROR(VLOOKUP(C1953,Teilnehmer!$B$3:$C$1002,2,0),\"\")","v":""},null,{"$f":"IFERROR(VLOOKUP(E1953,Teilnehmer!$B$3:$C$1002,2,0),\"\")","v":""}]
[null,null,null,{"$f":"IFERROR(VLOOKUP(C1954,Teilnehmer!$B$3:$C$1002,2,0),\"\")","v":""},null,{"$f":"IFERROR(VLOOKUP(E1954,Teilnehmer!$B$3:$C$1002,2,0),\"\")","v":""}]
[null,null,null,{"$f":"IFERROR(VLOOKUP(C1955,Teilnehmer!$B$3:$C$1002,2,0),\"\")","v":""},null,{"$f":"IFERROR(VLOOKUP(E1955,Teilnehmer!$B$3:$C$1002,2,0),\"\")","v":""}]
[null,null,null,{"$f":"IFERROR(VLOOKUP(C1956,Teilnehmer!$B$3:$C$1002,2,0),\"\")","v":""},null,{"$f":"IFERROR(VLOOKUP(E1956,Teilnehmer!$B$3:$C$1002,2,0),\"\")","v":""}]
[null,null,null,{"$f":"IFERROR(VLOOKUP(C1957,Teilnehmer!$B$3:$C$1002,2,0),\"\")","v":""},null,{"$f":"IFERROR(VLOOKUP(E1957,Teilnehmer!$B$3:$C$1002,2,0),\"\")","v":""}]
[null,null,null,{"$f":"IFERROR(VLOOKUP(C1958,Teilnehmer!$B$3:$C$1002,2,0),\"\")","v":""},null,{"$f":"IFERROR(VLOOKUP(E1958,Teilnehmer!$B$3:$C$1002,2,0),\"\")","v":""}]
[null,null,null,{"$f":"IFERROR(VLOOKUP(C1959,Teilnehmer!$B$3:$C$1002,2,0),\"\")","v":""},null,{"$f":"IFERROR(VLOOKUP(E1959,Teilnehmer!$B$3:$C$1002,2,0),\"\")","v":""}]
[null,null,null,{"$f":"IFERROR(VLOOKUP(C1960,Teilnehmer!$B$3:$C$1002,2,0),\"\")","v":""},null,{"$f":"IFERROR(VLOOKUP(E1960,Teilnehmer!$B$3:$C$1002,2,0),\"\")","v":""}]
[null,null,null,{"$f":"IFERROR(VLOOKUP(C1961,Teilnehmer!$B$3:$C$1002,2,0),\"\")","v":""},null,{"$f":"IFERROR(VLOOKUP(E1961,Teilnehmer!$B$3:$C$1002,2,0),\"\")","v":""}]
[null,null,null,{"$f":"IFERROR(VLOOKUP(C1962,Teilnehmer!$B$3:$C$1002,2,0),\"\")","v":""},null,{"$f":"IFERROR(VLOOKUP(E1962,Teilnehmer!$B$3:$C$1002,2,0),\"\")","v":""}]
[null,null,null,{"$f":"IFERROR(VLOOKUP(C1963,Teilnehmer!$B$3:$C$1002,2,0),\"\")","v":""},null,{"$f":"IFERROR(VLOOKUP(E1963,Teilnehmer!$B$3:$C$1002,2,0),\"\")","v":""}]
[null,null,null,{"$f":"IFERROR(VLOOKUP(C1964,Teilnehmer!$B$3:$C$1002,2,0),\"\")","v":""},null,{"$f":"IFERROR(VLOOKUP(E1964,Teilnehmer!$B$3:$C$1002,2,0),\"\")","v":""}]
[null,null,null,{"$f":"IFERROR(VLOOKUP(C1965,Teilnehmer!$B$3:$C$1002,2,0),\"\")","v":""},null,{"$f":"IFERROR(VLOOKUP(E1965,Teilnehmer!$B$3:$C$1002,2,0),\"\")","v":""}]
[null,null,null,{"$f":"IFERROR(VLOOKUP(C1966,Teilnehmer!$B$3:$C$1002,2,0),\"\")","v":""},null,{"$f":"IFERROR(VLOOKUP(E1966,Teilnehmer!$B$3:$C$1002,2,0),\"\")","v":""}]
[null,null,null,{"$f":"IFERROR(VLOOKUP(C1967,Teilnehmer!$B$3:$C$1002,2,0),\"\")","v":""},null,{"$f":"IFERROR(VLOOKUP(E1967,Teilnehmer!$B$3:$C$1002,2,0),\"\")","v":""}]
[null,null,null,{"$f":"IFERROR(VLOOKUP(C1968,Teilnehmer!$B$3:$C$1002,2,0),\"\")","v":""},null,{"$f":"IFERROR(VLOOKUP(E1968,Teilnehmer!$B$3:$C$1002,2,0),\"\")","v":""}]
[null,null,null,{"$f":"IFERROR(VLOOKUP(C1969,Teilnehmer!$B$3:$C$1002,2,0),\"\")","v":""},null,{"$f":"IFERROR(VLOOKUP(E1969,Teilnehmer!$B$3:$C$1002,2,0),\"\")","v":""}]
[null,null,null,{"$f":"IFERROR(VLOOKUP(C1970,Teilnehmer!$B$3:$C$1002,2,0),\"\")","v":""},null,{"$f":"IFERROR(VLOOKUP(E1970,Teilnehmer!$B$3:$C$1002,2,0),\"\")","v":""}]
[null,null,null,{"$f":"IFERROR(VLOOKUP(C1971,Teilnehmer!$B$3:$C$1002,2,0),\"\")","v":""},null,{"$f":"IFERROR(VLOOKUP(E1971,Teilnehmer!$B$3:$C$1002,2,0),\"\")","v":""}]
[null,null,null,{"$f":"IFERROR(VLOOKUP(C1972,Teilnehmer!$B$3:$C$1002,2,0),\"\")","v":""},null,{"$f":"IFERROR(VLOOKUP(E1972,Teilnehmer!$B$3:$C$1002,2,0),\"\")","v":""}]
[null,null,null,{"$f":"IFERROR(VLOOKUP(C1973,Teilnehmer!$B$3:$C$1002,2,0),\"\")","v":""},null,{"$f":"IFERROR(VLOOKUP(E1973,Teilnehmer!$B$3:$C$1002,2,0),\"\")","v":""}]
[null,null,null,{"$f":"IFERROR(VLOOKUP(C1974,Teilnehmer!$B$3:$C$1002,2,0),\"\")","v":""},null,{"$f":"IFERROR(VLOOKUP(E1974,Teilnehmer!$B$3:$C$1002,2,0),\"\")","v":""}]
[null,null,null,{"$f":"IFERROR(VLOOKUP(C1975,Teilnehmer!$B$3:$C$1002,2,0),\"\")","v":""},null,{"$f":"IFERROR(VLOOKUP(E1975,Teilnehmer!$B$3:$C$1002,2,0),\"\")","v":""}]
[null,null,null,{"$f":"IFERROR(VLOOKUP(C1976,Teilnehmer!$B$3:$C$1002,2,0),\"\")","v":""},null,{"$f":"IFERROR(VLOOKUP(E1976,Teilnehmer!$B$3:$C$1002,2,0),\"\")","v":""}]
[null,null,null,{"$f":"IFERROR(VLOOKUP(C1977,Teilnehmer!$B$3:$C$1002,2,0),\"\")","v":""},null,{"$f":"IFERROR(VLOOKUP(E1977,Teilnehmer!$B$3:$C$1002,2,0),\"\")","v":""}]
[null,null,null,{"$f":"IFERROR(VLOOKUP(C1978,Teilnehmer!$B$3:$C$1002,2,0),\"\")","v":""},null,{"$f":"IFERROR(VLOOKUP(E1978,Teilnehmer!$B$3:$C$1002,2,0),\"\")","v":""}]
[null,null,null,{"$f":"IFERROR(VLOOKUP(C1979,Teilnehmer!$B$3:$C$1002,2,0),\"\")","v":""},null,{"$f":"IFERROR(VLOOKUP(E1979,Teilnehmer!$B$3:$C$1002,2,0),\"\")","v":""}]
[null,null,null,{"$f":"IFERROR(VLOOKUP(C1980,Teilnehmer!$B$3:$C$1002,2,0),\"\")","v":""},null,{"$f":"IFERROR(VLOOKUP(E1980,Teilnehmer!$B$3:$C$1002,2,0),\"\")","v":""}]
[null,null,null,{"$f":"IFERROR(VLOOKUP(C1981,Teilnehmer!$B$3:$C$1002,2,0),\"\")","v":""},null,{"$f":"IFERROR(VLOOKUP(E1981,Teilnehmer!$B$3:$C$1002,2,0),\"\")","v":""}]
[null,null,null,{"$f":"IFERROR(VLOOKUP(C1982,Teilnehmer!$B$3:$C$1002,2,0),\"\")","v":""},null,{"$f":"IFERROR(VLOOKUP(E1982,Teilnehmer!$B$3:$C$1002,2,0),\"\")","v":""}]
[null,null,null,{"$f":"IFERROR(VLOOKUP(C1983,Teilnehmer!$B$3:$C$1002,2,0),\"\")","v":""},null,{"$f":"IFERROR(VLOOKUP(E1983,Teilnehmer!$B$3:$C$1002,2,0),\"\")","v":""}]
[null,null,null,{"$f":"IFERROR(VLOOKUP(C1984,Teilnehmer!$B$3:$C$1002,2,0),\"\")","v":""},null,{"$f":"IFERROR(VLOOKUP(E1984,Teilnehmer!$B$3:$C$1002,2,0),\"\")","v":""}]
[null,null,null,{"$f":"IFERROR(VLOOKUP(C1985,Teilnehmer!$B$3:$C$1002,2,0),\"\")","v":""},null,{"$f":"IFERROR(VLOOKUP(E1985,Teilnehmer!$B$3:$C$1002,2,0),\"\")","v":""}]
[null,null,null,{"$f":"IFERROR(VLOOKUP(C1986,Teilnehmer!$B$3:$C$1002,2,0),\"\")","v":""},null,{"$f":"IFERROR(VLOOKUP(E1986,Teilnehmer!$B$3:$C$1002,2,0),\"\")","v":""}]
[null,null,null,{"$f":"IFERROR(VLOOKUP(C1987,Teilnehmer!$B$3:$C$1002,2,0),\"\")","v":""},null,{"$f":"IFERROR(VLOOKUP(E1987,Teilnehmer!$B$3:$C$1002,2,0),\"\")","v":""}]
[null,null,null,{"$f":"IFERROR(VLOOKUP(C1988,Teilnehmer!$B$3:$C$1002,2,0),\"\")","v":""},null,{"$f":"IFERROR(VLOOKUP(E1988,Teilnehmer!$B$3:$C$1002,2,0),\"\")","v":""}]
[null,null,null,{"$f":"IFERROR(VLOOKUP(C1989,Teilnehmer!$B$3:$C$1002,2,0),\"\")","v":""},null,{"$f":"IFERROR(VLOOKUP(E1989,Teilnehmer!$B$3:$C$1002,2,0),\"\")","v":""}]
[null,null,null,{"$f":"IFERROR(VLOOKUP(C1990,Teilnehmer!$B$3:$C$1002,2,0),\"\")","v":""},null,{"$f":"IFERROR(VLOOKUP(E1990,Teilnehmer!$B$3:$C$1002,2,0),\"\")","v":""}]
[null,null,null,{"$f":"IFERROR(VLOOKUP(C1991,Teilnehmer!$B$3:$C$1002,2,0),\"\")","v":""},null,{"$f":"IFERROR(VLOOKUP(E1991,Teilnehmer!$B$3:$C$1002,2,0),\"\")","v":""}]
[null,null,null,{"$f":"IFERROR(VLOOKUP(C1992,Teilnehmer!$B$3:$C$1002,2,0),\"\")","v":""},null,{"$f":"IFERROR(VLOOKUP(E1992,Teilnehmer!$B$3:$C$1002,2,0),\"\")","v":""}]
[null,null,null,{"$f":"IFERROR(VLOOKUP(C1993,Teilnehmer!$B$3:$C$1002,2,0),\"\")","v":""},null,{"$f":"IFERROR(VLOOKUP(E1993,Teilnehmer!$B$3:$C$1002,2,0),\"\")","v":""}]
[null,null,null,{"$f":"IFERROR(VLOOKUP(C1994,Teilnehmer!$B$3:$C$1002,2,0),\"\")","v":""},null,{"$f":"IFERROR(VLOOKUP(E1994,Teilnehmer!$B$3:$C$1002,2,0),\"\")","v":""}]
[null,null,null,{"$f":"IFERROR(VLOOKUP(C1995,Teilnehmer!$B$3:$C$1002,2,0),\"\")","v":""},null,{"$f":"IFERROR(VLOOKUP(E1995,Teilnehmer!$B$3:$C$1002,2,0),\"\")","v":""}]
[null,null,null,{"$f":"IFERROR(VLOOKUP(C1996,Teilnehmer!$B$3:$C$1002,2,0),\"\")","v":""},null,{"$f":"IFERROR(VLOOKUP(E1996,Teilnehmer!$B$3:$C$1002,2,0),\"\")","v":""}]
[null,null,null,{"$f":"IFERROR(VLOOKUP(C1997,Teilnehmer!$B$3:$C$1002,2,0),\"\")","v":""},null,{"$f":"IFERROR(VLOOKUP(E1997,Teilnehmer!$B$3:$C$1002,2,0),\"\")","v":""}]
[null,null,null,{"$f":"IFERROR(VLOOKUP(C1998,Teilnehmer!$B$3:$C$1002,2,0),\"\")","v":""},null,{"$f":"IFERROR(VLOOKUP(E1998,Teilnehmer!$B$3:$C$1002,2,0),\"\")","v":""}]
[null,null,null,{"$f":"IFERROR(VLOOKUP(C1999,Teilnehmer!$B$3:$C$1002,2,0),\"\")","v":""},null,{"$f":"IFERROR(VLOOKUP(E1999,Teilnehmer!$B$3:$C$1002,2,0),\"\")","v":""}]
[null,null,null,{"$f":"IFERROR(VLOOKUP(C2000,Teilnehmer!$B$3:$C$1002,2,0),\"\")","v":""},null,{"$f":"IFERROR(VLOOKUP(E2000,Teilnehmer!$B$3:$C$1002,2,0),\"\")","v":""}]
[null,null,null,{"$f":"IFERROR(VLOOKUP(C2001,Teilnehmer!$B$3:$C$1002,2,0),\"\")","v":""},null,{"$f":"IFERROR(VLOOKUP(E2001,Teilnehmer!$B$3:$C$1002,2,0),\"\")","v":""}]
[null,null,null,{"$f":"IFERROR(VLOOKUP(C2002,Teilnehmer!$B$3:$C$1002,2,0),\"\")","v":""},null,{"$f":"IFERROR(VLOOKUP(E2002,Teilnehmer!$B$3:$C$1002,2,0),\"\")","v":""}]
[null,null,null,{"$f":"IFERROR(VLOOKUP(C2003,Teilnehmer!$B$3:$C$1002,2,0),\"\")","v":""},null,{"$f":"IFERROR(VLOOKUP(E2003,Teilnehmer!$B$3:$C$1002,2,0),\"\")","v":""}]
[null,null,null,{"$f":"IFERROR(VLOOKUP(C2004,Teilnehmer!$B$3:$C$1002,2,0),\"\")","v":""},null,{"$f":"IFERROR(VLOOKUP(E2004,Teilnehmer!$B$3:$C$1002,2,0),\"\")","v":""}]
[null,null,null,{"$f":"IFERROR(VLOOKUP(C2005,Teilnehmer!$B$3:$C$1002,2,0),\"\")","v":""},null,{"$f":"IFERROR(VLOOKUP(E2005,Teilnehmer!$B$3:$C$1002,2,0),\"\")","v":""}]
[null,null,null,{"$f":"IFERROR(VLOOKUP(C2006,Teilnehmer!$B$3:$C$1002,2,0),\"\")","v":""},null,{"$f":"IFERROR(VLOOKUP(E2006,Teilnehmer!$B$3:$C$1002,2,0),\"\")","v":""}]

{"sheet":"Einstellungen","index":5,"n_rows":8,"n_cols":5,"rows_kept":8,"cut":false,"hidden":false,"merged":[]}
[null,{"$f":"Sprache!$E$24","v":"Einstellungen"}]
[]
[null,{"$f":"Sprache!$E$25","v":"ELO Divisor:"},600,null,{"$f":"Sprache!$E$26","v":"600  für Fußball"}]
[null,null,null,null,{"$f":"Sprache!$E$27","v":"400  für Schach"}]
[null,null,null,null,{"$f":"Sprache!$E$28","v":"200  für Tischtennis"}]
[]
[null,{"$f":"Sprache!$E$41","v":"Mindestanzahl an Spielen, ab der ein Teilnehmer in der Rangliste erscheint"}]
[null,{"$f":"Sprache!$E$40","v":"Mindestanzahl:"},1]

{"sheet":"Sprache","index":6,"n_rows":55,"n_cols":12,"rows_kept":55,"cut":false,"hidden":false,"merged":[[0,5,0,7],[1,5,1,6],[2,3,3,3],[2,4,3,4],[2,5,3,5],[2,6,3,6],[2,7,3,7]]}
[null,null,null,null,null,{"$f":"$E$31","v":"Sprache"},null,null,null,"deutsch",{"$f":"_xlfn.UNICHAR(8592)","v":"←"},{"$f":"$E$52","v":"Sprache wählen"}]
[]
[null,"english",{"$f":"IF(AND($J$1<>B4,$J$1<>B5),1,0)","v":0},null,null,"english","deutsch","my language"]
[null,"deutsch",{"$f":"IF($J$1=B4,1,0)","v":1}]
[null,"my language",{"$f":"IF($J$1=B5,1,0)","v":0},null,null,{"$f":"$E$30","v":"Überschriften"}]
[null,null,null,null,{"$f":"IF($C$3,F6,IF($C$4,G6,IF($H6<>\"\",$H6,$F6)))","v":"Teilnehmer"},"Participants","Teilnehmer"]
[null,null,null,null,{"$f":"IF($C$3,F7,IF($C$4,G7,IF($H7<>\"\",$H7,$F7)))","v":"Startwert"},"Starting number","Startwert"]
[null,null,null,null,"ID","ID","ID"]
[null,null,null,null,"Nr.","No.","Nr."]
[null,null,null,null,"Name","Name","Name"]
[null,null,null,null,"Rangliste","Ranking","Rangliste"]
[null,null,null,null,"Altes Datum:","Old Date:","Altes Datum:"]
[null,null,null,null,"Neues Datum:","New Date:","Neues Datum:"]
[null,null,null,null,"Spiele","Matches","Spiele"]
[null,null,null,null,"Neue Rangliste","New Ranking","Neue Rangliste"]
[null,null,null,null,"Datum","Date","Datum"]
[null,null,null,null,"ID 1","ID 1","ID 1"]
[null,null,null,null,"ID 2","ID 2","ID 2"]
[null,null,null,null,"Ergebnis","Result","Ergebnis"]
[null,null,null,null,"Wichtung","Weight","Wichtung"]
[null,null,null,null,"Elfmetersch.","Penalty","Elfmetersch."]
[null,null,null,null,"KO-Runde","KO round","KO-Runde"]
[null,null,null,null,"Rang","Rank","Rang"]
[null,null,null,null,"Einstellungen","Settings","Einstellungen"]
[null,null,null,null,"ELO Divisor:","ELO Divisor:","ELO Divisor:"]
[null,null,null,null,"600  für Fußball","600  for soccer","600  für Fußball"]
[null,null,null,null,"400  für Schach","400  for chess","400  für Schach"]
[null,null,null,null,"200  für Tischtennis","200  for table tennis","200  für Tischtennis"]
[null,null,null,null,"Meldungen","Messages","Meldungen"]
[null,null,null,null,"Überschriften","Captions","Überschriften"]
[null,null,null,null,"Sprache","Language","Sprache"]
[null,null,null,null,"Verein","Club","Verein"]
[null,null,null,null,"Punkte","Points","Punkte"]
[null,null,null,null,"Datum:","Date:","Datum:"]
[null,null,null,null,"Spiele","Played","Spiele"]
[null,null,null,null,"Verein","Club","Verein"]
[null,null,null,null,"Neue Gesamtrangliste","New overall ranking","Neue Gesamtrangliste"]
[null,null,null,null,"Datum:","Date:","Datum:"]
[null,null,null,null,"Aktuelle Rangliste","Current Ranking","Aktuelle Rangliste"]
[null,null,null,null,"Mindestanzahl:","Minimum number:","Mindestanzahl:"]
[null,null,null,null,"Mindestanzahl an Spielen, ab der ein Teilnehmer in der Rangliste erscheint","Minimum number of games required for a participant to appear in the rankings","Mindestanzahl an Spielen, ab der ein Teilnehmer in der Rangliste erscheint"]
[null,null,null,null,0,{"$f":"$E$29","v":"Meldungen"}]
[null,null,null,null,"Altes Datum fehlt!","Old Date is missing!","Altes Datum fehlt!"]
[null,null,null,null,"Neues Datum fehlt!","New Date is missing!","Neues Datum fehlt!"]
[null,null,null,null,"Altes Datum nicht gefunden auf dem Tabellenblatt 'Participants'!","Old Date not found on worksheet 'Participants'!","Altes Datum nicht gefunden auf dem Tabellenblatt 'Participants'!"]
[null,null,null,null,"Datum fehlt!","Date is missing!","Datum fehlt!"]
[null,null,null,null,"Teilnehmer fehlt!","Participant is missing!","Teilnehmer fehlt!"]
[null,null,null,null,"Ergebnis fehlt!","Result is missing!","Ergebnis fehlt!"]
[null,null,null,null,"Wichtung fehlt!","Weight is missing!","Wichtung fehlt!"]
[null,null,null,null,"Keine Teilnehmer eingetragen auf dem Tabellenblatt 'Participants'!","No participants entered on worksheet 'Participants'!","Keine Teilnehmer eingetragen auf dem Tabellenblatt 'Participants'!"]
[null,null,null,null,"Keine Spiele eingetragen!","No matches entered!","Keine Spiele eingetragen!"]
[null,null,null,null,"Sprache wählen","Choose language","Sprache wählen"]
[null,null,null,null,"ID nicht gefunden!","ID not found!","ID nicht gefunden!"]
[null,null,null,null,0]
[null,null,null,null,0]

{"sheet":"Info","index":7,"n_rows":71,"n_cols":17,"rows_kept":71,"cut":false,"hidden":false,"merged":[[69,2,69,8],[69,10,69,16],[70,2,70,8],[70,10,70,16]]}
[null,null,null,null,null,null,null,null,null,null,null,null,null,null,null,null,"hb / Version 1.4"]
[null,null,"English",null,null,null,null,null,null,null,"Deutsch",null,null,null,null,null,"2026-08-26"]
[]
[]
[]
[]
[]
[]
[]
[]
[]
[]
[]
[]
[]
[]
[]
[]
[]
[]
[]
[]
[]
[]
[]
[]
[]
[]
[]
[]
[]
[]
[]
[]
[]
[]
[]
[]
[]
[]
[]
[]
[]
[]
[]
[]
[]
[]
[]
[]
[]
[]
[]
[]
[]
[]
[]
[]
[]
[]
[]
[]
[]
[]
[]
[]
[]
[]
[]
[null,null,"If there are any discrepancies, I am very grateful for notification!",null,null,null,null,null,null,null,"Bei Unstimmigkeiten bin ich für eine entsprechende Benachrichtigung sehr dankbar!"]
[null,null,"mail@hermann-baum.de",null,null,null,null,null,null,null,"mail@hermann-baum.de"]